{"text_format":"3","workbook":"xlsx","n_sheets":6,"sheets":["Round 125","Summary","DTM Dataset","Critical Shelters","Period of Displacement","Shelter Type"],"not_rendered":{"charts":3,"images":1,"defined_names":8,"pivot_tables":1},"read":"whole","date_system":"1900"}

{"sheet":"Round 125","index":0,"n_rows":27,"n_cols":4,"rows_kept":27,"merged":[[9,0,9,13],[10,2,11,10]]}
{"$rows_empty":9}
["IOM is pleased to share with you the latest Displacement Tracking Matrix (DTM) Dataset Round 125, covering the months of January, February and March 2022"]
[null,null,"During this round of data collection, DTM has identified 1,184,818 internally displaced persons (203,447 households), dispersed across 18 governorates, 100 districts and 2,803 locations in Iraq"]
[]
[]
[]
[{"$nulls":3},"You can find in the Summary tab the number of IDPs breakdown by:"]
[{"$nulls":3},"Shelter Type"]
[{"$nulls":3},"Governorate of Origin"]
[{"$nulls":3},"Period and Governorate of Displacement"]
[{"$nulls":3},"Period of Displacement"]
[{"$nulls":3},"District of Displacement"]
[]
[{"$nulls":3},"Dataset"]
[{"$nulls":3},"The whole dataset is located under DTM Dataset tab"]
[]
[{"$nulls":3},"Other tabs"]
[{"$nulls":3},"Period of Displacement includes a chart that shows the number of IDPs by Period of Displacement "]
[{"$nulls":3},"Shelter Type is a breakdown chart that shows Shelter Type by Governorate of Displacement"]

{"sheet":"Summary","index":1,"n_rows":194,"n_cols":20,"rows_kept":194,"merged":[[0,0,0,1],[7,1,7,14],[30,1,30,9],[53,1,53,11],[93,0,99,0],[100,0,106,0],[107,0,110,0],[111,0,113,0],[114,0,117,0],[118,0,127,0],[128,0,131,0],[132,0,138,0],[139,0,144,0],[145,0,148,0],[149,0,153,0],[154,0,156,0],[157,0,160,0],[161,0,166,0],[167,0,175,0],[176,0,182,0],[183,0,187,0],[188,0,192,0],[193,0,193,1]]}
["Summary"]
["#Districts",{"$f":"SUMPRODUCT(1/COUNTIF('DTM Dataset'!C4:C2806,'DTM Dataset'!C4:C2806&\"\"))","v":100.00000000000058}]
["#Locations",{"$f":"COUNT('DTM Dataset'!A:A)","v":2803}]
["#IDP Households",{"$f":"SUM('DTM Dataset'!I:I)","v":203447}]
["#Individuals",{"$f":"SUM('DTM Dataset'!J:J)","v":1184818}]
[]
["Number of IDP individuals by Shelter Type"]
["","Shelter Type(in red, classified as critical shelters)"]
["Governorate of Displacement","Camp","Host families","Hotel/Motel or short-term rental","Own Property","Apartment/House \n(not owned)\n(habitable)","Apartment/House\n (not owned)\n(uninhabitable)","Tent/Caravan/makeshift shelter/mud or block house","Unfinished/Abandoned building","Public Buildings or Collective shelters","Religious building","School building","Other Critical shelter","Unknown shelter type","Total"]
["Al-Anbar",{"$f":"SUMIF('DTM Dataset'!B:B,A10,'DTM Dataset'!M:M)","v":0},{"$f":"SUMIF('DTM Dataset'!B:B,A10,'DTM Dataset'!N:N)","v":2274},{"$f":"SUMIF('DTM Dataset'!B:B,A10,'DTM Dataset'!O:O)","v":0},{"$f":"SUMIF('DTM Dataset'!B:B,A10,'DTM Dataset'!P:P)","v":300},{"$f":"SUMIF('DTM Dataset'!B:B,A10,'DTM Dataset'!Q:Q)","v":10062},{"$f":"SUMIF('DTM Dataset'!B:B,A10,'DTM Dataset'!R:R)","v":276},{"$f":"SUMIF('DTM Dataset'!B:B,A10,'DTM Dataset'!S:S)","v":16638},{"$f":"SUMIF('DTM Dataset'!B:B,A10,'DTM Dataset'!T:T)","v":1002},{"$f":"SUMIF('DTM Dataset'!B:B,A10,'DTM Dataset'!U:U)","v":4788},{"$f":"SUMIF('DTM Dataset'!B:B,A10,'DTM Dataset'!V:V)","v":162},{"$f":"SUMIF('DTM Dataset'!B:B,A10,'DTM Dataset'!W:W)","v":12},{"$f":"SUMIF('DTM Dataset'!B:B,A10,'DTM Dataset'!X:X)","v":0},{"$f":"SUMIF('DTM Dataset'!B:B,B10,'DTM Dataset'!Y:Y)","v":0},{"$f":"SUM(B10:N10)","v":35514}]
["Al-Basrah",{"$f":"SUMIF('DTM Dataset'!B:B,A11,'DTM Dataset'!M:M)","v":0},{"$f":"SUMIF('DTM Dataset'!B:B,A11,'DTM Dataset'!N:N)","v":1104},{"$f":"SUMIF('DTM Dataset'!B:B,A11,'DTM Dataset'!O:O)","v":84},{"$f":"SUMIF('DTM Dataset'!B:B,A11,'DTM Dataset'!P:P)","v":438},{"$f":"SUMIF('DTM Dataset'!B:B,A11,'DTM Dataset'!Q:Q)","v":3672},{"$f":"SUMIF('DTM Dataset'!B:B,A11,'DTM Dataset'!R:R)","v":6},{"$f":"SUMIF('DTM Dataset'!B:B,A11,'DTM Dataset'!S:S)","v":162},{"$f":"SUMIF('DTM Dataset'!B:B,A11,'DTM Dataset'!T:T)","v":0},{"$f":"SUMIF('DTM Dataset'!B:B,A11,'DTM Dataset'!U:U)","v":0},{"$f":"SUMIF('DTM Dataset'!B:B,A11,'DTM Dataset'!V:V)","v":0},{"$f":"SUMIF('DTM Dataset'!B:B,A11,'DTM Dataset'!W:W)","v":0},{"$f":"SUMIF('DTM Dataset'!B:B,A11,'DTM Dataset'!X:X)","v":0},{"$f":"SUMIF('DTM Dataset'!B:B,A11,'DTM Dataset'!Y:Y)","v":0},5466]
["Al-Muthanna",{"$f":"SUMIF('DTM Dataset'!B:B,A12,'DTM Dataset'!M:M)","v":0},{"$f":"SUMIF('DTM Dataset'!B:B,A12,'DTM Dataset'!N:N)","v":42},{"$f":"SUMIF('DTM Dataset'!B:B,A12,'DTM Dataset'!O:O)","v":0},{"$f":"SUMIF('DTM Dataset'!B:B,A12,'DTM Dataset'!P:P)","v":0},{"$f":"SUMIF('DTM Dataset'!B:B,A12,'DTM Dataset'!Q:Q)","v":792},{"$f":"SUMIF('DTM Dataset'!B:B,A12,'DTM Dataset'!R:R)","v":0},{"$f":"SUMIF('DTM Dataset'!B:B,A12,'DTM Dataset'!S:S)","v":0},{"$f":"SUMIF('DTM Dataset'!B:B,A12,'DTM Dataset'!T:T)","v":24},{"$f":"SUMIF('DTM Dataset'!B:B,A12,'DTM Dataset'!U:U)","v":0},{"$f":"SUMIF('DTM Dataset'!B:B,A12,'DTM Dataset'!V:V)","v":12},{"$f":"SUMIF('DTM Dataset'!B:B,A12,'DTM Dataset'!W:W)","v":0},{"$f":"SUMIF('DTM Dataset'!B:B,A12,'DTM Dataset'!X:X)","v":0},{"$f":"SUMIF('DTM Dataset'!B:B,A12,'DTM Dataset'!Y:Y)","v":0},870]
["Al-Najaf",{"$f":"SUMIF('DTM Dataset'!B:B,A13,'DTM Dataset'!M:M)","v":0},{"$f":"SUMIF('DTM Dataset'!B:B,A13,'DTM Dataset'!N:N)","v":0},{"$f":"SUMIF('DTM Dataset'!B:B,A13,'DTM Dataset'!O:O)","v":0},{"$f":"SUMIF('DTM Dataset'!B:B,A13,'DTM Dataset'!P:P)","v":1464},{"$f":"SUMIF('DTM Dataset'!B:B,A13,'DTM Dataset'!Q:Q)","v":6312},{"$f":"SUMIF('DTM Dataset'!B:B,A13,'DTM Dataset'!R:R)","v":18},{"$f":"SUMIF('DTM Dataset'!B:B,A13,'DTM Dataset'!S:S)","v":0},{"$f":"SUMIF('DTM Dataset'!B:B,A13,'DTM Dataset'!T:T)","v":0},{"$f":"SUMIF('DTM Dataset'!B:B,A13,'DTM Dataset'!U:U)","v":540},{"$f":"SUMIF('DTM Dataset'!B:B,A13,'DTM Dataset'!V:V)","v":0},{"$f":"SUMIF('DTM Dataset'!B:B,A13,'DTM Dataset'!W:W)","v":0},{"$f":"SUMIF('DTM Dataset'!B:B,A13,'DTM Dataset'!X:X)","v":0},{"$f":"SUMIF('DTM Dataset'!B:B,A13,'DTM Dataset'!Y:Y)","v":0},8334]
["Al-Qadissiya",{"$f":"SUMIF('DTM Dataset'!B:B,A14,'DTM Dataset'!M:M)","v":0},{"$f":"SUMIF('DTM Dataset'!B:B,A14,'DTM Dataset'!N:N)","v":6},{"$f":"SUMIF('DTM Dataset'!B:B,A14,'DTM Dataset'!O:O)","v":0},{"$f":"SUMIF('DTM Dataset'!B:B,A14,'DTM Dataset'!P:P)","v":0},{"$f":"SUMIF('DTM Dataset'!B:B,A14,'DTM Dataset'!Q:Q)","v":2802},{"$f":"SUMIF('DTM Dataset'!B:B,A14,'DTM Dataset'!R:R)","v":0},{"$f":"SUMIF('DTM Dataset'!B:B,A14,'DTM Dataset'!S:S)","v":0},{"$f":"SUMIF('DTM Dataset'!B:B,A14,'DTM Dataset'!T:T)","v":18},{"$f":"SUMIF('DTM Dataset'!B:B,A14,'DTM Dataset'!U:U)","v":126},{"$f":"SUMIF('DTM Dataset'!B:B,A14,'DTM Dataset'!V:V)","v":288},{"$f":"SUMIF('DTM Dataset'!B:B,A14,'DTM Dataset'!W:W)","v":0},{"$f":"SUMIF('DTM Dataset'!B:B,A14,'DTM Dataset'!X:X)","v":0},{"$f":"SUMIF('DTM Dataset'!B:B,A14,'DTM Dataset'!Y:Y)","v":0},3240]
["Al-Sulaymaniyah",{"$f":"SUMIF('DTM Dataset'!B:B,A15,'DTM Dataset'!M:M)","v":11490},{"$f":"SUMIF('DTM Dataset'!B:B,A15,'DTM Dataset'!N:N)","v":18},{"$f":"SUMIF('DTM Dataset'!B:B,A15,'DTM Dataset'!O:O)","v":36},{"$f":"SUMIF('DTM Dataset'!B:B,A15,'DTM Dataset'!P:P)","v":4734},{"$f":"SUMIF('DTM Dataset'!B:B,A15,'DTM Dataset'!Q:Q)","v":119262},{"$f":"SUMIF('DTM Dataset'!B:B,A15,'DTM Dataset'!R:R)","v":54},{"$f":"SUMIF('DTM Dataset'!B:B,A15,'DTM Dataset'!S:S)","v":36},{"$f":"SUMIF('DTM Dataset'!B:B,A15,'DTM Dataset'!T:T)","v":96},{"$f":"SUMIF('DTM Dataset'!B:B,A15,'DTM Dataset'!U:U)","v":0},{"$f":"SUMIF('DTM Dataset'!B:B,A15,'DTM Dataset'!V:V)","v":12},{"$f":"SUMIF('DTM Dataset'!B:B,A15,'DTM Dataset'!W:W)","v":12},{"$f":"SUMIF('DTM Dataset'!B:B,A15,'DTM Dataset'!X:X)","v":0},{"$f":"SUMIF('DTM Dataset'!B:B,A15,'DTM Dataset'!Y:Y)","v":0},135750]
["Babil",{"$f":"SUMIF('DTM Dataset'!B:B,A16,'DTM Dataset'!M:M)","v":0},{"$f":"SUMIF('DTM Dataset'!B:B,A16,'DTM Dataset'!N:N)","v":510},{"$f":"SUMIF('DTM Dataset'!B:B,A16,'DTM Dataset'!O:O)","v":0},{"$f":"SUMIF('DTM Dataset'!B:B,A16,'DTM Dataset'!P:P)","v":1608},{"$f":"SUMIF('DTM Dataset'!B:B,A16,'DTM Dataset'!Q:Q)","v":13338},{"$f":"SUMIF('DTM Dataset'!B:B,A16,'DTM Dataset'!R:R)","v":30},{"$f":"SUMIF('DTM Dataset'!B:B,A16,'DTM Dataset'!S:S)","v":540},{"$f":"SUMIF('DTM Dataset'!B:B,A16,'DTM Dataset'!T:T)","v":30},{"$f":"SUMIF('DTM Dataset'!B:B,A16,'DTM Dataset'!U:U)","v":0},{"$f":"SUMIF('DTM Dataset'!B:B,A16,'DTM Dataset'!V:V)","v":0},{"$f":"SUMIF('DTM Dataset'!B:B,A16,'DTM Dataset'!W:W)","v":0},{"$f":"SUMIF('DTM Dataset'!B:B,A16,'DTM Dataset'!X:X)","v":84},{"$f":"SUMIF('DTM Dataset'!B:B,A16,'DTM Dataset'!Y:Y)","v":0},16140]
["Baghdad",{"$f":"SUMIF('DTM Dataset'!B:B,A17,'DTM Dataset'!M:M)","v":0},{"$f":"SUMIF('DTM Dataset'!B:B,A17,'DTM Dataset'!N:N)","v":1230},{"$f":"SUMIF('DTM Dataset'!B:B,A17,'DTM Dataset'!O:O)","v":0},{"$f":"SUMIF('DTM Dataset'!B:B,A17,'DTM Dataset'!P:P)","v":894},{"$f":"SUMIF('DTM Dataset'!B:B,A17,'DTM Dataset'!Q:Q)","v":14844},{"$f":"SUMIF('DTM Dataset'!B:B,A17,'DTM Dataset'!R:R)","v":1116},{"$f":"SUMIF('DTM Dataset'!B:B,A17,'DTM Dataset'!S:S)","v":8256},{"$f":"SUMIF('DTM Dataset'!B:B,A17,'DTM Dataset'!T:T)","v":132},{"$f":"SUMIF('DTM Dataset'!B:B,A17,'DTM Dataset'!U:U)","v":30},{"$f":"SUMIF('DTM Dataset'!B:B,A17,'DTM Dataset'!V:V)","v":60},{"$f":"SUMIF('DTM Dataset'!B:B,A17,'DTM Dataset'!W:W)","v":66},{"$f":"SUMIF('DTM Dataset'!B:B,A17,'DTM Dataset'!X:X)","v":0},{"$f":"SUMIF('DTM Dataset'!B:B,A17,'DTM Dataset'!Y:Y)","v":0},26628]
["Diyala",{"$f":"SUMIF('DTM Dataset'!B:B,A18,'DTM Dataset'!M:M)","v":510},{"$f":"SUMIF('DTM Dataset'!B:B,A18,'DTM Dataset'!N:N)","v":4122},{"$f":"SUMIF('DTM Dataset'!B:B,A18,'DTM Dataset'!O:O)","v":0},{"$f":"SUMIF('DTM Dataset'!B:B,A18,'DTM Dataset'!P:P)","v":660},{"$f":"SUMIF('DTM Dataset'!B:B,A18,'DTM Dataset'!Q:Q)","v":42840},{"$f":"SUMIF('DTM Dataset'!B:B,A18,'DTM Dataset'!R:R)","v":1866},{"$f":"SUMIF('DTM Dataset'!B:B,A18,'DTM Dataset'!S:S)","v":60},{"$f":"SUMIF('DTM Dataset'!B:B,A18,'DTM Dataset'!T:T)","v":342},{"$f":"SUMIF('DTM Dataset'!B:B,A18,'DTM Dataset'!U:U)","v":0},{"$f":"SUMIF('DTM Dataset'!B:B,A18,'DTM Dataset'!V:V)","v":0},{"$f":"SUMIF('DTM Dataset'!B:B,A18,'DTM Dataset'!W:W)","v":0},{"$f":"SUMIF('DTM Dataset'!B:B,A18,'DTM Dataset'!X:X)","v":0},{"$f":"SUMIF('DTM Dataset'!B:B,A18,'DTM Dataset'!Y:Y)","v":0},50400]
["Duhok",{"$f":"SUMIF('DTM Dataset'!B:B,A19,'DTM Dataset'!M:M)","v":109305},{"$f":"SUMIF('DTM Dataset'!B:B,A19,'DTM Dataset'!N:N)","v":0},{"$f":"SUMIF('DTM Dataset'!B:B,A19,'DTM Dataset'!O:O)","v":96},{"$f":"SUMIF('DTM Dataset'!B:B,A19,'DTM Dataset'!P:P)","v":7758},{"$f":"SUMIF('DTM Dataset'!B:B,A19,'DTM Dataset'!Q:Q)","v":111024},{"$f":"SUMIF('DTM Dataset'!B:B,A19,'DTM Dataset'!R:R)","v":0},{"$f":"SUMIF('DTM Dataset'!B:B,A19,'DTM Dataset'!S:S)","v":12480},{"$f":"SUMIF('DTM Dataset'!B:B,A19,'DTM Dataset'!T:T)","v":8226},{"$f":"SUMIF('DTM Dataset'!B:B,A19,'DTM Dataset'!U:U)","v":36},{"$f":"SUMIF('DTM Dataset'!B:B,A19,'DTM Dataset'!V:V)","v":12},{"$f":"SUMIF('DTM Dataset'!B:B,A19,'DTM Dataset'!W:W)","v":0},{"$f":"SUMIF('DTM Dataset'!B:B,A19,'DTM Dataset'!X:X)","v":48},{"$f":"SUMIF('DTM Dataset'!B:B,A19,'DTM Dataset'!Y:Y)","v":0},248985]
["Erbil",{"$f":"SUMIF('DTM Dataset'!B:B,A20,'DTM Dataset'!M:M)","v":13170},{"$f":"SUMIF('DTM Dataset'!B:B,A20,'DTM Dataset'!N:N)","v":48},{"$f":"SUMIF('DTM Dataset'!B:B,A20,'DTM Dataset'!O:O)","v":222},{"$f":"SUMIF('DTM Dataset'!B:B,A20,'DTM Dataset'!P:P)","v":798},{"$f":"SUMIF('DTM Dataset'!B:B,A20,'DTM Dataset'!Q:Q)","v":196170},{"$f":"SUMIF('DTM Dataset'!B:B,A20,'DTM Dataset'!R:R)","v":0},{"$f":"SUMIF('DTM Dataset'!B:B,A20,'DTM Dataset'!S:S)","v":156},{"$f":"SUMIF('DTM Dataset'!B:B,A20,'DTM Dataset'!T:T)","v":378},{"$f":"SUMIF('DTM Dataset'!B:B,A20,'DTM Dataset'!U:U)","v":408},{"$f":"SUMIF('DTM Dataset'!B:B,A20,'DTM Dataset'!V:V)","v":0},{"$f":"SUMIF('DTM Dataset'!B:B,A20,'DTM Dataset'!W:W)","v":0},{"$f":"SUMIF('DTM Dataset'!B:B,A20,'DTM Dataset'!X:X)","v":0},{"$f":"SUMIF('DTM Dataset'!B:B,A20,'DTM Dataset'!Y:Y)","v":0},211350]
["Kerbala",{"$f":"SUMIF('DTM Dataset'!B:B,A21,'DTM Dataset'!M:M)","v":0},{"$f":"SUMIF('DTM Dataset'!B:B,A21,'DTM Dataset'!N:N)","v":30},{"$f":"SUMIF('DTM Dataset'!B:B,A21,'DTM Dataset'!O:O)","v":0},{"$f":"SUMIF('DTM Dataset'!B:B,A21,'DTM Dataset'!P:P)","v":4008},{"$f":"SUMIF('DTM Dataset'!B:B,A21,'DTM Dataset'!Q:Q)","v":6618},{"$f":"SUMIF('DTM Dataset'!B:B,A21,'DTM Dataset'!R:R)","v":0},{"$f":"SUMIF('DTM Dataset'!B:B,A21,'DTM Dataset'!S:S)","v":150},{"$f":"SUMIF('DTM Dataset'!B:B,A21,'DTM Dataset'!T:T)","v":0},{"$f":"SUMIF('DTM Dataset'!B:B,A21,'DTM Dataset'!U:U)","v":0},{"$f":"SUMIF('DTM Dataset'!B:B,A21,'DTM Dataset'!V:V)","v":36},{"$f":"SUMIF('DTM Dataset'!B:B,A21,'DTM Dataset'!W:W)","v":0},{"$f":"SUMIF('DTM Dataset'!B:B,A21,'DTM Dataset'!X:X)","v":0},{"$f":"SUMIF('DTM Dataset'!B:B,A21,'DTM Dataset'!Y:Y)","v":0},10842]
["Kirkuk",{"$f":"SUMIF('DTM Dataset'!B:B,A22,'DTM Dataset'!M:M)","v":0},{"$f":"SUMIF('DTM Dataset'!B:B,A22,'DTM Dataset'!N:N)","v":462},{"$f":"SUMIF('DTM Dataset'!B:B,A22,'DTM Dataset'!O:O)","v":0},{"$f":"SUMIF('DTM Dataset'!B:B,A22,'DTM Dataset'!P:P)","v":2196},{"$f":"SUMIF('DTM Dataset'!B:B,A22,'DTM Dataset'!Q:Q)","v":79524},{"$f":"SUMIF('DTM Dataset'!B:B,A22,'DTM Dataset'!R:R)","v":1392},{"$f":"SUMIF('DTM Dataset'!B:B,A22,'DTM Dataset'!S:S)","v":7746},{"$f":"SUMIF('DTM Dataset'!B:B,A22,'DTM Dataset'!T:T)","v":36},{"$f":"SUMIF('DTM Dataset'!B:B,A22,'DTM Dataset'!U:U)","v":30},{"$f":"SUMIF('DTM Dataset'!B:B,A22,'DTM Dataset'!V:V)","v":0},{"$f":"SUMIF('DTM Dataset'!B:B,A22,'DTM Dataset'!W:W)","v":66},{"$f":"SUMIF('DTM Dataset'!B:B,A22,'DTM Dataset'!X:X)","v":0},{"$f":"SUMIF('DTM Dataset'!B:B,A22,'DTM Dataset'!Y:Y)","v":0},91452]
["Maysan",{"$f":"SUMIF('DTM Dataset'!B:B,A23,'DTM Dataset'!M:M)","v":0},{"$f":"SUMIF('DTM Dataset'!B:B,A23,'DTM Dataset'!N:N)","v":90},{"$f":"SUMIF('DTM Dataset'!B:B,A23,'DTM Dataset'!O:O)","v":0},{"$f":"SUMIF('DTM Dataset'!B:B,A23,'DTM Dataset'!P:P)","v":36},{"$f":"SUMIF('DTM Dataset'!B:B,A23,'DTM Dataset'!Q:Q)","v":1584},{"$f":"SUMIF('DTM Dataset'!B:B,A23,'DTM Dataset'!R:R)","v":0},{"$f":"SUMIF('DTM Dataset'!B:B,A23,'DTM Dataset'!S:S)","v":156},{"$f":"SUMIF('DTM Dataset'!B:B,A23,'DTM Dataset'!T:T)","v":0},{"$f":"SUMIF('DTM Dataset'!B:B,A23,'DTM Dataset'!U:U)","v":0},{"$f":"SUMIF('DTM Dataset'!B:B,A23,'DTM Dataset'!V:V)","v":6},{"$f":"SUMIF('DTM Dataset'!B:B,A23,'DTM Dataset'!W:W)","v":0},{"$f":"SUMIF('DTM Dataset'!B:B,A23,'DTM Dataset'!X:X)","v":0},{"$f":"SUMIF('DTM Dataset'!B:B,A23,'DTM Dataset'!Y:Y)","v":0},1872]
["Ninewa",{"$f":"SUMIF('DTM Dataset'!B:B,A24,'DTM Dataset'!M:M)","v":44845},{"$f":"SUMIF('DTM Dataset'!B:B,A24,'DTM Dataset'!N:N)","v":10212},{"$f":"SUMIF('DTM Dataset'!B:B,A24,'DTM Dataset'!O:O)","v":0},{"$f":"SUMIF('DTM Dataset'!B:B,A24,'DTM Dataset'!P:P)","v":8064},{"$f":"SUMIF('DTM Dataset'!B:B,A24,'DTM Dataset'!Q:Q)","v":192270},{"$f":"SUMIF('DTM Dataset'!B:B,A24,'DTM Dataset'!R:R)","v":5160},{"$f":"SUMIF('DTM Dataset'!B:B,A24,'DTM Dataset'!S:S)","v":6510},{"$f":"SUMIF('DTM Dataset'!B:B,A24,'DTM Dataset'!T:T)","v":5610},{"$f":"SUMIF('DTM Dataset'!B:B,A24,'DTM Dataset'!U:U)","v":0},{"$f":"SUMIF('DTM Dataset'!B:B,A24,'DTM Dataset'!V:V)","v":156},{"$f":"SUMIF('DTM Dataset'!B:B,A24,'DTM Dataset'!W:W)","v":240},{"$f":"SUMIF('DTM Dataset'!B:B,A24,'DTM Dataset'!X:X)","v":264},{"$f":"SUMIF('DTM Dataset'!B:B,A24,'DTM Dataset'!Y:Y)","v":762},274093]
["Salah al-Din",{"$f":"SUMIF('DTM Dataset'!B:B,A25,'DTM Dataset'!M:M)","v":0},{"$f":"SUMIF('DTM Dataset'!B:B,A25,'DTM Dataset'!N:N)","v":3618},{"$f":"SUMIF('DTM Dataset'!B:B,A25,'DTM Dataset'!O:O)","v":0},{"$f":"SUMIF('DTM Dataset'!B:B,A25,'DTM Dataset'!P:P)","v":1764},{"$f":"SUMIF('DTM Dataset'!B:B,A25,'DTM Dataset'!Q:Q)","v":34506},{"$f":"SUMIF('DTM Dataset'!B:B,A25,'DTM Dataset'!R:R)","v":6312},{"$f":"SUMIF('DTM Dataset'!B:B,A25,'DTM Dataset'!S:S)","v":8316},{"$f":"SUMIF('DTM Dataset'!B:B,A25,'DTM Dataset'!T:T)","v":936},{"$f":"SUMIF('DTM Dataset'!B:B,A25,'DTM Dataset'!U:U)","v":90},{"$f":"SUMIF('DTM Dataset'!B:B,A25,'DTM Dataset'!V:V)","v":48},{"$f":"SUMIF('DTM Dataset'!B:B,A25,'DTM Dataset'!W:W)","v":762},{"$f":"SUMIF('DTM Dataset'!B:B,A25,'DTM Dataset'!X:X)","v":42},{"$f":"SUMIF('DTM Dataset'!B:B,A25,'DTM Dataset'!Y:Y)","v":0},56394]
["Thi Qar",{"$f":"SUMIF('DTM Dataset'!B:B,A26,'DTM Dataset'!M:M)","v":0},{"$f":"SUMIF('DTM Dataset'!B:B,A26,'DTM Dataset'!N:N)","v":402},{"$f":"SUMIF('DTM Dataset'!B:B,A26,'DTM Dataset'!O:O)","v":0},{"$f":"SUMIF('DTM Dataset'!B:B,A26,'DTM Dataset'!P:P)","v":582},{"$f":"SUMIF('DTM Dataset'!B:B,A26,'DTM Dataset'!Q:Q)","v":1902},{"$f":"SUMIF('DTM Dataset'!B:B,A26,'DTM Dataset'!R:R)","v":0},{"$f":"SUMIF('DTM Dataset'!B:B,A26,'DTM Dataset'!S:S)","v":210},{"$f":"SUMIF('DTM Dataset'!B:B,A26,'DTM Dataset'!T:T)","v":0},{"$f":"SUMIF('DTM Dataset'!B:B,A26,'DTM Dataset'!U:U)","v":30},{"$f":"SUMIF('DTM Dataset'!B:B,A26,'DTM Dataset'!V:V)","v":18},{"$f":"SUMIF('DTM Dataset'!B:B,A26,'DTM Dataset'!W:W)","v":0},{"$f":"SUMIF('DTM Dataset'!B:B,A26,'DTM Dataset'!X:X)","v":0},{"$f":"SUMIF('DTM Dataset'!B:B,A26,'DTM Dataset'!Y:Y)","v":0},3144]
["Wassit",{"$f":"SUMIF('DTM Dataset'!B:B,A27,'DTM Dataset'!M:M)","v":0},{"$f":"SUMIF('DTM Dataset'!B:B,A27,'DTM Dataset'!N:N)","v":156},{"$f":"SUMIF('DTM Dataset'!B:B,A27,'DTM Dataset'!O:O)","v":0},{"$f":"SUMIF('DTM Dataset'!B:B,A27,'DTM Dataset'!P:P)","v":126},{"$f":"SUMIF('DTM Dataset'!B:B,A27,'DTM Dataset'!Q:Q)","v":3726},{"$f":"SUMIF('DTM Dataset'!B:B,A27,'DTM Dataset'!R:R)","v":0},{"$f":"SUMIF('DTM Dataset'!B:B,A27,'DTM Dataset'!S:S)","v":0},{"$f":"SUMIF('DTM Dataset'!B:B,A27,'DTM Dataset'!T:T)","v":336},{"$f":"SUMIF('DTM Dataset'!B:B,A27,'DTM Dataset'!U:U)","v":0},{"$f":"SUMIF('DTM Dataset'!B:B,A27,'DTM Dataset'!V:V)","v":0},{"$f":"SUMIF('DTM Dataset'!B:B,A27,'DTM Dataset'!W:W)","v":0},{"$f":"SUMIF('DTM Dataset'!B:B,A27,'DTM Dataset'!X:X)","v":0},{"$f":"SUMIF('DTM Dataset'!B:B,A27,'DTM Dataset'!Y:Y)","v":0},4344]
["    Total",{"$f":"SUM(B10:B27)","v":179320},24324,438,35430,841248,16230,61416,17166,6078,810,{"$f":"SUM(L10:L27)","v":1158},438,762,1184818]
[]
["Number of IDP individuals by Governorate of Origin"]
["","Governorate of Origin"]
["Governorate of Displacement","Al-Anbar","Babil","Baghdad","Diyala","Erbil","Kirkuk","Ninewa","Salah al-Din","Total"]
["Al-Anbar",{"$f":"SUMIF('DTM Dataset'!B:B,A33,'DTM Dataset'!Z:Z)","v":25812},{"$f":"SUMIF('DTM Dataset'!B:B,A33,'DTM Dataset'!AA:AA)","v":9150},{"$f":"SUMIF('DTM Dataset'!B:B,A33,'DTM Dataset'!AB:AB)","v":270},{"$f":"SUMIF('DTM Dataset'!B:B,A33,'DTM Dataset'!AE:AE)","v":6},{"$f":"SUMIF('DTM Dataset'!B:B,A33,'DTM Dataset'!AF:AF)","v":0},{"$f":"SUMIF('DTM Dataset'!B:B,A33,'DTM Dataset'!AH:AH)","v":24},{"$f":"SUMIF('DTM Dataset'!B:B,A33,'DTM Dataset'!AL:AL)","v":72},{"$f":"SUMIF('DTM Dataset'!B:B,A33,'DTM Dataset'!AN:AN)","v":180},{"$f":"SUM(B33:I33)","v":35514}]
["Al-Basrah",{"$f":"SUMIF('DTM Dataset'!B:B,A34,'DTM Dataset'!Z:Z)","v":1050},{"$f":"SUMIF('DTM Dataset'!B:B,A34,'DTM Dataset'!AA:AA)","v":108},{"$f":"SUMIF('DTM Dataset'!B:B,A34,'DTM Dataset'!AB:AB)","v":162},{"$f":"SUMIF('DTM Dataset'!B:B,A34,'DTM Dataset'!AE:AE)","v":156},{"$f":"SUMIF('DTM Dataset'!B:B,A34,'DTM Dataset'!AF:AF)","v":0},{"$f":"SUMIF('DTM Dataset'!B:B,A34,'DTM Dataset'!AH:AH)","v":552},{"$f":"SUMIF('DTM Dataset'!B:B,A34,'DTM Dataset'!AL:AL)","v":1530},{"$f":"SUMIF('DTM Dataset'!B:B,A34,'DTM Dataset'!AN:AN)","v":1908},5466]
["Al-Muthanna",{"$f":"SUMIF('DTM Dataset'!B:B,A35,'DTM Dataset'!Z:Z)","v":90},{"$f":"SUMIF('DTM Dataset'!B:B,A35,'DTM Dataset'!AA:AA)","v":0},{"$f":"SUMIF('DTM Dataset'!B:B,A35,'DTM Dataset'!AB:AB)","v":120},{"$f":"SUMIF('DTM Dataset'!B:B,A35,'DTM Dataset'!AE:AE)","v":24},{"$f":"SUMIF('DTM Dataset'!B:B,A35,'DTM Dataset'!AF:AF)","v":0},{"$f":"SUMIF('DTM Dataset'!B:B,A35,'DTM Dataset'!AH:AH)","v":78},{"$f":"SUMIF('DTM Dataset'!B:B,A35,'DTM Dataset'!AL:AL)","v":492},{"$f":"SUMIF('DTM Dataset'!B:B,A35,'DTM Dataset'!AN:AN)","v":66},870]
["Al-Najaf",{"$f":"SUMIF('DTM Dataset'!B:B,A36,'DTM Dataset'!Z:Z)","v":12},{"$f":"SUMIF('DTM Dataset'!B:B,A36,'DTM Dataset'!AA:AA)","v":0},{"$f":"SUMIF('DTM Dataset'!B:B,A36,'DTM Dataset'!AB:AB)","v":0},{"$f":"SUMIF('DTM Dataset'!B:B,A36,'DTM Dataset'!AE:AE)","v":42},{"$f":"SUMIF('DTM Dataset'!B:B,A36,'DTM Dataset'!AF:AF)","v":0},{"$f":"SUMIF('DTM Dataset'!B:B,A36,'DTM Dataset'!AH:AH)","v":0},{"$f":"SUMIF('DTM Dataset'!B:B,A36,'DTM Dataset'!AL:AL)","v":8244},{"$f":"SUMIF('DTM Dataset'!B:B,A36,'DTM Dataset'!AN:AN)","v":36},8334]
["Al-Qadissiya",{"$f":"SUMIF('DTM Dataset'!B:B,A37,'DTM Dataset'!Z:Z)","v":0},{"$f":"SUMIF('DTM Dataset'!B:B,A37,'DTM Dataset'!AA:AA)","v":0},{"$f":"SUMIF('DTM Dataset'!B:B,A37,'DTM Dataset'!AB:AB)","v":108},{"$f":"SUMIF('DTM Dataset'!B:B,A37,'DTM Dataset'!AE:AE)","v":0},{"$f":"SUMIF('DTM Dataset'!B:B,A37,'DTM Dataset'!AF:AF)","v":0},{"$f":"SUMIF('DTM Dataset'!B:B,A37,'DTM Dataset'!AH:AH)","v":1182},{"$f":"SUMIF('DTM Dataset'!B:B,A37,'DTM Dataset'!AL:AL)","v":1920},{"$f":"SUMIF('DTM Dataset'!B:B,A37,'DTM Dataset'!AN:AN)","v":30},3240]
["Al-Sulaymaniyah",{"$f":"SUMIF('DTM Dataset'!B:B,A38,'DTM Dataset'!Z:Z)","v":22132},{"$f":"SUMIF('DTM Dataset'!B:B,A38,'DTM Dataset'!AA:AA)","v":9029},{"$f":"SUMIF('DTM Dataset'!B:B,A38,'DTM Dataset'!AB:AB)","v":31182},{"$f":"SUMIF('DTM Dataset'!B:B,A38,'DTM Dataset'!AE:AE)","v":21181},{"$f":"SUMIF('DTM Dataset'!B:B,A38,'DTM Dataset'!AF:AF)","v":0},{"$f":"SUMIF('DTM Dataset'!B:B,A38,'DTM Dataset'!AH:AH)","v":4680},{"$f":"SUMIF('DTM Dataset'!B:B,A38,'DTM Dataset'!AL:AL)","v":13981},{"$f":"SUMIF('DTM Dataset'!B:B,A38,'DTM Dataset'!AN:AN)","v":33565},135750]
["Babil",{"$f":"SUMIF('DTM Dataset'!B:B,A39,'DTM Dataset'!Z:Z)","v":132},{"$f":"SUMIF('DTM Dataset'!B:B,A39,'DTM Dataset'!AA:AA)","v":15306},{"$f":"SUMIF('DTM Dataset'!B:B,A39,'DTM Dataset'!AB:AB)","v":102},{"$f":"SUMIF('DTM Dataset'!B:B,A39,'DTM Dataset'!AE:AE)","v":24},{"$f":"SUMIF('DTM Dataset'!B:B,A39,'DTM Dataset'!AF:AF)","v":0},{"$f":"SUMIF('DTM Dataset'!B:B,A39,'DTM Dataset'!AH:AH)","v":18},{"$f":"SUMIF('DTM Dataset'!B:B,A39,'DTM Dataset'!AL:AL)","v":504},{"$f":"SUMIF('DTM Dataset'!B:B,A39,'DTM Dataset'!AN:AN)","v":54},16140]
["Baghdad",{"$f":"SUMIF('DTM Dataset'!B:B,A40,'DTM Dataset'!Z:Z)","v":10662},{"$f":"SUMIF('DTM Dataset'!B:B,A40,'DTM Dataset'!AA:AA)","v":8346},{"$f":"SUMIF('DTM Dataset'!B:B,A40,'DTM Dataset'!AB:AB)","v":378},{"$f":"SUMIF('DTM Dataset'!B:B,A40,'DTM Dataset'!AE:AE)","v":696},{"$f":"SUMIF('DTM Dataset'!B:B,A40,'DTM Dataset'!AF:AF)","v":0},{"$f":"SUMIF('DTM Dataset'!B:B,A40,'DTM Dataset'!AH:AH)","v":48},{"$f":"SUMIF('DTM Dataset'!B:B,A40,'DTM Dataset'!AL:AL)","v":4728},{"$f":"SUMIF('DTM Dataset'!B:B,A40,'DTM Dataset'!AN:AN)","v":1770},26628]
["Diyala",{"$f":"SUMIF('DTM Dataset'!B:B,A41,'DTM Dataset'!Z:Z)","v":852},{"$f":"SUMIF('DTM Dataset'!B:B,A41,'DTM Dataset'!AA:AA)","v":1236},{"$f":"SUMIF('DTM Dataset'!B:B,A41,'DTM Dataset'!AB:AB)","v":672},{"$f":"SUMIF('DTM Dataset'!B:B,A41,'DTM Dataset'!AE:AE)","v":43957},{"$f":"SUMIF('DTM Dataset'!B:B,A41,'DTM Dataset'!AF:AF)","v":0},{"$f":"SUMIF('DTM Dataset'!B:B,A41,'DTM Dataset'!AH:AH)","v":54},{"$f":"SUMIF('DTM Dataset'!B:B,A41,'DTM Dataset'!AL:AL)","v":336},{"$f":"SUMIF('DTM Dataset'!B:B,A41,'DTM Dataset'!AN:AN)","v":3293},50400]
["Duhok",{"$f":"SUMIF('DTM Dataset'!B:B,A42,'DTM Dataset'!Z:Z)","v":210},{"$f":"SUMIF('DTM Dataset'!B:B,A42,'DTM Dataset'!AA:AA)","v":0},{"$f":"SUMIF('DTM Dataset'!B:B,A42,'DTM Dataset'!AB:AB)","v":210},{"$f":"SUMIF('DTM Dataset'!B:B,A42,'DTM Dataset'!AE:AE)","v":0},{"$f":"SUMIF('DTM Dataset'!B:B,A42,'DTM Dataset'!AF:AF)","v":0},{"$f":"SUMIF('DTM Dataset'!B:B,A42,'DTM Dataset'!AH:AH)","v":66},{"$f":"SUMIF('DTM Dataset'!B:B,A42,'DTM Dataset'!AL:AL)","v":248253},{"$f":"SUMIF('DTM Dataset'!B:B,A42,'DTM Dataset'!AN:AN)","v":246},248985]
["Erbil",{"$f":"SUMIF('DTM Dataset'!B:B,A43,'DTM Dataset'!Z:Z)","v":62466},{"$f":"SUMIF('DTM Dataset'!B:B,A43,'DTM Dataset'!AA:AA)","v":35},{"$f":"SUMIF('DTM Dataset'!B:B,A43,'DTM Dataset'!AB:AB)","v":12640},{"$f":"SUMIF('DTM Dataset'!B:B,A43,'DTM Dataset'!AE:AE)","v":940},{"$f":"SUMIF('DTM Dataset'!B:B,A43,'DTM Dataset'!AF:AF)","v":7272},{"$f":"SUMIF('DTM Dataset'!B:B,A43,'DTM Dataset'!AH:AH)","v":9581},{"$f":"SUMIF('DTM Dataset'!B:B,A43,'DTM Dataset'!AL:AL)","v":95488},{"$f":"SUMIF('DTM Dataset'!B:B,A43,'DTM Dataset'!AN:AN)","v":22928},211350]
["Kerbala",{"$f":"SUMIF('DTM Dataset'!B:B,A44,'DTM Dataset'!Z:Z)","v":180},{"$f":"SUMIF('DTM Dataset'!B:B,A44,'DTM Dataset'!AA:AA)","v":1218},{"$f":"SUMIF('DTM Dataset'!B:B,A44,'DTM Dataset'!AB:AB)","v":0},{"$f":"SUMIF('DTM Dataset'!B:B,A44,'DTM Dataset'!AE:AE)","v":42},{"$f":"SUMIF('DTM Dataset'!B:B,A44,'DTM Dataset'!AF:AF)","v":0},{"$f":"SUMIF('DTM Dataset'!B:B,A44,'DTM Dataset'!AH:AH)","v":228},{"$f":"SUMIF('DTM Dataset'!B:B,A44,'DTM Dataset'!AL:AL)","v":9174},{"$f":"SUMIF('DTM Dataset'!B:B,A44,'DTM Dataset'!AN:AN)","v":0},10842]
["Kirkuk",{"$f":"SUMIF('DTM Dataset'!B:B,A45,'DTM Dataset'!Z:Z)","v":2424},{"$f":"SUMIF('DTM Dataset'!B:B,A45,'DTM Dataset'!AA:AA)","v":192},{"$f":"SUMIF('DTM Dataset'!B:B,A45,'DTM Dataset'!AB:AB)","v":1026},{"$f":"SUMIF('DTM Dataset'!B:B,A45,'DTM Dataset'!AE:AE)","v":5778},{"$f":"SUMIF('DTM Dataset'!B:B,A45,'DTM Dataset'!AF:AF)","v":30},{"$f":"SUMIF('DTM Dataset'!B:B,A45,'DTM Dataset'!AH:AH)","v":53310},{"$f":"SUMIF('DTM Dataset'!B:B,A45,'DTM Dataset'!AL:AL)","v":8754},{"$f":"SUMIF('DTM Dataset'!B:B,A45,'DTM Dataset'!AN:AN)","v":19938},91452]
["Maysan",{"$f":"SUMIF('DTM Dataset'!B:B,A46,'DTM Dataset'!Z:Z)","v":132},{"$f":"SUMIF('DTM Dataset'!B:B,A46,'DTM Dataset'!AA:AA)","v":36},{"$f":"SUMIF('DTM Dataset'!B:B,A46,'DTM Dataset'!AB:AB)","v":144},{"$f":"SUMIF('DTM Dataset'!B:B,A46,'DTM Dataset'!AE:AE)","v":78},{"$f":"SUMIF('DTM Dataset'!B:B,A46,'DTM Dataset'!AF:AF)","v":0},{"$f":"SUMIF('DTM Dataset'!B:B,A46,'DTM Dataset'!AH:AH)","v":402},{"$f":"SUMIF('DTM Dataset'!B:B,A46,'DTM Dataset'!AL:AL)","v":834},{"$f":"SUMIF('DTM Dataset'!B:B,A46,'DTM Dataset'!AN:AN)","v":246},1872]
["Ninewa",{"$f":"SUMIF('DTM Dataset'!B:B,A47,'DTM Dataset'!Z:Z)","v":6375},{"$f":"SUMIF('DTM Dataset'!B:B,A47,'DTM Dataset'!AA:AA)","v":10},{"$f":"SUMIF('DTM Dataset'!B:B,A47,'DTM Dataset'!AB:AB)","v":120},{"$f":"SUMIF('DTM Dataset'!B:B,A47,'DTM Dataset'!AE:AE)","v":20},{"$f":"SUMIF('DTM Dataset'!B:B,A47,'DTM Dataset'!AF:AF)","v":1622},{"$f":"SUMIF('DTM Dataset'!B:B,A47,'DTM Dataset'!AH:AH)","v":748},{"$f":"SUMIF('DTM Dataset'!B:B,A47,'DTM Dataset'!AL:AL)","v":263608},{"$f":"SUMIF('DTM Dataset'!B:B,A47,'DTM Dataset'!AN:AN)","v":1590},274093]
["Salah al-Din",{"$f":"SUMIF('DTM Dataset'!B:B,A48,'DTM Dataset'!Z:Z)","v":96},{"$f":"SUMIF('DTM Dataset'!B:B,A48,'DTM Dataset'!AA:AA)","v":0},{"$f":"SUMIF('DTM Dataset'!B:B,A48,'DTM Dataset'!AB:AB)","v":12},{"$f":"SUMIF('DTM Dataset'!B:B,A48,'DTM Dataset'!AE:AE)","v":732},{"$f":"SUMIF('DTM Dataset'!B:B,A48,'DTM Dataset'!AF:AF)","v":0},{"$f":"SUMIF('DTM Dataset'!B:B,A48,'DTM Dataset'!AH:AH)","v":3954},{"$f":"SUMIF('DTM Dataset'!B:B,A48,'DTM Dataset'!AL:AL)","v":18},{"$f":"SUMIF('DTM Dataset'!B:B,A48,'DTM Dataset'!AN:AN)","v":51582},56394]
["Thi Qar",{"$f":"SUMIF('DTM Dataset'!B:B,A49,'DTM Dataset'!Z:Z)","v":564},{"$f":"SUMIF('DTM Dataset'!B:B,A49,'DTM Dataset'!AA:AA)","v":36},{"$f":"SUMIF('DTM Dataset'!B:B,A49,'DTM Dataset'!AB:AB)","v":42},{"$f":"SUMIF('DTM Dataset'!B:B,A49,'DTM Dataset'!AE:AE)","v":60},{"$f":"SUMIF('DTM Dataset'!B:B,A49,'DTM Dataset'!AF:AF)","v":0},{"$f":"SUMIF('DTM Dataset'!B:B,A49,'DTM Dataset'!AH:AH)","v":534},{"$f":"SUMIF('DTM Dataset'!B:B,A49,'DTM Dataset'!AL:AL)","v":1734},{"$f":"SUMIF('DTM Dataset'!B:B,A49,'DTM Dataset'!AN:AN)","v":174},3144]
["Wassit",{"$f":"SUMIF('DTM Dataset'!B:B,A50,'DTM Dataset'!Z:Z)","v":132},{"$f":"SUMIF('DTM Dataset'!B:B,A50,'DTM Dataset'!AA:AA)","v":0},{"$f":"SUMIF('DTM Dataset'!B:B,A50,'DTM Dataset'!AB:AB)","v":0},{"$f":"SUMIF('DTM Dataset'!B:B,A50,'DTM Dataset'!AE:AE)","v":210},{"$f":"SUMIF('DTM Dataset'!B:B,A50,'DTM Dataset'!AF:AF)","v":0},{"$f":"SUMIF('DTM Dataset'!B:B,A50,'DTM Dataset'!AH:AH)","v":414},{"$f":"SUMIF('DTM Dataset'!B:B,A50,'DTM Dataset'!AL:AL)","v":3468},{"$f":"SUMIF('DTM Dataset'!B:B,A50,'DTM Dataset'!AN:AN)","v":120},4344]
["    Total",{"$f":"SUM(B33:B50)","v":133321},{"$f":"SUM(C33:C50)","v":44702},{"$f":"SUM(D33:D50)","v":47188},{"$f":"SUM(E33:E50)","v":73946},8924,75873,663138,137726,1184818]
[]
["Number of IDP individuals by Period of Displacement and Governorate of Displacement"]
["","Period of Displacement"]
["Governorate of Displacement","Pre-June14 ","June-July14 ","August14","Post September14 ","Post April15 ","Post March16 ","Post\n October 16 ","July 17","Jan 19","Jan 20","Jan 2021","Jan 2022","Total",{"$nulls":5},"rank"]
["Al-Anbar",{"$f":"SUMIF('DTM Dataset'!B:B,A56,'DTM Dataset'!AR:AR)","v":3036},{"$f":"SUMIF('DTM Dataset'!B:B,A56,'DTM Dataset'!AS:AS)","v":1584},{"$f":"SUMIF('DTM Dataset'!B:B,A56,'DTM Dataset'!AT:AT)","v":0},{"$f":"SUMIF('DTM Dataset'!B:B,A56,'DTM Dataset'!AU:AU)","v":8460},{"$f":"SUMIF('DTM Dataset'!B:B,A56,'DTM Dataset'!AV:AV)","v":10728},{"$f":"SUMIF('DTM Dataset'!B:B,A56,'DTM Dataset'!AW:AW)","v":2928},{"$f":"SUMIF('DTM Dataset'!B:B,A56,'DTM Dataset'!AX:AX)","v":1296},{"$f":"SUMIF('DTM Dataset'!B:B,A56,'DTM Dataset'!AY:AY)","v":4920},{"$f":"SUMIF('DTM Dataset'!B:B,A56,'DTM Dataset'!AZ:AZ)","v":2442},{"$f":"SUMIF('DTM Dataset'!B:B,A56,'DTM Dataset'!BA:BA)","v":114},{"$f":"SUMIF('DTM Dataset'!B:B,A56,'DTM Dataset'!BB:BB)","v":6},{"$f":"SUMIF('DTM Dataset'!B:B,A56,'DTM Dataset'!BC:BC)","v":0},{"$f":"SUM(B56:M56)","v":35514},{"$nulls":5},9]
["Al-Basrah",{"$f":"SUMIF('DTM Dataset'!B:B,A57,'DTM Dataset'!AR:AR)","v":480},{"$f":"SUMIF('DTM Dataset'!B:B,A57,'DTM Dataset'!AS:AS)","v":1200},{"$f":"SUMIF('DTM Dataset'!B:B,A57,'DTM Dataset'!AT:AT)","v":1188},{"$f":"SUMIF('DTM Dataset'!B:B,A57,'DTM Dataset'!AU:AU)","v":1860},{"$f":"SUMIF('DTM Dataset'!B:B,A57,'DTM Dataset'!AV:AV)","v":348},{"$f":"SUMIF('DTM Dataset'!B:B,A57,'DTM Dataset'!AW:AW)","v":126},{"$f":"SUMIF('DTM Dataset'!B:B,A57,'DTM Dataset'!AX:AX)","v":234},{"$f":"SUMIF('DTM Dataset'!B:B,A57,'DTM Dataset'!AY:AY)","v":30},{"$f":"SUMIF('DTM Dataset'!B:B,A57,'DTM Dataset'!AZ:AZ)","v":0},{"$f":"SUMIF('DTM Dataset'!B:B,A57,'DTM Dataset'!BA:BA)","v":0},{"$f":"SUMIF('DTM Dataset'!B:B,A57,'DTM Dataset'!BB:BB)","v":0},{"$f":"SUMIF('DTM Dataset'!B:B,A57,'DTM Dataset'!BC:BC)","v":0},5466,{"$nulls":5},8]
["Al-Muthanna",{"$f":"SUMIF('DTM Dataset'!B:B,A58,'DTM Dataset'!AR:AR)","v":30},{"$f":"SUMIF('DTM Dataset'!B:B,A58,'DTM Dataset'!AS:AS)","v":372},{"$f":"SUMIF('DTM Dataset'!B:B,A58,'DTM Dataset'!AT:AT)","v":252},{"$f":"SUMIF('DTM Dataset'!B:B,A58,'DTM Dataset'!AU:AU)","v":126},{"$f":"SUMIF('DTM Dataset'!B:B,A58,'DTM Dataset'!AV:AV)","v":54},{"$f":"SUMIF('DTM Dataset'!B:B,A58,'DTM Dataset'!AW:AW)","v":0},{"$f":"SUMIF('DTM Dataset'!B:B,A58,'DTM Dataset'!AX:AX)","v":36},{"$f":"SUMIF('DTM Dataset'!B:B,A58,'DTM Dataset'!AY:AY)","v":0},{"$f":"SUMIF('DTM Dataset'!B:B,A58,'DTM Dataset'!AZ:AZ)","v":0},{"$f":"SUMIF('DTM Dataset'!B:B,A58,'DTM Dataset'!BA:BA)","v":0},{"$f":"SUMIF('DTM Dataset'!B:B,A58,'DTM Dataset'!BB:BB)","v":0},{"$f":"SUMIF('DTM Dataset'!B:B,A58,'DTM Dataset'!BC:BC)","v":0},870,{"$nulls":5},7]
["Al-Najaf",{"$f":"SUMIF('DTM Dataset'!B:B,A59,'DTM Dataset'!AR:AR)","v":12},{"$f":"SUMIF('DTM Dataset'!B:B,A59,'DTM Dataset'!AS:AS)","v":5718},{"$f":"SUMIF('DTM Dataset'!B:B,A59,'DTM Dataset'!AT:AT)","v":1662},{"$f":"SUMIF('DTM Dataset'!B:B,A59,'DTM Dataset'!AU:AU)","v":942},{"$f":"SUMIF('DTM Dataset'!B:B,A59,'DTM Dataset'!AV:AV)","v":0},{"$f":"SUMIF('DTM Dataset'!B:B,A59,'DTM Dataset'!AW:AW)","v":0},{"$f":"SUMIF('DTM Dataset'!B:B,A59,'DTM Dataset'!AX:AX)","v":0},{"$f":"SUMIF('DTM Dataset'!B:B,A59,'DTM Dataset'!AY:AY)","v":0},{"$f":"SUMIF('DTM Dataset'!B:B,A59,'DTM Dataset'!AZ:AZ)","v":0},{"$f":"SUMIF('DTM Dataset'!B:B,A59,'DTM Dataset'!BA:BA)","v":0},{"$f":"SUMIF('DTM Dataset'!B:B,A59,'DTM Dataset'!BB:BB)","v":0},{"$f":"SUMIF('DTM Dataset'!B:B,A59,'DTM Dataset'!BC:BC)","v":0},8334,{"$nulls":5},6]
["Al-Qadissiya",{"$f":"SUMIF('DTM Dataset'!B:B,A60,'DTM Dataset'!AR:AR)","v":0},{"$f":"SUMIF('DTM Dataset'!B:B,A60,'DTM Dataset'!AS:AS)","v":1980},{"$f":"SUMIF('DTM Dataset'!B:B,A60,'DTM Dataset'!AT:AT)","v":1206},{"$f":"SUMIF('DTM Dataset'!B:B,A60,'DTM Dataset'!AU:AU)","v":54},{"$f":"SUMIF('DTM Dataset'!B:B,A60,'DTM Dataset'!AV:AV)","v":0},{"$f":"SUMIF('DTM Dataset'!B:B,A60,'DTM Dataset'!AW:AW)","v":0},{"$f":"SUMIF('DTM Dataset'!B:B,A60,'DTM Dataset'!AX:AX)","v":0},{"$f":"SUMIF('DTM Dataset'!B:B,A60,'DTM Dataset'!AY:AY)","v":0},{"$f":"SUMIF('DTM Dataset'!B:B,A60,'DTM Dataset'!AZ:AZ)","v":0},{"$f":"SUMIF('DTM Dataset'!B:B,A60,'DTM Dataset'!BA:BA)","v":0},{"$f":"SUMIF('DTM Dataset'!B:B,A60,'DTM Dataset'!BB:BB)","v":0},{"$f":"SUMIF('DTM Dataset'!B:B,A60,'DTM Dataset'!BC:BC)","v":0},3240,{"$nulls":5},5]
["Al-Sulaymaniyah",{"$f":"SUMIF('DTM Dataset'!B:B,A61,'DTM Dataset'!AR:AR)","v":6322},{"$f":"SUMIF('DTM Dataset'!B:B,A61,'DTM Dataset'!AS:AS)","v":20585},{"$f":"SUMIF('DTM Dataset'!B:B,A61,'DTM Dataset'!AT:AT)","v":13728},{"$f":"SUMIF('DTM Dataset'!B:B,A61,'DTM Dataset'!AU:AU)","v":30105},{"$f":"SUMIF('DTM Dataset'!B:B,A61,'DTM Dataset'!AV:AV)","v":11255},{"$f":"SUMIF('DTM Dataset'!B:B,A61,'DTM Dataset'!AW:AW)","v":11316},{"$f":"SUMIF('DTM Dataset'!B:B,A61,'DTM Dataset'!AX:AX)","v":9352},{"$f":"SUMIF('DTM Dataset'!B:B,A61,'DTM Dataset'!AY:AY)","v":15453},{"$f":"SUMIF('DTM Dataset'!B:B,A61,'DTM Dataset'!AZ:AZ)","v":4056},{"$f":"SUMIF('DTM Dataset'!B:B,A61,'DTM Dataset'!BA:BA)","v":5658},{"$f":"SUMIF('DTM Dataset'!B:B,A61,'DTM Dataset'!BB:BB)","v":7374},{"$f":"SUMIF('DTM Dataset'!B:B,A61,'DTM Dataset'!BC:BC)","v":546},135750,{"$nulls":5},4]
["Babil",{"$f":"SUMIF('DTM Dataset'!B:B,A62,'DTM Dataset'!AR:AR)","v":30},{"$f":"SUMIF('DTM Dataset'!B:B,A62,'DTM Dataset'!AS:AS)","v":12504},{"$f":"SUMIF('DTM Dataset'!B:B,A62,'DTM Dataset'!AT:AT)","v":3276},{"$f":"SUMIF('DTM Dataset'!B:B,A62,'DTM Dataset'!AU:AU)","v":294},{"$f":"SUMIF('DTM Dataset'!B:B,A62,'DTM Dataset'!AV:AV)","v":36},{"$f":"SUMIF('DTM Dataset'!B:B,A62,'DTM Dataset'!AW:AW)","v":0},{"$f":"SUMIF('DTM Dataset'!B:B,A62,'DTM Dataset'!AX:AX)","v":0},{"$f":"SUMIF('DTM Dataset'!B:B,A62,'DTM Dataset'!AY:AY)","v":0},{"$f":"SUMIF('DTM Dataset'!B:B,A62,'DTM Dataset'!AZ:AZ)","v":0},{"$f":"SUMIF('DTM Dataset'!B:B,A62,'DTM Dataset'!BA:BA)","v":0},{"$f":"SUMIF('DTM Dataset'!B:B,A62,'DTM Dataset'!BB:BB)","v":0},{"$f":"SUMIF('DTM Dataset'!B:B,A62,'DTM Dataset'!BC:BC)","v":0},16140,{"$nulls":5},3]
["Baghdad",{"$f":"SUMIF('DTM Dataset'!B:B,A63,'DTM Dataset'!AR:AR)","v":2106},{"$f":"SUMIF('DTM Dataset'!B:B,A63,'DTM Dataset'!AS:AS)","v":5064},{"$f":"SUMIF('DTM Dataset'!B:B,A63,'DTM Dataset'!AT:AT)","v":8724},{"$f":"SUMIF('DTM Dataset'!B:B,A63,'DTM Dataset'!AU:AU)","v":6306},{"$f":"SUMIF('DTM Dataset'!B:B,A63,'DTM Dataset'!AV:AV)","v":3072},{"$f":"SUMIF('DTM Dataset'!B:B,A63,'DTM Dataset'!AW:AW)","v":492},{"$f":"SUMIF('DTM Dataset'!B:B,A63,'DTM Dataset'!AX:AX)","v":636},{"$f":"SUMIF('DTM Dataset'!B:B,A63,'DTM Dataset'!AY:AY)","v":18},{"$f":"SUMIF('DTM Dataset'!B:B,A63,'DTM Dataset'!AZ:AZ)","v":210},{"$f":"SUMIF('DTM Dataset'!B:B,A63,'DTM Dataset'!BA:BA)","v":0},{"$f":"SUMIF('DTM Dataset'!B:B,A63,'DTM Dataset'!BB:BB)","v":0},{"$f":"SUMIF('DTM Dataset'!B:B,A63,'DTM Dataset'!BC:BC)","v":0},26628,{"$nulls":5},2]
["Diyala",{"$f":"SUMIF('DTM Dataset'!B:B,A64,'DTM Dataset'!AR:AR)","v":951},{"$f":"SUMIF('DTM Dataset'!B:B,A64,'DTM Dataset'!AS:AS)","v":15824},{"$f":"SUMIF('DTM Dataset'!B:B,A64,'DTM Dataset'!AT:AT)","v":4968},{"$f":"SUMIF('DTM Dataset'!B:B,A64,'DTM Dataset'!AU:AU)","v":19830},{"$f":"SUMIF('DTM Dataset'!B:B,A64,'DTM Dataset'!AV:AV)","v":1108},{"$f":"SUMIF('DTM Dataset'!B:B,A64,'DTM Dataset'!AW:AW)","v":597},{"$f":"SUMIF('DTM Dataset'!B:B,A64,'DTM Dataset'!AX:AX)","v":846},{"$f":"SUMIF('DTM Dataset'!B:B,A64,'DTM Dataset'!AY:AY)","v":3060},{"$f":"SUMIF('DTM Dataset'!B:B,A64,'DTM Dataset'!AZ:AZ)","v":1572},{"$f":"SUMIF('DTM Dataset'!B:B,A64,'DTM Dataset'!BA:BA)","v":360},{"$f":"SUMIF('DTM Dataset'!B:B,A64,'DTM Dataset'!BB:BB)","v":1260},{"$f":"SUMIF('DTM Dataset'!B:B,A64,'DTM Dataset'!BC:BC)","v":24},50400,{"$nulls":5},1]
["Duhok",{"$f":"SUMIF('DTM Dataset'!B:B,A65,'DTM Dataset'!AR:AR)","v":210},{"$f":"SUMIF('DTM Dataset'!B:B,A65,'DTM Dataset'!AS:AS)","v":48135},{"$f":"SUMIF('DTM Dataset'!B:B,A65,'DTM Dataset'!AT:AT)","v":188234},{"$f":"SUMIF('DTM Dataset'!B:B,A65,'DTM Dataset'!AU:AU)","v":0},{"$f":"SUMIF('DTM Dataset'!B:B,A65,'DTM Dataset'!AV:AV)","v":114},{"$f":"SUMIF('DTM Dataset'!B:B,A65,'DTM Dataset'!AW:AW)","v":0},{"$f":"SUMIF('DTM Dataset'!B:B,A65,'DTM Dataset'!AX:AX)","v":0},{"$f":"SUMIF('DTM Dataset'!B:B,A65,'DTM Dataset'!AY:AY)","v":12250},{"$f":"SUMIF('DTM Dataset'!B:B,A65,'DTM Dataset'!AZ:AZ)","v":0},{"$f":"SUMIF('DTM Dataset'!B:B,A65,'DTM Dataset'!BA:BA)","v":12},{"$f":"SUMIF('DTM Dataset'!B:B,A65,'DTM Dataset'!BB:BB)","v":30},{"$f":"SUMIF('DTM Dataset'!B:B,A65,'DTM Dataset'!BC:BC)","v":0},248985]
["Erbil",{"$f":"SUMIF('DTM Dataset'!B:B,A66,'DTM Dataset'!AR:AR)","v":27846},{"$f":"SUMIF('DTM Dataset'!B:B,A66,'DTM Dataset'!AS:AS)","v":64914},{"$f":"SUMIF('DTM Dataset'!B:B,A66,'DTM Dataset'!AT:AT)","v":11901},{"$f":"SUMIF('DTM Dataset'!B:B,A66,'DTM Dataset'!AU:AU)","v":11624},{"$f":"SUMIF('DTM Dataset'!B:B,A66,'DTM Dataset'!AV:AV)","v":32097},{"$f":"SUMIF('DTM Dataset'!B:B,A66,'DTM Dataset'!AW:AW)","v":5625},{"$f":"SUMIF('DTM Dataset'!B:B,A66,'DTM Dataset'!AX:AX)","v":40519},{"$f":"SUMIF('DTM Dataset'!B:B,A66,'DTM Dataset'!AY:AY)","v":13697},{"$f":"SUMIF('DTM Dataset'!B:B,A66,'DTM Dataset'!AZ:AZ)","v":300},{"$f":"SUMIF('DTM Dataset'!B:B,A66,'DTM Dataset'!BA:BA)","v":2671},{"$f":"SUMIF('DTM Dataset'!B:B,A66,'DTM Dataset'!BB:BB)","v":156},{"$f":"SUMIF('DTM Dataset'!B:B,A66,'DTM Dataset'!BC:BC)","v":0},211350]
["Kerbala",{"$f":"SUMIF('DTM Dataset'!B:B,A67,'DTM Dataset'!AR:AR)","v":1410},{"$f":"SUMIF('DTM Dataset'!B:B,A67,'DTM Dataset'!AS:AS)","v":9366},{"$f":"SUMIF('DTM Dataset'!B:B,A67,'DTM Dataset'!AT:AT)","v":66},{"$f":"SUMIF('DTM Dataset'!B:B,A67,'DTM Dataset'!AU:AU)","v":0},{"$f":"SUMIF('DTM Dataset'!B:B,A67,'DTM Dataset'!AV:AV)","v":0},{"$f":"SUMIF('DTM Dataset'!B:B,A67,'DTM Dataset'!AW:AW)","v":0},{"$f":"SUMIF('DTM Dataset'!B:B,A67,'DTM Dataset'!AX:AX)","v":0},{"$f":"SUMIF('DTM Dataset'!B:B,A67,'DTM Dataset'!AY:AY)","v":0},{"$f":"SUMIF('DTM Dataset'!B:B,A67,'DTM Dataset'!AZ:AZ)","v":0},{"$f":"SUMIF('DTM Dataset'!B:B,A67,'DTM Dataset'!BA:BA)","v":0},{"$f":"SUMIF('DTM Dataset'!B:B,A67,'DTM Dataset'!BB:BB)","v":0},{"$f":"SUMIF('DTM Dataset'!B:B,A67,'DTM Dataset'!BC:BC)","v":0},10842]
["Kirkuk",{"$f":"SUMIF('DTM Dataset'!B:B,A68,'DTM Dataset'!AR:AR)","v":1044},{"$f":"SUMIF('DTM Dataset'!B:B,A68,'DTM Dataset'!AS:AS)","v":9360},{"$f":"SUMIF('DTM Dataset'!B:B,A68,'DTM Dataset'!AT:AT)","v":8466},{"$f":"SUMIF('DTM Dataset'!B:B,A68,'DTM Dataset'!AU:AU)","v":17238},{"$f":"SUMIF('DTM Dataset'!B:B,A68,'DTM Dataset'!AV:AV)","v":16002},{"$f":"SUMIF('DTM Dataset'!B:B,A68,'DTM Dataset'!AW:AW)","v":12858},{"$f":"SUMIF('DTM Dataset'!B:B,A68,'DTM Dataset'!AX:AX)","v":15534},{"$f":"SUMIF('DTM Dataset'!B:B,A68,'DTM Dataset'!AY:AY)","v":10758},{"$f":"SUMIF('DTM Dataset'!B:B,A68,'DTM Dataset'!AZ:AZ)","v":120},{"$f":"SUMIF('DTM Dataset'!B:B,A68,'DTM Dataset'!BA:BA)","v":0},{"$f":"SUMIF('DTM Dataset'!B:B,A68,'DTM Dataset'!BB:BB)","v":72},{"$f":"SUMIF('DTM Dataset'!B:B,A68,'DTM Dataset'!BC:BC)","v":0},91452]
["Maysan",{"$f":"SUMIF('DTM Dataset'!B:B,A69,'DTM Dataset'!AR:AR)","v":90},{"$f":"SUMIF('DTM Dataset'!B:B,A69,'DTM Dataset'!AS:AS)","v":696},{"$f":"SUMIF('DTM Dataset'!B:B,A69,'DTM Dataset'!AT:AT)","v":510},{"$f":"SUMIF('DTM Dataset'!B:B,A69,'DTM Dataset'!AU:AU)","v":396},{"$f":"SUMIF('DTM Dataset'!B:B,A69,'DTM Dataset'!AV:AV)","v":42},{"$f":"SUMIF('DTM Dataset'!B:B,A69,'DTM Dataset'!AW:AW)","v":6},{"$f":"SUMIF('DTM Dataset'!B:B,A69,'DTM Dataset'!AX:AX)","v":132},{"$f":"SUMIF('DTM Dataset'!B:B,A69,'DTM Dataset'!AY:AY)","v":0},{"$f":"SUMIF('DTM Dataset'!B:B,A69,'DTM Dataset'!AZ:AZ)","v":0},{"$f":"SUMIF('DTM Dataset'!B:B,A69,'DTM Dataset'!BA:BA)","v":0},{"$f":"SUMIF('DTM Dataset'!B:B,A69,'DTM Dataset'!BB:BB)","v":0},{"$f":"SUMIF('DTM Dataset'!B:B,A69,'DTM Dataset'!BC:BC)","v":0},1872]
["Ninewa",{"$f":"SUMIF('DTM Dataset'!B:B,A70,'DTM Dataset'!AR:AR)","v":2886},{"$f":"SUMIF('DTM Dataset'!B:B,A70,'DTM Dataset'!AS:AS)","v":32728},{"$f":"SUMIF('DTM Dataset'!B:B,A70,'DTM Dataset'!AT:AT)","v":115009},{"$f":"SUMIF('DTM Dataset'!B:B,A70,'DTM Dataset'!AU:AU)","v":4761},{"$f":"SUMIF('DTM Dataset'!B:B,A70,'DTM Dataset'!AV:AV)","v":14617},{"$f":"SUMIF('DTM Dataset'!B:B,A70,'DTM Dataset'!AW:AW)","v":5408},{"$f":"SUMIF('DTM Dataset'!B:B,A70,'DTM Dataset'!AX:AX)","v":89524},{"$f":"SUMIF('DTM Dataset'!B:B,A70,'DTM Dataset'!AY:AY)","v":6997},{"$f":"SUMIF('DTM Dataset'!B:B,A70,'DTM Dataset'!AZ:AZ)","v":1527},{"$f":"SUMIF('DTM Dataset'!B:B,A70,'DTM Dataset'!BA:BA)","v":500},{"$f":"SUMIF('DTM Dataset'!B:B,A70,'DTM Dataset'!BB:BB)","v":136},{"$f":"SUMIF('DTM Dataset'!B:B,A70,'DTM Dataset'!BC:BC)","v":0},274093]
["Salah al-Din",{"$f":"SUMIF('DTM Dataset'!B:B,A71,'DTM Dataset'!AR:AR)","v":564},{"$f":"SUMIF('DTM Dataset'!B:B,A71,'DTM Dataset'!AS:AS)","v":12012},{"$f":"SUMIF('DTM Dataset'!B:B,A71,'DTM Dataset'!AT:AT)","v":19350},{"$f":"SUMIF('DTM Dataset'!B:B,A71,'DTM Dataset'!AU:AU)","v":7902},{"$f":"SUMIF('DTM Dataset'!B:B,A71,'DTM Dataset'!AV:AV)","v":8862},{"$f":"SUMIF('DTM Dataset'!B:B,A71,'DTM Dataset'!AW:AW)","v":2694},{"$f":"SUMIF('DTM Dataset'!B:B,A71,'DTM Dataset'!AX:AX)","v":3714},{"$f":"SUMIF('DTM Dataset'!B:B,A71,'DTM Dataset'!AY:AY)","v":486},{"$f":"SUMIF('DTM Dataset'!B:B,A71,'DTM Dataset'!AZ:AZ)","v":0},{"$f":"SUMIF('DTM Dataset'!B:B,A71,'DTM Dataset'!BA:BA)","v":132},{"$f":"SUMIF('DTM Dataset'!B:B,A71,'DTM Dataset'!BB:BB)","v":42},{"$f":"SUMIF('DTM Dataset'!B:B,A71,'DTM Dataset'!BC:BC)","v":636},56394]
["Thi Qar",{"$f":"SUMIF('DTM Dataset'!B:B,A72,'DTM Dataset'!AR:AR)","v":228},{"$f":"SUMIF('DTM Dataset'!B:B,A72,'DTM Dataset'!AS:AS)","v":1200},{"$f":"SUMIF('DTM Dataset'!B:B,A72,'DTM Dataset'!AT:AT)","v":912},{"$f":"SUMIF('DTM Dataset'!B:B,A72,'DTM Dataset'!AU:AU)","v":672},{"$f":"SUMIF('DTM Dataset'!B:B,A72,'DTM Dataset'!AV:AV)","v":72},{"$f":"SUMIF('DTM Dataset'!B:B,A72,'DTM Dataset'!AW:AW)","v":36},{"$f":"SUMIF('DTM Dataset'!B:B,A72,'DTM Dataset'!AX:AX)","v":24},{"$f":"SUMIF('DTM Dataset'!B:B,A72,'DTM Dataset'!AY:AY)","v":0},{"$f":"SUMIF('DTM Dataset'!B:B,A72,'DTM Dataset'!AZ:AZ)","v":0},{"$f":"SUMIF('DTM Dataset'!B:B,A72,'DTM Dataset'!BA:BA)","v":0},{"$f":"SUMIF('DTM Dataset'!B:B,A72,'DTM Dataset'!BB:BB)","v":0},{"$f":"SUMIF('DTM Dataset'!B:B,A72,'DTM Dataset'!BC:BC)","v":0},3144]
["Wassit",{"$f":"SUMIF('DTM Dataset'!B:B,A73,'DTM Dataset'!AR:AR)","v":114},{"$f":"SUMIF('DTM Dataset'!B:B,A73,'DTM Dataset'!AS:AS)","v":3564},{"$f":"SUMIF('DTM Dataset'!B:B,A73,'DTM Dataset'!AT:AT)","v":546},{"$f":"SUMIF('DTM Dataset'!B:B,A73,'DTM Dataset'!AU:AU)","v":36},{"$f":"SUMIF('DTM Dataset'!B:B,A73,'DTM Dataset'!AV:AV)","v":84},{"$f":"SUMIF('DTM Dataset'!B:B,A73,'DTM Dataset'!AW:AW)","v":0},{"$f":"SUMIF('DTM Dataset'!B:B,A73,'DTM Dataset'!AX:AX)","v":0},{"$f":"SUMIF('DTM Dataset'!B:B,A73,'DTM Dataset'!AY:AY)","v":0},{"$f":"SUMIF('DTM Dataset'!B:B,A73,'DTM Dataset'!AZ:AZ)","v":0},{"$f":"SUMIF('DTM Dataset'!B:B,A73,'DTM Dataset'!BA:BA)","v":0},{"$f":"SUMIF('DTM Dataset'!B:B,A73,'DTM Dataset'!BB:BB)","v":0},{"$f":"SUMIF('DTM Dataset'!B:B,A73,'DTM Dataset'!BC:BC)","v":0},4344]
["Total",{"$f":"SUM(B56:B73)","v":47359},246806,379998,110606,98491,42086,161847,67669,10227,9447,9076,1206,{"$f":"SUM(N56:N73)","v":1184818}]
[]
["Number and % of IDPs by Period of Displacement"]
["Period of Displacement","IDP Households ","IDP Individuals","%","rank"]
["Pre-June14 ",7896,{"$f":"SUM('DTM Dataset'!AR:AR)","v":47359},{"$f":"C78/$C$90","v":{"v":0.039971539932715405,"d":"4%"}},12]
["June-July14 ",41189,{"$f":"SUM('DTM Dataset'!AS:AS)","v":246806},{"v":0.20830709864299835,"d":"21%"},11]
["August14",68102,{"$f":"SUM('DTM Dataset'!AT:AT)","v":379998},{"v":0.3207226763941804,"d":"32%"},10]
["Post September14 ",18826,{"$f":"SUM('DTM Dataset'!AU:AU)","v":110606},{"v":0.09335273434400895,"d":"9%"},9]
["Post April15 ",16424,{"$f":"SUM('DTM Dataset'!AV:AV)","v":98491},{"v":0.08312753519949899,"d":"8%"},8]
["Post Mar2016",7235,{"$f":"SUM('DTM Dataset'!AW:AW)","v":42086},{"v":0.03552106737068478,"d":"4%"},7]
["Post 17Oct2016",27381,{"$f":"SUM('DTM Dataset'!AX:AX)","v":161847},{"v":0.13660072686269115,"d":"14%"},6]
["July 17",11342,{"$f":"SUM('DTM Dataset'!AY:AY)","v":67669},{"v":0.057113413199326814,"d":"6%"},5]
["January 19",1741,{"$f":"SUM('DTM Dataset'!AZ:AZ)","v":10227},{"v":0.008631705460247902,"d":"1%"},4]
["January 20",1593,{"$f":"SUM('DTM Dataset'!BA:BA)","v":9447},{"$f":"C87/$C$90","v":{"v":7.973376501707435E-3,"d":"1%"}},3]
["January 21",1517,{"$f":"SUM('DTM Dataset'!BB:BB)","v":9076},{"v":0.007660248240658059,"d":"1%"},2]
["January 22",201,{"$f":"SUM('DTM Dataset'!BC:BC)","v":1206},{"v":1.0178778512818002E-3,"d":"0%"},1]
["Total",{"$f":"SUM(B78:B89)","v":203447},{"$f":"SUM(C78:C89)","v":1184818},{"v":1,"d":"100%"}]
[]
["Number of IDPs by District of Displacement"]
["Governorate of Displacement","District of Displacement","Households","Individuals"]
["Al-Anbar","Al-Falluja",{"$f":"SUMIF('DTM Dataset'!$C:$C,$B94,'DTM Dataset'!I:I)","v":3284},{"$f":"SUMIF('DTM Dataset'!$C:$C,$B94,'DTM Dataset'!J:J)","v":19704}]
[null,"Al-Kaim",{"$f":"SUMIF('DTM Dataset'!$C:$C,$B95,'DTM Dataset'!I:I)","v":348},{"$f":"SUMIF('DTM Dataset'!$C:$C,$B95,'DTM Dataset'!J:J)","v":2088}]
[null,"Al-Ramadi",{"$f":"SUMIF('DTM Dataset'!$C:$C,$B96,'DTM Dataset'!I:I)","v":1087},{"$f":"SUMIF('DTM Dataset'!$C:$C,$B96,'DTM Dataset'!J:J)","v":6522}]
[null,"Al-Rutba",{"$f":"SUMIF('DTM Dataset'!$C:$C,$B97,'DTM Dataset'!I:I)","v":465},{"$f":"SUMIF('DTM Dataset'!$C:$C,$B97,'DTM Dataset'!J:J)","v":2790}]
[null,"Ana",{"$f":"SUMIF('DTM Dataset'!$C:$C,$B98,'DTM Dataset'!I:I)","v":319},{"$f":"SUMIF('DTM Dataset'!$C:$C,$B98,'DTM Dataset'!J:J)","v":1914}]
[null,"Haditha",{"$f":"SUMIF('DTM Dataset'!$C:$C,$B99,'DTM Dataset'!I:I)","v":183},{"$f":"SUMIF('DTM Dataset'!$C:$C,$B99,'DTM Dataset'!J:J)","v":1098}]
[null,"Heet",{"$f":"SUMIF('DTM Dataset'!$C:$C,$B100,'DTM Dataset'!I:I)","v":233},{"$f":"SUMIF('DTM Dataset'!$C:$C,$B100,'DTM Dataset'!J:J)","v":1398}]
["Al-Basrah","Abu Al-Khaseeb",{"$f":"SUMIF('DTM Dataset'!$C:$C,$B101,'DTM Dataset'!I:I)","v":215},{"$f":"SUMIF('DTM Dataset'!$C:$C,$B101,'DTM Dataset'!J:J)","v":1290}]
[null,"Al-Basrah",{"$f":"SUMIF('DTM Dataset'!$C:$C,$B102,'DTM Dataset'!I:I)","v":349},{"$f":"SUMIF('DTM Dataset'!$C:$C,$B102,'DTM Dataset'!J:J)","v":2094}]
[null,"Al-Faw",{"$f":"SUMIF('DTM Dataset'!$C:$C,$B103,'DTM Dataset'!I:I)","v":9},{"$f":"SUMIF('DTM Dataset'!$C:$C,$B103,'DTM Dataset'!J:J)","v":54}]
[null,"Al-Midaina",{"$f":"SUMIF('DTM Dataset'!$C:$C,$B104,'DTM Dataset'!I:I)","v":23},{"$f":"SUMIF('DTM Dataset'!$C:$C,$B104,'DTM Dataset'!J:J)","v":138}]
[null,"Al-Qurna",{"$f":"SUMIF('DTM Dataset'!$C:$C,$B105,'DTM Dataset'!I:I)","v":45},{"$f":"SUMIF('DTM Dataset'!$C:$C,$B105,'DTM Dataset'!J:J)","v":270}]
[null,"Al-Zubair",{"$f":"SUMIF('DTM Dataset'!$C:$C,$B106,'DTM Dataset'!I:I)","v":203},{"$f":"SUMIF('DTM Dataset'!$C:$C,$B106,'DTM Dataset'!J:J)","v":1218}]
[null,"Shat Al-Arab",{"$f":"SUMIF('DTM Dataset'!$C:$C,$B107,'DTM Dataset'!I:I)","v":67},{"$f":"SUMIF('DTM Dataset'!$C:$C,$B107,'DTM Dataset'!J:J)","v":402}]
["Al-Muthanna","Al-Khidhir",{"$f":"SUMIF('DTM Dataset'!$C:$C,$B108,'DTM Dataset'!I:I)","v":6},{"$f":"SUMIF('DTM Dataset'!$C:$C,$B108,'DTM Dataset'!J:J)","v":36}]
[null,"Al-Rumaitha",{"$f":"SUMIF('DTM Dataset'!$C:$C,$B109,'DTM Dataset'!I:I)","v":48},{"$f":"SUMIF('DTM Dataset'!$C:$C,$B109,'DTM Dataset'!J:J)","v":288}]
[null,"Al-Salman",{"$f":"SUMIF('DTM Dataset'!$C:$C,$B110,'DTM Dataset'!I:I)","v":1},{"$f":"SUMIF('DTM Dataset'!$C:$C,$B110,'DTM Dataset'!J:J)","v":6}]
[null,"Al-Samawa",{"$f":"SUMIF('DTM Dataset'!$C:$C,$B111,'DTM Dataset'!I:I)","v":90},{"$f":"SUMIF('DTM Dataset'!$C:$C,$B111,'DTM Dataset'!J:J)","v":540}]
["Al-Najaf","Al-Kufa",{"$f":"SUMIF('DTM Dataset'!$C:$C,$B112,'DTM Dataset'!I:I)","v":370},{"$f":"SUMIF('DTM Dataset'!$C:$C,$B112,'DTM Dataset'!J:J)","v":2220}]
[null,"Al-Manathera",{"$f":"SUMIF('DTM Dataset'!$C:$C,$B113,'DTM Dataset'!I:I)","v":16},{"$f":"SUMIF('DTM Dataset'!$C:$C,$B113,'DTM Dataset'!J:J)","v":96}]
[null,"Al-Najaf",{"$f":"SUMIF('DTM Dataset'!$C:$C,$B114,'DTM Dataset'!I:I)","v":1003},{"$f":"SUMIF('DTM Dataset'!$C:$C,$B114,'DTM Dataset'!J:J)","v":6018}]
["Al-Qadissiya","Afaq",{"$f":"SUMIF('DTM Dataset'!$C:$C,$B115,'DTM Dataset'!I:I)","v":129},{"$f":"SUMIF('DTM Dataset'!$C:$C,$B115,'DTM Dataset'!J:J)","v":774}]
[null,"Al-Diwaniya",{"$f":"SUMIF('DTM Dataset'!$C:$C,$B116,'DTM Dataset'!I:I)","v":340},{"$f":"SUMIF('DTM Dataset'!$C:$C,$B116,'DTM Dataset'!J:J)","v":2040}]
[null,"Al-Hamza",{"$f":"SUMIF('DTM Dataset'!$C:$C,$B117,'DTM Dataset'!I:I)","v":21},{"$f":"SUMIF('DTM Dataset'!$C:$C,$B117,'DTM Dataset'!J:J)","v":126}]
[null,"Al-Shamiya",{"$f":"SUMIF('DTM Dataset'!$C:$C,$B118,'DTM Dataset'!I:I)","v":50},{"$f":"SUMIF('DTM Dataset'!$C:$C,$B118,'DTM Dataset'!J:J)","v":300}]
["Al-Sulaymaniyah","Al-Sulaymaniyah",{"$f":"SUMIF('DTM Dataset'!$C:$C,$B119,'DTM Dataset'!I:I)","v":16203},{"$f":"SUMIF('DTM Dataset'!$C:$C,$B119,'DTM Dataset'!J:J)","v":95101}]
[null,"Chamchamal",{"$f":"SUMIF('DTM Dataset'!$C:$C,$B120,'DTM Dataset'!I:I)","v":1504},{"$f":"SUMIF('DTM Dataset'!$C:$C,$B120,'DTM Dataset'!J:J)","v":9024}]
[null,"Derbendikhan",{"$f":"SUMIF('DTM Dataset'!$C:$C,$B121,'DTM Dataset'!I:I)","v":1039},{"$f":"SUMIF('DTM Dataset'!$C:$C,$B121,'DTM Dataset'!J:J)","v":6234}]
[null,"Dokan",{"$f":"SUMIF('DTM Dataset'!$C:$C,$B122,'DTM Dataset'!I:I)","v":868},{"$f":"SUMIF('DTM Dataset'!$C:$C,$B122,'DTM Dataset'!J:J)","v":5208}]
[null,"Halabcha",{"$f":"SUMIF('DTM Dataset'!$C:$C,$B123,'DTM Dataset'!I:I)","v":703},{"$f":"SUMIF('DTM Dataset'!$C:$C,$B123,'DTM Dataset'!J:J)","v":4218}]
[null,"Kalar",{"$f":"SUMIF('DTM Dataset'!$C:$C,$B124,'DTM Dataset'!I:I)","v":2234},{"$f":"SUMIF('DTM Dataset'!$C:$C,$B124,'DTM Dataset'!J:J)","v":13223}]
[null,"Panjwin",{"$f":"SUMIF('DTM Dataset'!$C:$C,$B125,'DTM Dataset'!I:I)","v":5},{"$f":"SUMIF('DTM Dataset'!$C:$C,$B125,'DTM Dataset'!J:J)","v":30}]
[null,"Pshdar",{"$f":"SUMIF('DTM Dataset'!$C:$C,$B126,'DTM Dataset'!I:I)","v":34},{"$f":"SUMIF('DTM Dataset'!$C:$C,$B126,'DTM Dataset'!J:J)","v":204}]
[null,"Rania",{"$f":"SUMIF('DTM Dataset'!$C:$C,$B127,'DTM Dataset'!I:I)","v":351},{"$f":"SUMIF('DTM Dataset'!$C:$C,$B127,'DTM Dataset'!J:J)","v":2106}]
[null,"Sharbazher",{"$f":"SUMIF('DTM Dataset'!$C:$C,$B128,'DTM Dataset'!I:I)","v":67},{"$f":"SUMIF('DTM Dataset'!$C:$C,$B128,'DTM Dataset'!J:J)","v":402}]
["Babil","Al-Hashimiya",{"$f":"SUMIF('DTM Dataset'!$C:$C,$B129,'DTM Dataset'!I:I)","v":9},{"$f":"SUMIF('DTM Dataset'!$C:$C,$B129,'DTM Dataset'!J:J)","v":54}]
[null,"Al-Hilla",{"$f":"SUMIF('DTM Dataset'!$C:$C,$B130,'DTM Dataset'!I:I)","v":106},{"$f":"SUMIF('DTM Dataset'!$C:$C,$B130,'DTM Dataset'!J:J)","v":636}]
[null,"Al-Mahaweel",{"$f":"SUMIF('DTM Dataset'!$C:$C,$B131,'DTM Dataset'!I:I)","v":34},{"$f":"SUMIF('DTM Dataset'!$C:$C,$B131,'DTM Dataset'!J:J)","v":204}]
[null,"Al-Mussyab",{"$f":"SUMIF('DTM Dataset'!$C:$C,$B132,'DTM Dataset'!I:I)","v":2541},{"$f":"SUMIF('DTM Dataset'!$C:$C,$B132,'DTM Dataset'!J:J)","v":15246}]
["Baghdad","Al-Adhamiya",{"$f":"SUMIF('DTM Dataset'!$C:$C,$B133,'DTM Dataset'!I:I)","v":344},{"$f":"SUMIF('DTM Dataset'!$C:$C,$B133,'DTM Dataset'!J:J)","v":2064}]
[null,"Al-Kadhmiyah",{"$f":"SUMIF('DTM Dataset'!$C:$C,$B134,'DTM Dataset'!I:I)","v":1440},{"$f":"SUMIF('DTM Dataset'!$C:$C,$B134,'DTM Dataset'!J:J)","v":8640}]
[null,"Al-Karkh",{"$f":"SUMIF('DTM Dataset'!$C:$C,$B135,'DTM Dataset'!I:I)","v":642},{"$f":"SUMIF('DTM Dataset'!$C:$C,$B135,'DTM Dataset'!J:J)","v":3852}]
[null,"Al-Mada'in",{"$f":"SUMIF('DTM Dataset'!$C:$C,$B136,'DTM Dataset'!I:I)","v":125},{"$f":"SUMIF('DTM Dataset'!$C:$C,$B136,'DTM Dataset'!J:J)","v":750}]
[null,"Al-Mahmoudiya",{"$f":"SUMIF('DTM Dataset'!$C:$C,$B137,'DTM Dataset'!I:I)","v":1469},{"$f":"SUMIF('DTM Dataset'!$C:$C,$B137,'DTM Dataset'!J:J)","v":8814}]
[null,"Al-Risafa",{"$f":"SUMIF('DTM Dataset'!$C:$C,$B138,'DTM Dataset'!I:I)","v":356},{"$f":"SUMIF('DTM Dataset'!$C:$C,$B138,'DTM Dataset'!J:J)","v":2136}]
[null,"Al-Thawra",{"$f":"SUMIF('DTM Dataset'!$C:$C,$B139,'DTM Dataset'!I:I)","v":62},{"$f":"SUMIF('DTM Dataset'!$C:$C,$B139,'DTM Dataset'!J:J)","v":372}]
["Diyala","Al-Khalis",{"$f":"SUMIF('DTM Dataset'!$C:$C,$B140,'DTM Dataset'!I:I)","v":590},{"$f":"SUMIF('DTM Dataset'!$C:$C,$B140,'DTM Dataset'!J:J)","v":3540}]
[null,"Al-Muqdadiya",{"$f":"SUMIF('DTM Dataset'!$C:$C,$B141,'DTM Dataset'!I:I)","v":33},{"$f":"SUMIF('DTM Dataset'!$C:$C,$B141,'DTM Dataset'!J:J)","v":198}]
[null,"Baladruz",{"$f":"SUMIF('DTM Dataset'!$C:$C,$B142,'DTM Dataset'!I:I)","v":80},{"$f":"SUMIF('DTM Dataset'!$C:$C,$B142,'DTM Dataset'!J:J)","v":480}]
[null,"Baquba",{"$f":"SUMIF('DTM Dataset'!$C:$C,$B143,'DTM Dataset'!I:I)","v":3446},{"$f":"SUMIF('DTM Dataset'!$C:$C,$B143,'DTM Dataset'!J:J)","v":20676}]
[null,"Khanaqin",{"$f":"SUMIF('DTM Dataset'!$C:$C,$B144,'DTM Dataset'!I:I)","v":2480},{"$f":"SUMIF('DTM Dataset'!$C:$C,$B144,'DTM Dataset'!J:J)","v":14778}]
[null,"Kifri",{"$f":"SUMIF('DTM Dataset'!$C:$C,$B145,'DTM Dataset'!I:I)","v":1788},{"$f":"SUMIF('DTM Dataset'!$C:$C,$B145,'DTM Dataset'!J:J)","v":10728}]
["Duhok","Al-Amadiya",{"$f":"SUMIF('DTM Dataset'!$C:$C,$B146,'DTM Dataset'!I:I)","v":899},{"$f":"SUMIF('DTM Dataset'!$C:$C,$B146,'DTM Dataset'!J:J)","v":4897}]
[null,"Duhok",{"$f":"SUMIF('DTM Dataset'!$C:$C,$B147,'DTM Dataset'!I:I)","v":4356},{"$f":"SUMIF('DTM Dataset'!$C:$C,$B147,'DTM Dataset'!J:J)","v":26136}]
[null,"Sumail",{"$f":"SUMIF('DTM Dataset'!$C:$C,$B148,'DTM Dataset'!I:I)","v":25314},{"$f":"SUMIF('DTM Dataset'!$C:$C,$B148,'DTM Dataset'!J:J)","v":137883}]
[null,"Zakho",{"$f":"SUMIF('DTM Dataset'!$C:$C,$B149,'DTM Dataset'!I:I)","v":14572},{"$f":"SUMIF('DTM Dataset'!$C:$C,$B149,'DTM Dataset'!J:J)","v":80069}]
["Erbil","Erbil",{"$f":"SUMIF('DTM Dataset'!$C:$C,$B150,'DTM Dataset'!I:I)","v":32635},{"$f":"SUMIF('DTM Dataset'!$C:$C,$B150,'DTM Dataset'!J:J)","v":194562}]
[null,"Koysinjaq",{"$f":"SUMIF('DTM Dataset'!$C:$C,$B151,'DTM Dataset'!I:I)","v":482},{"$f":"SUMIF('DTM Dataset'!$C:$C,$B151,'DTM Dataset'!J:J)","v":2892}]
[null,"Makhmour",{"$f":"SUMIF('DTM Dataset'!$C:$C,$B152,'DTM Dataset'!I:I)","v":1386},{"$f":"SUMIF('DTM Dataset'!$C:$C,$B152,'DTM Dataset'!J:J)","v":6930}]
[null,"Rawanduz",{"$f":"SUMIF('DTM Dataset'!$C:$C,$B153,'DTM Dataset'!I:I)","v":329},{"$f":"SUMIF('DTM Dataset'!$C:$C,$B153,'DTM Dataset'!J:J)","v":1974}]
[null,"Shaqlawa",{"$f":"SUMIF('DTM Dataset'!$C:$C,$B154,'DTM Dataset'!I:I)","v":832},{"$f":"SUMIF('DTM Dataset'!$C:$C,$B154,'DTM Dataset'!J:J)","v":4992}]
["Kerbala","Ain Al-Tamur",{"$f":"SUMIF('DTM Dataset'!$C:$C,$B155,'DTM Dataset'!I:I)","v":23},{"$f":"SUMIF('DTM Dataset'!$C:$C,$B155,'DTM Dataset'!J:J)","v":138}]
[null,"Al-Hindiya",{"$f":"SUMIF('DTM Dataset'!$C:$C,$B156,'DTM Dataset'!I:I)","v":146},{"$f":"SUMIF('DTM Dataset'!$C:$C,$B156,'DTM Dataset'!J:J)","v":876}]
[null,"Kerbela",{"$f":"SUMIF('DTM Dataset'!$C:$C,$B157,'DTM Dataset'!I:I)","v":1638},{"$f":"SUMIF('DTM Dataset'!$C:$C,$B157,'DTM Dataset'!J:J)","v":9828}]
["Kirkuk","Al-Hawiga",{"$f":"SUMIF('DTM Dataset'!$C:$C,$B158,'DTM Dataset'!I:I)","v":121},{"$f":"SUMIF('DTM Dataset'!$C:$C,$B158,'DTM Dataset'!J:J)","v":726}]
[null,"Daquq",{"$f":"SUMIF('DTM Dataset'!$C:$C,$B159,'DTM Dataset'!I:I)","v":845},{"$f":"SUMIF('DTM Dataset'!$C:$C,$B159,'DTM Dataset'!J:J)","v":5070}]
[null,"Dibis",{"$f":"SUMIF('DTM Dataset'!$C:$C,$B160,'DTM Dataset'!I:I)","v":332},{"$f":"SUMIF('DTM Dataset'!$C:$C,$B160,'DTM Dataset'!J:J)","v":1992}]
[null,"Kirkuk",{"$f":"SUMIF('DTM Dataset'!$C:$C,$B161,'DTM Dataset'!I:I)","v":13944},{"$f":"SUMIF('DTM Dataset'!$C:$C,$B161,'DTM Dataset'!J:J)","v":83664}]
["Maysan","Al-Amara",{"$f":"SUMIF('DTM Dataset'!$C:$C,$B162,'DTM Dataset'!I:I)","v":5},{"$f":"SUMIF('DTM Dataset'!$C:$C,$B162,'DTM Dataset'!J:J)","v":30}]
[null,"Ali Al-Gharbi",{"$f":"SUMIF('DTM Dataset'!$C:$C,$B163,'DTM Dataset'!I:I)","v":10},{"$f":"SUMIF('DTM Dataset'!$C:$C,$B163,'DTM Dataset'!J:J)","v":60}]
[null,"Al-Kahla",{"$f":"SUMIF('DTM Dataset'!$C:$C,$B164,'DTM Dataset'!I:I)","v":251},{"$f":"SUMIF('DTM Dataset'!$C:$C,$B164,'DTM Dataset'!J:J)","v":1506}]
[null,"Al-Maimouna",{"$f":"SUMIF('DTM Dataset'!$C:$C,$B165,'DTM Dataset'!I:I)","v":2},{"$f":"SUMIF('DTM Dataset'!$C:$C,$B165,'DTM Dataset'!J:J)","v":12}]
[null,"Al-Mejar Al-Kabir",{"$f":"SUMIF('DTM Dataset'!$C:$C,$B166,'DTM Dataset'!I:I)","v":27},{"$f":"SUMIF('DTM Dataset'!$C:$C,$B166,'DTM Dataset'!J:J)","v":162}]
[null,"Qalat Saleh",{"$f":"SUMIF('DTM Dataset'!$C:$C,$B167,'DTM Dataset'!I:I)","v":17},{"$f":"SUMIF('DTM Dataset'!$C:$C,$B167,'DTM Dataset'!J:J)","v":102}]
["Ninewa","Al-Baaj",{"$f":"SUMIF('DTM Dataset'!$C:$C,$B168,'DTM Dataset'!I:I)","v":1255},{"$f":"SUMIF('DTM Dataset'!$C:$C,$B168,'DTM Dataset'!J:J)","v":7530}]
[null,"Al-Hamdaniya",{"$f":"SUMIF('DTM Dataset'!$C:$C,$B169,'DTM Dataset'!I:I)","v":7403},{"$f":"SUMIF('DTM Dataset'!$C:$C,$B169,'DTM Dataset'!J:J)","v":41333}]
[null,"Al-Hatra",{"$f":"SUMIF('DTM Dataset'!$C:$C,$B170,'DTM Dataset'!I:I)","v":702},{"$f":"SUMIF('DTM Dataset'!$C:$C,$B170,'DTM Dataset'!J:J)","v":4212}]
[null,"Al-Mosul",{"$f":"SUMIF('DTM Dataset'!$C:$C,$B171,'DTM Dataset'!I:I)","v":15269},{"$f":"SUMIF('DTM Dataset'!$C:$C,$B171,'DTM Dataset'!J:J)","v":90644}]
[null,"Al-Shikhan",{"$f":"SUMIF('DTM Dataset'!$C:$C,$B172,'DTM Dataset'!I:I)","v":7931},{"$f":"SUMIF('DTM Dataset'!$C:$C,$B172,'DTM Dataset'!J:J)","v":42841}]
[null,"Aqra",{"$f":"SUMIF('DTM Dataset'!$C:$C,$B173,'DTM Dataset'!I:I)","v":4078},{"$f":"SUMIF('DTM Dataset'!$C:$C,$B173,'DTM Dataset'!J:J)","v":24299}]
[null,"Sinjar",{"$f":"SUMIF('DTM Dataset'!$C:$C,$B174,'DTM Dataset'!I:I)","v":6084},{"$f":"SUMIF('DTM Dataset'!$C:$C,$B174,'DTM Dataset'!J:J)","v":36504}]
[null,"Telafar",{"$f":"SUMIF('DTM Dataset'!$C:$C,$B175,'DTM Dataset'!I:I)","v":1555},{"$f":"SUMIF('DTM Dataset'!$C:$C,$B175,'DTM Dataset'!J:J)","v":9330}]
[null,"Tilkaef",{"$f":"SUMIF('DTM Dataset'!$C:$C,$B176,'DTM Dataset'!I:I)","v":2900},{"$f":"SUMIF('DTM Dataset'!$C:$C,$B176,'DTM Dataset'!J:J)","v":17400}]
["Salah al-Din","Al-Daur",{"$f":"SUMIF('DTM Dataset'!$C:$C,$B177,'DTM Dataset'!I:I)","v":11},{"$f":"SUMIF('DTM Dataset'!$C:$C,$B177,'DTM Dataset'!J:J)","v":66}]
[null,"Al-Shirqat",{"$f":"SUMIF('DTM Dataset'!$C:$C,$B178,'DTM Dataset'!I:I)","v":50},{"$f":"SUMIF('DTM Dataset'!$C:$C,$B178,'DTM Dataset'!J:J)","v":300}]
[null,"Balad",{"$f":"SUMIF('DTM Dataset'!$C:$C,$B179,'DTM Dataset'!I:I)","v":904},{"$f":"SUMIF('DTM Dataset'!$C:$C,$B179,'DTM Dataset'!J:J)","v":5424}]
[null,"Beygee",{"$f":"SUMIF('DTM Dataset'!$C:$C,$B180,'DTM Dataset'!I:I)","v":212},{"$f":"SUMIF('DTM Dataset'!$C:$C,$B180,'DTM Dataset'!J:J)","v":1272}]
[null,"Samarra",{"$f":"SUMIF('DTM Dataset'!$C:$C,$B181,'DTM Dataset'!I:I)","v":2623},{"$f":"SUMIF('DTM Dataset'!$C:$C,$B181,'DTM Dataset'!J:J)","v":15738}]
[null,"Tikrit",{"$f":"SUMIF('DTM Dataset'!$C:$C,$B182,'DTM Dataset'!I:I)","v":2331},{"$f":"SUMIF('DTM Dataset'!$C:$C,$B182,'DTM Dataset'!J:J)","v":13986}]
[null,"Tooz Khurmato",{"$f":"SUMIF('DTM Dataset'!$C:$C,$B183,'DTM Dataset'!I:I)","v":3268},{"$f":"SUMIF('DTM Dataset'!$C:$C,$B183,'DTM Dataset'!J:J)","v":19608}]
["Thi Qar","Al-Chibayish",{"$f":"SUMIF('DTM Dataset'!$C:$C,$B184,'DTM Dataset'!I:I)","v":4},{"$f":"SUMIF('DTM Dataset'!$C:$C,$B184,'DTM Dataset'!J:J)","v":24}]
[null,"Al-Nasiriya",{"$f":"SUMIF('DTM Dataset'!$C:$C,$B185,'DTM Dataset'!I:I)","v":296},{"$f":"SUMIF('DTM Dataset'!$C:$C,$B185,'DTM Dataset'!J:J)","v":1776}]
[null,"Al-Rifai",{"$f":"SUMIF('DTM Dataset'!$C:$C,$B186,'DTM Dataset'!I:I)","v":121},{"$f":"SUMIF('DTM Dataset'!$C:$C,$B186,'DTM Dataset'!J:J)","v":726}]
[null,"Al-Shatra",{"$f":"SUMIF('DTM Dataset'!$C:$C,$B187,'DTM Dataset'!I:I)","v":25},{"$f":"SUMIF('DTM Dataset'!$C:$C,$B187,'DTM Dataset'!J:J)","v":150}]
[null,"Suq Al-Shoyokh",{"$f":"SUMIF('DTM Dataset'!$C:$C,$B188,'DTM Dataset'!I:I)","v":78},{"$f":"SUMIF('DTM Dataset'!$C:$C,$B188,'DTM Dataset'!J:J)","v":468}]
["Wassit","Al-Hai",{"$f":"SUMIF('DTM Dataset'!$C:$C,$B189,'DTM Dataset'!I:I)","v":42},{"$f":"SUMIF('DTM Dataset'!$C:$C,$B189,'DTM Dataset'!J:J)","v":252}]
[null,"Al-Kut",{"$f":"SUMIF('DTM Dataset'!$C:$C,$B190,'DTM Dataset'!I:I)","v":479},{"$f":"SUMIF('DTM Dataset'!$C:$C,$B190,'DTM Dataset'!J:J)","v":2874}]
[null,"Al-Namaniya",{"$f":"SUMIF('DTM Dataset'!$C:$C,$B191,'DTM Dataset'!I:I)","v":46},{"$f":"SUMIF('DTM Dataset'!$C:$C,$B191,'DTM Dataset'!J:J)","v":276}]
[null,"Al-Suwaira",{"$f":"SUMIF('DTM Dataset'!$C:$C,$B192,'DTM Dataset'!I:I)","v":125},{"$f":"SUMIF('DTM Dataset'!$C:$C,$B192,'DTM Dataset'!J:J)","v":750}]
[null,"Badra",{"$f":"SUMIF('DTM Dataset'!$C:$C,$B193,'DTM Dataset'!I:I)","v":32},{"$f":"SUMIF('DTM Dataset'!$C:$C,$B193,'DTM Dataset'!J:J)","v":192}]
["Total",null,{"$f":"SUM(C94:C193)","v":203447},{"$f":"SUM(D94:D193)","v":1184818}]

{"sheet":"DTM Dataset","index":2,"n_rows":2806,"n_cols":58,"rows_kept":1125,"cut":true,"merged":[[0,0,0,5],[1,0,1,7],[1,8,1,9],[1,10,1,11],[1,12,1,24],[1,25,1,42],[1,43,1,53],[1,55,1,57]],"bounds":{"rows_first":500,"rows_last":125,"rows_between":500,"halvings":2}}
["DTM : IDP Master List 31-03-2022"]
["Location of Displacement",{"$nulls":7},"Total # of IDPs",null,"New arrivals",null,"Shelter type (in red, classified as critical shelters)",{"$nulls":12},"Governorate of origin (Number of Individuals)",{"$nulls":17},"Period of displacement (Number of Individuals)",{"$nulls":11},"Link for Map"]
["Place id","Governorate","District","Sub-district","Location name\nin English","Location name\nin Arabic ","Latitude","Longitude","Households","Individuals","Individuals displaced for a 1st time","Individuals arriving from other location of displacement","Camp","Host families","Hotel/Motel or short-term rental","Own Property","Apartment/House\n (not owned) (habitable)","Apartment/House\n(not owned)(uninhabitable)","Tent/Caravan/makeshift shelter/mud or block house","Unfinished/Abandoned building","Public Buildings or Collective shelters","Religious building","School building","Other Critical shelter","Unknown shelter type","Al-Anbar","Babil","Baghdad","Al-Basrah","Duhok","Diyala","Erbil","Kerbala","Kirkuk","Maysan","Al-Muthanna","Najaf","Ninewa","Qadissiya","Salah al-Din","Al-Sulaymaniyah","Thi Qar","Wassit","Pre-June14 ","June-July14 ","August14","Post September14 ","Post April15 ","Post March16","Post 17 October16","July 17","Jan 19","ـJan 20","Jan2021","Jan 2022","Open Street Map","Google Map","Bing Map"]
[33939,"Al-Anbar","Al-Falluja","Al-Amirya","Amriyat Al-Fallujah sector 4","القطاع الرابع",33.145831,44.015278,129,774,0,0,0,0,0,0,0,0,774,0,0,0,0,0,0,408,366,0,0,0,0,0,0,0,0,0,0,0,0,0,0,0,0,0,0,0,0,774,0,0,0,0,0,0,0,{"$f":"HYPERLINK(\"http://www.openstreetmap.org/?mlat=33.1458&mlon=44.0153&zoom=12#map=12/33.1458/44.0153\",\"Maplink1\")","v":"Maplink1"},{"$f":"HYPERLINK(\"https://www.google.iq/maps/search/+33.1458,44.0153/@33.1458,44.0153,14z?hl=en\",\"Maplink2\")","v":"Maplink2"},{"$f":"HYPERLINK(\"http://www.bing.com/maps/?lvl=14&sty=h&cp=33.1458~44.0153&sp=point.33.1458_44.0153\",\"Maplink3\")","v":"Maplink3"}]
[33940,"Al-Anbar","Al-Falluja","Al-Amirya","Amriyat Al-Fallujahsector 3","القطاع الثالث",33.1416213777,44.0180357682,106,636,0,0,0,0,0,0,0,0,636,0,0,0,0,0,0,210,426,0,0,0,0,0,0,0,0,0,0,0,0,0,0,0,0,0,0,0,0,426,210,0,0,0,0,0,0,{"$f":"HYPERLINK(\"http://www.openstreetmap.org/?mlat=33.1416&mlon=44.018&zoom=12#map=12/33.1416/44.018\",\"Maplink1\")","v":"Maplink1"},{"$f":"HYPERLINK(\"https://www.google.iq/maps/search/+33.1416,44.018/@33.1416,44.018,14z?hl=en\",\"Maplink2\")","v":"Maplink2"},{"$f":"HYPERLINK(\"http://www.bing.com/maps/?lvl=14&sty=h&cp=33.1416~44.018&sp=point.33.1416_44.018\",\"Maplink3\")","v":"Maplink3"}]
[21226,"Al-Anbar","Al-Falluja","Al-Amirya","Albu Hori","البوحوري",33.1584538531,43.8916233995,109,654,0,6,0,0,0,0,0,0,624,0,12,18,0,0,0,276,378,0,0,0,0,0,0,0,0,0,0,0,0,0,0,0,0,0,0,0,0,654,0,0,0,0,0,0,0,{"$f":"HYPERLINK(\"http://www.openstreetmap.org/?mlat=33.1585&mlon=43.8916&zoom=12#map=12/33.1585/43.8916\",\"Maplink1\")","v":"Maplink1"},{"$f":"HYPERLINK(\"https://www.google.iq/maps/search/+33.1585,43.8916/@33.1585,43.8916,14z?hl=en\",\"Maplink2\")","v":"Maplink2"},{"$f":"HYPERLINK(\"http://www.bing.com/maps/?lvl=14&sty=h&cp=33.1585~43.8916&sp=point.33.1585_43.8916\",\"Maplink3\")","v":"Maplink3"}]
[33941,"Al-Anbar","Al-Falluja","Al-Amirya","Amriyat Al-Fallujahsector 50","قطاع الخمسين",33.1473168434,44.0138911416,83,498,0,6,0,0,0,0,0,0,498,0,0,0,0,0,0,18,480,0,0,0,0,0,0,0,0,0,0,0,0,0,0,0,0,0,0,0,480,0,18,0,0,0,0,0,0,{"$f":"HYPERLINK(\"http://www.openstreetmap.org/?mlat=33.1473&mlon=44.0139&zoom=12#map=12/33.1473/44.0139\",\"Maplink1\")","v":"Maplink1"},{"$f":"HYPERLINK(\"https://www.google.iq/maps/search/+33.1473,44.0139/@33.1473,44.0139,14z?hl=en\",\"Maplink2\")","v":"Maplink2"},{"$f":"HYPERLINK(\"http://www.bing.com/maps/?lvl=14&sty=h&cp=33.1473~44.0139&sp=point.33.1473_44.0139\",\"Maplink3\")","v":"Maplink3"}]
[34228,"Al-Anbar","Al-Falluja","Al-Amirya","low-costs houses/Habbaniah","دور واطئه الكلفه \\الحبانيه",33.2554625438,43.6510906853,249,{"v":1494,"d":"1,494"},0,0,0,0,0,0,0,0,342,0,{"v":1152,"d":"1,152"},0,0,0,0,{"v":1494,"d":"1,494"},0,0,0,0,0,0,0,0,0,0,0,0,0,0,0,0,0,{"v":1494,"d":"1,494"},0,0,0,0,0,0,0,0,0,0,0,{"$f":"HYPERLINK(\"http://www.openstreetmap.org/?mlat=33.2555&mlon=43.6511&zoom=12#map=12/33.2555/43.6511\",\"Maplink1\")","v":"Maplink1"},{"$f":"HYPERLINK(\"https://www.google.iq/maps/search/+33.2555,43.6511/@33.2555,43.6511,14z?hl=en\",\"Maplink2\")","v":"Maplink2"},{"$f":"HYPERLINK(\"http://www.bing.com/maps/?lvl=14&sty=h&cp=33.2555~43.6511&sp=point.33.2555_43.6511\",\"Maplink3\")","v":"Maplink3"}]
[34290,"Al-Anbar","Al-Falluja","Al-Amirya","Hay  Al-Salam","حي السلام",33.17218,43.86378,122,732,0,0,0,0,0,0,0,0,732,0,0,0,0,0,0,522,210,0,0,0,0,0,0,0,0,0,0,0,0,0,0,0,0,0,0,0,210,522,0,0,0,0,0,0,0,{"$f":"HYPERLINK(\"http://www.openstreetmap.org/?mlat=33.1722&mlon=43.8638&zoom=12#map=12/33.1722/43.8638\",\"Maplink1\")","v":"Maplink1"},{"$f":"HYPERLINK(\"https://www.google.iq/maps/search/+33.1722,43.8638/@33.1722,43.8638,14z?hl=en\",\"Maplink2\")","v":"Maplink2"},{"$f":"HYPERLINK(\"http://www.bing.com/maps/?lvl=14&sty=h&cp=33.1722~43.8638&sp=point.33.1722_43.8638\",\"Maplink3\")","v":"Maplink3"}]
[34291,"Al-Anbar","Al-Falluja","Al-Amirya","Hay Al-Maleab","حي الملعب",33.17337,43.84332,230,{"v":1380,"d":"1,380"},0,0,0,0,0,0,0,60,{"v":1320,"d":"1,320"},0,0,0,0,0,0,900,480,0,0,0,0,0,0,0,0,0,0,0,0,0,0,0,0,0,0,0,480,900,0,0,0,0,0,0,0,{"$f":"HYPERLINK(\"http://www.openstreetmap.org/?mlat=33.1734&mlon=43.8433&zoom=12#map=12/33.1734/43.8433\",\"Maplink1\")","v":"Maplink1"},{"$f":"HYPERLINK(\"https://www.google.iq/maps/search/+33.1734,43.8433/@33.1734,43.8433,14z?hl=en\",\"Maplink2\")","v":"Maplink2"},{"$f":"HYPERLINK(\"http://www.bing.com/maps/?lvl=14&sty=h&cp=33.1734~43.8433&sp=point.33.1734_43.8433\",\"Maplink3\")","v":"Maplink3"}]
[107,"Al-Anbar","Al-Falluja","Al-Amirya","Al Amiriyah","العامرية ",33.1787572967,43.8569891848,317,{"v":1902,"d":"1,902"},0,0,0,0,0,0,{"v":1200,"d":"1,200"},60,642,0,0,0,0,0,0,246,{"v":1656,"d":"1,656"},0,0,0,0,0,0,0,0,0,0,0,0,0,0,0,0,0,0,0,{"v":1644,"d":"1,644"},258,0,0,0,0,0,0,0,{"$f":"HYPERLINK(\"http://www.openstreetmap.org/?mlat=33.1788&mlon=43.857&zoom=12#map=12/33.1788/43.857\",\"Maplink1\")","v":"Maplink1"},{"$f":"HYPERLINK(\"https://www.google.iq/maps/search/+33.1788,43.857/@33.1788,43.857,14z?hl=en\",\"Maplink2\")","v":"Maplink2"},{"$f":"HYPERLINK(\"http://www.bing.com/maps/?lvl=14&sty=h&cp=33.1788~43.857&sp=point.33.1788_43.857\",\"Maplink3\")","v":"Maplink3"}]
[26093,"Al-Anbar","Al-Falluja","Al-Amirya","Al-Amirya-Tal Ghatas","تل غطاس",33.1842735892,43.9257111593,34,204,0,0,0,0,0,0,0,0,204,0,0,0,0,0,0,0,204,0,0,0,0,0,0,0,0,0,0,0,0,0,0,0,0,0,0,0,0,204,0,0,0,0,0,0,0,{"$f":"HYPERLINK(\"http://www.openstreetmap.org/?mlat=33.1843&mlon=43.9257&zoom=12#map=12/33.1843/43.9257\",\"Maplink1\")","v":"Maplink1"},{"$f":"HYPERLINK(\"https://www.google.iq/maps/search/+33.1843,43.9257/@33.1843,43.9257,14z?hl=en\",\"Maplink2\")","v":"Maplink2"},{"$f":"HYPERLINK(\"http://www.bing.com/maps/?lvl=14&sty=h&cp=33.1843~43.9257&sp=point.33.1843_43.9257\",\"Maplink3\")","v":"Maplink3"}]
[26036,"Al-Anbar","Al-Falluja","Al-Amirya","Al-Amirya-Albu Jasim","البوجاسم",33.201389,43.9,20,120,0,0,0,0,0,0,0,0,120,0,0,0,0,0,0,30,90,0,0,0,0,0,0,0,0,0,0,0,0,0,0,0,0,0,0,0,0,120,0,0,0,0,0,0,0,{"$f":"HYPERLINK(\"http://www.openstreetmap.org/?mlat=33.2014&mlon=43.9&zoom=12#map=12/33.2014/43.9\",\"Maplink1\")","v":"Maplink1"},{"$f":"HYPERLINK(\"https://www.google.iq/maps/search/+33.2014,43.9/@33.2014,43.9,14z?hl=en\",\"Maplink2\")","v":"Maplink2"},{"$f":"HYPERLINK(\"http://www.bing.com/maps/?lvl=14&sty=h&cp=33.2014~43.9&sp=point.33.2014_43.9\",\"Maplink3\")","v":"Maplink3"}]
[26092,"Al-Anbar","Al-Falluja","Al-Amirya","Al-Amirya-Al Mouilha","المويلحة",33.1411903588,43.9557124922,265,{"v":1590,"d":"1,590"},0,0,0,0,0,0,0,0,{"v":1446,"d":"1,446"},0,0,144,0,0,0,150,{"v":1440,"d":"1,440"},0,0,0,0,0,0,0,0,0,0,0,0,0,0,0,0,510,0,0,240,840,0,0,0,0,0,0,0,{"$f":"HYPERLINK(\"http://www.openstreetmap.org/?mlat=33.1412&mlon=43.9557&zoom=12#map=12/33.1412/43.9557\",\"Maplink1\")","v":"Maplink1"},{"$f":"HYPERLINK(\"https://www.google.iq/maps/search/+33.1412,43.9557/@33.1412,43.9557,14z?hl=en\",\"Maplink2\")","v":"Maplink2"},{"$f":"HYPERLINK(\"http://www.bing.com/maps/?lvl=14&sty=h&cp=33.1412~43.9557&sp=point.33.1412_43.9557\",\"Maplink3\")","v":"Maplink3"}]
[26087,"Al-Anbar","Al-Falluja","Al-Amirya","Al-Amirya-Albu Salman","البوسليمان",33.1538288817,44.0061241815,158,948,0,0,0,6,0,0,0,0,942,0,0,0,0,0,0,360,588,0,0,0,0,0,0,0,0,0,0,0,0,0,0,0,0,0,0,0,360,588,0,0,0,0,0,0,0,{"$f":"HYPERLINK(\"http://www.openstreetmap.org/?mlat=33.1538&mlon=44.0061&zoom=12#map=12/33.1538/44.0061\",\"Maplink1\")","v":"Maplink1"},{"$f":"HYPERLINK(\"https://www.google.iq/maps/search/+33.1538,44.0061/@33.1538,44.0061,14z?hl=en\",\"Maplink2\")","v":"Maplink2"},{"$f":"HYPERLINK(\"http://www.bing.com/maps/?lvl=14&sty=h&cp=33.1538~44.0061&sp=point.33.1538_44.0061\",\"Maplink3\")","v":"Maplink3"}]
[27246,"Al-Anbar","Al-Falluja","Al-Amirya","AAF","مخيم عامرية الفلوجة",33.1465437232,43.8485591596,450,{"v":2700,"d":"2,700"},0,0,0,0,0,0,0,0,{"v":2700,"d":"2,700"},0,0,0,0,0,0,{"v":2454,"d":"2,454"},246,0,0,0,0,0,0,0,0,0,0,0,0,0,0,0,0,0,0,0,0,246,660,594,{"v":1200,"d":"1,200"},0,0,0,0,{"$f":"HYPERLINK(\"http://www.openstreetmap.org/?mlat=33.1465&mlon=43.8486&zoom=12#map=12/33.1465/43.8486\",\"Maplink1\")","v":"Maplink1"},{"$f":"HYPERLINK(\"https://www.google.iq/maps/search/+33.1465,43.8486/@33.1465,43.8486,14z?hl=en\",\"Maplink2\")","v":"Maplink2"},{"$f":"HYPERLINK(\"http://www.bing.com/maps/?lvl=14&sty=h&cp=33.1465~43.8486&sp=point.33.1465_43.8486\",\"Maplink3\")","v":"Maplink3"}]
[31877,"Al-Anbar","Al-Falluja","Al-Amirya","Al-Ekhaa Compaund","مجمع الاخاء السكني",33.1642117408,43.8642625655,81,486,0,0,0,0,0,0,486,0,0,0,0,0,0,0,0,390,96,0,0,0,0,0,0,0,0,0,0,0,0,0,0,0,0,0,0,0,0,486,0,0,0,0,0,0,0,{"$f":"HYPERLINK(\"http://www.openstreetmap.org/?mlat=33.1642&mlon=43.8643&zoom=12#map=12/33.1642/43.8643\",\"Maplink1\")","v":"Maplink1"},{"$f":"HYPERLINK(\"https://www.google.iq/maps/search/+33.1642,43.8643/@33.1642,43.8643,14z?hl=en\",\"Maplink2\")","v":"Maplink2"},{"$f":"HYPERLINK(\"http://www.bing.com/maps/?lvl=14&sty=h&cp=33.1642~43.8643&sp=point.33.1642_43.8643\",\"Maplink3\")","v":"Maplink3"}]
[26084,"Al-Anbar","Al-Falluja","Al-Amirya","Amriyat Al-Fallujah-sector1","عامرية الفلوجة-القطاع الاول",33.1197398708,44.0429224676,103,618,0,0,0,0,0,0,0,0,618,0,0,0,0,0,0,360,258,0,0,0,0,0,0,0,0,0,0,0,0,0,0,0,0,0,0,0,0,618,0,0,0,0,0,0,0,{"$f":"HYPERLINK(\"http://www.openstreetmap.org/?mlat=33.1197&mlon=44.0429&zoom=12#map=12/33.1197/44.0429\",\"Maplink1\")","v":"Maplink1"},{"$f":"HYPERLINK(\"https://www.google.iq/maps/search/+33.1197,44.0429/@33.1197,44.0429,14z?hl=en\",\"Maplink2\")","v":"Maplink2"},{"$f":"HYPERLINK(\"http://www.bing.com/maps/?lvl=14&sty=h&cp=33.1197~44.0429&sp=point.33.1197_44.0429\",\"Maplink3\")","v":"Maplink3"}]
[26088,"Al-Anbar","Al-Falluja","Al-Amirya","Ahl Al-Ramadi 74","اهل الرمادي 74",33.1467332728,44.0150320443,68,408,0,12,0,0,0,0,0,0,408,0,0,0,0,0,0,408,0,0,0,0,0,0,0,0,0,0,0,0,0,0,0,0,0,0,0,0,378,30,0,0,0,0,0,0,0,{"$f":"HYPERLINK(\"http://www.openstreetmap.org/?mlat=33.1467&mlon=44.015&zoom=12#map=12/33.1467/44.015\",\"Maplink1\")","v":"Maplink1"},{"$f":"HYPERLINK(\"https://www.google.iq/maps/search/+33.1467,44.015/@33.1467,44.015,14z?hl=en\",\"Maplink2\")","v":"Maplink2"},{"$f":"HYPERLINK(\"http://www.bing.com/maps/?lvl=14&sty=h&cp=33.1467~44.015&sp=point.33.1467_44.015\",\"Maplink3\")","v":"Maplink3"}]
[26085,"Al-Anbar","Al-Falluja","Al-Amirya","Amriyat Al-Fallujah-sector2","عامرية الفلوجة-القطاع الثاني",33.1348125103,44.0267073679,215,{"v":1290,"d":"1,290"},0,0,0,0,0,0,0,0,{"v":1290,"d":"1,290"},0,0,0,0,0,0,786,504,0,0,0,0,0,0,0,0,0,0,0,0,0,0,0,0,0,0,0,504,786,0,0,0,0,0,0,0,{"$f":"HYPERLINK(\"http://www.openstreetmap.org/?mlat=33.1348&mlon=44.0267&zoom=12#map=12/33.1348/44.0267\",\"Maplink1\")","v":"Maplink1"},{"$f":"HYPERLINK(\"https://www.google.iq/maps/search/+33.1348,44.0267/@33.1348,44.0267,14z?hl=en\",\"Maplink2\")","v":"Maplink2"},{"$f":"HYPERLINK(\"http://www.bing.com/maps/?lvl=14&sty=h&cp=33.1348~44.0267&sp=point.33.1348_44.0267\",\"Maplink3\")","v":"Maplink3"}]
[23276,"Al-Anbar","Al-Falluja","Al-Amirya","HTC","مخيم المدينة السياحية الحبانية",33.2534480342,43.5845499555,75,450,0,0,0,0,0,0,0,0,450,0,0,0,0,0,0,450,0,0,0,0,0,0,0,0,0,0,0,0,0,0,0,0,0,0,0,0,0,0,186,0,264,0,0,0,0,{"$f":"HYPERLINK(\"http://www.openstreetmap.org/?mlat=33.2534&mlon=43.5845&zoom=12#map=12/33.2534/43.5845\",\"Maplink1\")","v":"Maplink1"},{"$f":"HYPERLINK(\"https://www.google.iq/maps/search/+33.2534,43.5845/@33.2534,43.5845,14z?hl=en\",\"Maplink2\")","v":"Maplink2"},{"$f":"HYPERLINK(\"http://www.bing.com/maps/?lvl=14&sty=h&cp=33.2534~43.5845&sp=point.33.2534_43.5845\",\"Maplink3\")","v":"Maplink3"}]
[26089,"Al-Anbar","Al-Falluja","Al-Amirya","Albu Dhaher-Albu Dhaher","البوظاهر",33.1886308442,43.9068991549,18,108,0,0,0,0,0,0,0,0,108,0,0,0,0,0,0,18,90,0,0,0,0,0,0,0,0,0,0,0,0,0,0,0,0,0,0,0,0,108,0,0,0,0,0,0,0,{"$f":"HYPERLINK(\"http://www.openstreetmap.org/?mlat=33.1886&mlon=43.9069&zoom=12#map=12/33.1886/43.9069\",\"Maplink1\")","v":"Maplink1"},{"$f":"HYPERLINK(\"https://www.google.iq/maps/search/+33.1886,43.9069/@33.1886,43.9069,14z?hl=en\",\"Maplink2\")","v":"Maplink2"},{"$f":"HYPERLINK(\"http://www.bing.com/maps/?lvl=14&sty=h&cp=33.1886~43.9069&sp=point.33.1886_43.9069\",\"Maplink3\")","v":"Maplink3"}]
[21410,"Al-Anbar","Al-Falluja","Al-Amirya","Albo Jaar","البو جار ",33.1491348446,43.9871416069,49,294,0,0,0,0,0,0,0,0,294,0,0,0,0,0,0,138,156,0,0,0,0,0,0,0,0,0,0,0,0,0,0,0,0,0,0,0,0,294,0,0,0,0,0,0,0,{"$f":"HYPERLINK(\"http://www.openstreetmap.org/?mlat=33.1491&mlon=43.9871&zoom=12#map=12/33.1491/43.9871\",\"Maplink1\")","v":"Maplink1"},{"$f":"HYPERLINK(\"https://www.google.iq/maps/search/+33.1491,43.9871/@33.1491,43.9871,14z?hl=en\",\"Maplink2\")","v":"Maplink2"},{"$f":"HYPERLINK(\"http://www.bing.com/maps/?lvl=14&sty=h&cp=33.1491~43.9871&sp=point.33.1491_43.9871\",\"Maplink3\")","v":"Maplink3"}]
[26091,"Al-Anbar","Al-Falluja","Al-Amirya","Al-Amirya-Al Hmedin","الحميدين",33.1568984549,43.931899605,110,660,0,0,0,12,0,0,0,0,648,0,0,0,0,0,0,102,558,0,0,0,0,0,0,0,0,0,0,0,0,0,0,0,0,0,0,0,558,102,0,0,0,0,0,0,0,{"$f":"HYPERLINK(\"http://www.openstreetmap.org/?mlat=33.1569&mlon=43.9319&zoom=12#map=12/33.1569/43.9319\",\"Maplink1\")","v":"Maplink1"},{"$f":"HYPERLINK(\"https://www.google.iq/maps/search/+33.1569,43.9319/@33.1569,43.9319,14z?hl=en\",\"Maplink2\")","v":"Maplink2"},{"$f":"HYPERLINK(\"http://www.bing.com/maps/?lvl=14&sty=h&cp=33.1569~43.9319&sp=point.33.1569_43.9319\",\"Maplink3\")","v":"Maplink3"}]
[26037,"Al-Anbar","Al-Falluja","Al-Amirya","Al-Amirya-Albu Jwad","البوجواد",33.1508204439,43.9986993596,150,900,0,0,0,0,0,0,0,18,882,0,0,0,0,0,0,54,846,0,0,0,0,0,0,0,0,0,0,0,0,0,0,0,0,0,0,0,132,384,384,0,0,0,0,0,0,{"$f":"HYPERLINK(\"http://www.openstreetmap.org/?mlat=33.1508&mlon=43.9987&zoom=12#map=12/33.1508/43.9987\",\"Maplink1\")","v":"Maplink1"},{"$f":"HYPERLINK(\"https://www.google.iq/maps/search/+33.1508,43.9987/@33.1508,43.9987,14z?hl=en\",\"Maplink2\")","v":"Maplink2"},{"$f":"HYPERLINK(\"http://www.bing.com/maps/?lvl=14&sty=h&cp=33.1508~43.9987&sp=point.33.1508_43.9987\",\"Maplink3\")","v":"Maplink3"}]
[20901,"Al-Anbar","Al-Falluja","Markaz Al-Falluja","Sin Al-Thubban","سن الذبان",33.3715804,43.6107139,4,24,0,0,0,24,0,0,0,0,0,0,0,0,0,0,0,24,0,0,0,0,0,0,0,0,0,0,0,0,0,0,0,0,0,0,0,0,24,0,0,0,0,0,0,0,0,{"$f":"HYPERLINK(\"http://www.openstreetmap.org/?mlat=33.3716&mlon=43.6107&zoom=12#map=12/33.3716/43.6107\",\"Maplink1\")","v":"Maplink1"},{"$f":"HYPERLINK(\"https://www.google.iq/maps/search/+33.3716,43.6107/@33.3716,43.6107,14z?hl=en\",\"Maplink2\")","v":"Maplink2"},{"$f":"HYPERLINK(\"http://www.bing.com/maps/?lvl=14&sty=h&cp=33.3716~43.6107&sp=point.33.3716_43.6107\",\"Maplink3\")","v":"Maplink3"}]
[295,"Al-Anbar","Al-Falluja","Markaz Al-Falluja","Hay Al-Ameen","حي الامين",33.335666675,43.8036284054,2,12,0,0,0,0,0,0,12,0,0,0,0,0,0,0,0,12,0,0,0,0,0,0,0,0,0,0,0,0,0,0,0,0,0,12,0,0,0,0,0,0,0,0,0,0,0,{"$f":"HYPERLINK(\"http://www.openstreetmap.org/?mlat=33.3357&mlon=43.8036&zoom=12#map=12/33.3357/43.8036\",\"Maplink1\")","v":"Maplink1"},{"$f":"HYPERLINK(\"https://www.google.iq/maps/search/+33.3357,43.8036/@33.3357,43.8036,14z?hl=en\",\"Maplink2\")","v":"Maplink2"},{"$f":"HYPERLINK(\"http://www.bing.com/maps/?lvl=14&sty=h&cp=33.3357~43.8036&sp=point.33.3357_43.8036\",\"Maplink3\")","v":"Maplink3"}]
[23853,"Al-Anbar","Al-Falluja","Markaz Al-Falluja","Hay Al-Madani","الحي المدني ",33.3782902,43.5942233,12,72,0,0,0,0,0,0,72,0,0,0,0,0,0,0,0,72,0,0,0,0,0,0,0,0,0,0,0,0,0,0,0,0,0,48,0,0,0,0,0,0,24,0,0,0,0,{"$f":"HYPERLINK(\"http://www.openstreetmap.org/?mlat=33.3783&mlon=43.5942&zoom=12#map=12/33.3783/43.5942\",\"Maplink1\")","v":"Maplink1"},{"$f":"HYPERLINK(\"https://www.google.iq/maps/search/+33.3783,43.5942/@33.3783,43.5942,14z?hl=en\",\"Maplink2\")","v":"Maplink2"},{"$f":"HYPERLINK(\"http://www.bing.com/maps/?lvl=14&sty=h&cp=33.3783~43.5942&sp=point.33.3783_43.5942\",\"Maplink3\")","v":"Maplink3"}]
[29700,"Al-Anbar","Al-Falluja","Markaz Al-Falluja","Al Jaghify Al Thaniya","الجغيفي الثانية",33.3733387073,43.800349757,2,12,0,0,0,0,0,0,12,0,0,0,0,0,0,0,0,12,0,0,0,0,0,0,0,0,0,0,0,0,0,0,0,0,0,12,0,0,0,0,0,0,0,0,0,0,0,{"$f":"HYPERLINK(\"http://www.openstreetmap.org/?mlat=33.3733&mlon=43.8003&zoom=12#map=12/33.3733/43.8003\",\"Maplink1\")","v":"Maplink1"},{"$f":"HYPERLINK(\"https://www.google.iq/maps/search/+33.3733,43.8003/@33.3733,43.8003,14z?hl=en\",\"Maplink2\")","v":"Maplink2"},{"$f":"HYPERLINK(\"http://www.bing.com/maps/?lvl=14&sty=h&cp=33.3733~43.8003&sp=point.33.3733_43.8003\",\"Maplink3\")","v":"Maplink3"}]
[23855,"Al-Anbar","Al-Falluja","Markaz Al-Falluja","Hay Al-Umal","حي العمال ",33.3868638,43.6001825,15,90,0,0,0,90,0,0,0,0,0,0,0,0,0,0,0,90,0,0,0,0,0,0,0,0,0,0,0,0,0,0,0,0,0,90,0,0,0,0,0,0,0,0,0,0,0,{"$f":"HYPERLINK(\"http://www.openstreetmap.org/?mlat=33.3869&mlon=43.6002&zoom=12#map=12/33.3869/43.6002\",\"Maplink1\")","v":"Maplink1"},{"$f":"HYPERLINK(\"https://www.google.iq/maps/search/+33.3869,43.6002/@33.3869,43.6002,14z?hl=en\",\"Maplink2\")","v":"Maplink2"},{"$f":"HYPERLINK(\"http://www.bing.com/maps/?lvl=14&sty=h&cp=33.3869~43.6002&sp=point.33.3869_43.6002\",\"Maplink3\")","v":"Maplink3"}]
[21809,"Al-Anbar","Al-Falluja","Markaz Al-Falluja","Hay Al Shuhadaa","حي الشهداء",33.3326974924,43.7923735688,8,48,0,0,0,0,0,0,48,0,0,0,0,0,0,0,0,48,0,0,0,0,0,0,0,0,0,0,0,0,0,0,0,0,0,48,0,0,0,0,0,0,0,0,0,0,0,{"$f":"HYPERLINK(\"http://www.openstreetmap.org/?mlat=33.3327&mlon=43.7924&zoom=12#map=12/33.3327/43.7924\",\"Maplink1\")","v":"Maplink1"},{"$f":"HYPERLINK(\"https://www.google.iq/maps/search/+33.3327,43.7924/@33.3327,43.7924,14z?hl=en\",\"Maplink2\")","v":"Maplink2"},{"$f":"HYPERLINK(\"http://www.bing.com/maps/?lvl=14&sty=h&cp=33.3327~43.7924&sp=point.33.3327_43.7924\",\"Maplink3\")","v":"Maplink3"}]
[21613,"Al-Anbar","Al-Falluja","Markaz Al-Falluja","Abu Sideera","ابو سديرة",33.4073968,43.7644993,6,36,0,0,0,0,0,0,36,0,0,0,0,0,0,0,0,36,0,0,0,0,0,0,0,0,0,0,0,0,0,0,0,0,0,36,0,0,0,0,0,0,0,0,0,0,0,{"$f":"HYPERLINK(\"http://www.openstreetmap.org/?mlat=33.4074&mlon=43.7645&zoom=12#map=12/33.4074/43.7645\",\"Maplink1\")","v":"Maplink1"},{"$f":"HYPERLINK(\"https://www.google.iq/maps/search/+33.4074,43.7645/@33.4074,43.7645,14z?hl=en\",\"Maplink2\")","v":"Maplink2"},{"$f":"HYPERLINK(\"http://www.bing.com/maps/?lvl=14&sty=h&cp=33.4074~43.7645&sp=point.33.4074_43.7645\",\"Maplink3\")","v":"Maplink3"}]
[23856,"Al-Anbar","Al-Falluja","Markaz Al-Falluja","Zoyaha Al-Thuban","زوية الذبان",33.3820523,43.6061712,10,60,0,0,0,60,0,0,0,0,0,0,0,0,0,0,0,60,0,0,0,0,0,0,0,0,0,0,0,0,0,0,0,0,0,0,0,0,0,60,0,0,0,0,0,0,0,{"$f":"HYPERLINK(\"http://www.openstreetmap.org/?mlat=33.3821&mlon=43.6062&zoom=12#map=12/33.3821/43.6062\",\"Maplink1\")","v":"Maplink1"},{"$f":"HYPERLINK(\"https://www.google.iq/maps/search/+33.3821,43.6062/@33.3821,43.6062,14z?hl=en\",\"Maplink2\")","v":"Maplink2"},{"$f":"HYPERLINK(\"http://www.bing.com/maps/?lvl=14&sty=h&cp=33.3821~43.6062&sp=point.33.3821_43.6062\",\"Maplink3\")","v":"Maplink3"}]
[142,"Al-Anbar","Al-Falluja","Markaz Al-Falluja","Al-shahabi-2","الشهابي الثانية",33.3822032,43.8862189,70,420,0,0,0,0,0,0,0,0,0,0,420,0,0,0,0,402,0,18,0,0,0,0,0,0,0,0,0,0,0,0,0,0,0,138,114,0,78,90,0,0,0,0,0,0,0,{"$f":"HYPERLINK(\"http://www.openstreetmap.org/?mlat=33.3822&mlon=43.8862&zoom=12#map=12/33.3822/43.8862\",\"Maplink1\")","v":"Maplink1"},{"$f":"HYPERLINK(\"https://www.google.iq/maps/search/+33.3822,43.8862/@33.3822,43.8862,14z?hl=en\",\"Maplink2\")","v":"Maplink2"},{"$f":"HYPERLINK(\"http://www.bing.com/maps/?lvl=14&sty=h&cp=33.3822~43.8862&sp=point.33.3822_43.8862\",\"Maplink3\")","v":"Maplink3"}]
[319,"Al-Anbar","Al-Falluja","Markaz Al-Falluja","Al-Zuwayiah","قرية الزوية",33.3388303164,43.7476294633,9,54,0,0,0,0,0,0,54,0,0,0,0,0,0,0,0,30,24,0,0,0,0,0,0,0,0,0,0,0,0,0,0,0,0,0,0,0,0,54,0,0,0,0,0,0,0,{"$f":"HYPERLINK(\"http://www.openstreetmap.org/?mlat=33.3388&mlon=43.7476&zoom=12#map=12/33.3388/43.7476\",\"Maplink1\")","v":"Maplink1"},{"$f":"HYPERLINK(\"https://www.google.iq/maps/search/+33.3388,43.7476/@33.3388,43.7476,14z?hl=en\",\"Maplink2\")","v":"Maplink2"},{"$f":"HYPERLINK(\"http://www.bing.com/maps/?lvl=14&sty=h&cp=33.3388~43.7476&sp=point.33.3388_43.7476\",\"Maplink3\")","v":"Maplink3"}]
[33342,"Al-Anbar","Al-Falluja","Markaz Al-Falluja","Hay Jbeal","حي جبيل",33.334670004,43.7763040697,5,30,0,0,0,0,0,0,30,0,0,0,0,0,0,0,0,30,0,0,0,0,0,0,0,0,0,0,0,0,0,0,0,0,0,30,0,0,0,0,0,0,0,0,0,0,0,{"$f":"HYPERLINK(\"http://www.openstreetmap.org/?mlat=33.3347&mlon=43.7763&zoom=12#map=12/33.3347/43.7763\",\"Maplink1\")","v":"Maplink1"},{"$f":"HYPERLINK(\"https://www.google.iq/maps/search/+33.3347,43.7763/@33.3347,43.7763,14z?hl=en\",\"Maplink2\")","v":"Maplink2"},{"$f":"HYPERLINK(\"http://www.bing.com/maps/?lvl=14&sty=h&cp=33.3347~43.7763&sp=point.33.3347_43.7763\",\"Maplink3\")","v":"Maplink3"}]
[156,"Al-Anbar","Al-Kaim","Al-Karabla","Wazeeriya","حي الوزيرية",34.3814170211,41.0396407583,32,192,0,0,0,36,0,0,156,0,0,0,0,0,0,0,0,192,0,0,0,0,0,0,0,0,0,0,0,0,0,0,0,0,0,0,0,0,0,48,144,0,0,0,0,0,0,{"$f":"HYPERLINK(\"http://www.openstreetmap.org/?mlat=34.3814&mlon=41.0396&zoom=12#map=12/34.3814/41.0396\",\"Maplink1\")","v":"Maplink1"},{"$f":"HYPERLINK(\"https://www.google.iq/maps/search/+34.3814,41.0396/@34.3814,41.0396,14z?hl=en\",\"Maplink2\")","v":"Maplink2"},{"$f":"HYPERLINK(\"http://www.bing.com/maps/?lvl=14&sty=h&cp=34.3814~41.0396&sp=point.34.3814_41.0396\",\"Maplink3\")","v":"Maplink3"}]
[33947,"Al-Anbar","Al-Kaim","Al-Karabla","Swehil Village","قرية سويحل",34.3733074794,41.0733319669,22,132,0,0,0,30,0,0,102,0,0,0,0,0,0,0,0,132,0,0,0,0,0,0,0,0,0,0,0,0,0,0,0,0,0,0,0,0,18,0,96,18,0,0,0,0,0,{"$f":"HYPERLINK(\"http://www.openstreetmap.org/?mlat=34.3733&mlon=41.0733&zoom=12#map=12/34.3733/41.0733\",\"Maplink1\")","v":"Maplink1"},{"$f":"HYPERLINK(\"https://www.google.iq/maps/search/+34.3733,41.0733/@34.3733,41.0733,14z?hl=en\",\"Maplink2\")","v":"Maplink2"},{"$f":"HYPERLINK(\"http://www.bing.com/maps/?lvl=14&sty=h&cp=34.3733~41.0733&sp=point.34.3733_41.0733\",\"Maplink3\")","v":"Maplink3"}]
[23791,"Al-Anbar","Al-Kaim","Al-Karabla","Al Nahda Al-Sharqiyah","حي النهضة الشرقية",34.3682789441,41.0577574787,15,90,0,0,0,6,0,0,84,0,0,0,0,0,0,0,0,90,0,0,0,0,0,0,0,0,0,0,0,0,0,0,0,0,0,0,0,0,0,0,90,0,0,0,0,0,0,{"$f":"HYPERLINK(\"http://www.openstreetmap.org/?mlat=34.3683&mlon=41.0578&zoom=12#map=12/34.3683/41.0578\",\"Maplink1\")","v":"Maplink1"},{"$f":"HYPERLINK(\"https://www.google.iq/maps/search/+34.3683,41.0578/@34.3683,41.0578,14z?hl=en\",\"Maplink2\")","v":"Maplink2"},{"$f":"HYPERLINK(\"http://www.bing.com/maps/?lvl=14&sty=h&cp=34.3683~41.0578&sp=point.34.3683_41.0578\",\"Maplink3\")","v":"Maplink3"}]
[34249,"Al-Anbar","Al-Kaim","Al-Karabla","complex of Phosphate company","المجمع السكني لموظفي شركة الفوسفات",34.3359363137,41.1932627112,7,42,0,0,0,0,0,0,0,0,42,0,0,0,0,0,0,42,0,0,0,0,0,0,0,0,0,0,0,0,0,0,0,0,0,0,0,0,42,0,0,0,0,0,0,0,0,{"$f":"HYPERLINK(\"http://www.openstreetmap.org/?mlat=34.3359&mlon=41.1933&zoom=12#map=12/34.3359/41.1933\",\"Maplink1\")","v":"Maplink1"},{"$f":"HYPERLINK(\"https://www.google.iq/maps/search/+34.3359,41.1933/@34.3359,41.1933,14z?hl=en\",\"Maplink2\")","v":"Maplink2"},{"$f":"HYPERLINK(\"http://www.bing.com/maps/?lvl=14&sty=h&cp=34.3359~41.1933&sp=point.34.3359_41.1933\",\"Maplink3\")","v":"Maplink3"}]
[23790,"Al-Anbar","Al-Kaim","Al-Karabla","Hay Al Shuhadaa","حي الشهداء",34.3737900995,41.0632870115,38,228,0,0,0,30,0,0,198,0,0,0,0,0,0,0,0,228,0,0,0,0,0,0,0,0,0,0,0,0,0,0,0,0,0,0,0,0,0,0,168,60,0,0,0,0,0,{"$f":"HYPERLINK(\"http://www.openstreetmap.org/?mlat=34.3738&mlon=41.0633&zoom=12#map=12/34.3738/41.0633\",\"Maplink1\")","v":"Maplink1"},{"$f":"HYPERLINK(\"https://www.google.iq/maps/search/+34.3738,41.0633/@34.3738,41.0633,14z?hl=en\",\"Maplink2\")","v":"Maplink2"},{"$f":"HYPERLINK(\"http://www.bing.com/maps/?lvl=14&sty=h&cp=34.3738~41.0633&sp=point.34.3738_41.0633\",\"Maplink3\")","v":"Maplink3"}]
[66,"Al-Anbar","Al-Kaim","Al-Karabla","Sadah","قرية سعده",34.3699557357,41.0928104073,59,354,0,0,0,30,0,0,324,0,0,0,0,0,0,0,0,354,0,0,0,0,0,0,0,0,0,0,0,0,0,0,0,0,0,0,0,0,12,90,186,66,0,0,0,0,0,{"$f":"HYPERLINK(\"http://www.openstreetmap.org/?mlat=34.37&mlon=41.0928&zoom=12#map=12/34.37/41.0928\",\"Maplink1\")","v":"Maplink1"},{"$f":"HYPERLINK(\"https://www.google.iq/maps/search/+34.37,41.0928/@34.37,41.0928,14z?hl=en\",\"Maplink2\")","v":"Maplink2"},{"$f":"HYPERLINK(\"http://www.bing.com/maps/?lvl=14&sty=h&cp=34.37~41.0928&sp=point.34.37_41.0928\",\"Maplink3\")","v":"Maplink3"}]
[164,"Al-Anbar","Al-Kaim","Al-Obiadi","Al Ubaydi-3","العبيدي-مرحلة ثالثة",34.4365952696,41.23289955,66,396,0,54,0,0,0,0,396,0,0,0,0,0,0,0,0,396,0,0,0,0,0,0,0,0,0,0,0,0,0,0,0,0,0,0,0,0,0,288,24,84,0,0,0,0,0,{"$f":"HYPERLINK(\"http://www.openstreetmap.org/?mlat=34.4366&mlon=41.2329&zoom=12#map=12/34.4366/41.2329\",\"Maplink1\")","v":"Maplink1"},{"$f":"HYPERLINK(\"https://www.google.iq/maps/search/+34.4366,41.2329/@34.4366,41.2329,14z?hl=en\",\"Maplink2\")","v":"Maplink2"},{"$f":"HYPERLINK(\"http://www.bing.com/maps/?lvl=14&sty=h&cp=34.4366~41.2329&sp=point.34.4366_41.2329\",\"Maplink3\")","v":"Maplink3"}]
[90,"Al-Anbar","Al-Kaim","Al-Obiadi","Al Ubaydi-1","العبيدي-مرحلة أولى",34.4292142391,41.2263325251,36,216,0,0,0,0,0,0,216,0,0,0,0,0,0,0,0,216,0,0,0,0,0,0,0,0,0,0,0,0,0,0,0,0,0,0,0,0,0,180,0,36,0,0,0,0,0,{"$f":"HYPERLINK(\"http://www.openstreetmap.org/?mlat=34.4292&mlon=41.2263&zoom=12#map=12/34.4292/41.2263\",\"Maplink1\")","v":"Maplink1"},{"$f":"HYPERLINK(\"https://www.google.iq/maps/search/+34.4292,41.2263/@34.4292,41.2263,14z?hl=en\",\"Maplink2\")","v":"Maplink2"},{"$f":"HYPERLINK(\"http://www.bing.com/maps/?lvl=14&sty=h&cp=34.4292~41.2263&sp=point.34.4292_41.2263\",\"Maplink3\")","v":"Maplink3"}]
[33778,"Al-Anbar","Al-Kaim","Al-Obiadi","AI Ubaydi-4","العبيدي-المرحلة الرابعة السمت",34.4330433298,41.234142812,20,120,0,30,0,0,0,0,120,0,0,0,0,0,0,0,0,120,0,0,0,0,0,0,0,0,0,0,0,0,0,0,0,0,0,0,0,0,0,0,78,6,36,0,0,0,0,{"$f":"HYPERLINK(\"http://www.openstreetmap.org/?mlat=34.433&mlon=41.2341&zoom=12#map=12/34.433/41.2341\",\"Maplink1\")","v":"Maplink1"},{"$f":"HYPERLINK(\"https://www.google.iq/maps/search/+34.433,41.2341/@34.433,41.2341,14z?hl=en\",\"Maplink2\")","v":"Maplink2"},{"$f":"HYPERLINK(\"http://www.bing.com/maps/?lvl=14&sty=h&cp=34.433~41.2341&sp=point.34.433_41.2341\",\"Maplink3\")","v":"Maplink3"}]
[274,"Al-Anbar","Al-Kaim","Al-Rummaneh","Al-Rabet","قرية الربط",34.426671466,41.040136075,1,6,0,0,0,6,0,0,0,0,0,0,0,0,0,0,0,6,0,0,0,0,0,0,0,0,0,0,0,0,0,0,0,0,0,0,0,0,0,6,0,0,0,0,0,0,0,{"$f":"HYPERLINK(\"http://www.openstreetmap.org/?mlat=34.4267&mlon=41.0401&zoom=12#map=12/34.4267/41.0401\",\"Maplink1\")","v":"Maplink1"},{"$f":"HYPERLINK(\"https://www.google.iq/maps/search/+34.4267,41.0401/@34.4267,41.0401,14z?hl=en\",\"Maplink2\")","v":"Maplink2"},{"$f":"HYPERLINK(\"http://www.bing.com/maps/?lvl=14&sty=h&cp=34.4267~41.0401&sp=point.34.4267_41.0401\",\"Maplink3\")","v":"Maplink3"}]
[277,"Al-Anbar","Al-Kaim","Al-Rummaneh","Hay Al-Maamon","حي المامون",34.3936213268,41.0004309957,3,18,0,0,0,6,0,0,12,0,0,0,0,0,0,0,0,18,0,0,0,0,0,0,0,0,0,0,0,0,0,0,0,0,0,0,0,0,0,0,12,6,0,0,0,0,0,{"$f":"HYPERLINK(\"http://www.openstreetmap.org/?mlat=34.3936&mlon=41.0004&zoom=12#map=12/34.3936/41.0004\",\"Maplink1\")","v":"Maplink1"},{"$f":"HYPERLINK(\"https://www.google.iq/maps/search/+34.3936,41.0004/@34.3936,41.0004,14z?hl=en\",\"Maplink2\")","v":"Maplink2"},{"$f":"HYPERLINK(\"http://www.bing.com/maps/?lvl=14&sty=h&cp=34.3936~41.0004&sp=point.34.3936_41.0004\",\"Maplink3\")","v":"Maplink3"}]
[23797,"Al-Anbar","Al-Kaim","Al-Rummaneh","Al Ubaydi-2","مرحلة الثانية ",34.4346490682,41.2260069452,41,246,0,78,0,0,0,0,246,0,0,0,0,0,0,0,0,246,0,0,0,0,0,0,0,0,0,0,0,0,0,0,0,0,0,0,0,0,0,174,0,72,0,0,0,0,0,{"$f":"HYPERLINK(\"http://www.openstreetmap.org/?mlat=34.4346&mlon=41.226&zoom=12#map=12/34.4346/41.226\",\"Maplink1\")","v":"Maplink1"},{"$f":"HYPERLINK(\"https://www.google.iq/maps/search/+34.4346,41.226/@34.4346,41.226,14z?hl=en\",\"Maplink2\")","v":"Maplink2"},{"$f":"HYPERLINK(\"http://www.bing.com/maps/?lvl=14&sty=h&cp=34.4346~41.226&sp=point.34.4346_41.226\",\"Maplink3\")","v":"Maplink3"}]
[272,"Al-Anbar","Al-Kaim","Al-Rummaneh","Hay 12 Rabee Alawal","حي 12ربيع الاول",34.3920883303,40.9850459874,4,24,0,0,0,0,0,0,24,0,0,0,0,0,0,0,0,24,0,0,0,0,0,0,0,0,0,0,0,0,0,0,0,0,0,0,0,0,0,0,24,0,0,0,0,0,0,{"$f":"HYPERLINK(\"http://www.openstreetmap.org/?mlat=34.3921&mlon=40.985&zoom=12#map=12/34.3921/40.985\",\"Maplink1\")","v":"Maplink1"},{"$f":"HYPERLINK(\"https://www.google.iq/maps/search/+34.3921,40.985/@34.3921,40.985,14z?hl=en\",\"Maplink2\")","v":"Maplink2"},{"$f":"HYPERLINK(\"http://www.bing.com/maps/?lvl=14&sty=h&cp=34.3921~40.985&sp=point.34.3921_40.985\",\"Maplink3\")","v":"Maplink3"}]
[33816,"Al-Anbar","Al-Kaim","Al-Rummaneh","       Hay  Al Forat            ","حي الفرات",34.4117274,41.0047866,4,24,0,0,0,0,0,0,24,0,0,0,0,0,0,0,0,24,0,0,0,0,0,0,0,0,0,0,0,0,0,0,0,0,0,0,0,0,0,0,0,24,0,0,0,0,0,{"$f":"HYPERLINK(\"http://www.openstreetmap.org/?mlat=34.4117&mlon=41.0048&zoom=12#map=12/34.4117/41.0048\",\"Maplink1\")","v":"Maplink1"},{"$f":"HYPERLINK(\"https://www.google.iq/maps/search/+34.4117,41.0048/@34.4117,41.0048,14z?hl=en\",\"Maplink2\")","v":"Maplink2"},{"$f":"HYPERLINK(\"http://www.bing.com/maps/?lvl=14&sty=h&cp=34.4117~41.0048&sp=point.34.4117_41.0048\",\"Maplink3\")","v":"Maplink3"}]
[21409,"Al-Anbar","Al-Ramadi","Al-Habbaniya","Hay Al-Salam","السلام",33.3716154,43.5342575,15,90,0,0,0,90,0,0,0,0,0,0,0,0,0,0,0,90,0,0,0,0,0,0,0,0,0,0,0,0,0,0,0,0,0,0,0,0,90,0,0,0,0,0,0,0,0,{"$f":"HYPERLINK(\"http://www.openstreetmap.org/?mlat=33.3716&mlon=43.5343&zoom=12#map=12/33.3716/43.5343\",\"Maplink1\")","v":"Maplink1"},{"$f":"HYPERLINK(\"https://www.google.iq/maps/search/+33.3716,43.5343/@33.3716,43.5343,14z?hl=en\",\"Maplink2\")","v":"Maplink2"},{"$f":"HYPERLINK(\"http://www.bing.com/maps/?lvl=14&sty=h&cp=33.3716~43.5343&sp=point.33.3716_43.5343\",\"Maplink3\")","v":"Maplink3"}]
[24729,"Al-Anbar","Al-Ramadi","Al-Habbaniya","Al Urobah","العروبة",33.3917654,43.5097282,22,132,0,0,0,132,0,0,0,0,0,0,0,0,0,0,0,132,0,0,0,0,0,0,0,0,0,0,0,0,0,0,0,0,0,0,0,0,24,108,0,0,0,0,0,0,0,{"$f":"HYPERLINK(\"http://www.openstreetmap.org/?mlat=33.3918&mlon=43.5097&zoom=12#map=12/33.3918/43.5097\",\"Maplink1\")","v":"Maplink1"},{"$f":"HYPERLINK(\"https://www.google.iq/maps/search/+33.3918,43.5097/@33.3918,43.5097,14z?hl=en\",\"Maplink2\")","v":"Maplink2"},{"$f":"HYPERLINK(\"http://www.bing.com/maps/?lvl=14&sty=h&cp=33.3918~43.5097&sp=point.33.3918_43.5097\",\"Maplink3\")","v":"Maplink3"}]
[23858,"Al-Anbar","Al-Ramadi","Al-Habbaniya","Abu Fless","ابو فليس",33.3900169,43.5387663,57,342,0,0,0,342,0,0,0,0,0,0,0,0,0,0,0,228,54,60,0,0,0,0,0,0,0,0,0,0,0,0,0,0,0,0,0,0,342,0,0,0,0,0,0,0,0,{"$f":"HYPERLINK(\"http://www.openstreetmap.org/?mlat=33.39&mlon=43.5388&zoom=12#map=12/33.39/43.5388\",\"Maplink1\")","v":"Maplink1"},{"$f":"HYPERLINK(\"https://www.google.iq/maps/search/+33.39,43.5388/@33.39,43.5388,14z?hl=en\",\"Maplink2\")","v":"Maplink2"},{"$f":"HYPERLINK(\"http://www.bing.com/maps/?lvl=14&sty=h&cp=33.39~43.5388&sp=point.33.39_43.5388\",\"Maplink3\")","v":"Maplink3"}]
[24730,"Al-Anbar","Al-Ramadi","Al-Habbaniya","Al Khulafaa","الخلفاء",33.39229,43.5145674,21,126,0,0,0,126,0,0,0,0,0,0,0,0,0,0,0,126,0,0,0,0,0,0,0,0,0,0,0,0,0,0,0,0,0,0,0,0,126,0,0,0,0,0,0,0,0,{"$f":"HYPERLINK(\"http://www.openstreetmap.org/?mlat=33.3923&mlon=43.5146&zoom=12#map=12/33.3923/43.5146\",\"Maplink1\")","v":"Maplink1"},{"$f":"HYPERLINK(\"https://www.google.iq/maps/search/+33.3923,43.5146/@33.3923,43.5146,14z?hl=en\",\"Maplink2\")","v":"Maplink2"},{"$f":"HYPERLINK(\"http://www.bing.com/maps/?lvl=14&sty=h&cp=33.3923~43.5146&sp=point.33.3923_43.5146\",\"Maplink3\")","v":"Maplink3"}]
[188,"Al-Anbar","Al-Ramadi","Al-Habbaniya","Hay AlQuds","حي القدس",33.3811774,43.5382654,53,318,0,0,0,318,0,0,0,0,0,0,0,0,0,0,0,318,0,0,0,0,0,0,0,0,0,0,0,0,0,0,0,0,0,0,0,0,318,0,0,0,0,0,0,0,0,{"$f":"HYPERLINK(\"http://www.openstreetmap.org/?mlat=33.3812&mlon=43.5383&zoom=12#map=12/33.3812/43.5383\",\"Maplink1\")","v":"Maplink1"},{"$f":"HYPERLINK(\"https://www.google.iq/maps/search/+33.3812,43.5383/@33.3812,43.5383,14z?hl=en\",\"Maplink2\")","v":"Maplink2"},{"$f":"HYPERLINK(\"http://www.bing.com/maps/?lvl=14&sty=h&cp=33.3812~43.5383&sp=point.33.3812_43.5383\",\"Maplink3\")","v":"Maplink3"}]
[115,"Al-Anbar","Al-Ramadi","Markaz Al-Ramadi","Al Sofeya","الصوفية",33.4404787,43.3289589,70,420,0,0,0,420,0,0,0,0,0,0,0,0,0,0,0,420,0,0,0,0,0,0,0,0,0,0,0,0,0,0,0,0,0,0,0,0,0,0,0,0,420,0,0,0,0,{"$f":"HYPERLINK(\"http://www.openstreetmap.org/?mlat=33.4405&mlon=43.329&zoom=12#map=12/33.4405/43.329\",\"Maplink1\")","v":"Maplink1"},{"$f":"HYPERLINK(\"https://www.google.iq/maps/search/+33.4405,43.329/@33.4405,43.329,14z?hl=en\",\"Maplink2\")","v":"Maplink2"},{"$f":"HYPERLINK(\"http://www.bing.com/maps/?lvl=14&sty=h&cp=33.4405~43.329&sp=point.33.4405_43.329\",\"Maplink3\")","v":"Maplink3"}]
[29475,"Al-Anbar","Al-Ramadi","Markaz Al-Ramadi","Zankura","زنكورة",33.4680522,43.175753,5,30,0,0,0,0,0,0,30,0,0,0,0,0,0,0,0,0,0,0,0,0,0,0,0,0,0,0,0,30,0,0,0,0,0,0,0,0,0,0,30,0,0,0,0,0,0,{"$f":"HYPERLINK(\"http://www.openstreetmap.org/?mlat=33.4681&mlon=43.1758&zoom=12#map=12/33.4681/43.1758\",\"Maplink1\")","v":"Maplink1"},{"$f":"HYPERLINK(\"https://www.google.iq/maps/search/+33.4681,43.1758/@33.4681,43.1758,14z?hl=en\",\"Maplink2\")","v":"Maplink2"},{"$f":"HYPERLINK(\"http://www.bing.com/maps/?lvl=14&sty=h&cp=33.4681~43.1758&sp=point.33.4681_43.1758\",\"Maplink3\")","v":"Maplink3"}]
[23889,"Al-Anbar","Al-Ramadi","Markaz Al-Ramadi","7 Killo-al-mojamaa al-sakany","السبعة كيلو-المجمع السكني",33.4165942,43.1924283,542,{"v":3252,"d":"3,252"},0,0,0,0,0,0,0,0,0,36,{"v":3204,"d":"3,204"},0,12,0,0,{"v":3252,"d":"3,252"},0,0,0,0,0,0,0,0,0,0,0,0,0,0,0,0,0,168,300,0,{"v":1908,"d":"1,908"},876,0,0,0,0,0,0,0,{"$f":"HYPERLINK(\"http://www.openstreetmap.org/?mlat=33.4166&mlon=43.1924&zoom=12#map=12/33.4166/43.1924\",\"Maplink1\")","v":"Maplink1"},{"$f":"HYPERLINK(\"https://www.google.iq/maps/search/+33.4166,43.1924/@33.4166,43.1924,14z?hl=en\",\"Maplink2\")","v":"Maplink2"},{"$f":"HYPERLINK(\"http://www.bing.com/maps/?lvl=14&sty=h&cp=33.4166~43.1924&sp=point.33.4166_43.1924\",\"Maplink3\")","v":"Maplink3"}]
[34178,"Al-Anbar","Al-Ramadi","Markaz Al-Ramadi","9 Kilo","9 كيلو",33.4096587,43.1680676,64,384,0,0,0,0,0,0,0,0,0,384,0,0,0,0,0,384,0,0,0,0,0,0,0,0,0,0,0,0,0,0,0,0,0,0,0,0,0,0,384,0,0,0,0,0,0,{"$f":"HYPERLINK(\"http://www.openstreetmap.org/?mlat=33.4097&mlon=43.1681&zoom=12#map=12/33.4097/43.1681\",\"Maplink1\")","v":"Maplink1"},{"$f":"HYPERLINK(\"https://www.google.iq/maps/search/+33.4097,43.1681/@33.4097,43.1681,14z?hl=en\",\"Maplink2\")","v":"Maplink2"},{"$f":"HYPERLINK(\"http://www.bing.com/maps/?lvl=14&sty=h&cp=33.4097~43.1681&sp=point.33.4097_43.1681\",\"Maplink3\")","v":"Maplink3"}]
[182,"Al-Anbar","Al-Ramadi","Markaz Al-Ramadi","Qadisiya-1","القادسية الاولى",33.4134102,43.2749409,37,222,0,0,0,222,0,0,0,0,0,0,0,0,0,0,0,222,0,0,0,0,0,0,0,0,0,0,0,0,0,0,0,0,0,0,0,0,0,0,0,0,222,0,0,0,0,{"$f":"HYPERLINK(\"http://www.openstreetmap.org/?mlat=33.4134&mlon=43.2749&zoom=12#map=12/33.4134/43.2749\",\"Maplink1\")","v":"Maplink1"},{"$f":"HYPERLINK(\"https://www.google.iq/maps/search/+33.4134,43.2749/@33.4134,43.2749,14z?hl=en\",\"Maplink2\")","v":"Maplink2"},{"$f":"HYPERLINK(\"http://www.bing.com/maps/?lvl=14&sty=h&cp=33.4134~43.2749&sp=point.33.4134_43.2749\",\"Maplink3\")","v":"Maplink3"}]
[308,"Al-Anbar","Al-Ramadi","Markaz Al-Ramadi","5 Kilo","الخمسة كيلو",33.4210806,43.2475353,48,288,0,0,0,288,0,0,0,0,0,0,0,0,0,0,0,288,0,0,0,0,0,0,0,0,0,0,0,0,0,0,0,0,0,0,0,0,0,0,0,0,288,0,0,0,0,{"$f":"HYPERLINK(\"http://www.openstreetmap.org/?mlat=33.4211&mlon=43.2475&zoom=12#map=12/33.4211/43.2475\",\"Maplink1\")","v":"Maplink1"},{"$f":"HYPERLINK(\"https://www.google.iq/maps/search/+33.4211,43.2475/@33.4211,43.2475,14z?hl=en\",\"Maplink2\")","v":"Maplink2"},{"$f":"HYPERLINK(\"http://www.bing.com/maps/?lvl=14&sty=h&cp=33.4211~43.2475&sp=point.33.4211_43.2475\",\"Maplink3\")","v":"Maplink3"}]
[33826,"Al-Anbar","Al-Ramadi","Markaz Al-Ramadi","AL-Karama complex","مجمع الكرامه",33.3885532,43.0969749,153,918,0,0,0,0,0,0,0,0,918,0,0,0,0,0,0,918,0,0,0,0,0,0,0,0,0,0,0,0,0,0,0,0,0,384,0,0,0,0,0,0,534,0,0,0,0,{"$f":"HYPERLINK(\"http://www.openstreetmap.org/?mlat=33.3886&mlon=43.097&zoom=12#map=12/33.3886/43.097\",\"Maplink1\")","v":"Maplink1"},{"$f":"HYPERLINK(\"https://www.google.iq/maps/search/+33.3886,43.097/@33.3886,43.097,14z?hl=en\",\"Maplink2\")","v":"Maplink2"},{"$f":"HYPERLINK(\"http://www.bing.com/maps/?lvl=14&sty=h&cp=33.3886~43.097&sp=point.33.3886_43.097\",\"Maplink3\")","v":"Maplink3"}]
[166,"Al-Anbar","Al-Rutba","Markaz Al-Rutba","Hay Al Meethagh","حي الميثاق",33.0319735383,40.2904721726,75,450,0,0,0,0,0,0,324,0,0,126,0,0,0,0,0,450,0,0,0,0,0,0,0,0,0,0,0,0,0,0,0,0,0,0,0,0,0,0,0,0,36,414,0,0,0,{"$f":"HYPERLINK(\"http://www.openstreetmap.org/?mlat=33.032&mlon=40.2905&zoom=12#map=12/33.032/40.2905\",\"Maplink1\")","v":"Maplink1"},{"$f":"HYPERLINK(\"https://www.google.iq/maps/search/+33.032,40.2905/@33.032,40.2905,14z?hl=en\",\"Maplink2\")","v":"Maplink2"},{"$f":"HYPERLINK(\"http://www.bing.com/maps/?lvl=14&sty=h&cp=33.032~40.2905&sp=point.33.032_40.2905\",\"Maplink3\")","v":"Maplink3"}]
[167,"Al-Anbar","Al-Rutba","Markaz Al-Rutba","Antesar","حي الانتصار",33.0312656362,40.2990147932,58,348,0,0,0,0,0,0,246,0,0,102,0,0,0,0,0,348,0,0,0,0,0,0,0,0,0,0,0,0,0,0,0,0,0,0,0,0,0,0,0,0,126,222,0,0,0,{"$f":"HYPERLINK(\"http://www.openstreetmap.org/?mlat=33.0313&mlon=40.299&zoom=12#map=12/33.0313/40.299\",\"Maplink1\")","v":"Maplink1"},{"$f":"HYPERLINK(\"https://www.google.iq/maps/search/+33.0313,40.299/@33.0313,40.299,14z?hl=en\",\"Maplink2\")","v":"Maplink2"},{"$f":"HYPERLINK(\"http://www.bing.com/maps/?lvl=14&sty=h&cp=33.0313~40.299&sp=point.33.0313_40.299\",\"Maplink3\")","v":"Maplink3"}]
[23888,"Al-Anbar","Al-Rutba","Markaz Al-Rutba","Gharb Al-Wadi","حي غرب الوادي",33.0424552322,40.2780390713,13,78,0,0,0,0,0,0,78,0,0,0,0,0,0,0,0,78,0,0,0,0,0,0,0,0,0,0,0,0,0,0,0,0,0,0,0,0,0,0,0,0,0,78,0,0,0,{"$f":"HYPERLINK(\"http://www.openstreetmap.org/?mlat=33.0425&mlon=40.278&zoom=12#map=12/33.0425/40.278\",\"Maplink1\")","v":"Maplink1"},{"$f":"HYPERLINK(\"https://www.google.iq/maps/search/+33.0425,40.278/@33.0425,40.278,14z?hl=en\",\"Maplink2\")","v":"Maplink2"},{"$f":"HYPERLINK(\"http://www.bing.com/maps/?lvl=14&sty=h&cp=33.0425~40.278&sp=point.33.0425_40.278\",\"Maplink3\")","v":"Maplink3"}]
[231,"Al-Anbar","Al-Rutba","Markaz Al-Rutba","Al Wadi","حي الوادي",33.0396642122,40.2836526192,72,432,0,0,0,0,0,0,372,0,0,60,0,0,0,0,0,432,0,0,0,0,0,0,0,0,0,0,0,0,0,0,0,0,0,0,0,0,0,0,0,0,36,396,0,0,0,{"$f":"HYPERLINK(\"http://www.openstreetmap.org/?mlat=33.0397&mlon=40.2837&zoom=12#map=12/33.0397/40.2837\",\"Maplink1\")","v":"Maplink1"},{"$f":"HYPERLINK(\"https://www.google.iq/maps/search/+33.0397,40.2837/@33.0397,40.2837,14z?hl=en\",\"Maplink2\")","v":"Maplink2"},{"$f":"HYPERLINK(\"http://www.bing.com/maps/?lvl=14&sty=h&cp=33.0397~40.2837&sp=point.33.0397_40.2837\",\"Maplink3\")","v":"Maplink3"}]
[233,"Al-Anbar","Al-Rutba","Markaz Al-Rutba","Hay Al-Matar","حي المطار",33.0346108437,40.2866801333,54,324,0,0,0,0,0,0,252,0,0,72,0,0,0,0,0,324,0,0,0,0,0,0,0,0,0,0,0,0,0,0,0,0,0,0,0,0,0,0,0,0,60,264,0,0,0,{"$f":"HYPERLINK(\"http://www.openstreetmap.org/?mlat=33.0346&mlon=40.2867&zoom=12#map=12/33.0346/40.2867\",\"Maplink1\")","v":"Maplink1"},{"$f":"HYPERLINK(\"https://www.google.iq/maps/search/+33.0346,40.2867/@33.0346,40.2867,14z?hl=en\",\"Maplink2\")","v":"Maplink2"},{"$f":"HYPERLINK(\"http://www.bing.com/maps/?lvl=14&sty=h&cp=33.0346~40.2867&sp=point.33.0346_40.2867\",\"Maplink3\")","v":"Maplink3"}]
[165,"Al-Anbar","Al-Rutba","Markaz Al-Rutba","Al Askaree","حي العسكري",33.0380018894,40.3026344367,61,366,0,0,0,0,0,0,270,0,0,96,0,0,0,0,0,366,0,0,0,0,0,0,0,0,0,0,0,0,0,0,0,0,0,0,0,0,0,0,0,0,66,300,0,0,0,{"$f":"HYPERLINK(\"http://www.openstreetmap.org/?mlat=33.038&mlon=40.3026&zoom=12#map=12/33.038/40.3026\",\"Maplink1\")","v":"Maplink1"},{"$f":"HYPERLINK(\"https://www.google.iq/maps/search/+33.038,40.3026/@33.038,40.3026,14z?hl=en\",\"Maplink2\")","v":"Maplink2"},{"$f":"HYPERLINK(\"http://www.bing.com/maps/?lvl=14&sty=h&cp=33.038~40.3026&sp=point.33.038_40.3026\",\"Maplink3\")","v":"Maplink3"}]
[23935,"Al-Anbar","Al-Rutba","Markaz Al-Rutba","Al-Daraemah Village","قرية الدراعمة",33.0430266763,40.3803834577,50,300,0,0,0,0,0,300,0,0,0,0,0,0,0,0,0,300,0,0,0,0,0,0,0,0,0,0,0,0,0,0,0,0,0,0,0,0,0,0,0,0,0,300,0,0,0,{"$f":"HYPERLINK(\"http://www.openstreetmap.org/?mlat=33.043&mlon=40.3804&zoom=12#map=12/33.043/40.3804\",\"Maplink1\")","v":"Maplink1"},{"$f":"HYPERLINK(\"https://www.google.iq/maps/search/+33.043,40.3804/@33.043,40.3804,14z?hl=en\",\"Maplink2\")","v":"Maplink2"},{"$f":"HYPERLINK(\"http://www.bing.com/maps/?lvl=14&sty=h&cp=33.043~40.3804&sp=point.33.043_40.3804\",\"Maplink3\")","v":"Maplink3"}]
[150,"Al-Anbar","Al-Rutba","Markaz Al-Rutba","Al Haara","حي الحارة",33.0376159091,40.2842644299,52,312,0,0,0,0,0,0,222,0,0,90,0,0,0,0,0,312,0,0,0,0,0,0,0,0,0,0,0,0,0,0,0,0,0,0,0,0,0,0,0,0,24,288,0,0,0,{"$f":"HYPERLINK(\"http://www.openstreetmap.org/?mlat=33.0376&mlon=40.2843&zoom=12#map=12/33.0376/40.2843\",\"Maplink1\")","v":"Maplink1"},{"$f":"HYPERLINK(\"https://www.google.iq/maps/search/+33.0376,40.2843/@33.0376,40.2843,14z?hl=en\",\"Maplink2\")","v":"Maplink2"},{"$f":"HYPERLINK(\"http://www.bing.com/maps/?lvl=14&sty=h&cp=33.0376~40.2843&sp=point.33.0376_40.2843\",\"Maplink3\")","v":"Maplink3"}]
[23936,"Al-Anbar","Al-Rutba","Markaz Al-Rutba","Rumilah Village","قرية رميلة",33.0602209076,40.3455662902,30,180,0,0,0,0,0,0,144,0,0,36,0,0,0,0,0,180,0,0,0,0,0,0,0,0,0,0,0,0,0,0,0,0,0,0,0,0,0,0,0,0,0,180,0,0,0,{"$f":"HYPERLINK(\"http://www.openstreetmap.org/?mlat=33.0602&mlon=40.3456&zoom=12#map=12/33.0602/40.3456\",\"Maplink1\")","v":"Maplink1"},{"$f":"HYPERLINK(\"https://www.google.iq/maps/search/+33.0602,40.3456/@33.0602,40.3456,14z?hl=en\",\"Maplink2\")","v":"Maplink2"},{"$f":"HYPERLINK(\"http://www.bing.com/maps/?lvl=14&sty=h&cp=33.0602~40.3456&sp=point.33.0602_40.3456\",\"Maplink3\")","v":"Maplink3"}]
[252,"Al-Anbar","Ana","Markaz Ana","Al Tadamon","حي التضامن",34.3608974061,41.9831458569,86,516,0,0,0,0,0,0,474,42,0,0,0,0,0,0,0,456,0,60,0,0,0,0,0,0,0,0,0,0,0,0,0,0,0,0,72,0,0,0,0,24,390,0,30,0,0,{"$f":"HYPERLINK(\"http://www.openstreetmap.org/?mlat=34.3609&mlon=41.9831&zoom=12#map=12/34.3609/41.9831\",\"Maplink1\")","v":"Maplink1"},{"$f":"HYPERLINK(\"https://www.google.iq/maps/search/+34.3609,41.9831/@34.3609,41.9831,14z?hl=en\",\"Maplink2\")","v":"Maplink2"},{"$f":"HYPERLINK(\"http://www.bing.com/maps/?lvl=14&sty=h&cp=34.3609~41.9831&sp=point.34.3609_41.9831\",\"Maplink3\")","v":"Maplink3"}]
[253,"Al-Anbar","Ana","Markaz Ana","Hay Al Salam","حي السلام",34.3721252087,41.977030661,37,222,0,0,0,0,0,0,186,36,0,0,0,0,0,0,0,204,0,18,0,0,0,0,0,0,0,0,0,0,0,0,0,0,0,0,66,0,0,0,0,42,102,0,12,0,0,{"$f":"HYPERLINK(\"http://www.openstreetmap.org/?mlat=34.3721&mlon=41.977&zoom=12#map=12/34.3721/41.977\",\"Maplink1\")","v":"Maplink1"},{"$f":"HYPERLINK(\"https://www.google.iq/maps/search/+34.3721,41.977/@34.3721,41.977,14z?hl=en\",\"Maplink2\")","v":"Maplink2"},{"$f":"HYPERLINK(\"http://www.bing.com/maps/?lvl=14&sty=h&cp=34.3721~41.977&sp=point.34.3721_41.977\",\"Maplink3\")","v":"Maplink3"}]
[248,"Al-Anbar","Ana","Markaz Ana","Al bor (Shishan)","حي العبور",34.3667880547,41.9707831429,141,846,0,0,0,0,0,0,798,48,0,0,0,0,0,0,0,738,0,108,0,0,0,0,0,0,0,0,0,0,0,0,0,0,0,0,180,0,0,0,0,78,534,0,48,6,0,{"$f":"HYPERLINK(\"http://www.openstreetmap.org/?mlat=34.3668&mlon=41.9708&zoom=12#map=12/34.3668/41.9708\",\"Maplink1\")","v":"Maplink1"},{"$f":"HYPERLINK(\"https://www.google.iq/maps/search/+34.3668,41.9708/@34.3668,41.9708,14z?hl=en\",\"Maplink2\")","v":"Maplink2"},{"$f":"HYPERLINK(\"http://www.bing.com/maps/?lvl=14&sty=h&cp=34.3668~41.9708&sp=point.34.3668_41.9708\",\"Maplink3\")","v":"Maplink3"}]
[251,"Al-Anbar","Ana","Markaz Ana","Hay Al Qadissiyah","حي القادسية",34.3765119239,41.9840330387,7,42,0,0,0,0,0,0,42,0,0,0,0,0,0,0,0,42,0,0,0,0,0,0,0,0,0,0,0,0,0,0,0,0,0,0,0,0,0,0,0,0,42,0,0,0,0,{"$f":"HYPERLINK(\"http://www.openstreetmap.org/?mlat=34.3765&mlon=41.984&zoom=12#map=12/34.3765/41.984\",\"Maplink1\")","v":"Maplink1"},{"$f":"HYPERLINK(\"https://www.google.iq/maps/search/+34.3765,41.984/@34.3765,41.984,14z?hl=en\",\"Maplink2\")","v":"Maplink2"},{"$f":"HYPERLINK(\"http://www.bing.com/maps/?lvl=14&sty=h&cp=34.3765~41.984&sp=point.34.3765_41.984\",\"Maplink3\")","v":"Maplink3"}]
[250,"Al-Anbar","Ana","Markaz Ana","Hay Al Nasir","حي النصر",34.3666036311,41.9883185042,15,90,0,0,0,0,0,0,90,0,0,0,0,0,0,0,0,90,0,0,0,0,0,0,0,0,0,0,0,0,0,0,0,0,0,0,0,0,0,0,0,0,90,0,0,0,0,{"$f":"HYPERLINK(\"http://www.openstreetmap.org/?mlat=34.3666&mlon=41.9883&zoom=12#map=12/34.3666/41.9883\",\"Maplink1\")","v":"Maplink1"},{"$f":"HYPERLINK(\"https://www.google.iq/maps/search/+34.3666,41.9883/@34.3666,41.9883,14z?hl=en\",\"Maplink2\")","v":"Maplink2"},{"$f":"HYPERLINK(\"http://www.bing.com/maps/?lvl=14&sty=h&cp=34.3666~41.9883&sp=point.34.3666_41.9883\",\"Maplink3\")","v":"Maplink3"}]
[247,"Al-Anbar","Ana","Markaz Ana","Hay Al-Rayhana","حي الريحانه",34.3415061529,42.0284526271,29,174,0,0,0,0,0,0,174,0,0,0,0,0,0,0,0,174,0,0,0,0,0,0,0,0,0,0,0,0,0,0,0,0,0,0,0,0,0,0,0,0,174,0,0,0,0,{"$f":"HYPERLINK(\"http://www.openstreetmap.org/?mlat=34.3415&mlon=42.0285&zoom=12#map=12/34.3415/42.0285\",\"Maplink1\")","v":"Maplink1"},{"$f":"HYPERLINK(\"https://www.google.iq/maps/search/+34.3415,42.0285/@34.3415,42.0285,14z?hl=en\",\"Maplink2\")","v":"Maplink2"},{"$f":"HYPERLINK(\"http://www.bing.com/maps/?lvl=14&sty=h&cp=34.3415~42.0285&sp=point.34.3415_42.0285\",\"Maplink3\")","v":"Maplink3"}]
[109,"Al-Anbar","Ana","Markaz Ana","Yarmouk","حي اليرموك",34.373239947,41.9872261289,4,24,0,0,0,0,0,0,24,0,0,0,0,0,0,0,0,24,0,0,0,0,0,0,0,0,0,0,0,0,0,0,0,0,0,0,0,0,0,0,0,0,24,0,0,0,0,{"$f":"HYPERLINK(\"http://www.openstreetmap.org/?mlat=34.3732&mlon=41.9872&zoom=12#map=12/34.3732/41.9872\",\"Maplink1\")","v":"Maplink1"},{"$f":"HYPERLINK(\"https://www.google.iq/maps/search/+34.3732,41.9872/@34.3732,41.9872,14z?hl=en\",\"Maplink2\")","v":"Maplink2"},{"$f":"HYPERLINK(\"http://www.bing.com/maps/?lvl=14&sty=h&cp=34.3732~41.9872&sp=point.34.3732_41.9872\",\"Maplink3\")","v":"Maplink3"}]
[24110,"Al-Anbar","Haditha","Al-Haqlaniya","Hay Al-Mutasem","حي المعتصم",34.0831279761,42.3685700326,6,36,0,0,0,0,0,0,36,0,0,0,0,0,0,0,0,36,0,0,0,0,0,0,0,0,0,0,0,0,0,0,0,0,0,0,36,0,0,0,0,0,0,0,0,0,0,{"$f":"HYPERLINK(\"http://www.openstreetmap.org/?mlat=34.0831&mlon=42.3686&zoom=12#map=12/34.0831/42.3686\",\"Maplink1\")","v":"Maplink1"},{"$f":"HYPERLINK(\"https://www.google.iq/maps/search/+34.0831,42.3686/@34.0831,42.3686,14z?hl=en\",\"Maplink2\")","v":"Maplink2"},{"$f":"HYPERLINK(\"http://www.bing.com/maps/?lvl=14&sty=h&cp=34.0831~42.3686&sp=point.34.0831_42.3686\",\"Maplink3\")","v":"Maplink3"}]
[24111,"Al-Anbar","Haditha","Al-Haqlaniya","Al-Khafajiyah Village","قرية الخفاجية",34.0640348969,42.3801148438,2,12,0,0,0,0,0,0,12,0,0,0,0,0,0,0,0,12,0,0,0,0,0,0,0,0,0,0,0,0,0,0,0,0,0,0,12,0,0,0,0,0,0,0,0,0,0,{"$f":"HYPERLINK(\"http://www.openstreetmap.org/?mlat=34.064&mlon=42.3801&zoom=12#map=12/34.064/42.3801\",\"Maplink1\")","v":"Maplink1"},{"$f":"HYPERLINK(\"https://www.google.iq/maps/search/+34.064,42.3801/@34.064,42.3801,14z?hl=en\",\"Maplink2\")","v":"Maplink2"},{"$f":"HYPERLINK(\"http://www.bing.com/maps/?lvl=14&sty=h&cp=34.064~42.3801&sp=point.34.064_42.3801\",\"Maplink3\")","v":"Maplink3"}]
[24117,"Al-Anbar","Haditha","Al-Haqlaniya","Haqlaniyah-Hay Al-Faroq","حي الفاروق-حقلانية",34.0859276452,42.3591711634,6,36,0,0,0,0,0,0,36,0,0,0,0,0,0,0,0,36,0,0,0,0,0,0,0,0,0,0,0,0,0,0,0,0,0,0,36,0,0,0,0,0,0,0,0,0,0,{"$f":"HYPERLINK(\"http://www.openstreetmap.org/?mlat=34.0859&mlon=42.3592&zoom=12#map=12/34.0859/42.3592\",\"Maplink1\")","v":"Maplink1"},{"$f":"HYPERLINK(\"https://www.google.iq/maps/search/+34.0859,42.3592/@34.0859,42.3592,14z?hl=en\",\"Maplink2\")","v":"Maplink2"},{"$f":"HYPERLINK(\"http://www.bing.com/maps/?lvl=14&sty=h&cp=34.0859~42.3592&sp=point.34.0859_42.3592\",\"Maplink3\")","v":"Maplink3"}]
[23806,"Al-Anbar","Haditha","Al-Haqlaniya","Hay Al-Mulameen","حي المعلمين",34.1354093079,42.365412859,15,90,0,0,0,0,0,0,90,0,0,0,0,0,0,0,0,72,0,0,0,0,0,0,0,0,0,0,0,0,0,18,0,0,0,0,90,0,0,0,0,0,0,0,0,0,0,{"$f":"HYPERLINK(\"http://www.openstreetmap.org/?mlat=34.1354&mlon=42.3654&zoom=12#map=12/34.1354/42.3654\",\"Maplink1\")","v":"Maplink1"},{"$f":"HYPERLINK(\"https://www.google.iq/maps/search/+34.1354,42.3654/@34.1354,42.3654,14z?hl=en\",\"Maplink2\")","v":"Maplink2"},{"$f":"HYPERLINK(\"http://www.bing.com/maps/?lvl=14&sty=h&cp=34.1354~42.3654&sp=point.34.1354_42.3654\",\"Maplink3\")","v":"Maplink3"}]
[24316,"Al-Anbar","Haditha","Al-Haqlaniya","Hay Al Salam","حي السلام",34.0907524006,42.3623321009,17,102,0,0,0,0,0,0,102,0,0,0,0,0,0,0,0,78,0,0,0,0,0,0,0,0,0,0,0,24,0,0,0,0,0,0,102,0,0,0,0,0,0,0,0,0,0,{"$f":"HYPERLINK(\"http://www.openstreetmap.org/?mlat=34.0908&mlon=42.3623&zoom=12#map=12/34.0908/42.3623\",\"Maplink1\")","v":"Maplink1"},{"$f":"HYPERLINK(\"https://www.google.iq/maps/search/+34.0908,42.3623/@34.0908,42.3623,14z?hl=en\",\"Maplink2\")","v":"Maplink2"},{"$f":"HYPERLINK(\"http://www.bing.com/maps/?lvl=14&sty=h&cp=34.0908~42.3623&sp=point.34.0908_42.3623\",\"Maplink3\")","v":"Maplink3"}]
[244,"Al-Anbar","Haditha","Al-Haqlaniya","Hay Al Yarmuk","حي اليرموك",34.1421065807,42.3736276629,41,246,0,0,0,0,0,0,246,0,0,0,0,0,0,0,0,246,0,0,0,0,0,0,0,0,0,0,0,0,0,0,0,0,0,0,246,0,0,0,0,0,0,0,0,0,0,{"$f":"HYPERLINK(\"http://www.openstreetmap.org/?mlat=34.1421&mlon=42.3736&zoom=12#map=12/34.1421/42.3736\",\"Maplink1\")","v":"Maplink1"},{"$f":"HYPERLINK(\"https://www.google.iq/maps/search/+34.1421,42.3736/@34.1421,42.3736,14z?hl=en\",\"Maplink2\")","v":"Maplink2"},{"$f":"HYPERLINK(\"http://www.bing.com/maps/?lvl=14&sty=h&cp=34.1421~42.3736&sp=point.34.1421_42.3736\",\"Maplink3\")","v":"Maplink3"}]
[23811,"Al-Anbar","Haditha","Barwana","Hay Barwanah Al Gharbiyah","حي بروانه غربيه",34.105203588,42.3902045472,20,120,0,0,0,0,0,0,120,0,0,0,0,0,0,0,0,78,0,0,0,0,0,0,0,0,0,0,0,0,0,42,0,0,0,0,0,0,120,0,0,0,0,0,0,0,0,{"$f":"HYPERLINK(\"http://www.openstreetmap.org/?mlat=34.1052&mlon=42.3902&zoom=12#map=12/34.1052/42.3902\",\"Maplink1\")","v":"Maplink1"},{"$f":"HYPERLINK(\"https://www.google.iq/maps/search/+34.1052,42.3902/@34.1052,42.3902,14z?hl=en\",\"Maplink2\")","v":"Maplink2"},{"$f":"HYPERLINK(\"http://www.bing.com/maps/?lvl=14&sty=h&cp=34.1052~42.3902&sp=point.34.1052_42.3902\",\"Maplink3\")","v":"Maplink3"}]
[236,"Al-Anbar","Haditha","Barwana","Hay Al Saray","حي السراي",34.1414660297,42.3794700304,7,42,0,0,0,0,0,0,42,0,0,0,0,0,0,0,0,42,0,0,0,0,0,0,0,0,0,0,0,0,0,0,0,0,0,0,42,0,0,0,0,0,0,0,0,0,0,{"$f":"HYPERLINK(\"http://www.openstreetmap.org/?mlat=34.1415&mlon=42.3795&zoom=12#map=12/34.1415/42.3795\",\"Maplink1\")","v":"Maplink1"},{"$f":"HYPERLINK(\"https://www.google.iq/maps/search/+34.1415,42.3795/@34.1415,42.3795,14z?hl=en\",\"Maplink2\")","v":"Maplink2"},{"$f":"HYPERLINK(\"http://www.bing.com/maps/?lvl=14&sty=h&cp=34.1415~42.3795&sp=point.34.1415_42.3795\",\"Maplink3\")","v":"Maplink3"}]
[23813,"Al-Anbar","Haditha","Barwana","Hay Al Shuhadaa","حي الشهداء",34.093078903872,42.3899179304817,5,30,0,0,0,0,0,0,30,0,0,0,0,0,0,0,0,24,0,0,0,0,0,0,0,0,0,0,0,0,0,6,0,0,0,0,0,0,30,0,0,0,0,0,0,0,0,{"$f":"HYPERLINK(\"http://www.openstreetmap.org/?mlat=34.0931&mlon=42.3899&zoom=12#map=12/34.0931/42.3899\",\"Maplink1\")","v":"Maplink1"},{"$f":"HYPERLINK(\"https://www.google.iq/maps/search/+34.0931,42.3899/@34.0931,42.3899,14z?hl=en\",\"Maplink2\")","v":"Maplink2"},{"$f":"HYPERLINK(\"http://www.bing.com/maps/?lvl=14&sty=h&cp=34.0931~42.3899&sp=point.34.0931_42.3899\",\"Maplink3\")","v":"Maplink3"}]
[241,"Al-Anbar","Haditha","Barwana","Hay Al Shurta","حي الشرطة",34.1045309516,42.3739604544,11,66,0,0,0,0,0,0,66,0,0,0,0,0,0,0,0,42,0,0,0,0,0,0,0,0,0,0,0,0,0,24,0,0,0,0,66,0,0,0,0,0,0,0,0,0,0,{"$f":"HYPERLINK(\"http://www.openstreetmap.org/?mlat=34.1045&mlon=42.374&zoom=12#map=12/34.1045/42.374\",\"Maplink1\")","v":"Maplink1"},{"$f":"HYPERLINK(\"https://www.google.iq/maps/search/+34.1045,42.374/@34.1045,42.374,14z?hl=en\",\"Maplink2\")","v":"Maplink2"},{"$f":"HYPERLINK(\"http://www.bing.com/maps/?lvl=14&sty=h&cp=34.1045~42.374&sp=point.34.1045_42.374\",\"Maplink3\")","v":"Maplink3"}]
[24315,"Al-Anbar","Haditha","Barwana","Hay Al Rahman","حي الرحمن",34.1006249959,42.3876817775,5,30,0,0,0,0,0,0,30,0,0,0,0,0,0,0,0,12,0,0,0,0,0,0,0,0,0,0,0,0,0,18,0,0,0,0,0,0,30,0,0,0,0,0,0,0,0,{"$f":"HYPERLINK(\"http://www.openstreetmap.org/?mlat=34.1006&mlon=42.3877&zoom=12#map=12/34.1006/42.3877\",\"Maplink1\")","v":"Maplink1"},{"$f":"HYPERLINK(\"https://www.google.iq/maps/search/+34.1006,42.3877/@34.1006,42.3877,14z?hl=en\",\"Maplink2\")","v":"Maplink2"},{"$f":"HYPERLINK(\"http://www.bing.com/maps/?lvl=14&sty=h&cp=34.1006~42.3877&sp=point.34.1006_42.3877\",\"Maplink3\")","v":"Maplink3"}]
[23819,"Al-Anbar","Haditha","Barwana","Hay Al Haqlaniyah Qadim","حي حقلانية القديمة",34.0867486599,42.368359369,8,48,0,0,0,0,0,0,48,0,0,0,0,0,0,0,0,42,0,0,0,0,0,0,0,0,0,0,0,0,0,6,0,0,0,0,48,0,0,0,0,0,0,0,0,0,0,{"$f":"HYPERLINK(\"http://www.openstreetmap.org/?mlat=34.0867&mlon=42.3684&zoom=12#map=12/34.0867/42.3684\",\"Maplink1\")","v":"Maplink1"},{"$f":"HYPERLINK(\"https://www.google.iq/maps/search/+34.0867,42.3684/@34.0867,42.3684,14z?hl=en\",\"Maplink2\")","v":"Maplink2"},{"$f":"HYPERLINK(\"http://www.bing.com/maps/?lvl=14&sty=h&cp=34.0867~42.3684&sp=point.34.0867_42.3684\",\"Maplink3\")","v":"Maplink3"}]
[23808,"Al-Anbar","Haditha","Barwana","Hay Al-Thamaniya","حي الثمانية",34.1490398343,42.3813102505,5,30,0,0,0,0,0,0,30,0,0,0,0,0,0,0,0,30,0,0,0,0,0,0,0,0,0,0,0,0,0,0,0,0,0,0,30,0,0,0,0,0,0,0,0,0,0,{"$f":"HYPERLINK(\"http://www.openstreetmap.org/?mlat=34.149&mlon=42.3813&zoom=12#map=12/34.149/42.3813\",\"Maplink1\")","v":"Maplink1"},{"$f":"HYPERLINK(\"https://www.google.iq/maps/search/+34.149,42.3813/@34.149,42.3813,14z?hl=en\",\"Maplink2\")","v":"Maplink2"},{"$f":"HYPERLINK(\"http://www.bing.com/maps/?lvl=14&sty=h&cp=34.149~42.3813&sp=point.34.149_42.3813\",\"Maplink3\")","v":"Maplink3"}]
[23812,"Al-Anbar","Haditha","Barwana","Hay Ibn Bittar","حي ابن بيطار",34.0839505143917,42.3829715557479,12,72,0,0,0,0,0,0,72,0,0,0,0,0,0,0,0,18,0,0,0,0,0,0,0,12,0,0,0,6,0,36,0,0,0,0,6,0,66,0,0,0,0,0,0,0,0,{"$f":"HYPERLINK(\"http://www.openstreetmap.org/?mlat=34.084&mlon=42.383&zoom=12#map=12/34.084/42.383\",\"Maplink1\")","v":"Maplink1"},{"$f":"HYPERLINK(\"https://www.google.iq/maps/search/+34.084,42.383/@34.084,42.383,14z?hl=en\",\"Maplink2\")","v":"Maplink2"},{"$f":"HYPERLINK(\"http://www.bing.com/maps/?lvl=14&sty=h&cp=34.084~42.383&sp=point.34.084_42.383\",\"Maplink3\")","v":"Maplink3"}]
[79,"Al-Anbar","Haditha","Barwana","Hay Al-Subhani","حي السبحاني",34.1159621459,42.3843910511,23,138,0,0,0,0,0,0,138,0,0,0,0,0,0,0,0,138,0,0,0,0,0,0,0,0,0,0,0,0,0,0,0,0,0,0,138,0,0,0,0,0,0,0,0,0,0,{"$f":"HYPERLINK(\"http://www.openstreetmap.org/?mlat=34.116&mlon=42.3844&zoom=12#map=12/34.116/42.3844\",\"Maplink1\")","v":"Maplink1"},{"$f":"HYPERLINK(\"https://www.google.iq/maps/search/+34.116,42.3844/@34.116,42.3844,14z?hl=en\",\"Maplink2\")","v":"Maplink2"},{"$f":"HYPERLINK(\"http://www.bing.com/maps/?lvl=14&sty=h&cp=34.116~42.3844&sp=point.34.116_42.3844\",\"Maplink3\")","v":"Maplink3"}]
[21408,"Al-Anbar","Heet","Al-Baghdady","Hay Al-Quds","القدس",33.8777732,42.5295779,4,24,0,0,0,0,0,0,24,0,0,0,0,0,0,0,0,12,0,0,0,0,6,0,0,6,0,0,0,0,0,0,0,0,0,0,0,0,0,6,6,0,0,0,12,0,0,{"$f":"HYPERLINK(\"http://www.openstreetmap.org/?mlat=33.8778&mlon=42.5296&zoom=12#map=12/33.8778/42.5296\",\"Maplink1\")","v":"Maplink1"},{"$f":"HYPERLINK(\"https://www.google.iq/maps/search/+33.8778,42.5296/@33.8778,42.5296,14z?hl=en\",\"Maplink2\")","v":"Maplink2"},{"$f":"HYPERLINK(\"http://www.bing.com/maps/?lvl=14&sty=h&cp=33.8778~42.5296&sp=point.33.8778_42.5296\",\"Maplink3\")","v":"Maplink3"}]
[136,"Al-Anbar","Heet","Al-Baghdady","Al-shuhdaa","الشهداء",33.8888209,42.5233638,3,18,0,0,0,0,0,0,18,0,0,0,0,0,0,0,0,18,0,0,0,0,0,0,0,0,0,0,0,0,0,0,0,0,0,0,0,0,0,0,18,0,0,0,0,0,0,{"$f":"HYPERLINK(\"http://www.openstreetmap.org/?mlat=33.8888&mlon=42.5234&zoom=12#map=12/33.8888/42.5234\",\"Maplink1\")","v":"Maplink1"},{"$f":"HYPERLINK(\"https://www.google.iq/maps/search/+33.8888,42.5234/@33.8888,42.5234,14z?hl=en\",\"Maplink2\")","v":"Maplink2"},{"$f":"HYPERLINK(\"http://www.bing.com/maps/?lvl=14&sty=h&cp=33.8888~42.5234&sp=point.33.8888_42.5234\",\"Maplink3\")","v":"Maplink3"}]
[21323,"Al-Anbar","Heet","Al-Baghdady","Al-Mujama Al-Sakani","الحي السكني",33.9220136,42.5240107,4,24,0,0,0,0,0,0,24,0,0,0,0,0,0,0,0,24,0,0,0,0,0,0,0,0,0,0,0,0,0,0,0,0,0,0,0,0,18,0,0,6,0,0,0,0,0,{"$f":"HYPERLINK(\"http://www.openstreetmap.org/?mlat=33.922&mlon=42.524&zoom=12#map=12/33.922/42.524\",\"Maplink1\")","v":"Maplink1"},{"$f":"HYPERLINK(\"https://www.google.iq/maps/search/+33.922,42.524/@33.922,42.524,14z?hl=en\",\"Maplink2\")","v":"Maplink2"},{"$f":"HYPERLINK(\"http://www.bing.com/maps/?lvl=14&sty=h&cp=33.922~42.524&sp=point.33.922_42.524\",\"Maplink3\")","v":"Maplink3"}]
[21469,"Al-Anbar","Heet","Al-Baghdady","Hay Al Salam","السلام",33.8439322,42.5561587,8,48,0,0,0,0,0,0,48,0,0,0,0,0,0,0,0,42,0,0,0,0,0,0,0,0,0,0,0,0,0,6,0,0,0,6,0,0,24,0,18,0,0,0,0,0,0,{"$f":"HYPERLINK(\"http://www.openstreetmap.org/?mlat=33.8439&mlon=42.5562&zoom=12#map=12/33.8439/42.5562\",\"Maplink1\")","v":"Maplink1"},{"$f":"HYPERLINK(\"https://www.google.iq/maps/search/+33.8439,42.5562/@33.8439,42.5562,14z?hl=en\",\"Maplink2\")","v":"Maplink2"},{"$f":"HYPERLINK(\"http://www.bing.com/maps/?lvl=14&sty=h&cp=33.8439~42.5562&sp=point.33.8439_42.5562\",\"Maplink3\")","v":"Maplink3"}]
[23890,"Al-Anbar","Heet","Al-Baghdady","Al-Mashhad","المشهد",33.8746847,42.5213031,1,6,0,0,0,0,0,0,6,0,0,0,0,0,0,0,0,6,0,0,0,0,0,0,0,0,0,0,0,0,0,0,0,0,0,0,0,0,0,0,0,6,0,0,0,0,0,{"$f":"HYPERLINK(\"http://www.openstreetmap.org/?mlat=33.8747&mlon=42.5213&zoom=12#map=12/33.8747/42.5213\",\"Maplink1\")","v":"Maplink1"},{"$f":"HYPERLINK(\"https://www.google.iq/maps/search/+33.8747,42.5213/@33.8747,42.5213,14z?hl=en\",\"Maplink2\")","v":"Maplink2"},{"$f":"HYPERLINK(\"http://www.bing.com/maps/?lvl=14&sty=h&cp=33.8747~42.5213&sp=point.33.8747_42.5213\",\"Maplink3\")","v":"Maplink3"}]
[34002,"Al-Anbar","Heet","Al-Baghdady","Al-shuhdaa  1","الشهداء الاولى",33.8824866,42.526058,28,168,0,0,0,0,0,0,168,0,0,0,0,0,0,0,0,162,0,0,0,0,0,0,0,6,0,0,0,0,0,0,0,0,0,0,0,0,30,132,0,6,0,0,0,0,0,{"$f":"HYPERLINK(\"http://www.openstreetmap.org/?mlat=33.8825&mlon=42.5261&zoom=12#map=12/33.8825/42.5261\",\"Maplink1\")","v":"Maplink1"},{"$f":"HYPERLINK(\"https://www.google.iq/maps/search/+33.8825,42.5261/@33.8825,42.5261,14z?hl=en\",\"Maplink2\")","v":"Maplink2"},{"$f":"HYPERLINK(\"http://www.bing.com/maps/?lvl=14&sty=h&cp=33.8825~42.5261&sp=point.33.8825_42.5261\",\"Maplink3\")","v":"Maplink3"}]
[152,"Al-Anbar","Heet","Al-Forat","Al Muhamdee","المحمدي ",33.5509502,42.9018178,28,168,0,0,0,0,0,0,168,0,0,0,0,0,0,0,0,168,0,0,0,0,0,0,0,0,0,0,0,0,0,0,0,0,0,30,0,0,0,0,0,0,138,0,0,0,0,{"$f":"HYPERLINK(\"http://www.openstreetmap.org/?mlat=33.551&mlon=42.9018&zoom=12#map=12/33.551/42.9018\",\"Maplink1\")","v":"Maplink1"},{"$f":"HYPERLINK(\"https://www.google.iq/maps/search/+33.551,42.9018/@33.551,42.9018,14z?hl=en\",\"Maplink2\")","v":"Maplink2"},{"$f":"HYPERLINK(\"http://www.bing.com/maps/?lvl=14&sty=h&cp=33.551~42.9018&sp=point.33.551_42.9018\",\"Maplink3\")","v":"Maplink3"}]
[29535,"Al-Anbar","Heet","Kubaisa","Hay Al-Askari","الحي العسكري",33.5881136,42.6157354,6,36,0,0,0,0,0,0,36,0,0,0,0,0,0,0,0,36,0,0,0,0,0,0,0,0,0,0,0,0,0,0,0,0,0,0,0,0,36,0,0,0,0,0,0,0,0,{"$f":"HYPERLINK(\"http://www.openstreetmap.org/?mlat=33.5881&mlon=42.6157&zoom=12#map=12/33.5881/42.6157\",\"Maplink1\")","v":"Maplink1"},{"$f":"HYPERLINK(\"https://www.google.iq/maps/search/+33.5881,42.6157/@33.5881,42.6157,14z?hl=en\",\"Maplink2\")","v":"Maplink2"},{"$f":"HYPERLINK(\"http://www.bing.com/maps/?lvl=14&sty=h&cp=33.5881~42.6157&sp=point.33.5881_42.6157\",\"Maplink3\")","v":"Maplink3"}]
[23838,"Al-Anbar","Heet","Kubaisa","Hay Al Farouq","حي الفاروق",33.5910779,42.6223471,1,6,0,0,0,0,0,0,6,0,0,0,0,0,0,0,0,6,0,0,0,0,0,0,0,0,0,0,0,0,0,0,0,0,0,0,0,0,6,0,0,0,0,0,0,0,0,{"$f":"HYPERLINK(\"http://www.openstreetmap.org/?mlat=33.5911&mlon=42.6223&zoom=12#map=12/33.5911/42.6223\",\"Maplink1\")","v":"Maplink1"},{"$f":"HYPERLINK(\"https://www.google.iq/maps/search/+33.5911,42.6223/@33.5911,42.6223,14z?hl=en\",\"Maplink2\")","v":"Maplink2"},{"$f":"HYPERLINK(\"http://www.bing.com/maps/?lvl=14&sty=h&cp=33.5911~42.6223&sp=point.33.5911_42.6223\",\"Maplink3\")","v":"Maplink3"}]
[5,"Al-Anbar","Heet","Kubaisa","Kubaisa Al-qadimah","كبيسة القديمة",33.59211,42.6105,6,36,0,0,0,0,0,0,36,0,0,0,0,0,0,0,0,30,0,6,0,0,0,0,0,0,0,0,0,0,0,0,0,0,0,0,0,0,36,0,0,0,0,0,0,0,0,{"$f":"HYPERLINK(\"http://www.openstreetmap.org/?mlat=33.5921&mlon=42.6105&zoom=12#map=12/33.5921/42.6105\",\"Maplink1\")","v":"Maplink1"},{"$f":"HYPERLINK(\"https://www.google.iq/maps/search/+33.5921,42.6105/@33.5921,42.6105,14z?hl=en\",\"Maplink2\")","v":"Maplink2"},{"$f":"HYPERLINK(\"http://www.bing.com/maps/?lvl=14&sty=h&cp=33.5921~42.6105&sp=point.33.5921_42.6105\",\"Maplink3\")","v":"Maplink3"}]
[33956,"Al-Anbar","Heet","Kubaisa","Albuhamd","البو حمد",33.5950695,42.6083001,2,12,0,0,0,0,0,0,12,0,0,0,0,0,0,0,0,12,0,0,0,0,0,0,0,0,0,0,0,0,0,0,0,0,0,0,0,0,12,0,0,0,0,0,0,0,0,{"$f":"HYPERLINK(\"http://www.openstreetmap.org/?mlat=33.5951&mlon=42.6083&zoom=12#map=12/33.5951/42.6083\",\"Maplink1\")","v":"Maplink1"},{"$f":"HYPERLINK(\"https://www.google.iq/maps/search/+33.5951,42.6083/@33.5951,42.6083,14z?hl=en\",\"Maplink2\")","v":"Maplink2"},{"$f":"HYPERLINK(\"http://www.bing.com/maps/?lvl=14&sty=h&cp=33.5951~42.6083&sp=point.33.5951_42.6083\",\"Maplink3\")","v":"Maplink3"}]
[24724,"Al-Anbar","Heet","Markaz Heet","Al dawarah Al Gharbiyah","الدوارة الغربية",33.6395497,42.8309288,3,18,0,0,0,0,0,0,18,0,0,0,0,0,0,0,0,18,0,0,0,0,0,0,0,0,0,0,0,0,0,0,0,0,0,0,0,0,0,0,18,0,0,0,0,0,0,{"$f":"HYPERLINK(\"http://www.openstreetmap.org/?mlat=33.6395&mlon=42.8309&zoom=12#map=12/33.6395/42.8309\",\"Maplink1\")","v":"Maplink1"},{"$f":"HYPERLINK(\"https://www.google.iq/maps/search/+33.6395,42.8309/@33.6395,42.8309,14z?hl=en\",\"Maplink2\")","v":"Maplink2"},{"$f":"HYPERLINK(\"http://www.bing.com/maps/?lvl=14&sty=h&cp=33.6395~42.8309&sp=point.33.6395_42.8309\",\"Maplink3\")","v":"Maplink3"}]
[21264,"Al-Anbar","Heet","Markaz Heet","Basair","البصائر ",33.6527316,42.8084941,2,12,0,12,0,0,0,0,12,0,0,0,0,0,0,0,0,12,0,0,0,0,0,0,0,0,0,0,0,0,0,0,0,0,0,0,0,0,12,0,0,0,0,0,0,0,0,{"$f":"HYPERLINK(\"http://www.openstreetmap.org/?mlat=33.6527&mlon=42.8085&zoom=12#map=12/33.6527/42.8085\",\"Maplink1\")","v":"Maplink1"},{"$f":"HYPERLINK(\"https://www.google.iq/maps/search/+33.6527,42.8085/@33.6527,42.8085,14z?hl=en\",\"Maplink2\")","v":"Maplink2"},{"$f":"HYPERLINK(\"http://www.bing.com/maps/?lvl=14&sty=h&cp=33.6527~42.8085&sp=point.33.6527_42.8085\",\"Maplink3\")","v":"Maplink3"}]
[21231,"Al-Anbar","Heet","Markaz Heet","Hay Al-Qadisiyah","القادسية",33.6367959,42.835274,2,12,0,0,0,0,0,0,12,0,0,0,0,0,0,0,0,12,0,0,0,0,0,0,0,0,0,0,0,0,0,0,0,0,0,0,0,0,0,12,0,0,0,0,0,0,0,{"$f":"HYPERLINK(\"http://www.openstreetmap.org/?mlat=33.6368&mlon=42.8353&zoom=12#map=12/33.6368/42.8353\",\"Maplink1\")","v":"Maplink1"},{"$f":"HYPERLINK(\"https://www.google.iq/maps/search/+33.6368,42.8353/@33.6368,42.8353,14z?hl=en\",\"Maplink2\")","v":"Maplink2"},{"$f":"HYPERLINK(\"http://www.bing.com/maps/?lvl=14&sty=h&cp=33.6368~42.8353&sp=point.33.6368_42.8353\",\"Maplink3\")","v":"Maplink3"}]
[33822,"Al-Anbar","Heet","Markaz Heet","Hay- Amina","حي أمينة",33.6505584,42.7973219,17,102,0,0,0,0,0,0,102,0,0,0,0,0,0,0,0,90,0,0,0,0,0,0,0,0,0,0,0,12,0,0,0,0,0,0,0,0,12,48,30,0,0,0,12,0,0,{"$f":"HYPERLINK(\"http://www.openstreetmap.org/?mlat=33.6506&mlon=42.7973&zoom=12#map=12/33.6506/42.7973\",\"Maplink1\")","v":"Maplink1"},{"$f":"HYPERLINK(\"https://www.google.iq/maps/search/+33.6506,42.7973/@33.6506,42.7973,14z?hl=en\",\"Maplink2\")","v":"Maplink2"},{"$f":"HYPERLINK(\"http://www.bing.com/maps/?lvl=14&sty=h&cp=33.6506~42.7973&sp=point.33.6506_42.7973\",\"Maplink3\")","v":"Maplink3"}]
[33825,"Al-Anbar","Heet","Markaz Heet","Hay Al-Askary","حي العسكري",33.6244991,42.8278815,11,66,0,0,0,0,0,0,54,12,0,0,0,0,0,0,0,42,0,0,0,0,0,0,0,0,0,0,0,0,0,24,0,0,0,0,0,0,0,42,24,0,0,0,0,0,0,{"$f":"HYPERLINK(\"http://www.openstreetmap.org/?mlat=33.6245&mlon=42.8279&zoom=12#map=12/33.6245/42.8279\",\"Maplink1\")","v":"Maplink1"},{"$f":"HYPERLINK(\"https://www.google.iq/maps/search/+33.6245,42.8279/@33.6245,42.8279,14z?hl=en\",\"Maplink2\")","v":"Maplink2"},{"$f":"HYPERLINK(\"http://www.bing.com/maps/?lvl=14&sty=h&cp=33.6245~42.8279&sp=point.33.6245_42.8279\",\"Maplink3\")","v":"Maplink3"}]
[33950,"Al-Anbar","Heet","Markaz Heet","khazraj","خزرج",33.7727886,42.72808,2,12,0,0,0,0,0,0,12,0,0,0,0,0,0,0,0,12,0,0,0,0,0,0,0,0,0,0,0,0,0,0,0,0,0,0,0,0,0,0,12,0,0,0,0,0,0,{"$f":"HYPERLINK(\"http://www.openstreetmap.org/?mlat=33.7728&mlon=42.7281&zoom=12#map=12/33.7728/42.7281\",\"Maplink1\")","v":"Maplink1"},{"$f":"HYPERLINK(\"https://www.google.iq/maps/search/+33.7728,42.7281/@33.7728,42.7281,14z?hl=en\",\"Maplink2\")","v":"Maplink2"},{"$f":"HYPERLINK(\"http://www.bing.com/maps/?lvl=14&sty=h&cp=33.7728~42.7281&sp=point.33.7728_42.7281\",\"Maplink3\")","v":"Maplink3"}]
[23827,"Al-Anbar","Heet","Markaz Heet","Al-Qalqalah","القلقة ",33.64174,42.82417,2,12,0,0,0,0,0,0,12,0,0,0,0,0,0,0,0,12,0,0,0,0,0,0,0,0,0,0,0,0,0,0,0,0,0,0,0,0,0,0,0,6,6,0,0,0,0,{"$f":"HYPERLINK(\"http://www.openstreetmap.org/?mlat=33.6417&mlon=42.8242&zoom=12#map=12/33.6417/42.8242\",\"Maplink1\")","v":"Maplink1"},{"$f":"HYPERLINK(\"https://www.google.iq/maps/search/+33.6417,42.8242/@33.6417,42.8242,14z?hl=en\",\"Maplink2\")","v":"Maplink2"},{"$f":"HYPERLINK(\"http://www.bing.com/maps/?lvl=14&sty=h&cp=33.6417~42.8242&sp=point.33.6417_42.8242\",\"Maplink3\")","v":"Maplink3"}]
[312,"Al-Anbar","Heet","Markaz Heet","Al-Ummal","العمال ",33.6354222,42.8280804,14,84,0,0,0,0,0,0,84,0,0,0,0,0,0,0,0,84,0,0,0,0,0,0,0,0,0,0,0,0,0,0,0,0,0,24,0,0,54,0,0,0,6,0,0,0,0,{"$f":"HYPERLINK(\"http://www.openstreetmap.org/?mlat=33.6354&mlon=42.8281&zoom=12#map=12/33.6354/42.8281\",\"Maplink1\")","v":"Maplink1"},{"$f":"HYPERLINK(\"https://www.google.iq/maps/search/+33.6354,42.8281/@33.6354,42.8281,14z?hl=en\",\"Maplink2\")","v":"Maplink2"},{"$f":"HYPERLINK(\"http://www.bing.com/maps/?lvl=14&sty=h&cp=33.6354~42.8281&sp=point.33.6354_42.8281\",\"Maplink3\")","v":"Maplink3"}]
[33824,"Al-Anbar","Heet","Markaz Heet","Hay AL-zihoor","حي الزهور ",33.6290703,42.8390802,9,54,0,0,0,0,0,0,54,0,0,0,0,0,0,0,0,54,0,0,0,0,0,0,0,0,0,0,0,0,0,0,0,0,0,0,0,0,0,48,6,0,0,0,0,0,0,{"$f":"HYPERLINK(\"http://www.openstreetmap.org/?mlat=33.6291&mlon=42.8391&zoom=12#map=12/33.6291/42.8391\",\"Maplink1\")","v":"Maplink1"},{"$f":"HYPERLINK(\"https://www.google.iq/maps/search/+33.6291,42.8391/@33.6291,42.8391,14z?hl=en\",\"Maplink2\")","v":"Maplink2"},{"$f":"HYPERLINK(\"http://www.bing.com/maps/?lvl=14&sty=h&cp=33.6291~42.8391&sp=point.33.6291_42.8391\",\"Maplink3\")","v":"Maplink3"}]
[23831,"Al-Anbar","Heet","Markaz Heet","Al-Sikak","السكك",33.6289434,42.8247151,6,36,0,0,0,0,0,0,36,0,0,0,0,0,0,0,0,36,0,0,0,0,0,0,0,0,0,0,0,0,0,0,0,0,0,0,0,0,6,30,0,0,0,0,0,0,0,{"$f":"HYPERLINK(\"http://www.openstreetmap.org/?mlat=33.6289&mlon=42.8247&zoom=12#map=12/33.6289/42.8247\",\"Maplink1\")","v":"Maplink1"},{"$f":"HYPERLINK(\"https://www.google.iq/maps/search/+33.6289,42.8247/@33.6289,42.8247,14z?hl=en\",\"Maplink2\")","v":"Maplink2"},{"$f":"HYPERLINK(\"http://www.bing.com/maps/?lvl=14&sty=h&cp=33.6289~42.8247&sp=point.33.6289_42.8247\",\"Maplink3\")","v":"Maplink3"}]
[194,"Al-Anbar","Heet","Markaz Heet","The first jamaiya","الجمعية الاولى",33.633242,42.8415123,2,12,0,0,0,0,0,0,12,0,0,0,0,0,0,0,0,12,0,0,0,0,0,0,0,0,0,0,0,0,0,0,0,0,0,0,0,0,0,12,0,0,0,0,0,0,0,{"$f":"HYPERLINK(\"http://www.openstreetmap.org/?mlat=33.6332&mlon=42.8415&zoom=12#map=12/33.6332/42.8415\",\"Maplink1\")","v":"Maplink1"},{"$f":"HYPERLINK(\"https://www.google.iq/maps/search/+33.6332,42.8415/@33.6332,42.8415,14z?hl=en\",\"Maplink2\")","v":"Maplink2"},{"$f":"HYPERLINK(\"http://www.bing.com/maps/?lvl=14&sty=h&cp=33.6332~42.8415&sp=point.33.6332_42.8415\",\"Maplink3\")","v":"Maplink3"}]
[219,"Al-Anbar","Heet","Markaz Heet","Hay Al-Jabal","الجبل ",33.6352777,42.8202338,45,270,0,0,0,0,0,0,270,0,0,0,0,0,0,0,0,270,0,0,0,0,0,0,0,0,0,0,0,0,0,0,0,0,0,0,0,0,0,0,102,108,60,0,0,0,0,{"$f":"HYPERLINK(\"http://www.openstreetmap.org/?mlat=33.6353&mlon=42.8202&zoom=12#map=12/33.6353/42.8202\",\"Maplink1\")","v":"Maplink1"},{"$f":"HYPERLINK(\"https://www.google.iq/maps/search/+33.6353,42.8202/@33.6353,42.8202,14z?hl=en\",\"Maplink2\")","v":"Maplink2"},{"$f":"HYPERLINK(\"http://www.bing.com/maps/?lvl=14&sty=h&cp=33.6353~42.8202&sp=point.33.6353_42.8202\",\"Maplink3\")","v":"Maplink3"}]
[23885,"Al-Anbar","Heet","Markaz Heet","Hay Al-jamyah 2","الجمعية الثانية",33.6298282,42.8462612,13,78,0,0,0,0,0,0,78,0,0,0,0,0,0,0,0,78,0,0,0,0,0,0,0,0,0,0,0,0,0,0,0,0,0,0,0,0,0,78,0,0,0,0,0,0,0,{"$f":"HYPERLINK(\"http://www.openstreetmap.org/?mlat=33.6298&mlon=42.8463&zoom=12#map=12/33.6298/42.8463\",\"Maplink1\")","v":"Maplink1"},{"$f":"HYPERLINK(\"https://www.google.iq/maps/search/+33.6298,42.8463/@33.6298,42.8463,14z?hl=en\",\"Maplink2\")","v":"Maplink2"},{"$f":"HYPERLINK(\"http://www.bing.com/maps/?lvl=14&sty=h&cp=33.6298~42.8463&sp=point.33.6298_42.8463\",\"Maplink3\")","v":"Maplink3"}]
[228,"Al-Anbar","Heet","Markaz Heet","Hay al Jury","الجري",33.6403175,42.8214436,4,24,0,0,0,0,0,0,24,0,0,0,0,0,0,0,0,24,0,0,0,0,0,0,0,0,0,0,0,0,0,0,0,0,0,0,0,0,0,0,0,6,18,0,0,0,0,{"$f":"HYPERLINK(\"http://www.openstreetmap.org/?mlat=33.6403&mlon=42.8214&zoom=12#map=12/33.6403/42.8214\",\"Maplink1\")","v":"Maplink1"},{"$f":"HYPERLINK(\"https://www.google.iq/maps/search/+33.6403,42.8214/@33.6403,42.8214,14z?hl=en\",\"Maplink2\")","v":"Maplink2"},{"$f":"HYPERLINK(\"http://www.bing.com/maps/?lvl=14&sty=h&cp=33.6403~42.8214&sp=point.33.6403_42.8214\",\"Maplink3\")","v":"Maplink3"}]
[23832,"Al-Anbar","Heet","Markaz Heet","Al-Mamora","المعمورة",33.6297942,42.7974282,2,12,0,0,0,0,0,0,12,0,0,0,0,0,0,0,0,12,0,0,0,0,0,0,0,0,0,0,0,0,0,0,0,0,0,6,0,0,0,6,0,0,0,0,0,0,0,{"$f":"HYPERLINK(\"http://www.openstreetmap.org/?mlat=33.6298&mlon=42.7974&zoom=12#map=12/33.6298/42.7974\",\"Maplink1\")","v":"Maplink1"},{"$f":"HYPERLINK(\"https://www.google.iq/maps/search/+33.6298,42.7974/@33.6298,42.7974,14z?hl=en\",\"Maplink2\")","v":"Maplink2"},{"$f":"HYPERLINK(\"http://www.bing.com/maps/?lvl=14&sty=h&cp=33.6298~42.7974&sp=point.33.6298_42.7974\",\"Maplink3\")","v":"Maplink3"}]
[218,"Al-Anbar","Heet","Markaz Heet","Hay Al-Etfaa","حي الاطفاء",33.6317935,42.8322699,8,48,0,0,0,0,0,0,48,0,0,0,0,0,0,0,0,48,0,0,0,0,0,0,0,0,0,0,0,0,0,0,0,0,0,0,0,0,0,0,0,48,0,0,0,0,0,{"$f":"HYPERLINK(\"http://www.openstreetmap.org/?mlat=33.6318&mlon=42.8323&zoom=12#map=12/33.6318/42.8323\",\"Maplink1\")","v":"Maplink1"},{"$f":"HYPERLINK(\"https://www.google.iq/maps/search/+33.6318,42.8323/@33.6318,42.8323,14z?hl=en\",\"Maplink2\")","v":"Maplink2"},{"$f":"HYPERLINK(\"http://www.bing.com/maps/?lvl=14&sty=h&cp=33.6318~42.8323&sp=point.33.6318_42.8323\",\"Maplink3\")","v":"Maplink3"}]
[24480,"Al-Basrah","Abu Al-Khaseeb","Al-Siba","Door Alasmeadh","البصرة-ابو الخصيب-دور الاسمدة",30.4446448784,48.0252696998,1,6,0,0,0,0,0,0,6,0,0,0,0,0,0,0,0,0,0,0,0,0,0,0,0,0,0,0,0,0,0,6,0,0,0,0,0,6,0,0,0,0,0,0,0,0,0,{"$f":"HYPERLINK(\"http://www.openstreetmap.org/?mlat=30.4446&mlon=48.0253&zoom=12#map=12/30.4446/48.0253\",\"Maplink1\")","v":"Maplink1"},{"$f":"HYPERLINK(\"https://www.google.iq/maps/search/+30.4446,48.0253/@30.4446,48.0253,14z?hl=en\",\"Maplink2\")","v":"Maplink2"},{"$f":"HYPERLINK(\"http://www.bing.com/maps/?lvl=14&sty=h&cp=30.4446~48.0253&sp=point.30.4446_48.0253\",\"Maplink3\")","v":"Maplink3"}]
[22266,"Al-Basrah","Abu Al-Khaseeb","Al-Siba","Markas AlSiba ","مركز السيبة ",30.3197197937,48.2458037899,2,12,0,0,0,0,0,0,12,0,0,0,0,0,0,0,0,0,0,0,0,0,0,0,0,0,0,0,0,12,0,0,0,0,0,0,0,12,0,0,0,0,0,0,0,0,0,{"$f":"HYPERLINK(\"http://www.openstreetmap.org/?mlat=30.3197&mlon=48.2458&zoom=12#map=12/30.3197/48.2458\",\"Maplink1\")","v":"Maplink1"},{"$f":"HYPERLINK(\"https://www.google.iq/maps/search/+30.3197,48.2458/@30.3197,48.2458,14z?hl=en\",\"Maplink2\")","v":"Maplink2"},{"$f":"HYPERLINK(\"http://www.bing.com/maps/?lvl=14&sty=h&cp=30.3197~48.2458&sp=point.30.3197_48.2458\",\"Maplink3\")","v":"Maplink3"}]
[820,"Al-Basrah","Abu Al-Khaseeb","Markaz Abu Al-Khaseeb","Al-jadida","البصرة-ابو الخصيب-الجُديدا",30.450016475,47.9048809739,5,30,0,0,0,6,0,0,24,0,0,0,0,0,0,0,0,12,0,0,0,0,0,0,0,0,0,0,0,12,0,6,0,0,0,0,0,0,30,0,0,0,0,0,0,0,0,{"$f":"HYPERLINK(\"http://www.openstreetmap.org/?mlat=30.45&mlon=47.9049&zoom=12#map=12/30.45/47.9049\",\"Maplink1\")","v":"Maplink1"},{"$f":"HYPERLINK(\"https://www.google.iq/maps/search/+30.45,47.9049/@30.45,47.9049,14z?hl=en\",\"Maplink2\")","v":"Maplink2"},{"$f":"HYPERLINK(\"http://www.bing.com/maps/?lvl=14&sty=h&cp=30.45~47.9049&sp=point.30.45_47.9049\",\"Maplink3\")","v":"Maplink3"}]
[797,"Al-Basrah","Abu Al-Khaseeb","Markaz Abu Al-Khaseeb","Bab taweel","البصرة-ابو الخصيب-باب طويل",30.4386422559,47.9870431794,3,18,0,0,0,12,0,0,6,0,0,0,0,0,0,0,0,0,0,0,0,0,0,0,0,0,0,0,0,6,0,12,0,0,0,0,0,0,12,0,0,0,6,0,0,0,0,{"$f":"HYPERLINK(\"http://www.openstreetmap.org/?mlat=30.4386&mlon=47.987&zoom=12#map=12/30.4386/47.987\",\"Maplink1\")","v":"Maplink1"},{"$f":"HYPERLINK(\"https://www.google.iq/maps/search/+30.4386,47.987/@30.4386,47.987,14z?hl=en\",\"Maplink2\")","v":"Maplink2"},{"$f":"HYPERLINK(\"http://www.bing.com/maps/?lvl=14&sty=h&cp=30.4386~47.987&sp=point.30.4386_47.987\",\"Maplink3\")","v":"Maplink3"}]
[834,"Al-Basrah","Abu Al-Khaseeb","Markaz Abu Al-Khaseeb","Al-romia","الرومية",30.4570463835,47.9164749353,5,30,0,0,0,6,0,6,18,0,0,0,0,0,0,0,0,12,0,0,0,0,0,0,0,0,0,0,0,0,0,18,0,0,0,0,0,0,30,0,0,0,0,0,0,0,0,{"$f":"HYPERLINK(\"http://www.openstreetmap.org/?mlat=30.457&mlon=47.9165&zoom=12#map=12/30.457/47.9165\",\"Maplink1\")","v":"Maplink1"},{"$f":"HYPERLINK(\"https://www.google.iq/maps/search/+30.457,47.9165/@30.457,47.9165,14z?hl=en\",\"Maplink2\")","v":"Maplink2"},{"$f":"HYPERLINK(\"http://www.bing.com/maps/?lvl=14&sty=h&cp=30.457~47.9165&sp=point.30.457_47.9165\",\"Maplink3\")","v":"Maplink3"}]
[24595,"Al-Basrah","Abu Al-Khaseeb","Markaz Abu Al-Khaseeb","Hay Al Zaiton","حي الزيتون",30.4746484,47.8260349,1,6,0,0,0,0,0,0,0,0,6,0,0,0,0,0,0,6,0,0,0,0,0,0,0,0,0,0,0,0,0,0,0,0,0,6,0,0,0,0,0,0,0,0,0,0,0,{"$f":"HYPERLINK(\"http://www.openstreetmap.org/?mlat=30.4746&mlon=47.826&zoom=12#map=12/30.4746/47.826\",\"Maplink1\")","v":"Maplink1"},{"$f":"HYPERLINK(\"https://www.google.iq/maps/search/+30.4746,47.826/@30.4746,47.826,14z?hl=en\",\"Maplink2\")","v":"Maplink2"},{"$f":"HYPERLINK(\"http://www.bing.com/maps/?lvl=14&sty=h&cp=30.4746~47.826&sp=point.30.4746_47.826\",\"Maplink3\")","v":"Maplink3"}]
[811,"Al-Basrah","Abu Al-Khaseeb","Markaz Abu Al-Khaseeb","Bab sulaiman","باب سليمان",30.4493693418,47.9980907559,10,60,0,0,0,24,0,0,36,0,0,0,0,0,0,0,0,12,0,0,0,0,0,0,0,0,0,0,0,0,0,48,0,0,0,12,12,12,18,6,0,0,0,0,0,0,0,{"$f":"HYPERLINK(\"http://www.openstreetmap.org/?mlat=30.4494&mlon=47.9981&zoom=12#map=12/30.4494/47.9981\",\"Maplink1\")","v":"Maplink1"},{"$f":"HYPERLINK(\"https://www.google.iq/maps/search/+30.4494,47.9981/@30.4494,47.9981,14z?hl=en\",\"Maplink2\")","v":"Maplink2"},{"$f":"HYPERLINK(\"http://www.bing.com/maps/?lvl=14&sty=h&cp=30.4494~47.9981&sp=point.30.4494_47.9981\",\"Maplink3\")","v":"Maplink3"}]
[813,"Al-Basrah","Abu Al-Khaseeb","Markaz Abu Al-Khaseeb","Kut thewainy","كوت ثويني",30.4632863581,47.8900944055,1,6,0,0,0,6,0,0,0,0,0,0,0,0,0,0,0,0,0,0,0,0,0,0,0,0,0,0,0,0,0,6,0,0,0,0,6,0,0,0,0,0,0,0,0,0,0,{"$f":"HYPERLINK(\"http://www.openstreetmap.org/?mlat=30.4633&mlon=47.8901&zoom=12#map=12/30.4633/47.8901\",\"Maplink1\")","v":"Maplink1"},{"$f":"HYPERLINK(\"https://www.google.iq/maps/search/+30.4633,47.8901/@30.4633,47.8901,14z?hl=en\",\"Maplink2\")","v":"Maplink2"},{"$f":"HYPERLINK(\"http://www.bing.com/maps/?lvl=14&sty=h&cp=30.4633~47.8901&sp=point.30.4633_47.8901\",\"Maplink3\")","v":"Maplink3"}]
[793,"Al-Basrah","Abu Al-Khaseeb","Markaz Abu Al-Khaseeb","Al-Nizelah","النزيلة ",30.4371688567,47.9770397944,4,24,0,0,0,6,0,0,18,0,0,0,0,0,0,0,0,0,0,0,0,0,0,0,0,0,0,0,0,12,0,12,0,0,0,0,0,0,0,18,0,0,6,0,0,0,0,{"$f":"HYPERLINK(\"http://www.openstreetmap.org/?mlat=30.4372&mlon=47.977&zoom=12#map=12/30.4372/47.977\",\"Maplink1\")","v":"Maplink1"},{"$f":"HYPERLINK(\"https://www.google.iq/maps/search/+30.4372,47.977/@30.4372,47.977,14z?hl=en\",\"Maplink2\")","v":"Maplink2"},{"$f":"HYPERLINK(\"http://www.bing.com/maps/?lvl=14&sty=h&cp=30.4372~47.977&sp=point.30.4372_47.977\",\"Maplink3\")","v":"Maplink3"}]
[780,"Al-Basrah","Abu Al-Khaseeb","Markaz Abu Al-Khaseeb","Al-Dhaheeria","ظاهرية",30.4314722027,47.9724056128,4,24,0,0,0,0,0,12,12,0,0,0,0,0,0,0,0,24,0,0,0,0,0,0,0,0,0,0,0,0,0,0,0,0,0,0,18,0,6,0,0,0,0,0,0,0,0,{"$f":"HYPERLINK(\"http://www.openstreetmap.org/?mlat=30.4315&mlon=47.9724&zoom=12#map=12/30.4315/47.9724\",\"Maplink1\")","v":"Maplink1"},{"$f":"HYPERLINK(\"https://www.google.iq/maps/search/+30.4315,47.9724/@30.4315,47.9724,14z?hl=en\",\"Maplink2\")","v":"Maplink2"},{"$f":"HYPERLINK(\"http://www.bing.com/maps/?lvl=14&sty=h&cp=30.4315~47.9724&sp=point.30.4315_47.9724\",\"Maplink3\")","v":"Maplink3"}]
[512,"Al-Basrah","Abu Al-Khaseeb","Markaz Abu Al-Khaseeb","Bab midan","باب ميدان ",30.456782813,47.9942158751,9,54,0,0,0,0,0,0,54,0,0,0,0,0,0,0,0,12,0,0,0,0,0,0,0,0,0,0,0,12,0,30,0,0,0,0,30,0,18,6,0,0,0,0,0,0,0,{"$f":"HYPERLINK(\"http://www.openstreetmap.org/?mlat=30.4568&mlon=47.9942&zoom=12#map=12/30.4568/47.9942\",\"Maplink1\")","v":"Maplink1"},{"$f":"HYPERLINK(\"https://www.google.iq/maps/search/+30.4568,47.9942/@30.4568,47.9942,14z?hl=en\",\"Maplink2\")","v":"Maplink2"},{"$f":"HYPERLINK(\"http://www.bing.com/maps/?lvl=14&sty=h&cp=30.4568~47.9942&sp=point.30.4568_47.9942\",\"Maplink3\")","v":"Maplink3"}]
[23897,"Al-Basrah","Abu Al-Khaseeb","Markaz Abu Al-Khaseeb","Hay AL Hussainyia","البصرة-حي الحسينية",30.4785079669,47.8295100881,6,36,0,0,0,0,0,0,18,0,18,0,0,0,0,0,0,18,0,0,0,0,6,0,0,0,0,0,0,12,0,0,0,0,0,6,6,12,12,0,0,0,0,0,0,0,0,{"$f":"HYPERLINK(\"http://www.openstreetmap.org/?mlat=30.4785&mlon=47.8295&zoom=12#map=12/30.4785/47.8295\",\"Maplink1\")","v":"Maplink1"},{"$f":"HYPERLINK(\"https://www.google.iq/maps/search/+30.4785,47.8295/@30.4785,47.8295,14z?hl=en\",\"Maplink2\")","v":"Maplink2"},{"$f":"HYPERLINK(\"http://www.bing.com/maps/?lvl=14&sty=h&cp=30.4785~47.8295&sp=point.30.4785_47.8295\",\"Maplink3\")","v":"Maplink3"}]
[25540,"Al-Basrah","Abu Al-Khaseeb","Markaz Abu Al-Khaseeb","Abu Kusra","ابو كوصره",30.4420891735,47.959387521,5,30,0,0,0,12,0,0,18,0,0,0,0,0,0,0,0,12,0,0,0,0,0,0,0,0,0,0,0,0,0,18,0,0,0,12,6,0,12,0,0,0,0,0,0,0,0,{"$f":"HYPERLINK(\"http://www.openstreetmap.org/?mlat=30.4421&mlon=47.9594&zoom=12#map=12/30.4421/47.9594\",\"Maplink1\")","v":"Maplink1"},{"$f":"HYPERLINK(\"https://www.google.iq/maps/search/+30.4421,47.9594/@30.4421,47.9594,14z?hl=en\",\"Maplink2\")","v":"Maplink2"},{"$f":"HYPERLINK(\"http://www.bing.com/maps/?lvl=14&sty=h&cp=30.4421~47.9594&sp=point.30.4421_47.9594\",\"Maplink3\")","v":"Maplink3"}]
[25970,"Al-Basrah","Abu Al-Khaseeb","Markaz Abu Al-Khaseeb","Al Ibraheem","ال ابراهيم",30.4498805292,47.9863859106,6,36,0,0,0,6,0,0,30,0,0,0,0,0,0,0,0,12,0,0,0,0,6,0,0,6,0,0,0,12,0,0,0,0,0,0,24,6,0,6,0,0,0,0,0,0,0,{"$f":"HYPERLINK(\"http://www.openstreetmap.org/?mlat=30.4499&mlon=47.9864&zoom=12#map=12/30.4499/47.9864\",\"Maplink1\")","v":"Maplink1"},{"$f":"HYPERLINK(\"https://www.google.iq/maps/search/+30.4499,47.9864/@30.4499,47.9864,14z?hl=en\",\"Maplink2\")","v":"Maplink2"},{"$f":"HYPERLINK(\"http://www.bing.com/maps/?lvl=14&sty=h&cp=30.4499~47.9864&sp=point.30.4499_47.9864\",\"Maplink3\")","v":"Maplink3"}]
[841,"Al-Basrah","Abu Al-Khaseeb","Markaz Abu Al-Khaseeb","Awaisian","عويسيان",30.4841987725,47.857678792,7,42,0,0,0,18,0,0,24,0,0,0,0,0,0,0,0,12,0,0,0,0,6,0,0,6,0,0,0,18,0,0,0,0,0,0,0,12,18,0,0,12,0,0,0,0,0,{"$f":"HYPERLINK(\"http://www.openstreetmap.org/?mlat=30.4842&mlon=47.8577&zoom=12#map=12/30.4842/47.8577\",\"Maplink1\")","v":"Maplink1"},{"$f":"HYPERLINK(\"https://www.google.iq/maps/search/+30.4842,47.8577/@30.4842,47.8577,14z?hl=en\",\"Maplink2\")","v":"Maplink2"},{"$f":"HYPERLINK(\"http://www.bing.com/maps/?lvl=14&sty=h&cp=30.4842~47.8577&sp=point.30.4842_47.8577\",\"Maplink3\")","v":"Maplink3"}]
[587,"Al-Basrah","Abu Al-Khaseeb","Markaz Abu Al-Khaseeb","Al-bahadria","البهادرية ",30.4725588829,47.8667251808,4,24,0,0,0,6,0,0,18,0,0,0,0,0,0,0,0,0,0,0,0,0,6,0,0,12,0,0,0,6,0,0,0,0,0,6,0,12,6,0,0,0,0,0,0,0,0,{"$f":"HYPERLINK(\"http://www.openstreetmap.org/?mlat=30.4726&mlon=47.8667&zoom=12#map=12/30.4726/47.8667\",\"Maplink1\")","v":"Maplink1"},{"$f":"HYPERLINK(\"https://www.google.iq/maps/search/+30.4726,47.8667/@30.4726,47.8667,14z?hl=en\",\"Maplink2\")","v":"Maplink2"},{"$f":"HYPERLINK(\"http://www.bing.com/maps/?lvl=14&sty=h&cp=30.4726~47.8667&sp=point.30.4726_47.8667\",\"Maplink3\")","v":"Maplink3"}]
[607,"Al-Basrah","Abu Al-Khaseeb","Markaz Abu Al-Khaseeb","Al-Sankar","الصنكر",30.4642473545,47.9412515597,4,24,0,0,0,12,0,0,12,0,0,0,0,0,0,0,0,6,0,0,0,0,0,0,0,0,0,0,0,6,0,12,0,0,0,0,0,6,18,0,0,0,0,0,0,0,0,{"$f":"HYPERLINK(\"http://www.openstreetmap.org/?mlat=30.4642&mlon=47.9413&zoom=12#map=12/30.4642/47.9413\",\"Maplink1\")","v":"Maplink1"},{"$f":"HYPERLINK(\"https://www.google.iq/maps/search/+30.4642,47.9413/@30.4642,47.9413,14z?hl=en\",\"Maplink2\")","v":"Maplink2"},{"$f":"HYPERLINK(\"http://www.bing.com/maps/?lvl=14&sty=h&cp=30.4642~47.9413&sp=point.30.4642_47.9413\",\"Maplink3\")","v":"Maplink3"}]
[599,"Al-Basrah","Abu Al-Khaseeb","Markaz Abu Al-Khaseeb","Nahir khuz","نهر خوز",30.4576944195,47.9701130179,1,6,0,0,0,6,0,0,0,0,0,0,0,0,0,0,0,6,0,0,0,0,0,0,0,0,0,0,0,0,0,0,0,0,0,6,0,0,0,0,0,0,0,0,0,0,0,{"$f":"HYPERLINK(\"http://www.openstreetmap.org/?mlat=30.4577&mlon=47.9701&zoom=12#map=12/30.4577/47.9701\",\"Maplink1\")","v":"Maplink1"},{"$f":"HYPERLINK(\"https://www.google.iq/maps/search/+30.4577,47.9701/@30.4577,47.9701,14z?hl=en\",\"Maplink2\")","v":"Maplink2"},{"$f":"HYPERLINK(\"http://www.bing.com/maps/?lvl=14&sty=h&cp=30.4577~47.9701&sp=point.30.4577_47.9701\",\"Maplink3\")","v":"Maplink3"}]
[849,"Al-Basrah","Abu Al-Khaseeb","Markaz Abu Al-Khaseeb","Al-mutaiha","المطيحة ",30.4830133963,47.8304762607,11,66,0,0,0,30,0,0,36,0,0,0,0,0,0,0,0,24,0,0,0,0,0,0,0,0,0,0,0,30,0,12,0,0,0,6,6,6,36,0,6,6,0,0,0,0,0,{"$f":"HYPERLINK(\"http://www.openstreetmap.org/?mlat=30.483&mlon=47.8305&zoom=12#map=12/30.483/47.8305\",\"Maplink1\")","v":"Maplink1"},{"$f":"HYPERLINK(\"https://www.google.iq/maps/search/+30.483,47.8305/@30.483,47.8305,14z?hl=en\",\"Maplink2\")","v":"Maplink2"},{"$f":"HYPERLINK(\"http://www.bing.com/maps/?lvl=14&sty=h&cp=30.483~47.8305&sp=point.30.483_47.8305\",\"Maplink3\")","v":"Maplink3"}]
[23895,"Al-Basrah","Abu Al-Khaseeb","Markaz Abu Al-Khaseeb","Al-Awjah","البصرة-ابو الخصيب-العوجه",30.4338702607,47.9649063991,3,18,0,0,0,12,0,0,6,0,0,0,0,0,0,0,0,0,0,0,0,0,0,0,0,0,0,0,0,0,0,18,0,0,0,0,12,6,0,0,0,0,0,0,0,0,0,{"$f":"HYPERLINK(\"http://www.openstreetmap.org/?mlat=30.4339&mlon=47.9649&zoom=12#map=12/30.4339/47.9649\",\"Maplink1\")","v":"Maplink1"},{"$f":"HYPERLINK(\"https://www.google.iq/maps/search/+30.4339,47.9649/@30.4339,47.9649,14z?hl=en\",\"Maplink2\")","v":"Maplink2"},{"$f":"HYPERLINK(\"http://www.bing.com/maps/?lvl=14&sty=h&cp=30.4339~47.9649&sp=point.30.4339_47.9649\",\"Maplink3\")","v":"Maplink3"}]
[24228,"Al-Basrah","Abu Al-Khaseeb","Markaz Abu Al-Khaseeb","Abo Jawzy","البصرة-ابو الخصيب-ابو الجوزي",30.4820252179,47.862435156,2,12,0,0,0,0,0,0,12,0,0,0,0,0,0,0,0,0,0,0,0,0,0,0,0,0,0,0,0,0,0,12,0,0,0,0,0,0,12,0,0,0,0,0,0,0,0,{"$f":"HYPERLINK(\"http://www.openstreetmap.org/?mlat=30.482&mlon=47.8624&zoom=12#map=12/30.482/47.8624\",\"Maplink1\")","v":"Maplink1"},{"$f":"HYPERLINK(\"https://www.google.iq/maps/search/+30.482,47.8624/@30.482,47.8624,14z?hl=en\",\"Maplink2\")","v":"Maplink2"},{"$f":"HYPERLINK(\"http://www.bing.com/maps/?lvl=14&sty=h&cp=30.482~47.8624&sp=point.30.482_47.8624\",\"Maplink3\")","v":"Maplink3"}]
[23896,"Al-Basrah","Abu Al-Khaseeb","Markaz Abu Al-Khaseeb","Al-Abdaliyan","البصرة-ابو الخصيب-العبدليان",30.4763125213,47.8661665392,2,12,0,0,0,0,0,0,12,0,0,0,0,0,0,0,0,12,0,0,0,0,0,0,0,0,0,0,0,0,0,0,0,0,0,12,0,0,0,0,0,0,0,0,0,0,0,{"$f":"HYPERLINK(\"http://www.openstreetmap.org/?mlat=30.4763&mlon=47.8662&zoom=12#map=12/30.4763/47.8662\",\"Maplink1\")","v":"Maplink1"},{"$f":"HYPERLINK(\"https://www.google.iq/maps/search/+30.4763,47.8662/@30.4763,47.8662,14z?hl=en\",\"Maplink2\")","v":"Maplink2"},{"$f":"HYPERLINK(\"http://www.bing.com/maps/?lvl=14&sty=h&cp=30.4763~47.8662&sp=point.30.4763_47.8662\",\"Maplink3\")","v":"Maplink3"}]
[505,"Al-Basrah","Abu Al-Khaseeb","Markaz Abu Al-Khaseeb","Hay Al Askarye","الحي العسكري ",30.4350338798,47.9405087547,15,90,0,0,0,18,0,0,72,0,0,0,0,0,0,0,0,12,0,0,0,0,0,0,0,48,0,0,0,0,0,30,0,0,0,6,36,0,36,12,0,0,0,0,0,0,0,{"$f":"HYPERLINK(\"http://www.openstreetmap.org/?mlat=30.435&mlon=47.9405&zoom=12#map=12/30.435/47.9405\",\"Maplink1\")","v":"Maplink1"},{"$f":"HYPERLINK(\"https://www.google.iq/maps/search/+30.435,47.9405/@30.435,47.9405,14z?hl=en\",\"Maplink2\")","v":"Maplink2"},{"$f":"HYPERLINK(\"http://www.bing.com/maps/?lvl=14&sty=h&cp=30.435~47.9405&sp=point.30.435_47.9405\",\"Maplink3\")","v":"Maplink3"}]
[583,"Al-Basrah","Abu Al-Khaseeb","Markaz Abu Al-Khaseeb","Mehila","محيلة",30.4607107986,47.9291973319,9,54,0,0,0,18,0,0,36,0,0,0,0,0,0,0,0,30,0,0,0,0,0,0,0,18,0,0,0,6,0,0,0,0,0,0,0,18,36,0,0,0,0,0,0,0,0,{"$f":"HYPERLINK(\"http://www.openstreetmap.org/?mlat=30.4607&mlon=47.9292&zoom=12#map=12/30.4607/47.9292\",\"Maplink1\")","v":"Maplink1"},{"$f":"HYPERLINK(\"https://www.google.iq/maps/search/+30.4607,47.9292/@30.4607,47.9292,14z?hl=en\",\"Maplink2\")","v":"Maplink2"},{"$f":"HYPERLINK(\"http://www.bing.com/maps/?lvl=14&sty=h&cp=30.4607~47.9292&sp=point.30.4607_47.9292\",\"Maplink3\")","v":"Maplink3"}]
[622,"Al-Basrah","Abu Al-Khaseeb","Markaz Abu Al-Khaseeb","Yousifan","البصرة-ابو الخصيب-يوسفان",30.4705487296,47.8971242502,6,36,0,0,0,18,0,6,12,0,0,0,0,0,0,0,0,18,0,0,0,0,0,0,0,0,0,0,0,0,0,18,0,0,0,6,6,0,24,0,0,0,0,0,0,0,0,{"$f":"HYPERLINK(\"http://www.openstreetmap.org/?mlat=30.4705&mlon=47.8971&zoom=12#map=12/30.4705/47.8971\",\"Maplink1\")","v":"Maplink1"},{"$f":"HYPERLINK(\"https://www.google.iq/maps/search/+30.4705,47.8971/@30.4705,47.8971,14z?hl=en\",\"Maplink2\")","v":"Maplink2"},{"$f":"HYPERLINK(\"http://www.bing.com/maps/?lvl=14&sty=h&cp=30.4705~47.8971&sp=point.30.4705_47.8971\",\"Maplink3\")","v":"Maplink3"}]
[835,"Al-Basrah","Abu Al-Khaseeb","Markaz Abu Al-Khaseeb","Jekor","جيكور",30.4537417614,48.0034782645,1,6,0,0,0,0,0,0,6,0,0,0,0,0,0,0,0,0,0,0,0,0,0,0,0,0,0,0,0,0,0,6,0,0,0,0,6,0,0,0,0,0,0,0,0,0,0,{"$f":"HYPERLINK(\"http://www.openstreetmap.org/?mlat=30.4537&mlon=48.0035&zoom=12#map=12/30.4537/48.0035\",\"Maplink1\")","v":"Maplink1"},{"$f":"HYPERLINK(\"https://www.google.iq/maps/search/+30.4537,48.0035/@30.4537,48.0035,14z?hl=en\",\"Maplink2\")","v":"Maplink2"},{"$f":"HYPERLINK(\"http://www.bing.com/maps/?lvl=14&sty=h&cp=30.4537~48.0035&sp=point.30.4537_48.0035\",\"Maplink3\")","v":"Maplink3"}]
[601,"Al-Basrah","Abu Al-Khaseeb","Markaz Abu Al-Khaseeb","Abu magheera","ابو مغيره",30.4608163508,47.9609251464,4,24,0,0,0,24,0,0,0,0,0,0,0,0,0,0,0,0,0,0,0,0,0,0,0,0,0,0,0,0,0,24,0,0,0,0,18,0,6,0,0,0,0,0,0,0,0,{"$f":"HYPERLINK(\"http://www.openstreetmap.org/?mlat=30.4608&mlon=47.9609&zoom=12#map=12/30.4608/47.9609\",\"Maplink1\")","v":"Maplink1"},{"$f":"HYPERLINK(\"https://www.google.iq/maps/search/+30.4608,47.9609/@30.4608,47.9609,14z?hl=en\",\"Maplink2\")","v":"Maplink2"},{"$f":"HYPERLINK(\"http://www.bing.com/maps/?lvl=14&sty=h&cp=30.4608~47.9609&sp=point.30.4608_47.9609\",\"Maplink3\")","v":"Maplink3"}]
[1307,"Al-Basrah","Abu Al-Khaseeb","Markaz Abu Al-Khaseeb","Al-Sibiliat","السيبيليات",30.4569808565,47.9511434181,6,36,0,0,0,18,0,0,18,0,0,0,0,0,0,0,0,6,0,6,0,0,6,0,0,0,0,0,0,12,0,6,0,0,0,0,0,0,24,0,0,12,0,0,0,0,0,{"$f":"HYPERLINK(\"http://www.openstreetmap.org/?mlat=30.457&mlon=47.9511&zoom=12#map=12/30.457/47.9511\",\"Maplink1\")","v":"Maplink1"},{"$f":"HYPERLINK(\"https://www.google.iq/maps/search/+30.457,47.9511/@30.457,47.9511,14z?hl=en\",\"Maplink2\")","v":"Maplink2"},{"$f":"HYPERLINK(\"http://www.bing.com/maps/?lvl=14&sty=h&cp=30.457~47.9511&sp=point.30.457_47.9511\",\"Maplink3\")","v":"Maplink3"}]
[381,"Al-Basrah","Abu Al-Khaseeb","Markaz Abu Al-Khaseeb","Hamdan","البصرة-ابو الخصيب-حمدن",30.4566758262,47.8911829986,39,234,0,0,0,78,0,0,156,0,0,0,0,0,0,0,0,66,0,0,0,0,0,0,0,0,0,0,0,84,0,84,0,0,0,0,132,36,42,12,0,12,0,0,0,0,0,{"$f":"HYPERLINK(\"http://www.openstreetmap.org/?mlat=30.4567&mlon=47.8912&zoom=12#map=12/30.4567/47.8912\",\"Maplink1\")","v":"Maplink1"},{"$f":"HYPERLINK(\"https://www.google.iq/maps/search/+30.4567,47.8912/@30.4567,47.8912,14z?hl=en\",\"Maplink2\")","v":"Maplink2"},{"$f":"HYPERLINK(\"http://www.bing.com/maps/?lvl=14&sty=h&cp=30.4567~47.8912&sp=point.30.4567_47.8912\",\"Maplink3\")","v":"Maplink3"}]
[24526,"Al-Basrah","Abu Al-Khaseeb","Markaz Abu Al-Khaseeb","Mhjeran","مهيجران",30.4686463521,47.8803433635,13,78,0,0,0,12,0,0,66,0,0,0,0,0,0,0,0,6,0,6,0,0,0,0,0,0,0,0,0,18,0,48,0,0,0,0,18,18,30,6,0,0,6,0,0,0,0,{"$f":"HYPERLINK(\"http://www.openstreetmap.org/?mlat=30.4686&mlon=47.8803&zoom=12#map=12/30.4686/47.8803\",\"Maplink1\")","v":"Maplink1"},{"$f":"HYPERLINK(\"https://www.google.iq/maps/search/+30.4686,47.8803/@30.4686,47.8803,14z?hl=en\",\"Maplink2\")","v":"Maplink2"},{"$f":"HYPERLINK(\"http://www.bing.com/maps/?lvl=14&sty=h&cp=30.4686~47.8803&sp=point.30.4686_47.8803\",\"Maplink3\")","v":"Maplink3"}]
[832,"Al-Basrah","Abu Al-Khaseeb","Markaz Abu Al-Khaseeb","Jelab","جلاب",30.4520987657,47.9909988924,4,24,0,0,0,0,0,0,24,0,0,0,0,0,0,0,0,12,0,0,0,0,0,0,0,0,0,0,0,0,0,12,0,0,0,12,0,0,12,0,0,0,0,0,0,0,0,{"$f":"HYPERLINK(\"http://www.openstreetmap.org/?mlat=30.4521&mlon=47.991&zoom=12#map=12/30.4521/47.991\",\"Maplink1\")","v":"Maplink1"},{"$f":"HYPERLINK(\"https://www.google.iq/maps/search/+30.4521,47.991/@30.4521,47.991,14z?hl=en\",\"Maplink2\")","v":"Maplink2"},{"$f":"HYPERLINK(\"http://www.bing.com/maps/?lvl=14&sty=h&cp=30.4521~47.991&sp=point.30.4521_47.991\",\"Maplink3\")","v":"Maplink3"}]
[792,"Al-Basrah","Abu Al-Khaseeb","Markaz Abu Al-Khaseeb","Abu flos","البصرة-ابو الخصيب-ابو فلوس",30.4411549129,48.0136794107,2,12,0,0,0,6,0,0,6,0,0,0,0,0,0,0,0,12,0,0,0,0,0,0,0,0,0,0,0,0,0,0,0,0,0,12,0,0,0,0,0,0,0,0,0,0,0,{"$f":"HYPERLINK(\"http://www.openstreetmap.org/?mlat=30.4412&mlon=48.0137&zoom=12#map=12/30.4412/48.0137\",\"Maplink1\")","v":"Maplink1"},{"$f":"HYPERLINK(\"https://www.google.iq/maps/search/+30.4412,48.0137/@30.4412,48.0137,14z?hl=en\",\"Maplink2\")","v":"Maplink2"},{"$f":"HYPERLINK(\"http://www.bing.com/maps/?lvl=14&sty=h&cp=30.4412~48.0137&sp=point.30.4412_48.0137\",\"Maplink3\")","v":"Maplink3"}]
[809,"Al-Basrah","Abu Al-Khaseeb","Markaz Abu Al-Khaseeb","Bab al-dabagh","باب دباغ",30.4453368861,47.9951867521,5,30,0,0,0,24,0,0,6,0,0,0,0,0,0,0,0,6,0,0,0,0,0,0,0,18,0,0,0,0,0,6,0,0,0,0,24,0,0,6,0,0,0,0,0,0,0,{"$f":"HYPERLINK(\"http://www.openstreetmap.org/?mlat=30.4453&mlon=47.9952&zoom=12#map=12/30.4453/47.9952\",\"Maplink1\")","v":"Maplink1"},{"$f":"HYPERLINK(\"https://www.google.iq/maps/search/+30.4453,47.9952/@30.4453,47.9952,14z?hl=en\",\"Maplink2\")","v":"Maplink2"},{"$f":"HYPERLINK(\"http://www.bing.com/maps/?lvl=14&sty=h&cp=30.4453~47.9952&sp=point.30.4453_47.9952\",\"Maplink3\")","v":"Maplink3"}]
[20783,"Al-Basrah","Abu Al-Khaseeb","Markaz Abu Al-Khaseeb","Balad Sultan","ابو الخصيب-بلد سلطان",30.4530314906,47.9889215439,2,12,0,0,0,0,0,0,12,0,0,0,0,0,0,0,0,0,0,0,0,0,0,0,0,0,0,0,0,12,0,0,0,0,0,0,12,0,0,0,0,0,0,0,0,0,0,{"$f":"HYPERLINK(\"http://www.openstreetmap.org/?mlat=30.453&mlon=47.9889&zoom=12#map=12/30.453/47.9889\",\"Maplink1\")","v":"Maplink1"},{"$f":"HYPERLINK(\"https://www.google.iq/maps/search/+30.453,47.9889/@30.453,47.9889,14z?hl=en\",\"Maplink2\")","v":"Maplink2"},{"$f":"HYPERLINK(\"http://www.bing.com/maps/?lvl=14&sty=h&cp=30.453~47.9889&sp=point.30.453_47.9889\",\"Maplink3\")","v":"Maplink3"}]
[24158,"Al-Basrah","Abu Al-Khaseeb","Markaz Abu Al-Khaseeb","Kut Al Solhy","ابو الخصيب-كوت الصلحي",30.4477146806,47.9097543181,8,48,0,0,0,18,0,0,30,0,0,0,0,0,0,0,0,6,0,0,0,0,0,0,0,0,0,0,0,18,0,24,0,0,0,12,12,6,0,0,0,18,0,0,0,0,0,{"$f":"HYPERLINK(\"http://www.openstreetmap.org/?mlat=30.4477&mlon=47.9098&zoom=12#map=12/30.4477/47.9098\",\"Maplink1\")","v":"Maplink1"},{"$f":"HYPERLINK(\"https://www.google.iq/maps/search/+30.4477,47.9098/@30.4477,47.9098,14z?hl=en\",\"Maplink2\")","v":"Maplink2"},{"$f":"HYPERLINK(\"http://www.bing.com/maps/?lvl=14&sty=h&cp=30.4477~47.9098&sp=point.30.4477_47.9098\",\"Maplink3\")","v":"Maplink3"}]
[23975,"Al-Basrah","Abu Al-Khaseeb","Markaz Abu Al-Khaseeb","Um Al Neajj","البصرة-منطقة ام النعاج",30.4785634098,47.8369286954,5,30,0,0,0,6,0,6,18,0,0,0,0,0,0,0,0,0,0,0,0,0,0,0,0,0,0,0,0,18,0,12,0,0,0,0,0,6,18,6,0,0,0,0,0,0,0,{"$f":"HYPERLINK(\"http://www.openstreetmap.org/?mlat=30.4786&mlon=47.8369&zoom=12#map=12/30.4786/47.8369\",\"Maplink1\")","v":"Maplink1"},{"$f":"HYPERLINK(\"https://www.google.iq/maps/search/+30.4786,47.8369/@30.4786,47.8369,14z?hl=en\",\"Maplink2\")","v":"Maplink2"},{"$f":"HYPERLINK(\"http://www.bing.com/maps/?lvl=14&sty=h&cp=30.4786~47.8369&sp=point.30.4786_47.8369\",\"Maplink3\")","v":"Maplink3"}]
[1282,"Al-Basrah","Al-Basrah","Al-Hartha","Hay Tariq","البصرة-المعقل-حي طارق",30.551937,47.7613871,1,6,0,0,0,0,0,0,6,0,0,0,0,0,0,0,0,0,0,0,0,0,0,0,0,0,0,0,0,6,0,0,0,0,0,0,0,0,0,0,6,0,0,0,0,0,0,{"$f":"HYPERLINK(\"http://www.openstreetmap.org/?mlat=30.5519&mlon=47.7614&zoom=12#map=12/30.5519/47.7614\",\"Maplink1\")","v":"Maplink1"},{"$f":"HYPERLINK(\"https://www.google.iq/maps/search/+30.5519,47.7614/@30.5519,47.7614,14z?hl=en\",\"Maplink2\")","v":"Maplink2"},{"$f":"HYPERLINK(\"http://www.bing.com/maps/?lvl=14&sty=h&cp=30.5519~47.7614&sp=point.30.5519_47.7614\",\"Maplink3\")","v":"Maplink3"}]
[1025,"Al-Basrah","Al-Basrah","Al-Hartha","Najibiah","نجيبية ",30.5750853831,47.7694195296,2,12,0,0,0,12,0,0,0,0,0,0,0,0,0,0,0,0,0,0,0,0,0,0,0,0,0,0,0,6,0,6,0,0,0,0,6,6,0,0,0,0,0,0,0,0,0,{"$f":"HYPERLINK(\"http://www.openstreetmap.org/?mlat=30.5751&mlon=47.7694&zoom=12#map=12/30.5751/47.7694\",\"Maplink1\")","v":"Maplink1"},{"$f":"HYPERLINK(\"https://www.google.iq/maps/search/+30.5751,47.7694/@30.5751,47.7694,14z?hl=en\",\"Maplink2\")","v":"Maplink2"},{"$f":"HYPERLINK(\"http://www.bing.com/maps/?lvl=14&sty=h&cp=30.5751~47.7694&sp=point.30.5751_47.7694\",\"Maplink3\")","v":"Maplink3"}]
[29482,"Al-Basrah","Al-Basrah","Al-Hartha","Karmat Ali Hay Al Sadrain","كرمة علي-حي الصدرين",30.5715373,47.7116579,2,12,0,6,0,6,0,0,6,0,0,0,0,0,0,0,0,0,0,0,0,0,6,0,0,0,0,0,0,6,0,0,0,0,0,0,0,6,0,0,6,0,0,0,0,0,0,{"$f":"HYPERLINK(\"http://www.openstreetmap.org/?mlat=30.5715&mlon=47.7117&zoom=12#map=12/30.5715/47.7117\",\"Maplink1\")","v":"Maplink1"},{"$f":"HYPERLINK(\"https://www.google.iq/maps/search/+30.5715,47.7117/@30.5715,47.7117,14z?hl=en\",\"Maplink2\")","v":"Maplink2"},{"$f":"HYPERLINK(\"http://www.bing.com/maps/?lvl=14&sty=h&cp=30.5715~47.7117&sp=point.30.5715_47.7117\",\"Maplink3\")","v":"Maplink3"}]
[21192,"Al-Basrah","Al-Basrah","Al-Hartha","Abu Hilwa","الهارثة-ابو حلوه",30.5829645,47.7498766,1,6,0,0,0,6,0,0,0,0,0,0,0,0,0,0,0,0,0,0,0,0,0,0,0,0,0,0,0,0,0,6,0,0,0,0,0,6,0,0,0,0,0,0,0,0,0,{"$f":"HYPERLINK(\"http://www.openstreetmap.org/?mlat=30.583&mlon=47.7499&zoom=12#map=12/30.583/47.7499\",\"Maplink1\")","v":"Maplink1"},{"$f":"HYPERLINK(\"https://www.google.iq/maps/search/+30.583,47.7499/@30.583,47.7499,14z?hl=en\",\"Maplink2\")","v":"Maplink2"},{"$f":"HYPERLINK(\"http://www.bing.com/maps/?lvl=14&sty=h&cp=30.583~47.7499&sp=point.30.583_47.7499\",\"Maplink3\")","v":"Maplink3"}]
[1030,"Al-Basrah","Al-Basrah","Al-Hartha","Al-badran","البصرة-الهارثة-البدران",30.5858002886,47.7583663196,4,24,0,6,0,24,0,0,0,0,0,0,0,0,0,0,0,0,0,0,0,0,0,0,0,0,0,0,0,24,0,0,0,0,0,0,24,0,0,0,0,0,0,0,0,0,0,{"$f":"HYPERLINK(\"http://www.openstreetmap.org/?mlat=30.5858&mlon=47.7584&zoom=12#map=12/30.5858/47.7584\",\"Maplink1\")","v":"Maplink1"},{"$f":"HYPERLINK(\"https://www.google.iq/maps/search/+30.5858,47.7584/@30.5858,47.7584,14z?hl=en\",\"Maplink2\")","v":"Maplink2"},{"$f":"HYPERLINK(\"http://www.bing.com/maps/?lvl=14&sty=h&cp=30.5858~47.7584&sp=point.30.5858_47.7584\",\"Maplink3\")","v":"Maplink3"}]
[334,"Al-Basrah","Al-Basrah","Al-Hartha","Markaz Al Harthah","البصرة-مركز الهارثة",30.5803771193,47.7630086935,1,6,0,0,0,6,0,0,0,0,0,0,0,0,0,0,0,0,0,0,0,0,0,0,0,0,0,0,0,0,0,6,0,0,0,0,0,0,6,0,0,0,0,0,0,0,0,{"$f":"HYPERLINK(\"http://www.openstreetmap.org/?mlat=30.5804&mlon=47.763&zoom=12#map=12/30.5804/47.763\",\"Maplink1\")","v":"Maplink1"},{"$f":"HYPERLINK(\"https://www.google.iq/maps/search/+30.5804,47.763/@30.5804,47.763,14z?hl=en\",\"Maplink2\")","v":"Maplink2"},{"$f":"HYPERLINK(\"http://www.bing.com/maps/?lvl=14&sty=h&cp=30.5804~47.763&sp=point.30.5804_47.763\",\"Maplink3\")","v":"Maplink3"}]
[28406,"Al-Basrah","Al-Basrah","Al-Hartha","Al Dair-Hay Al-Amil","الدير-حي العامل",30.7193883,47.7179978433,3,18,0,0,0,0,0,0,18,0,0,0,0,0,0,0,0,0,0,0,0,0,0,0,0,0,0,0,0,12,0,6,0,0,0,0,0,6,6,0,6,0,0,0,0,0,0,{"$f":"HYPERLINK(\"http://www.openstreetmap.org/?mlat=30.7194&mlon=47.718&zoom=12#map=12/30.7194/47.718\",\"Maplink1\")","v":"Maplink1"},{"$f":"HYPERLINK(\"https://www.google.iq/maps/search/+30.7194,47.718/@30.7194,47.718,14z?hl=en\",\"Maplink2\")","v":"Maplink2"},{"$f":"HYPERLINK(\"http://www.bing.com/maps/?lvl=14&sty=h&cp=30.7194~47.718&sp=point.30.7194_47.718\",\"Maplink3\")","v":"Maplink3"}]
[1048,"Al-Basrah","Al-Basrah","Al-Hartha","Door at-taqa","دور الطاقة ",30.6771433,47.7452379,2,12,0,0,0,12,0,0,0,0,0,0,0,0,0,0,0,0,12,0,0,0,0,0,0,0,0,0,0,0,0,0,0,0,0,0,0,0,12,0,0,0,0,0,0,0,0,{"$f":"HYPERLINK(\"http://www.openstreetmap.org/?mlat=30.6771&mlon=47.7452&zoom=12#map=12/30.6771/47.7452\",\"Maplink1\")","v":"Maplink1"},{"$f":"HYPERLINK(\"https://www.google.iq/maps/search/+30.6771,47.7452/@30.6771,47.7452,14z?hl=en\",\"Maplink2\")","v":"Maplink2"},{"$f":"HYPERLINK(\"http://www.bing.com/maps/?lvl=14&sty=h&cp=30.6771~47.7452&sp=point.30.6771_47.7452\",\"Maplink3\")","v":"Maplink3"}]
[602,"Al-Basrah","Al-Basrah","Markaz Al-Basrah","Hai al-mohandesin","البصرة-حي المهندسين",30.4556873864,47.7920565824,16,96,0,0,0,0,0,0,96,0,0,0,0,0,0,0,0,18,0,0,0,0,12,0,0,12,0,0,0,0,0,54,0,0,0,12,36,18,30,0,0,0,0,0,0,0,0,{"$f":"HYPERLINK(\"http://www.openstreetmap.org/?mlat=30.4557&mlon=47.7921&zoom=12#map=12/30.4557/47.7921\",\"Maplink1\")","v":"Maplink1"},{"$f":"HYPERLINK(\"https://www.google.iq/maps/search/+30.4557,47.7921/@30.4557,47.7921,14z?hl=en\",\"Maplink2\")","v":"Maplink2"},{"$f":"HYPERLINK(\"http://www.bing.com/maps/?lvl=14&sty=h&cp=30.4557~47.7921&sp=point.30.4557_47.7921\",\"Maplink3\")","v":"Maplink3"}]
[24126,"Al-Basrah","Al-Basrah","Markaz Al-Basrah","Hay Al Jamiah","البصرة-القبلة-حي الجامعة",30.4720488211,47.8026949605,9,54,0,0,0,6,0,0,48,0,0,0,0,0,0,0,0,6,0,0,0,0,0,0,0,0,0,0,0,30,0,18,0,0,0,0,18,24,0,6,0,6,0,0,0,0,0,{"$f":"HYPERLINK(\"http://www.openstreetmap.org/?mlat=30.472&mlon=47.8027&zoom=12#map=12/30.472/47.8027\",\"Maplink1\")","v":"Maplink1"},{"$f":"HYPERLINK(\"https://www.google.iq/maps/search/+30.472,47.8027/@30.472,47.8027,14z?hl=en\",\"Maplink2\")","v":"Maplink2"},{"$f":"HYPERLINK(\"http://www.bing.com/maps/?lvl=14&sty=h&cp=30.472~47.8027&sp=point.30.472_47.8027\",\"Maplink3\")","v":"Maplink3"}]
[996,"Al-Basrah","Al-Basrah","Markaz Al-Basrah","Al Maqil","البصرة-المعقل-حي جنادين",30.5562461002,47.7887960161,1,6,0,0,0,0,0,0,6,0,0,0,0,0,0,0,0,0,0,0,0,0,0,0,0,6,0,0,0,0,0,0,0,0,0,0,0,6,0,0,0,0,0,0,0,0,0,{"$f":"HYPERLINK(\"http://www.openstreetmap.org/?mlat=30.5562&mlon=47.7888&zoom=12#map=12/30.5562/47.7888\",\"Maplink1\")","v":"Maplink1"},{"$f":"HYPERLINK(\"https://www.google.iq/maps/search/+30.5562,47.7888/@30.5562,47.7888,14z?hl=en\",\"Maplink2\")","v":"Maplink2"},{"$f":"HYPERLINK(\"http://www.bing.com/maps/?lvl=14&sty=h&cp=30.5562~47.7888&sp=point.30.5562_47.7888\",\"Maplink3\")","v":"Maplink3"}]
[1306,"Al-Basrah","Al-Basrah","Markaz Al-Basrah","Al-Mishraq Al-Jadeed","البصرة-المشراق-المشراق الجديد",30.4849848439,47.8115587302,8,48,0,0,0,6,0,0,42,0,0,0,0,0,0,0,0,12,0,0,0,0,6,0,0,0,0,0,0,18,0,12,0,0,0,0,6,18,6,12,0,6,0,0,0,0,0,{"$f":"HYPERLINK(\"http://www.openstreetmap.org/?mlat=30.485&mlon=47.8116&zoom=12#map=12/30.485/47.8116\",\"Maplink1\")","v":"Maplink1"},{"$f":"HYPERLINK(\"https://www.google.iq/maps/search/+30.485,47.8116/@30.485,47.8116,14z?hl=en\",\"Maplink2\")","v":"Maplink2"},{"$f":"HYPERLINK(\"http://www.bing.com/maps/?lvl=14&sty=h&cp=30.485~47.8116&sp=point.30.485_47.8116\",\"Maplink3\")","v":"Maplink3"}]
[511,"Al-Basrah","Al-Basrah","Markaz Al-Basrah","Al Khaleej4","البصرة-الجمعيات-حي الخليج 4",30.5066172899,47.7802933913,6,36,0,0,0,0,0,18,18,0,0,0,0,0,0,0,0,6,0,0,0,0,0,0,0,0,0,0,0,12,0,18,0,0,0,12,0,0,6,0,18,0,0,0,0,0,0,{"$f":"HYPERLINK(\"http://www.openstreetmap.org/?mlat=30.5066&mlon=47.7803&zoom=12#map=12/30.5066/47.7803\",\"Maplink1\")","v":"Maplink1"},{"$f":"HYPERLINK(\"https://www.google.iq/maps/search/+30.5066,47.7803/@30.5066,47.7803,14z?hl=en\",\"Maplink2\")","v":"Maplink2"},{"$f":"HYPERLINK(\"http://www.bing.com/maps/?lvl=14&sty=h&cp=30.5066~47.7803&sp=point.30.5066_47.7803\",\"Maplink3\")","v":"Maplink3"}]
[905,"Al-Basrah","Al-Basrah","Markaz Al-Basrah","Al-asma_i al-jadeed","الاصمعي الجديد",30.508475401,47.791940363,7,42,0,0,0,12,0,0,30,0,0,0,0,0,0,0,0,0,0,12,0,0,0,0,0,6,0,0,0,18,0,6,0,0,0,18,0,6,12,0,0,6,0,0,0,0,0,{"$f":"HYPERLINK(\"http://www.openstreetmap.org/?mlat=30.5085&mlon=47.7919&zoom=12#map=12/30.5085/47.7919\",\"Maplink1\")","v":"Maplink1"},{"$f":"HYPERLINK(\"https://www.google.iq/maps/search/+30.5085,47.7919/@30.5085,47.7919,14z?hl=en\",\"Maplink2\")","v":"Maplink2"},{"$f":"HYPERLINK(\"http://www.bing.com/maps/?lvl=14&sty=h&cp=30.5085~47.7919&sp=point.30.5085_47.7919\",\"Maplink3\")","v":"Maplink3"}]
[1295,"Al-Basrah","Al-Basrah","Markaz Al-Basrah","Door Al Dubbat","دور الضباط",30.5336921095,47.7878594405,7,42,0,0,0,6,0,0,36,0,0,0,0,0,0,0,0,0,0,0,0,0,0,0,0,6,0,0,0,0,0,36,0,0,0,0,0,0,36,0,0,6,0,0,0,0,0,{"$f":"HYPERLINK(\"http://www.openstreetmap.org/?mlat=30.5337&mlon=47.7879&zoom=12#map=12/30.5337/47.7879\",\"Maplink1\")","v":"Maplink1"},{"$f":"HYPERLINK(\"https://www.google.iq/maps/search/+30.5337,47.7879/@30.5337,47.7879,14z?hl=en\",\"Maplink2\")","v":"Maplink2"},{"$f":"HYPERLINK(\"http://www.bing.com/maps/?lvl=14&sty=h&cp=30.5337~47.7879&sp=point.30.5337_47.7879\",\"Maplink3\")","v":"Maplink3"}]
[869,"Al-Basrah","Al-Basrah","Markaz Al-Basrah","Hai al-hussain-2","الحيانية-حي الحسين 2",30.4964125828,47.773224371,2,12,0,0,0,0,0,0,12,0,0,0,0,0,0,0,0,0,0,0,0,0,0,0,0,0,0,0,0,0,0,12,0,0,0,12,0,0,0,0,0,0,0,0,0,0,0,{"$f":"HYPERLINK(\"http://www.openstreetmap.org/?mlat=30.4964&mlon=47.7732&zoom=12#map=12/30.4964/47.7732\",\"Maplink1\")","v":"Maplink1"},{"$f":"HYPERLINK(\"https://www.google.iq/maps/search/+30.4964,47.7732/@30.4964,47.7732,14z?hl=en\",\"Maplink2\")","v":"Maplink2"},{"$f":"HYPERLINK(\"http://www.bing.com/maps/?lvl=14&sty=h&cp=30.4964~47.7732&sp=point.30.4964_47.7732\",\"Maplink3\")","v":"Maplink3"}]
[891,"Al-Basrah","Al-Basrah","Markaz Al-Basrah","Manawi pasha","مناوي باشا",30.5084296003,47.8411113049,11,66,0,0,0,12,0,0,54,0,0,0,0,0,0,0,0,24,0,0,0,0,0,0,0,0,0,0,0,12,0,30,0,0,0,0,12,0,42,12,0,0,0,0,0,0,0,{"$f":"HYPERLINK(\"http://www.openstreetmap.org/?mlat=30.5084&mlon=47.8411&zoom=12#map=12/30.5084/47.8411\",\"Maplink1\")","v":"Maplink1"},{"$f":"HYPERLINK(\"https://www.google.iq/maps/search/+30.5084,47.8411/@30.5084,47.8411,14z?hl=en\",\"Maplink2\")","v":"Maplink2"},{"$f":"HYPERLINK(\"http://www.bing.com/maps/?lvl=14&sty=h&cp=30.5084~47.8411&sp=point.30.5084_47.8411\",\"Maplink3\")","v":"Maplink3"}]
[885,"Al-Basrah","Al-Basrah","Markaz Al-Basrah","Al Khaleej2","البصرة-الجمعيات-حي الخليج 2",30.4950192243,47.7889484299,5,30,0,0,0,0,0,0,24,0,6,0,0,0,0,0,0,0,0,0,0,0,0,0,0,0,0,0,0,24,0,6,0,0,0,0,6,24,0,0,0,0,0,0,0,0,0,{"$f":"HYPERLINK(\"http://www.openstreetmap.org/?mlat=30.495&mlon=47.7889&zoom=12#map=12/30.495/47.7889\",\"Maplink1\")","v":"Maplink1"},{"$f":"HYPERLINK(\"https://www.google.iq/maps/search/+30.495,47.7889/@30.495,47.7889,14z?hl=en\",\"Maplink2\")","v":"Maplink2"},{"$f":"HYPERLINK(\"http://www.bing.com/maps/?lvl=14&sty=h&cp=30.495~47.7889&sp=point.30.495_47.7889\",\"Maplink3\")","v":"Maplink3"}]
[872,"Al-Basrah","Al-Basrah","Markaz Al-Basrah","Al-bradhia","البصرة-البراضعية",30.5057826886,47.8504749839,5,30,0,0,0,6,0,0,24,0,0,0,0,0,0,0,0,0,0,0,0,0,0,0,0,12,0,0,0,0,0,18,0,0,0,0,0,12,6,12,0,0,0,0,0,0,0,{"$f":"HYPERLINK(\"http://www.openstreetmap.org/?mlat=30.5058&mlon=47.8505&zoom=12#map=12/30.5058/47.8505\",\"Maplink1\")","v":"Maplink1"},{"$f":"HYPERLINK(\"https://www.google.iq/maps/search/+30.5058,47.8505/@30.5058,47.8505,14z?hl=en\",\"Maplink2\")","v":"Maplink2"},{"$f":"HYPERLINK(\"http://www.bing.com/maps/?lvl=14&sty=h&cp=30.5058~47.8505&sp=point.30.5058_47.8505\",\"Maplink3\")","v":"Maplink3"}]
[24624,"Al-Basrah","Al-Basrah","Markaz Al-Basrah","Basra al qadima-Al Sadoniyah","البصرة القديمة-السعدونية",30.4920672151,47.8130163835,6,36,0,0,0,18,0,0,18,0,0,0,0,0,0,0,0,6,0,0,0,0,12,0,0,6,0,0,0,12,0,0,0,0,0,12,6,12,6,0,0,0,0,0,0,0,0,{"$f":"HYPERLINK(\"http://www.openstreetmap.org/?mlat=30.4921&mlon=47.813&zoom=12#map=12/30.4921/47.813\",\"Maplink1\")","v":"Maplink1"},{"$f":"HYPERLINK(\"https://www.google.iq/maps/search/+30.4921,47.813/@30.4921,47.813,14z?hl=en\",\"Maplink2\")","v":"Maplink2"},{"$f":"HYPERLINK(\"http://www.bing.com/maps/?lvl=14&sty=h&cp=30.4921~47.813&sp=point.30.4921_47.813\",\"Maplink3\")","v":"Maplink3"}]
[983,"Al-Basrah","Al-Basrah","Markaz Al-Basrah","Door al-hendiya","دور الهندية ",30.544712567,47.7892943297,3,18,0,0,0,0,0,0,18,0,0,0,0,0,0,0,0,0,0,0,0,0,0,0,0,0,0,0,0,0,0,18,0,0,0,0,0,6,12,0,0,0,0,0,0,0,0,{"$f":"HYPERLINK(\"http://www.openstreetmap.org/?mlat=30.5447&mlon=47.7893&zoom=12#map=12/30.5447/47.7893\",\"Maplink1\")","v":"Maplink1"},{"$f":"HYPERLINK(\"https://www.google.iq/maps/search/+30.5447,47.7893/@30.5447,47.7893,14z?hl=en\",\"Maplink2\")","v":"Maplink2"},{"$f":"HYPERLINK(\"http://www.bing.com/maps/?lvl=14&sty=h&cp=30.5447~47.7893&sp=point.30.5447_47.7893\",\"Maplink3\")","v":"Maplink3"}]
[1284,"Al-Basrah","Al-Basrah","Markaz Al-Basrah","Door Al-Shooen","دور الشؤون",30.4953003433,47.8108051336,3,18,0,0,0,6,0,0,12,0,0,0,0,0,0,0,0,6,0,0,0,0,0,0,0,0,0,0,0,0,0,12,0,0,0,0,12,6,0,0,0,0,0,0,0,0,0,{"$f":"HYPERLINK(\"http://www.openstreetmap.org/?mlat=30.4953&mlon=47.8108&zoom=12#map=12/30.4953/47.8108\",\"Maplink1\")","v":"Maplink1"},{"$f":"HYPERLINK(\"https://www.google.iq/maps/search/+30.4953,47.8108/@30.4953,47.8108,14z?hl=en\",\"Maplink2\")","v":"Maplink2"},{"$f":"HYPERLINK(\"http://www.bing.com/maps/?lvl=14&sty=h&cp=30.4953~47.8108&sp=point.30.4953_47.8108\",\"Maplink3\")","v":"Maplink3"}]
[854,"Al-Basrah","Al-Basrah","Markaz Al-Basrah","Hai al-kafa_at","البصرة-حي الكفاءات",30.4999937,47.81254713,3,18,0,0,0,0,0,12,0,6,0,0,0,0,0,0,0,0,0,0,0,0,0,0,0,0,0,0,0,18,0,0,0,0,0,0,6,6,6,0,0,0,0,0,0,0,0,{"$f":"HYPERLINK(\"http://www.openstreetmap.org/?mlat=30.5&mlon=47.8125&zoom=12#map=12/30.5/47.8125\",\"Maplink1\")","v":"Maplink1"},{"$f":"HYPERLINK(\"https://www.google.iq/maps/search/+30.5,47.8125/@30.5,47.8125,14z?hl=en\",\"Maplink2\")","v":"Maplink2"},{"$f":"HYPERLINK(\"http://www.bing.com/maps/?lvl=14&sty=h&cp=30.5~47.8125&sp=point.30.5_47.8125\",\"Maplink3\")","v":"Maplink3"}]
[933,"Al-Basrah","Al-Basrah","Markaz Al-Basrah","Hai Al-Khadhraa","حي الخضراء",30.5226343977,47.8091554613,2,12,0,0,0,6,0,0,6,0,0,0,0,0,0,0,0,0,0,0,0,0,0,0,0,0,0,0,0,12,0,0,0,0,0,0,12,0,0,0,0,0,0,0,0,0,0,{"$f":"HYPERLINK(\"http://www.openstreetmap.org/?mlat=30.5226&mlon=47.8092&zoom=12#map=12/30.5226/47.8092\",\"Maplink1\")","v":"Maplink1"},{"$f":"HYPERLINK(\"https://www.google.iq/maps/search/+30.5226,47.8092/@30.5226,47.8092,14z?hl=en\",\"Maplink2\")","v":"Maplink2"},{"$f":"HYPERLINK(\"http://www.bing.com/maps/?lvl=14&sty=h&cp=30.5226~47.8092&sp=point.30.5226_47.8092\",\"Maplink3\")","v":"Maplink3"}]
[1272,"Al-Basrah","Al-Basrah","Markaz Al-Basrah","Hay Al-Asdiqaa","حي الاصدقاء",30.5150534764,47.7756206974,4,24,0,0,0,0,0,6,18,0,0,0,0,0,0,0,0,0,0,0,0,0,0,0,0,12,0,0,0,6,0,6,0,0,0,6,0,12,6,0,0,0,0,0,0,0,0,{"$f":"HYPERLINK(\"http://www.openstreetmap.org/?mlat=30.5151&mlon=47.7756&zoom=12#map=12/30.5151/47.7756\",\"Maplink1\")","v":"Maplink1"},{"$f":"HYPERLINK(\"https://www.google.iq/maps/search/+30.5151,47.7756/@30.5151,47.7756,14z?hl=en\",\"Maplink2\")","v":"Maplink2"},{"$f":"HYPERLINK(\"http://www.bing.com/maps/?lvl=14&sty=h&cp=30.5151~47.7756&sp=point.30.5151_47.7756\",\"Maplink3\")","v":"Maplink3"}]
[911,"Al-Basrah","Al-Basrah","Markaz Al-Basrah","Hay Al-Zohoor","البصرة-العشار-حي الزهور",30.5158887793,47.8421542246,1,6,0,0,0,0,0,0,6,0,0,0,0,0,0,0,0,0,0,0,0,0,0,0,0,0,0,0,0,0,0,6,0,0,0,0,0,6,0,0,0,0,0,0,0,0,0,{"$f":"HYPERLINK(\"http://www.openstreetmap.org/?mlat=30.5159&mlon=47.8422&zoom=12#map=12/30.5159/47.8422\",\"Maplink1\")","v":"Maplink1"},{"$f":"HYPERLINK(\"https://www.google.iq/maps/search/+30.5159,47.8422/@30.5159,47.8422,14z?hl=en\",\"Maplink2\")","v":"Maplink2"},{"$f":"HYPERLINK(\"http://www.bing.com/maps/?lvl=14&sty=h&cp=30.5159~47.8422&sp=point.30.5159_47.8422\",\"Maplink3\")","v":"Maplink3"}]
[29508,"Al-Basrah","Al-Basrah","Markaz Al-Basrah","Mojamaa Al Hussain Al Sakni","مجمع الحسين السكني ",30.4841603317,47.7934828541,4,24,0,0,0,0,0,0,24,0,0,0,0,0,0,0,0,0,0,0,0,0,0,0,0,0,0,0,0,6,0,18,0,0,0,0,18,0,6,0,0,0,0,0,0,0,0,{"$f":"HYPERLINK(\"http://www.openstreetmap.org/?mlat=30.4842&mlon=47.7935&zoom=12#map=12/30.4842/47.7935\",\"Maplink1\")","v":"Maplink1"},{"$f":"HYPERLINK(\"https://www.google.iq/maps/search/+30.4842,47.7935/@30.4842,47.7935,14z?hl=en\",\"Maplink2\")","v":"Maplink2"},{"$f":"HYPERLINK(\"http://www.bing.com/maps/?lvl=14&sty=h&cp=30.4842~47.7935&sp=point.30.4842_47.7935\",\"Maplink3\")","v":"Maplink3"}]
[21097,"Al-Basrah","Al-Basrah","Markaz Al-Basrah","Manawi Lajim Quarter","مناوي لجم ",30.4955860425,47.8386516785,14,84,0,0,0,36,0,0,48,0,0,0,0,0,0,0,0,6,0,0,0,0,0,0,0,0,0,0,0,24,0,54,0,0,0,6,12,6,36,0,6,12,6,0,0,0,0,{"$f":"HYPERLINK(\"http://www.openstreetmap.org/?mlat=30.4956&mlon=47.8387&zoom=12#map=12/30.4956/47.8387\",\"Maplink1\")","v":"Maplink1"},{"$f":"HYPERLINK(\"https://www.google.iq/maps/search/+30.4956,47.8387/@30.4956,47.8387,14z?hl=en\",\"Maplink2\")","v":"Maplink2"},{"$f":"HYPERLINK(\"http://www.bing.com/maps/?lvl=14&sty=h&cp=30.4956~47.8387&sp=point.30.4956_47.8387\",\"Maplink3\")","v":"Maplink3"}]
[23974,"Al-Basrah","Al-Basrah","Markaz Al-Basrah","Mosa Kadhim","البصرة-القبلة-موسى الكاظم",30.4510794,47.7988895893,3,18,0,0,0,6,0,0,12,0,0,0,0,0,0,0,0,12,0,0,0,0,0,0,0,0,0,0,0,0,0,6,0,0,0,0,12,6,0,0,0,0,0,0,0,0,0,{"$f":"HYPERLINK(\"http://www.openstreetmap.org/?mlat=30.4511&mlon=47.7989&zoom=12#map=12/30.4511/47.7989\",\"Maplink1\")","v":"Maplink1"},{"$f":"HYPERLINK(\"https://www.google.iq/maps/search/+30.4511,47.7989/@30.4511,47.7989,14z?hl=en\",\"Maplink2\")","v":"Maplink2"},{"$f":"HYPERLINK(\"http://www.bing.com/maps/?lvl=14&sty=h&cp=30.4511~47.7989&sp=point.30.4511_47.7989\",\"Maplink3\")","v":"Maplink3"}]
[889,"Al-Basrah","Al-Basrah","Markaz Al-Basrah","Nadhran","البصرة-نظران",30.503056,47.811667,11,66,0,0,0,30,0,0,36,0,0,0,0,0,0,0,0,6,0,0,0,0,0,0,0,0,0,0,0,30,0,30,0,0,0,12,6,30,0,6,6,6,0,0,0,0,0,{"$f":"HYPERLINK(\"http://www.openstreetmap.org/?mlat=30.5031&mlon=47.8117&zoom=12#map=12/30.5031/47.8117\",\"Maplink1\")","v":"Maplink1"},{"$f":"HYPERLINK(\"https://www.google.iq/maps/search/+30.5031,47.8117/@30.5031,47.8117,14z?hl=en\",\"Maplink2\")","v":"Maplink2"},{"$f":"HYPERLINK(\"http://www.bing.com/maps/?lvl=14&sty=h&cp=30.5031~47.8117&sp=point.30.5031_47.8117\",\"Maplink3\")","v":"Maplink3"}]
[29538,"Al-Basrah","Al-Basrah","Markaz Al-Basrah","Al Maqil-AlAhrar","المعقل الاحرار",30.5305184973,47.77534639,2,12,0,0,0,0,0,0,12,0,0,0,0,0,0,0,0,0,0,0,0,0,0,0,0,6,0,0,0,0,0,6,0,0,0,0,0,6,0,6,0,0,0,0,0,0,0,{"$f":"HYPERLINK(\"http://www.openstreetmap.org/?mlat=30.5305&mlon=47.7753&zoom=12#map=12/30.5305/47.7753\",\"Maplink1\")","v":"Maplink1"},{"$f":"HYPERLINK(\"https://www.google.iq/maps/search/+30.5305,47.7753/@30.5305,47.7753,14z?hl=en\",\"Maplink2\")","v":"Maplink2"},{"$f":"HYPERLINK(\"http://www.bing.com/maps/?lvl=14&sty=h&cp=30.5305~47.7753&sp=point.30.5305_47.7753\",\"Maplink3\")","v":"Maplink3"}]
[24344,"Al-Basrah","Al-Basrah","Markaz Al-Basrah","Al Kaim 1","القائم 1",30.4680538316,47.8091441772,3,18,0,0,0,0,0,0,18,0,0,0,0,0,0,0,0,6,0,0,0,0,0,0,0,0,0,0,0,0,0,12,0,0,0,0,6,0,0,12,0,0,0,0,0,0,0,{"$f":"HYPERLINK(\"http://www.openstreetmap.org/?mlat=30.4681&mlon=47.8091&zoom=12#map=12/30.4681/47.8091\",\"Maplink1\")","v":"Maplink1"},{"$f":"HYPERLINK(\"https://www.google.iq/maps/search/+30.4681,47.8091/@30.4681,47.8091,14z?hl=en\",\"Maplink2\")","v":"Maplink2"},{"$f":"HYPERLINK(\"http://www.bing.com/maps/?lvl=14&sty=h&cp=30.4681~47.8091&sp=point.30.4681_47.8091\",\"Maplink3\")","v":"Maplink3"}]
[1308,"Al-Basrah","Al-Basrah","Markaz Al-Basrah","Al-Baker & Al-Ahrar","البكر والاحرار",30.4999166198,47.8126876122,5,30,0,0,0,0,0,0,30,0,0,0,0,0,0,0,0,24,0,0,0,0,0,0,0,0,0,0,0,6,0,0,0,0,0,6,6,0,18,0,0,0,0,0,0,0,0,{"$f":"HYPERLINK(\"http://www.openstreetmap.org/?mlat=30.4999&mlon=47.8127&zoom=12#map=12/30.4999/47.8127\",\"Maplink1\")","v":"Maplink1"},{"$f":"HYPERLINK(\"https://www.google.iq/maps/search/+30.4999,47.8127/@30.4999,47.8127,14z?hl=en\",\"Maplink2\")","v":"Maplink2"},{"$f":"HYPERLINK(\"http://www.bing.com/maps/?lvl=14&sty=h&cp=30.4999~47.8127&sp=point.30.4999_47.8127\",\"Maplink3\")","v":"Maplink3"}]
[907,"Al-Basrah","Al-Basrah","Markaz Al-Basrah","Braiha","بريهة ",30.5133087235,47.8382289412,7,42,0,0,0,18,0,0,24,0,0,0,0,0,0,0,0,6,0,0,0,0,0,0,0,0,0,0,0,30,0,6,0,0,0,0,0,42,0,0,0,0,0,0,0,0,0,{"$f":"HYPERLINK(\"http://www.openstreetmap.org/?mlat=30.5133&mlon=47.8382&zoom=12#map=12/30.5133/47.8382\",\"Maplink1\")","v":"Maplink1"},{"$f":"HYPERLINK(\"https://www.google.iq/maps/search/+30.5133,47.8382/@30.5133,47.8382,14z?hl=en\",\"Maplink2\")","v":"Maplink2"},{"$f":"HYPERLINK(\"http://www.bing.com/maps/?lvl=14&sty=h&cp=30.5133~47.8382&sp=point.30.5133_47.8382\",\"Maplink3\")","v":"Maplink3"}]
[890,"Al-Basrah","Al-Basrah","Markaz Al-Basrah","Al-abbasya","العباسية ",30.5080573859,47.8304377059,1,6,0,0,0,0,0,0,6,0,0,0,0,0,0,0,0,0,0,0,0,0,0,0,0,0,0,0,0,6,0,0,0,0,0,0,0,0,6,0,0,0,0,0,0,0,0,{"$f":"HYPERLINK(\"http://www.openstreetmap.org/?mlat=30.5081&mlon=47.8304&zoom=12#map=12/30.5081/47.8304\",\"Maplink1\")","v":"Maplink1"},{"$f":"HYPERLINK(\"https://www.google.iq/maps/search/+30.5081,47.8304/@30.5081,47.8304,14z?hl=en\",\"Maplink2\")","v":"Maplink2"},{"$f":"HYPERLINK(\"http://www.bing.com/maps/?lvl=14&sty=h&cp=30.5081~47.8304&sp=point.30.5081_47.8304\",\"Maplink3\")","v":"Maplink3"}]
[986,"Al-Basrah","Al-Basrah","Markaz Al-Basrah","Al-jubaila_","الجبيله",30.5465518865,47.8101653091,3,18,0,0,0,0,0,0,18,0,0,0,0,0,0,0,0,0,6,0,0,0,0,0,0,0,0,0,0,12,0,0,0,0,0,6,12,0,0,0,0,0,0,0,0,0,0,{"$f":"HYPERLINK(\"http://www.openstreetmap.org/?mlat=30.5466&mlon=47.8102&zoom=12#map=12/30.5466/47.8102\",\"Maplink1\")","v":"Maplink1"},{"$f":"HYPERLINK(\"https://www.google.iq/maps/search/+30.5466,47.8102/@30.5466,47.8102,14z?hl=en\",\"Maplink2\")","v":"Maplink2"},{"$f":"HYPERLINK(\"http://www.bing.com/maps/?lvl=14&sty=h&cp=30.5466~47.8102&sp=point.30.5466_47.8102\",\"Maplink3\")","v":"Maplink3"}]
[857,"Al-Basrah","Al-Basrah","Markaz Al-Basrah","As-safat-Al Qadima","البصرة القديمة-الصفاة",30.4959259934,47.8165436954,6,36,0,0,0,12,0,18,6,0,0,0,0,0,0,0,0,18,0,0,0,0,0,0,0,0,0,0,0,0,0,18,0,0,0,0,0,12,24,0,0,0,0,0,0,0,0,{"$f":"HYPERLINK(\"http://www.openstreetmap.org/?mlat=30.4959&mlon=47.8165&zoom=12#map=12/30.4959/47.8165\",\"Maplink1\")","v":"Maplink1"},{"$f":"HYPERLINK(\"https://www.google.iq/maps/search/+30.4959,47.8165/@30.4959,47.8165,14z?hl=en\",\"Maplink2\")","v":"Maplink2"},{"$f":"HYPERLINK(\"http://www.bing.com/maps/?lvl=14&sty=h&cp=30.4959~47.8165&sp=point.30.4959_47.8165\",\"Maplink3\")","v":"Maplink3"}]
[31724,"Al-Basrah","Al-Basrah","Markaz Al-Basrah","Shafqat Al-Amil","شفقة العامل",30.5492085395,47.7860197397,6,36,0,0,0,0,0,12,0,0,24,0,0,0,0,0,0,0,0,0,0,0,0,0,0,24,0,0,0,0,0,12,0,0,0,0,12,24,0,0,0,0,0,0,0,0,0,{"$f":"HYPERLINK(\"http://www.openstreetmap.org/?mlat=30.5492&mlon=47.786&zoom=12#map=12/30.5492/47.786\",\"Maplink1\")","v":"Maplink1"},{"$f":"HYPERLINK(\"https://www.google.iq/maps/search/+30.5492,47.786/@30.5492,47.786,14z?hl=en\",\"Maplink2\")","v":"Maplink2"},{"$f":"HYPERLINK(\"http://www.bing.com/maps/?lvl=14&sty=h&cp=30.5492~47.786&sp=point.30.5492_47.786\",\"Maplink3\")","v":"Maplink3"}]
[24929,"Al-Basrah","Al-Basrah","Markaz Al-Basrah","5 Miles Al Bidhan","5ميل البيضان",30.5423982,47.7683696,1,6,0,0,0,0,0,0,6,0,0,0,0,0,0,0,0,0,0,0,0,0,0,0,0,0,0,0,0,0,0,6,0,0,0,6,0,0,0,0,0,0,0,0,0,0,0,{"$f":"HYPERLINK(\"http://www.openstreetmap.org/?mlat=30.5424&mlon=47.7684&zoom=12#map=12/30.5424/47.7684\",\"Maplink1\")","v":"Maplink1"},{"$f":"HYPERLINK(\"https://www.google.iq/maps/search/+30.5424,47.7684/@30.5424,47.7684,14z?hl=en\",\"Maplink2\")","v":"Maplink2"},{"$f":"HYPERLINK(\"http://www.bing.com/maps/?lvl=14&sty=h&cp=30.5424~47.7684&sp=point.30.5424_47.7684\",\"Maplink3\")","v":"Maplink3"}]
[21096,"Al-Basrah","Al-Basrah","Markaz Al-Basrah","Hay Al Qaim 2","البصرة-القبلة-القائم 2",30.4766030964,47.8150357086,2,12,0,0,0,6,0,0,6,0,0,0,0,0,0,0,0,0,0,0,0,0,0,0,0,12,0,0,0,0,0,0,0,0,0,0,0,0,6,0,6,0,0,0,0,0,0,{"$f":"HYPERLINK(\"http://www.openstreetmap.org/?mlat=30.4766&mlon=47.815&zoom=12#map=12/30.4766/47.815\",\"Maplink1\")","v":"Maplink1"},{"$f":"HYPERLINK(\"https://www.google.iq/maps/search/+30.4766,47.815/@30.4766,47.815,14z?hl=en\",\"Maplink2\")","v":"Maplink2"},{"$f":"HYPERLINK(\"http://www.bing.com/maps/?lvl=14&sty=h&cp=30.4766~47.815&sp=point.30.4766_47.815\",\"Maplink3\")","v":"Maplink3"}]
[29678,"Al-Basrah","Al-Basrah","Markaz Al-Basrah","Yaseen Khurebtt","ياسين خريبط",30.5275305,47.7655907,1,6,0,0,0,0,0,0,6,0,0,0,0,0,0,0,0,0,0,0,0,0,0,0,0,0,0,0,0,6,0,0,0,0,0,0,0,0,0,6,0,0,0,0,0,0,0,{"$f":"HYPERLINK(\"http://www.openstreetmap.org/?mlat=30.5275&mlon=47.7656&zoom=12#map=12/30.5275/47.7656\",\"Maplink1\")","v":"Maplink1"},{"$f":"HYPERLINK(\"https://www.google.iq/maps/search/+30.5275,47.7656/@30.5275,47.7656,14z?hl=en\",\"Maplink2\")","v":"Maplink2"},{"$f":"HYPERLINK(\"http://www.bing.com/maps/?lvl=14&sty=h&cp=30.5275~47.7656&sp=point.30.5275_47.7656\",\"Maplink3\")","v":"Maplink3"}]
[910,"Al-Basrah","Al-Basrah","Markaz Al-Basrah","Door Al-Saha","دور الصحة",30.5143808861,47.8031156023,1,6,0,0,0,6,0,0,0,0,0,0,0,0,0,0,0,0,0,0,0,0,0,0,0,0,0,0,0,6,0,0,0,0,0,0,6,0,0,0,0,0,0,0,0,0,0,{"$f":"HYPERLINK(\"http://www.openstreetmap.org/?mlat=30.5144&mlon=47.8031&zoom=12#map=12/30.5144/47.8031\",\"Maplink1\")","v":"Maplink1"},{"$f":"HYPERLINK(\"https://www.google.iq/maps/search/+30.5144,47.8031/@30.5144,47.8031,14z?hl=en\",\"Maplink2\")","v":"Maplink2"},{"$f":"HYPERLINK(\"http://www.bing.com/maps/?lvl=14&sty=h&cp=30.5144~47.8031&sp=point.30.5144_47.8031\",\"Maplink3\")","v":"Maplink3"}]
[988,"Al-Basrah","Al-Basrah","Markaz Al-Basrah","50 hosh","50حوش",30.554573,47.7860399,1,6,0,0,0,0,0,0,6,0,0,0,0,0,0,0,0,0,0,0,0,0,0,0,0,0,0,0,0,6,0,0,0,0,0,0,0,0,0,0,6,0,0,0,0,0,0,{"$f":"HYPERLINK(\"http://www.openstreetmap.org/?mlat=30.5546&mlon=47.786&zoom=12#map=12/30.5546/47.786\",\"Maplink1\")","v":"Maplink1"},{"$f":"HYPERLINK(\"https://www.google.iq/maps/search/+30.5546,47.786/@30.5546,47.786,14z?hl=en\",\"Maplink2\")","v":"Maplink2"},{"$f":"HYPERLINK(\"http://www.bing.com/maps/?lvl=14&sty=h&cp=30.5546~47.786&sp=point.30.5546_47.786\",\"Maplink3\")","v":"Maplink3"}]
[24346,"Al-Basrah","Al-Basrah","Markaz Al-Basrah","Al Ashar Center","مركز العشار",30.5168506028,47.8327180337,15,90,0,0,0,6,84,0,0,0,0,0,0,0,0,0,0,0,0,0,0,0,0,0,0,0,0,0,0,84,0,6,0,0,0,6,24,6,54,0,0,0,0,0,0,0,0,{"$f":"HYPERLINK(\"http://www.openstreetmap.org/?mlat=30.5169&mlon=47.8327&zoom=12#map=12/30.5169/47.8327\",\"Maplink1\")","v":"Maplink1"},{"$f":"HYPERLINK(\"https://www.google.iq/maps/search/+30.5169,47.8327/@30.5169,47.8327,14z?hl=en\",\"Maplink2\")","v":"Maplink2"},{"$f":"HYPERLINK(\"http://www.bing.com/maps/?lvl=14&sty=h&cp=30.5169~47.8327&sp=point.30.5169_47.8327\",\"Maplink3\")","v":"Maplink3"}]
[963,"Al-Basrah","Al-Basrah","Markaz Al-Basrah","AL Mowafaqiah","البصرة-الموفقية",30.5203772196,47.7906832075,14,84,0,0,0,6,0,0,78,0,0,0,0,0,0,0,0,24,0,0,0,0,0,0,0,18,0,0,0,30,0,12,0,0,0,12,18,30,18,6,0,0,0,0,0,0,0,{"$f":"HYPERLINK(\"http://www.openstreetmap.org/?mlat=30.5204&mlon=47.7907&zoom=12#map=12/30.5204/47.7907\",\"Maplink1\")","v":"Maplink1"},{"$f":"HYPERLINK(\"https://www.google.iq/maps/search/+30.5204,47.7907/@30.5204,47.7907,14z?hl=en\",\"Maplink2\")","v":"Maplink2"},{"$f":"HYPERLINK(\"http://www.bing.com/maps/?lvl=14&sty=h&cp=30.5204~47.7907&sp=point.30.5204_47.7907\",\"Maplink3\")","v":"Maplink3"}]
[24180,"Al-Basrah","Al-Basrah","Markaz Al-Basrah","Al Sholah","الشعله",30.5119754637,47.768704232,3,18,0,0,0,0,0,0,18,0,0,0,0,0,0,0,0,0,0,6,0,0,0,0,0,0,0,0,0,12,0,0,0,0,0,0,0,0,6,0,0,12,0,0,0,0,0,{"$f":"HYPERLINK(\"http://www.openstreetmap.org/?mlat=30.512&mlon=47.7687&zoom=12#map=12/30.512/47.7687\",\"Maplink1\")","v":"Maplink1"},{"$f":"HYPERLINK(\"https://www.google.iq/maps/search/+30.512,47.7687/@30.512,47.7687,14z?hl=en\",\"Maplink2\")","v":"Maplink2"},{"$f":"HYPERLINK(\"http://www.bing.com/maps/?lvl=14&sty=h&cp=30.512~47.7687&sp=point.30.512_47.7687\",\"Maplink3\")","v":"Maplink3"}]
[847,"Al-Basrah","Al-Basrah","Markaz Al-Basrah","Al-meshraq al-qadeem","البصرة-المشراق القديم",30.491078201,47.8158725519,9,54,0,0,0,30,0,0,24,0,0,0,0,0,0,0,0,18,0,0,0,0,0,0,0,0,0,0,0,24,0,12,0,0,0,6,6,6,30,6,0,0,0,0,0,0,0,{"$f":"HYPERLINK(\"http://www.openstreetmap.org/?mlat=30.4911&mlon=47.8159&zoom=12#map=12/30.4911/47.8159\",\"Maplink1\")","v":"Maplink1"},{"$f":"HYPERLINK(\"https://www.google.iq/maps/search/+30.4911,47.8159/@30.4911,47.8159,14z?hl=en\",\"Maplink2\")","v":"Maplink2"},{"$f":"HYPERLINK(\"http://www.bing.com/maps/?lvl=14&sty=h&cp=30.4911~47.8159&sp=point.30.4911_47.8159\",\"Maplink3\")","v":"Maplink3"}]
[903,"Al-Basrah","Al-Basrah","Markaz Al-Basrah","At-tahseeniya al-jadeda","البصرة-التحسينية-التحسينية الجديده",30.5077122608,47.8221311764,2,12,0,0,0,12,0,0,0,0,0,0,0,0,0,0,0,6,0,0,0,0,0,0,0,0,0,0,0,0,0,6,0,0,0,0,6,0,6,0,0,0,0,0,0,0,0,{"$f":"HYPERLINK(\"http://www.openstreetmap.org/?mlat=30.5077&mlon=47.8221&zoom=12#map=12/30.5077/47.8221\",\"Maplink1\")","v":"Maplink1"},{"$f":"HYPERLINK(\"https://www.google.iq/maps/search/+30.5077,47.8221/@30.5077,47.8221,14z?hl=en\",\"Maplink2\")","v":"Maplink2"},{"$f":"HYPERLINK(\"http://www.bing.com/maps/?lvl=14&sty=h&cp=30.5077~47.8221&sp=point.30.5077_47.8221\",\"Maplink3\")","v":"Maplink3"}]
[24128,"Al-Basrah","Al-Basrah","Markaz Al-Basrah","Al-Wiless","المعقل الوايلس",30.5439889019,47.7796509347,4,24,0,0,0,6,0,0,18,0,0,0,0,0,0,0,0,18,0,0,0,0,0,0,0,0,0,0,0,6,0,0,0,0,0,12,0,0,12,0,0,0,0,0,0,0,0,{"$f":"HYPERLINK(\"http://www.openstreetmap.org/?mlat=30.544&mlon=47.7797&zoom=12#map=12/30.544/47.7797\",\"Maplink1\")","v":"Maplink1"},{"$f":"HYPERLINK(\"https://www.google.iq/maps/search/+30.544,47.7797/@30.544,47.7797,14z?hl=en\",\"Maplink2\")","v":"Maplink2"},{"$f":"HYPERLINK(\"http://www.bing.com/maps/?lvl=14&sty=h&cp=30.544~47.7797&sp=point.30.544_47.7797\",\"Maplink3\")","v":"Maplink3"}]
[24182,"Al-Basrah","Al-Basrah","Markaz Al-Basrah","Casino Lebnan","البصرة-كازينو لبنان",30.5076397388,47.8082498638,11,66,0,0,0,0,0,0,0,0,66,0,0,0,0,0,0,0,0,0,0,0,0,0,0,0,0,0,0,66,0,0,0,0,0,0,6,36,24,0,0,0,0,0,0,0,0,{"$f":"HYPERLINK(\"http://www.openstreetmap.org/?mlat=30.5076&mlon=47.8082&zoom=12#map=12/30.5076/47.8082\",\"Maplink1\")","v":"Maplink1"},{"$f":"HYPERLINK(\"https://www.google.iq/maps/search/+30.5076,47.8082/@30.5076,47.8082,14z?hl=en\",\"Maplink2\")","v":"Maplink2"},{"$f":"HYPERLINK(\"http://www.bing.com/maps/?lvl=14&sty=h&cp=30.5076~47.8082&sp=point.30.5076_47.8082\",\"Maplink3\")","v":"Maplink3"}]
[893,"Al-Basrah","Al-Basrah","Markaz Al-Basrah","Kut al-hejaj","البصرة-كوت الحجاج",30.5039918389,47.8000459122,6,36,0,0,0,0,0,0,36,0,0,0,0,0,0,0,0,0,0,0,0,0,18,0,0,0,0,0,0,18,0,0,0,0,0,30,0,0,6,0,0,0,0,0,0,0,0,{"$f":"HYPERLINK(\"http://www.openstreetmap.org/?mlat=30.504&mlon=47.8&zoom=12#map=12/30.504/47.8\",\"Maplink1\")","v":"Maplink1"},{"$f":"HYPERLINK(\"https://www.google.iq/maps/search/+30.504,47.8/@30.504,47.8,14z?hl=en\",\"Maplink2\")","v":"Maplink2"},{"$f":"HYPERLINK(\"http://www.bing.com/maps/?lvl=14&sty=h&cp=30.504~47.8&sp=point.30.504_47.8\",\"Maplink3\")","v":"Maplink3"}]
[884,"Al-Basrah","Al-Basrah","Markaz Al-Basrah","Al-hkadrawia","الخضراوية",30.4996943,47.8242982,1,6,0,0,0,6,0,0,0,0,0,0,0,0,0,0,0,0,0,0,0,0,0,0,0,0,0,0,0,6,0,0,0,0,0,0,0,0,0,6,0,0,0,0,0,0,0,{"$f":"HYPERLINK(\"http://www.openstreetmap.org/?mlat=30.4997&mlon=47.8243&zoom=12#map=12/30.4997/47.8243\",\"Maplink1\")","v":"Maplink1"},{"$f":"HYPERLINK(\"https://www.google.iq/maps/search/+30.4997,47.8243/@30.4997,47.8243,14z?hl=en\",\"Maplink2\")","v":"Maplink2"},{"$f":"HYPERLINK(\"http://www.bing.com/maps/?lvl=14&sty=h&cp=30.4997~47.8243&sp=point.30.4997_47.8243\",\"Maplink3\")","v":"Maplink3"}]
[33236,"Al-Basrah","Al-Basrah","Markaz Al-Basrah","Hay Al Asatitha","حي الاساتذة",30.5352176875,47.7754220851,3,18,0,0,0,0,0,0,18,0,0,0,0,0,0,0,0,0,0,0,0,0,0,0,0,6,0,0,0,12,0,0,0,0,0,6,6,6,0,0,0,0,0,0,0,0,0,{"$f":"HYPERLINK(\"http://www.openstreetmap.org/?mlat=30.5352&mlon=47.7754&zoom=12#map=12/30.5352/47.7754\",\"Maplink1\")","v":"Maplink1"},{"$f":"HYPERLINK(\"https://www.google.iq/maps/search/+30.5352,47.7754/@30.5352,47.7754,14z?hl=en\",\"Maplink2\")","v":"Maplink2"},{"$f":"HYPERLINK(\"http://www.bing.com/maps/?lvl=14&sty=h&cp=30.5352~47.7754&sp=point.30.5352_47.7754\",\"Maplink3\")","v":"Maplink3"}]
[475,"Al-Basrah","Al-Basrah","Markaz Al-Basrah","Al Ashar","البصرة-العشار-العطيرية",30.524311589,47.830453462,2,12,0,0,0,0,0,0,12,0,0,0,0,0,0,0,0,6,0,0,0,0,0,0,0,0,0,0,0,6,0,0,0,0,0,0,0,0,6,0,0,6,0,0,0,0,0,{"$f":"HYPERLINK(\"http://www.openstreetmap.org/?mlat=30.5243&mlon=47.8305&zoom=12#map=12/30.5243/47.8305\",\"Maplink1\")","v":"Maplink1"},{"$f":"HYPERLINK(\"https://www.google.iq/maps/search/+30.5243,47.8305/@30.5243,47.8305,14z?hl=en\",\"Maplink2\")","v":"Maplink2"},{"$f":"HYPERLINK(\"http://www.bing.com/maps/?lvl=14&sty=h&cp=30.5243~47.8305&sp=point.30.5243_47.8305\",\"Maplink3\")","v":"Maplink3"}]
[24627,"Al-Basrah","Al-Basrah","Markaz Al-Basrah","Al Qibla-Al Shahid Al Sadir","القبلة-الشهيد الصدر",30.4704486955,47.8227980653,1,6,0,0,0,6,0,0,0,0,0,0,0,0,0,0,0,0,6,0,0,0,0,0,0,0,0,0,0,0,0,0,0,0,0,0,0,6,0,0,0,0,0,0,0,0,0,{"$f":"HYPERLINK(\"http://www.openstreetmap.org/?mlat=30.4704&mlon=47.8228&zoom=12#map=12/30.4704/47.8228\",\"Maplink1\")","v":"Maplink1"},{"$f":"HYPERLINK(\"https://www.google.iq/maps/search/+30.4704,47.8228/@30.4704,47.8228,14z?hl=en\",\"Maplink2\")","v":"Maplink2"},{"$f":"HYPERLINK(\"http://www.bing.com/maps/?lvl=14&sty=h&cp=30.4704~47.8228&sp=point.30.4704_47.8228\",\"Maplink3\")","v":"Maplink3"}]
[21641,"Al-Basrah","Al-Basrah","Markaz Al-Basrah","AL Qiziza","الكزيزه",30.53992,47.752913995,4,24,0,0,0,0,0,0,24,0,0,0,0,0,0,0,0,6,0,0,0,0,6,0,0,12,0,0,0,0,0,0,0,0,0,0,0,6,12,6,0,0,0,0,0,0,0,{"$f":"HYPERLINK(\"http://www.openstreetmap.org/?mlat=30.5399&mlon=47.7529&zoom=12#map=12/30.5399/47.7529\",\"Maplink1\")","v":"Maplink1"},{"$f":"HYPERLINK(\"https://www.google.iq/maps/search/+30.5399,47.7529/@30.5399,47.7529,14z?hl=en\",\"Maplink2\")","v":"Maplink2"},{"$f":"HYPERLINK(\"http://www.bing.com/maps/?lvl=14&sty=h&cp=30.5399~47.7529&sp=point.30.5399_47.7529\",\"Maplink3\")","v":"Maplink3"}]
[968,"Al-Basrah","Al-Basrah","Markaz Al-Basrah","Al Andolous","الاندلس",30.5436806553,47.7949403594,3,18,0,0,0,18,0,0,0,0,0,0,0,0,0,0,0,0,0,0,0,0,0,0,0,0,0,0,0,18,0,0,0,0,0,0,0,12,6,0,0,0,0,0,0,0,0,{"$f":"HYPERLINK(\"http://www.openstreetmap.org/?mlat=30.5437&mlon=47.7949&zoom=12#map=12/30.5437/47.7949\",\"Maplink1\")","v":"Maplink1"},{"$f":"HYPERLINK(\"https://www.google.iq/maps/search/+30.5437,47.7949/@30.5437,47.7949,14z?hl=en\",\"Maplink2\")","v":"Maplink2"},{"$f":"HYPERLINK(\"http://www.bing.com/maps/?lvl=14&sty=h&cp=30.5437~47.7949&sp=point.30.5437_47.7949\",\"Maplink3\")","v":"Maplink3"}]
[863,"Al-Basrah","Al-Basrah","Markaz Al-Basrah","Hay Al-Morabaa","الحيانية حي المربع",30.5085073499,47.7737800589,3,18,0,0,0,0,0,0,18,0,0,0,0,0,0,0,0,0,0,0,0,0,0,0,0,6,0,0,0,6,0,6,0,0,0,6,0,0,12,0,0,0,0,0,0,0,0,{"$f":"HYPERLINK(\"http://www.openstreetmap.org/?mlat=30.5085&mlon=47.7738&zoom=12#map=12/30.5085/47.7738\",\"Maplink1\")","v":"Maplink1"},{"$f":"HYPERLINK(\"https://www.google.iq/maps/search/+30.5085,47.7738/@30.5085,47.7738,14z?hl=en\",\"Maplink2\")","v":"Maplink2"},{"$f":"HYPERLINK(\"http://www.bing.com/maps/?lvl=14&sty=h&cp=30.5085~47.7738&sp=point.30.5085_47.7738\",\"Maplink3\")","v":"Maplink3"}]
[24799,"Al-Basrah","Al-Basrah","Markaz Al-Basrah","5 Miles(Al Hady Al Thaniyah)","5ميل الهادي الثانية",30.5475191,47.7636609,2,12,0,6,0,0,0,0,12,0,0,0,0,0,0,0,0,0,0,0,0,0,0,0,0,0,0,0,0,6,0,6,0,0,0,0,0,0,0,12,0,0,0,0,0,0,0,{"$f":"HYPERLINK(\"http://www.openstreetmap.org/?mlat=30.5475&mlon=47.7637&zoom=12#map=12/30.5475/47.7637\",\"Maplink1\")","v":"Maplink1"},{"$f":"HYPERLINK(\"https://www.google.iq/maps/search/+30.5475,47.7637/@30.5475,47.7637,14z?hl=en\",\"Maplink2\")","v":"Maplink2"},{"$f":"HYPERLINK(\"http://www.bing.com/maps/?lvl=14&sty=h&cp=30.5475~47.7637&sp=point.30.5475_47.7637\",\"Maplink3\")","v":"Maplink3"}]
[1310,"Al-Basrah","Al-Basrah","Markaz Al-Basrah","Al Qabla-Hay Al Baladiyat","البصرة-القبلة-حي البلديات",30.4654923616,47.8039381662,1,6,0,0,0,0,0,0,6,0,0,0,0,0,0,0,0,0,0,0,0,0,0,0,0,0,0,0,0,0,0,6,0,0,0,0,6,0,0,0,0,0,0,0,0,0,0,{"$f":"HYPERLINK(\"http://www.openstreetmap.org/?mlat=30.4655&mlon=47.8039&zoom=12#map=12/30.4655/47.8039\",\"Maplink1\")","v":"Maplink1"},{"$f":"HYPERLINK(\"https://www.google.iq/maps/search/+30.4655,47.8039/@30.4655,47.8039,14z?hl=en\",\"Maplink2\")","v":"Maplink2"},{"$f":"HYPERLINK(\"http://www.bing.com/maps/?lvl=14&sty=h&cp=30.4655~47.8039&sp=point.30.4655_47.8039\",\"Maplink3\")","v":"Maplink3"}]
[914,"Al-Basrah","Al-Basrah","Markaz Al-Basrah","Door Al-Shorta","دور الشرطة",30.5064412,47.762365,4,24,0,0,0,12,0,0,12,0,0,0,0,0,0,0,0,6,0,0,0,0,0,0,0,6,0,0,0,6,0,6,0,0,0,0,6,18,0,0,0,0,0,0,0,0,0,{"$f":"HYPERLINK(\"http://www.openstreetmap.org/?mlat=30.5064&mlon=47.7624&zoom=12#map=12/30.5064/47.7624\",\"Maplink1\")","v":"Maplink1"},{"$f":"HYPERLINK(\"https://www.google.iq/maps/search/+30.5064,47.7624/@30.5064,47.7624,14z?hl=en\",\"Maplink2\")","v":"Maplink2"},{"$f":"HYPERLINK(\"http://www.bing.com/maps/?lvl=14&sty=h&cp=30.5064~47.7624&sp=point.30.5064_47.7624\",\"Maplink3\")","v":"Maplink3"}]
[1269,"Al-Basrah","Al-Basrah","Markaz Al-Basrah","Al Amn Al Dakhly","البصرة-الامن الداخلي ",30.465855,47.7781414349,3,18,0,0,0,6,0,0,12,0,0,0,0,0,0,0,0,0,0,0,0,0,0,0,0,12,0,0,0,6,0,0,0,0,0,0,6,6,6,0,0,0,0,0,0,0,0,{"$f":"HYPERLINK(\"http://www.openstreetmap.org/?mlat=30.4659&mlon=47.7781&zoom=12#map=12/30.4659/47.7781\",\"Maplink1\")","v":"Maplink1"},{"$f":"HYPERLINK(\"https://www.google.iq/maps/search/+30.4659,47.7781/@30.4659,47.7781,14z?hl=en\",\"Maplink2\")","v":"Maplink2"},{"$f":"HYPERLINK(\"http://www.bing.com/maps/?lvl=14&sty=h&cp=30.4659~47.7781&sp=point.30.4659_47.7781\",\"Maplink3\")","v":"Maplink3"}]
[896,"Al-Basrah","Al-Basrah","Markaz Al-Basrah","Al-tahseeniya al-qadeema","التحسينية القديمة",30.5055609,47.8192261,3,18,0,0,0,0,0,0,18,0,0,0,0,0,0,0,0,6,0,0,0,0,0,0,0,0,0,0,0,12,0,0,0,0,0,6,6,6,0,0,0,0,0,0,0,0,0,{"$f":"HYPERLINK(\"http://www.openstreetmap.org/?mlat=30.5056&mlon=47.8192&zoom=12#map=12/30.5056/47.8192\",\"Maplink1\")","v":"Maplink1"},{"$f":"HYPERLINK(\"https://www.google.iq/maps/search/+30.5056,47.8192/@30.5056,47.8192,14z?hl=en\",\"Maplink2\")","v":"Maplink2"},{"$f":"HYPERLINK(\"http://www.bing.com/maps/?lvl=14&sty=h&cp=30.5056~47.8192&sp=point.30.5056_47.8192\",\"Maplink3\")","v":"Maplink3"}]
[28473,"Al-Basrah","Al-Basrah","Markaz Al-Basrah","Dwaed ","دويد ",30.4828138775,47.822833208,1,6,0,0,0,0,0,0,6,0,0,0,0,0,0,0,0,6,0,0,0,0,0,0,0,0,0,0,0,0,0,0,0,0,0,0,6,0,0,0,0,0,0,0,0,0,0,{"$f":"HYPERLINK(\"http://www.openstreetmap.org/?mlat=30.4828&mlon=47.8228&zoom=12#map=12/30.4828/47.8228\",\"Maplink1\")","v":"Maplink1"},{"$f":"HYPERLINK(\"https://www.google.iq/maps/search/+30.4828,47.8228/@30.4828,47.8228,14z?hl=en\",\"Maplink2\")","v":"Maplink2"},{"$f":"HYPERLINK(\"http://www.bing.com/maps/?lvl=14&sty=h&cp=30.4828~47.8228&sp=point.30.4828_47.8228\",\"Maplink3\")","v":"Maplink3"}]
[918,"Al-Basrah","Al-Basrah","Markaz Al-Basrah","As-sa_ii","الساعي",30.5110583125,47.8261750054,2,12,0,0,0,0,0,0,12,0,0,0,0,0,0,0,0,0,0,0,0,0,0,0,0,0,0,0,0,12,0,0,0,0,0,0,0,12,0,0,0,0,0,0,0,0,0,{"$f":"HYPERLINK(\"http://www.openstreetmap.org/?mlat=30.5111&mlon=47.8262&zoom=12#map=12/30.5111/47.8262\",\"Maplink1\")","v":"Maplink1"},{"$f":"HYPERLINK(\"https://www.google.iq/maps/search/+30.5111,47.8262/@30.5111,47.8262,14z?hl=en\",\"Maplink2\")","v":"Maplink2"},{"$f":"HYPERLINK(\"http://www.bing.com/maps/?lvl=14&sty=h&cp=30.5111~47.8262&sp=point.30.5111_47.8262\",\"Maplink3\")","v":"Maplink3"}]
[898,"Al-Basrah","Al-Basrah","Markaz Al-Basrah","Al Khaleej1","البصرة-الجمعيات-حي الخليج 1",30.4891825112,47.793315503,4,24,0,0,0,6,0,0,18,0,0,0,0,0,0,0,0,6,0,0,0,0,0,0,0,0,0,0,0,18,0,0,0,0,0,6,0,0,6,0,0,12,0,0,0,0,0,{"$f":"HYPERLINK(\"http://www.openstreetmap.org/?mlat=30.4892&mlon=47.7933&zoom=12#map=12/30.4892/47.7933\",\"Maplink1\")","v":"Maplink1"},{"$f":"HYPERLINK(\"https://www.google.iq/maps/search/+30.4892,47.7933/@30.4892,47.7933,14z?hl=en\",\"Maplink2\")","v":"Maplink2"},{"$f":"HYPERLINK(\"http://www.bing.com/maps/?lvl=14&sty=h&cp=30.4892~47.7933&sp=point.30.4892_47.7933\",\"Maplink3\")","v":"Maplink3"}]
[27328,"Al-Basrah","Al-Basrah","Markaz Al-Basrah","Kut al-hejaj-al-jadeed","البصرة-كوت الحجاج الجديد",30.5096713924,47.8146253115,5,30,0,0,0,12,0,0,18,0,0,0,0,0,0,0,0,12,0,0,0,0,0,0,0,0,0,0,0,18,0,0,0,0,0,0,12,0,18,0,0,0,0,0,0,0,0,{"$f":"HYPERLINK(\"http://www.openstreetmap.org/?mlat=30.5097&mlon=47.8146&zoom=12#map=12/30.5097/47.8146\",\"Maplink1\")","v":"Maplink1"},{"$f":"HYPERLINK(\"https://www.google.iq/maps/search/+30.5097,47.8146/@30.5097,47.8146,14z?hl=en\",\"Maplink2\")","v":"Maplink2"},{"$f":"HYPERLINK(\"http://www.bing.com/maps/?lvl=14&sty=h&cp=30.5097~47.8146&sp=point.30.5097_47.8146\",\"Maplink3\")","v":"Maplink3"}]
[920,"Al-Basrah","Al-Basrah","Markaz Al-Basrah","Al Tuwaysa","البصرة-الطويسه",30.5191426515,47.8174902049,3,18,0,0,0,6,0,0,12,0,0,0,0,0,0,0,0,6,0,0,0,0,0,0,0,0,0,0,0,12,0,0,0,0,0,0,18,0,0,0,0,0,0,0,0,0,0,{"$f":"HYPERLINK(\"http://www.openstreetmap.org/?mlat=30.5191&mlon=47.8175&zoom=12#map=12/30.5191/47.8175\",\"Maplink1\")","v":"Maplink1"},{"$f":"HYPERLINK(\"https://www.google.iq/maps/search/+30.5191,47.8175/@30.5191,47.8175,14z?hl=en\",\"Maplink2\")","v":"Maplink2"},{"$f":"HYPERLINK(\"http://www.bing.com/maps/?lvl=14&sty=h&cp=30.5191~47.8175&sp=point.30.5191_47.8175\",\"Maplink3\")","v":"Maplink3"}]
[998,"Al-Basrah","Al-Basrah","Markaz Al-Basrah","Al-hakeem","البصرة-القبلة-حي الحكيم",30.4568974012,47.8008835048,6,36,0,0,0,6,0,0,30,0,0,0,0,0,0,0,0,0,12,0,0,0,0,0,0,0,0,0,0,0,0,24,0,0,0,6,6,6,18,0,0,0,0,0,0,0,0,{"$f":"HYPERLINK(\"http://www.openstreetmap.org/?mlat=30.4569&mlon=47.8009&zoom=12#map=12/30.4569/47.8009\",\"Maplink1\")","v":"Maplink1"},{"$f":"HYPERLINK(\"https://www.google.iq/maps/search/+30.4569,47.8009/@30.4569,47.8009,14z?hl=en\",\"Maplink2\")","v":"Maplink2"},{"$f":"HYPERLINK(\"http://www.bing.com/maps/?lvl=14&sty=h&cp=30.4569~47.8009&sp=point.30.4569_47.8009\",\"Maplink3\")","v":"Maplink3"}]
[1275,"Al-Basrah","Al-Basrah","Markaz Al-Basrah","Al-Jnaina","الجنينة ",30.5412683042,47.7952735198,8,48,0,0,0,12,0,0,36,0,0,0,0,0,0,0,0,0,0,0,0,0,6,0,0,18,0,0,0,24,0,0,0,0,0,0,12,12,18,0,0,6,0,0,0,0,0,{"$f":"HYPERLINK(\"http://www.openstreetmap.org/?mlat=30.5413&mlon=47.7953&zoom=12#map=12/30.5413/47.7953\",\"Maplink1\")","v":"Maplink1"},{"$f":"HYPERLINK(\"https://www.google.iq/maps/search/+30.5413,47.7953/@30.5413,47.7953,14z?hl=en\",\"Maplink2\")","v":"Maplink2"},{"$f":"HYPERLINK(\"http://www.bing.com/maps/?lvl=14&sty=h&cp=30.5413~47.7953&sp=point.30.5413_47.7953\",\"Maplink3\")","v":"Maplink3"}]
[22095,"Al-Basrah","Al-Basrah","Markaz Al-Basrah","Hay Al Rasheed","البصرة-القبلة-حي الرشيد",30.4607447278,47.8110675795,2,12,0,0,0,0,0,0,12,0,0,0,0,0,0,0,0,0,0,12,0,0,0,0,0,0,0,0,0,0,0,0,0,0,0,0,0,12,0,0,0,0,0,0,0,0,0,{"$f":"HYPERLINK(\"http://www.openstreetmap.org/?mlat=30.4607&mlon=47.8111&zoom=12#map=12/30.4607/47.8111\",\"Maplink1\")","v":"Maplink1"},{"$f":"HYPERLINK(\"https://www.google.iq/maps/search/+30.4607,47.8111/@30.4607,47.8111,14z?hl=en\",\"Maplink2\")","v":"Maplink2"},{"$f":"HYPERLINK(\"http://www.bing.com/maps/?lvl=14&sty=h&cp=30.4607~47.8111&sp=point.30.4607_47.8111\",\"Maplink3\")","v":"Maplink3"}]
[24479,"Al-Basrah","Al-Basrah","Markaz Al-Basrah","Hay Al Shuhadaa","القبلة-حي الشهداء",30.4509268777,47.808124895,1,6,0,0,0,0,0,0,6,0,0,0,0,0,0,0,0,0,0,0,0,0,0,0,0,0,0,0,0,6,0,0,0,0,0,0,0,0,6,0,0,0,0,0,0,0,0,{"$f":"HYPERLINK(\"http://www.openstreetmap.org/?mlat=30.4509&mlon=47.8081&zoom=12#map=12/30.4509/47.8081\",\"Maplink1\")","v":"Maplink1"},{"$f":"HYPERLINK(\"https://www.google.iq/maps/search/+30.4509,47.8081/@30.4509,47.8081,14z?hl=en\",\"Maplink2\")","v":"Maplink2"},{"$f":"HYPERLINK(\"http://www.bing.com/maps/?lvl=14&sty=h&cp=30.4509~47.8081&sp=point.30.4509_47.8081\",\"Maplink3\")","v":"Maplink3"}]
[1271,"Al-Basrah","Al-Basrah","Markaz Al-Basrah","Hay Al-Husain 3","البصرة-الحيانية-حي الحسين 3",30.490604296,47.7771282421,4,24,0,0,0,6,0,12,6,0,0,0,0,0,0,0,0,0,0,0,0,0,0,0,0,12,0,0,0,12,0,0,0,0,0,0,0,12,12,0,0,0,0,0,0,0,0,{"$f":"HYPERLINK(\"http://www.openstreetmap.org/?mlat=30.4906&mlon=47.7771&zoom=12#map=12/30.4906/47.7771\",\"Maplink1\")","v":"Maplink1"},{"$f":"HYPERLINK(\"https://www.google.iq/maps/search/+30.4906,47.7771/@30.4906,47.7771,14z?hl=en\",\"Maplink2\")","v":"Maplink2"},{"$f":"HYPERLINK(\"http://www.bing.com/maps/?lvl=14&sty=h&cp=30.4906~47.7771&sp=point.30.4906_47.7771\",\"Maplink3\")","v":"Maplink3"}]
[1313,"Al-Basrah","Al-Basrah","Markaz Al-Basrah","Al-Sabkha Al-Kabeera","الصبخة الكبيرة ",30.5055538117,47.816354363,3,18,0,0,0,0,0,0,18,0,0,0,0,0,0,0,0,12,0,0,0,0,0,0,0,0,0,0,0,0,0,6,0,0,0,6,12,0,0,0,0,0,0,0,0,0,0,{"$f":"HYPERLINK(\"http://www.openstreetmap.org/?mlat=30.5056&mlon=47.8164&zoom=12#map=12/30.5056/47.8164\",\"Maplink1\")","v":"Maplink1"},{"$f":"HYPERLINK(\"https://www.google.iq/maps/search/+30.5056,47.8164/@30.5056,47.8164,14z?hl=en\",\"Maplink2\")","v":"Maplink2"},{"$f":"HYPERLINK(\"http://www.bing.com/maps/?lvl=14&sty=h&cp=30.5056~47.8164&sp=point.30.5056_47.8164\",\"Maplink3\")","v":"Maplink3"}]
[941,"Al-Basrah","Al-Basrah","Markaz Al-Basrah","Al-Rubat Al Kabeer","البصرة-الرباط الكبير",30.530187,47.824815,1,6,0,6,0,0,0,0,6,0,0,0,0,0,0,0,0,0,0,0,0,0,0,0,0,0,0,0,0,0,0,6,0,0,0,0,6,0,0,0,0,0,0,0,0,0,0,{"$f":"HYPERLINK(\"http://www.openstreetmap.org/?mlat=30.5302&mlon=47.8248&zoom=12#map=12/30.5302/47.8248\",\"Maplink1\")","v":"Maplink1"},{"$f":"HYPERLINK(\"https://www.google.iq/maps/search/+30.5302,47.8248/@30.5302,47.8248,14z?hl=en\",\"Maplink2\")","v":"Maplink2"},{"$f":"HYPERLINK(\"http://www.bing.com/maps/?lvl=14&sty=h&cp=30.5302~47.8248&sp=point.30.5302_47.8248\",\"Maplink3\")","v":"Maplink3"}]
[29595,"Al-Basrah","Al-Basrah","Markaz Al-Basrah","Al Maqil-Al-Farancea","المعقل-الفرنسية",30.5503418044,47.7801991942,4,24,0,0,0,12,0,0,6,0,6,0,0,0,0,0,0,12,0,0,0,0,0,0,0,0,0,0,0,6,0,6,0,0,0,0,6,6,6,6,0,0,0,0,0,0,0,{"$f":"HYPERLINK(\"http://www.openstreetmap.org/?mlat=30.5503&mlon=47.7802&zoom=12#map=12/30.5503/47.7802\",\"Maplink1\")","v":"Maplink1"},{"$f":"HYPERLINK(\"https://www.google.iq/maps/search/+30.5503,47.7802/@30.5503,47.7802,14z?hl=en\",\"Maplink2\")","v":"Maplink2"},{"$f":"HYPERLINK(\"http://www.bing.com/maps/?lvl=14&sty=h&cp=30.5503~47.7802&sp=point.30.5503_47.7802\",\"Maplink3\")","v":"Maplink3"}]
[927,"Al-Basrah","Al-Basrah","Markaz Al-Basrah","Al Jumhuriya","البصرة-الجمهورية",30.5218036377,47.8002036975,10,60,0,0,0,36,0,0,24,0,0,0,0,0,0,0,0,6,0,0,0,0,6,0,0,36,0,0,0,6,0,6,0,0,0,0,12,36,12,0,0,0,0,0,0,0,0,{"$f":"HYPERLINK(\"http://www.openstreetmap.org/?mlat=30.5218&mlon=47.8002&zoom=12#map=12/30.5218/47.8002\",\"Maplink1\")","v":"Maplink1"},{"$f":"HYPERLINK(\"https://www.google.iq/maps/search/+30.5218,47.8002/@30.5218,47.8002,14z?hl=en\",\"Maplink2\")","v":"Maplink2"},{"$f":"HYPERLINK(\"http://www.bing.com/maps/?lvl=14&sty=h&cp=30.5218~47.8002&sp=point.30.5218_47.8002\",\"Maplink3\")","v":"Maplink3"}]
[989,"Al-Basrah","Al-Basrah","Markaz Al-Basrah","Al Maqil-Al-kindi","البصرة-المعقل-الكندي",30.5519530141,47.7690716814,1,6,0,0,0,0,0,0,6,0,0,0,0,0,0,0,0,0,0,0,0,0,0,0,0,0,0,0,0,6,0,0,0,0,0,0,0,6,0,0,0,0,0,0,0,0,0,{"$f":"HYPERLINK(\"http://www.openstreetmap.org/?mlat=30.552&mlon=47.7691&zoom=12#map=12/30.552/47.7691\",\"Maplink1\")","v":"Maplink1"},{"$f":"HYPERLINK(\"https://www.google.iq/maps/search/+30.552,47.7691/@30.552,47.7691,14z?hl=en\",\"Maplink2\")","v":"Maplink2"},{"$f":"HYPERLINK(\"http://www.bing.com/maps/?lvl=14&sty=h&cp=30.552~47.7691&sp=point.30.552_47.7691\",\"Maplink3\")","v":"Maplink3"}]
[951,"Al-Basrah","Al-Basrah","Markaz Al-Basrah","Al-hakemia","البصرة-الحكيمية",30.5269110603,47.816062742,2,12,0,0,0,0,0,0,12,0,0,0,0,0,0,0,0,0,0,0,0,0,0,0,0,0,0,0,0,6,0,6,0,0,0,6,0,0,6,0,0,0,0,0,0,0,0,{"$f":"HYPERLINK(\"http://www.openstreetmap.org/?mlat=30.5269&mlon=47.8161&zoom=12#map=12/30.5269/47.8161\",\"Maplink1\")","v":"Maplink1"},{"$f":"HYPERLINK(\"https://www.google.iq/maps/search/+30.5269,47.8161/@30.5269,47.8161,14z?hl=en\",\"Maplink2\")","v":"Maplink2"},{"$f":"HYPERLINK(\"http://www.bing.com/maps/?lvl=14&sty=h&cp=30.5269~47.8161&sp=point.30.5269_47.8161\",\"Maplink3\")","v":"Maplink3"}]
[966,"Al-Basrah","Al-Basrah","Markaz Al-Basrah","Door as-sailo_","دور السايلو",30.5380757511,47.810380769,1,6,0,0,0,0,0,0,6,0,0,0,0,0,0,0,0,6,0,0,0,0,0,0,0,0,0,0,0,0,0,0,0,0,0,0,0,0,6,0,0,0,0,0,0,0,0,{"$f":"HYPERLINK(\"http://www.openstreetmap.org/?mlat=30.5381&mlon=47.8104&zoom=12#map=12/30.5381/47.8104\",\"Maplink1\")","v":"Maplink1"},{"$f":"HYPERLINK(\"https://www.google.iq/maps/search/+30.5381,47.8104/@30.5381,47.8104,14z?hl=en\",\"Maplink2\")","v":"Maplink2"},{"$f":"HYPERLINK(\"http://www.bing.com/maps/?lvl=14&sty=h&cp=30.5381~47.8104&sp=point.30.5381_47.8104\",\"Maplink3\")","v":"Maplink3"}]
[954,"Al-Basrah","Al-Basrah","Markaz Al-Basrah","Hai al-bato_l","حي البتول",30.5374680151,47.7803465534,4,24,0,0,0,12,0,0,12,0,0,0,0,0,0,0,0,0,0,0,0,0,0,0,0,0,0,0,0,6,0,18,0,0,0,6,0,12,6,0,0,0,0,0,0,0,0,{"$f":"HYPERLINK(\"http://www.openstreetmap.org/?mlat=30.5375&mlon=47.7803&zoom=12#map=12/30.5375/47.7803\",\"Maplink1\")","v":"Maplink1"},{"$f":"HYPERLINK(\"https://www.google.iq/maps/search/+30.5375,47.7803/@30.5375,47.7803,14z?hl=en\",\"Maplink2\")","v":"Maplink2"},{"$f":"HYPERLINK(\"http://www.bing.com/maps/?lvl=14&sty=h&cp=30.5375~47.7803&sp=point.30.5375_47.7803\",\"Maplink3\")","v":"Maplink3"}]
[21311,"Al-Basrah","Al-Basrah","Markaz Al-Basrah","Hay Al-Asmae Al-Qadeem","حي الاصمعي القديم ",30.5032969466,47.7951486999,2,12,0,0,0,0,0,0,12,0,0,0,0,0,0,0,0,12,0,0,0,0,0,0,0,0,0,0,0,0,0,0,0,0,0,0,0,0,6,6,0,0,0,0,0,0,0,{"$f":"HYPERLINK(\"http://www.openstreetmap.org/?mlat=30.5033&mlon=47.7951&zoom=12#map=12/30.5033/47.7951\",\"Maplink1\")","v":"Maplink1"},{"$f":"HYPERLINK(\"https://www.google.iq/maps/search/+30.5033,47.7951/@30.5033,47.7951,14z?hl=en\",\"Maplink2\")","v":"Maplink2"},{"$f":"HYPERLINK(\"http://www.bing.com/maps/?lvl=14&sty=h&cp=30.5033~47.7951&sp=point.30.5033_47.7951\",\"Maplink3\")","v":"Maplink3"}]
[874,"Al-Basrah","Al-Basrah","Markaz Al-Basrah","Hai al-mu_alemin","البصرة القديمة-حي المعلمين",30.4957951114,47.8076379252,2,12,0,0,0,0,0,0,12,0,0,0,0,0,0,0,0,0,0,0,0,0,0,0,0,0,0,0,0,0,0,12,0,0,0,0,12,0,0,0,0,0,0,0,0,0,0,{"$f":"HYPERLINK(\"http://www.openstreetmap.org/?mlat=30.4958&mlon=47.8076&zoom=12#map=12/30.4958/47.8076\",\"Maplink1\")","v":"Maplink1"},{"$f":"HYPERLINK(\"https://www.google.iq/maps/search/+30.4958,47.8076/@30.4958,47.8076,14z?hl=en\",\"Maplink2\")","v":"Maplink2"},{"$f":"HYPERLINK(\"http://www.bing.com/maps/?lvl=14&sty=h&cp=30.4958~47.8076&sp=point.30.4958_47.8076\",\"Maplink3\")","v":"Maplink3"}]
[21099,"Al-Basrah","Al-Basrah","Markaz Al-Basrah","Hay Al Hussain 4","البصرة-الحيانية-حي الحسين 4",30.4840606159,47.781421613,2,12,0,0,0,0,0,0,12,0,0,0,0,0,0,0,0,6,0,0,0,0,0,0,0,0,0,0,0,0,0,6,0,0,0,0,6,0,6,0,0,0,0,0,0,0,0,{"$f":"HYPERLINK(\"http://www.openstreetmap.org/?mlat=30.4841&mlon=47.7814&zoom=12#map=12/30.4841/47.7814\",\"Maplink1\")","v":"Maplink1"},{"$f":"HYPERLINK(\"https://www.google.iq/maps/search/+30.4841,47.7814/@30.4841,47.7814,14z?hl=en\",\"Maplink2\")","v":"Maplink2"},{"$f":"HYPERLINK(\"http://www.bing.com/maps/?lvl=14&sty=h&cp=30.4841~47.7814&sp=point.30.4841_47.7814\",\"Maplink3\")","v":"Maplink3"}]
[24124,"Al-Basrah","Al-Basrah","Markaz Al-Basrah","Hai al-hussain-1","الحيانية-حي الحسين 1",30.5037686632,47.775880491,1,6,0,0,0,0,0,0,6,0,0,0,0,0,0,0,0,6,0,0,0,0,0,0,0,0,0,0,0,0,0,0,0,0,0,0,0,6,0,0,0,0,0,0,0,0,0,{"$f":"HYPERLINK(\"http://www.openstreetmap.org/?mlat=30.5038&mlon=47.7759&zoom=12#map=12/30.5038/47.7759\",\"Maplink1\")","v":"Maplink1"},{"$f":"HYPERLINK(\"https://www.google.iq/maps/search/+30.5038,47.7759/@30.5038,47.7759,14z?hl=en\",\"Maplink2\")","v":"Maplink2"},{"$f":"HYPERLINK(\"http://www.bing.com/maps/?lvl=14&sty=h&cp=30.5038~47.7759&sp=point.30.5038_47.7759\",\"Maplink3\")","v":"Maplink3"}]
[29596,"Al-Basrah","Al-Faw","Al-Bahhar","Markaz Al Bahhar ","مركز البحار",30.1495391515,48.3735235155,3,18,0,6,0,0,0,0,18,0,0,0,0,0,0,0,0,0,0,0,0,0,0,0,0,0,0,0,0,0,0,18,0,0,0,0,0,0,6,0,12,0,0,0,0,0,0,{"$f":"HYPERLINK(\"http://www.openstreetmap.org/?mlat=30.1495&mlon=48.3735&zoom=12#map=12/30.1495/48.3735\",\"Maplink1\")","v":"Maplink1"},{"$f":"HYPERLINK(\"https://www.google.iq/maps/search/+30.1495,48.3735/@30.1495,48.3735,14z?hl=en\",\"Maplink2\")","v":"Maplink2"},{"$f":"HYPERLINK(\"http://www.bing.com/maps/?lvl=14&sty=h&cp=30.1495~48.3735&sp=point.30.1495_48.3735\",\"Maplink3\")","v":"Maplink3"}]
[25337,"Al-Basrah","Al-Faw","Markaz Al-Faw","FAO Aljanubia-Hay Al Zahra","حي الزهراء",29.9624361369,48.4767056079,1,6,0,0,0,6,0,0,0,0,0,0,0,0,0,0,0,0,0,0,0,0,0,0,0,0,0,0,0,0,0,6,0,0,0,0,6,0,0,0,0,0,0,0,0,0,0,{"$f":"HYPERLINK(\"http://www.openstreetmap.org/?mlat=29.9624&mlon=48.4767&zoom=12#map=12/29.9624/48.4767\",\"Maplink1\")","v":"Maplink1"},{"$f":"HYPERLINK(\"https://www.google.iq/maps/search/+29.9624,48.4767/@29.9624,48.4767,14z?hl=en\",\"Maplink2\")","v":"Maplink2"},{"$f":"HYPERLINK(\"http://www.bing.com/maps/?lvl=14&sty=h&cp=29.9624~48.4767&sp=point.29.9624_48.4767\",\"Maplink3\")","v":"Maplink3"}]
[25340,"Al-Basrah","Al-Faw","Markaz Al-Faw","FAO Al-Shamaliya-Hay Al-Madaina","حي المدينة",29.97890313,48.4702409979,4,24,0,0,0,6,0,0,18,0,0,0,0,0,0,0,0,24,0,0,0,0,0,0,0,0,0,0,0,0,0,0,0,0,0,18,0,6,0,0,0,0,0,0,0,0,0,{"$f":"HYPERLINK(\"http://www.openstreetmap.org/?mlat=29.9789&mlon=48.4702&zoom=12#map=12/29.9789/48.4702\",\"Maplink1\")","v":"Maplink1"},{"$f":"HYPERLINK(\"https://www.google.iq/maps/search/+29.9789,48.4702/@29.9789,48.4702,14z?hl=en\",\"Maplink2\")","v":"Maplink2"},{"$f":"HYPERLINK(\"http://www.bing.com/maps/?lvl=14&sty=h&cp=29.9789~48.4702&sp=point.29.9789_48.4702\",\"Maplink3\")","v":"Maplink3"}]
[25335,"Al-Basrah","Al-Faw","Markaz Al-Faw","FAO Aljanubia-Hay Al Hussain","حي الحسين",29.9735884639,48.4701869319,1,6,0,0,0,0,0,0,6,0,0,0,0,0,0,0,0,0,0,0,0,0,0,0,0,6,0,0,0,0,0,0,0,0,0,0,0,6,0,0,0,0,0,0,0,0,0,{"$f":"HYPERLINK(\"http://www.openstreetmap.org/?mlat=29.9736&mlon=48.4702&zoom=12#map=12/29.9736/48.4702\",\"Maplink1\")","v":"Maplink1"},{"$f":"HYPERLINK(\"https://www.google.iq/maps/search/+29.9736,48.4702/@29.9736,48.4702,14z?hl=en\",\"Maplink2\")","v":"Maplink2"},{"$f":"HYPERLINK(\"http://www.bing.com/maps/?lvl=14&sty=h&cp=29.9736~48.4702&sp=point.29.9736_48.4702\",\"Maplink3\")","v":"Maplink3"}]
[1168,"Al-Basrah","Al-Midaina","Markaz Al-Midaina","Abo Shaoui","ابو شاوي",30.9493559663,47.2599766162,4,24,0,0,0,0,0,6,18,0,0,0,0,0,0,0,0,0,0,0,0,0,12,0,0,0,0,0,0,6,0,6,0,0,0,0,6,0,12,0,6,0,0,0,0,0,0,{"$f":"HYPERLINK(\"http://www.openstreetmap.org/?mlat=30.9494&mlon=47.26&zoom=12#map=12/30.9494/47.26\",\"Maplink1\")","v":"Maplink1"},{"$f":"HYPERLINK(\"https://www.google.iq/maps/search/+30.9494,47.26/@30.9494,47.26,14z?hl=en\",\"Maplink2\")","v":"Maplink2"},{"$f":"HYPERLINK(\"http://www.bing.com/maps/?lvl=14&sty=h&cp=30.9494~47.26&sp=point.30.9494_47.26\",\"Maplink3\")","v":"Maplink3"}]
[491,"Al-Basrah","Al-Midaina","Markaz Al-Midaina","Shuwayj","ام الشويج",30.9978631801,47.287792232,5,30,0,0,0,0,0,0,30,0,0,0,0,0,0,0,0,0,0,0,0,0,0,0,0,0,0,0,0,0,0,30,0,0,0,0,0,18,12,0,0,0,0,0,0,0,0,{"$f":"HYPERLINK(\"http://www.openstreetmap.org/?mlat=30.9979&mlon=47.2878&zoom=12#map=12/30.9979/47.2878\",\"Maplink1\")","v":"Maplink1"},{"$f":"HYPERLINK(\"https://www.google.iq/maps/search/+30.9979,47.2878/@30.9979,47.2878,14z?hl=en\",\"Maplink2\")","v":"Maplink2"},{"$f":"HYPERLINK(\"http://www.bing.com/maps/?lvl=14&sty=h&cp=30.9979~47.2878&sp=point.30.9979_47.2878\",\"Maplink3\")","v":"Maplink3"}]
[24921,"Al-Basrah","Al-Midaina","Markaz Al-Midaina","Al Khas","الخاص",30.9669960524,47.3011739852,11,66,0,0,0,0,0,30,36,0,0,0,0,0,0,0,0,0,0,0,0,0,0,0,0,0,0,0,0,0,0,66,0,0,0,0,0,48,18,0,0,0,0,0,0,0,0,{"$f":"HYPERLINK(\"http://www.openstreetmap.org/?mlat=30.967&mlon=47.3012&zoom=12#map=12/30.967/47.3012\",\"Maplink1\")","v":"Maplink1"},{"$f":"HYPERLINK(\"https://www.google.iq/maps/search/+30.967,47.3012/@30.967,47.3012,14z?hl=en\",\"Maplink2\")","v":"Maplink2"},{"$f":"HYPERLINK(\"http://www.bing.com/maps/?lvl=14&sty=h&cp=30.967~47.3012&sp=point.30.967_47.3012\",\"Maplink3\")","v":"Maplink3"}]
[354,"Al-Basrah","Al-Midaina","Markaz Al-Midaina","Badran","البصرة-المدينة-البدران",30.9384589,47.2608006,1,6,0,0,0,0,0,0,6,0,0,0,0,0,0,0,0,0,0,0,0,0,0,0,0,0,0,0,0,6,0,0,0,0,0,0,6,0,0,0,0,0,0,0,0,0,0,{"$f":"HYPERLINK(\"http://www.openstreetmap.org/?mlat=30.9385&mlon=47.2608&zoom=12#map=12/30.9385/47.2608\",\"Maplink1\")","v":"Maplink1"},{"$f":"HYPERLINK(\"https://www.google.iq/maps/search/+30.9385,47.2608/@30.9385,47.2608,14z?hl=en\",\"Maplink2\")","v":"Maplink2"},{"$f":"HYPERLINK(\"http://www.bing.com/maps/?lvl=14&sty=h&cp=30.9385~47.2608&sp=point.30.9385_47.2608\",\"Maplink3\")","v":"Maplink3"}]
[1129,"Al-Basrah","Al-Midaina","Talha","Alwan","مدينة-العلوان",30.9322847,47.2757481,1,6,0,0,0,6,0,0,0,0,0,0,0,0,0,0,0,0,0,0,0,0,0,0,0,0,0,0,0,6,0,0,0,0,0,0,0,6,0,0,0,0,0,0,0,0,0,{"$f":"HYPERLINK(\"http://www.openstreetmap.org/?mlat=30.9323&mlon=47.2757&zoom=12#map=12/30.9323/47.2757\",\"Maplink1\")","v":"Maplink1"},{"$f":"HYPERLINK(\"https://www.google.iq/maps/search/+30.9323,47.2757/@30.9323,47.2757,14z?hl=en\",\"Maplink2\")","v":"Maplink2"},{"$f":"HYPERLINK(\"http://www.bing.com/maps/?lvl=14&sty=h&cp=30.9323~47.2757&sp=point.30.9323_47.2757\",\"Maplink3\")","v":"Maplink3"}]
[1120,"Al-Basrah","Al-Midaina","Talha","Al-rahmaniyah","الرحمانية ",30.9278035,47.2966460109,1,6,0,0,0,0,0,6,0,0,0,0,0,0,0,0,0,6,0,0,0,0,0,0,0,0,0,0,0,0,0,0,0,0,0,0,0,6,0,0,0,0,0,0,0,0,0,{"$f":"HYPERLINK(\"http://www.openstreetmap.org/?mlat=30.9278&mlon=47.2966&zoom=12#map=12/30.9278/47.2966\",\"Maplink1\")","v":"Maplink1"},{"$f":"HYPERLINK(\"https://www.google.iq/maps/search/+30.9278,47.2966/@30.9278,47.2966,14z?hl=en\",\"Maplink2\")","v":"Maplink2"},{"$f":"HYPERLINK(\"http://www.bing.com/maps/?lvl=14&sty=h&cp=30.9278~47.2966&sp=point.30.9278_47.2966\",\"Maplink3\")","v":"Maplink3"}]
[1110,"Al-Basrah","Al-Qurna","Al-Dair","Al-shannanh","الشنانه",30.9052966,47.4983116,1,6,0,0,0,6,0,0,0,0,0,0,0,0,0,0,0,0,0,0,0,0,0,0,0,6,0,0,0,0,0,0,0,0,0,0,0,0,6,0,0,0,0,0,0,0,0,{"$f":"HYPERLINK(\"http://www.openstreetmap.org/?mlat=30.9053&mlon=47.4983&zoom=12#map=12/30.9053/47.4983\",\"Maplink1\")","v":"Maplink1"},{"$f":"HYPERLINK(\"https://www.google.iq/maps/search/+30.9053,47.4983/@30.9053,47.4983,14z?hl=en\",\"Maplink2\")","v":"Maplink2"},{"$f":"HYPERLINK(\"http://www.bing.com/maps/?lvl=14&sty=h&cp=30.9053~47.4983&sp=point.30.9053_47.4983\",\"Maplink3\")","v":"Maplink3"}]
[25224,"Al-Basrah","Al-Qurna","Al-Dair","Hay Al-Rabeaa","حي الربيع",30.7931509,47.5770571,1,6,0,0,0,0,0,0,6,0,0,0,0,0,0,0,0,0,0,0,0,0,0,0,0,0,0,0,0,6,0,0,0,0,0,0,0,0,6,0,0,0,0,0,0,0,0,{"$f":"HYPERLINK(\"http://www.openstreetmap.org/?mlat=30.7932&mlon=47.5771&zoom=12#map=12/30.7932/47.5771\",\"Maplink1\")","v":"Maplink1"},{"$f":"HYPERLINK(\"https://www.google.iq/maps/search/+30.7932,47.5771/@30.7932,47.5771,14z?hl=en\",\"Maplink2\")","v":"Maplink2"},{"$f":"HYPERLINK(\"http://www.bing.com/maps/?lvl=14&sty=h&cp=30.7932~47.5771&sp=point.30.7932_47.5771\",\"Maplink3\")","v":"Maplink3"}]
[29577,"Al-Basrah","Al-Qurna","Al-Dair","Al Dair-Al-sharamkha","الدير-الشرامخة",30.8386162,47.545998,2,12,0,0,0,0,0,0,12,0,0,0,0,0,0,0,0,0,0,0,0,0,12,0,0,0,0,0,0,0,0,0,0,0,0,0,6,6,0,0,0,0,0,0,0,0,0,{"$f":"HYPERLINK(\"http://www.openstreetmap.org/?mlat=30.8386&mlon=47.546&zoom=12#map=12/30.8386/47.546\",\"Maplink1\")","v":"Maplink1"},{"$f":"HYPERLINK(\"https://www.google.iq/maps/search/+30.8386,47.546/@30.8386,47.546,14z?hl=en\",\"Maplink2\")","v":"Maplink2"},{"$f":"HYPERLINK(\"http://www.bing.com/maps/?lvl=14&sty=h&cp=30.8386~47.546&sp=point.30.8386_47.546\",\"Maplink3\")","v":"Maplink3"}]
[496,"Al-Basrah","Al-Qurna","Al-Dair","Shifia","شيفيا",30.8153737,47.5650991,2,12,0,0,0,6,0,0,6,0,0,0,0,0,0,0,0,0,0,0,0,0,0,0,0,0,0,0,0,12,0,0,0,0,0,0,0,0,12,0,0,0,0,0,0,0,0,{"$f":"HYPERLINK(\"http://www.openstreetmap.org/?mlat=30.8154&mlon=47.5651&zoom=12#map=12/30.8154/47.5651\",\"Maplink1\")","v":"Maplink1"},{"$f":"HYPERLINK(\"https://www.google.iq/maps/search/+30.8154,47.5651/@30.8154,47.5651,14z?hl=en\",\"Maplink2\")","v":"Maplink2"},{"$f":"HYPERLINK(\"http://www.bing.com/maps/?lvl=14&sty=h&cp=30.8154~47.5651&sp=point.30.8154_47.5651\",\"Maplink3\")","v":"Maplink3"}]
[1251,"Al-Basrah","Al-Qurna","Al-Thagar","Al Thagar-Al-Nekhelat","الثغر-النخيلات",31.1226347296,47.4253433831,4,24,0,0,0,24,0,0,0,0,0,0,0,0,0,0,0,0,24,0,0,0,0,0,0,0,0,0,0,0,0,0,0,0,0,0,0,24,0,0,0,0,0,0,0,0,0,{"$f":"HYPERLINK(\"http://www.openstreetmap.org/?mlat=31.1226&mlon=47.4253&zoom=12#map=12/31.1226/47.4253\",\"Maplink1\")","v":"Maplink1"},{"$f":"HYPERLINK(\"https://www.google.iq/maps/search/+31.1226,47.4253/@31.1226,47.4253,14z?hl=en\",\"Maplink2\")","v":"Maplink2"},{"$f":"HYPERLINK(\"http://www.bing.com/maps/?lvl=14&sty=h&cp=31.1226~47.4253&sp=point.31.1226_47.4253\",\"Maplink3\")","v":"Maplink3"}]
[33763,"Al-Basrah","Al-Qurna","Al-Thagar","Markaz AL-Nahiya","مركز الناحية",30.968056,47.386389,2,12,0,0,0,0,0,0,12,0,0,0,0,0,0,0,0,0,0,0,0,0,0,0,0,0,0,0,0,12,0,0,0,0,0,0,0,0,12,0,0,0,0,0,0,0,0,{"$f":"HYPERLINK(\"http://www.openstreetmap.org/?mlat=30.9681&mlon=47.3864&zoom=12#map=12/30.9681/47.3864\",\"Maplink1\")","v":"Maplink1"},{"$f":"HYPERLINK(\"https://www.google.iq/maps/search/+30.9681,47.3864/@30.9681,47.3864,14z?hl=en\",\"Maplink2\")","v":"Maplink2"},{"$f":"HYPERLINK(\"http://www.bing.com/maps/?lvl=14&sty=h&cp=30.9681~47.3864&sp=point.30.9681_47.3864\",\"Maplink3\")","v":"Maplink3"}]
[1203,"Al-Basrah","Al-Qurna","Markaz Al-Qurna","Al-Sabeeha","الصبيحة",30.98,47.3975,4,24,0,0,0,24,0,0,0,0,0,0,0,0,0,0,0,0,0,0,0,0,0,0,0,0,0,0,0,0,0,24,0,0,0,0,0,24,0,0,0,0,0,0,0,0,0,{"$f":"HYPERLINK(\"http://www.openstreetmap.org/?mlat=30.98&mlon=47.3975&zoom=12#map=12/30.98/47.3975\",\"Maplink1\")","v":"Maplink1"},{"$f":"HYPERLINK(\"https://www.google.iq/maps/search/+30.98,47.3975/@30.98,47.3975,14z?hl=en\",\"Maplink2\")","v":"Maplink2"},{"$f":"HYPERLINK(\"http://www.bing.com/maps/?lvl=14&sty=h&cp=30.98~47.3975&sp=point.30.98_47.3975\",\"Maplink3\")","v":"Maplink3"}]
[1240,"Al-Basrah","Al-Qurna","Markaz Al-Qurna","Hay al-juma_a","البصرة-القرنة-حي جمعة",31.0161889358,47.4284774692,8,48,0,0,0,6,0,12,30,0,0,0,0,0,0,0,0,12,0,0,0,0,0,0,0,12,0,0,0,18,0,6,0,0,0,6,12,24,6,0,0,0,0,0,0,0,0,{"$f":"HYPERLINK(\"http://www.openstreetmap.org/?mlat=31.0162&mlon=47.4285&zoom=12#map=12/31.0162/47.4285\",\"Maplink1\")","v":"Maplink1"},{"$f":"HYPERLINK(\"https://www.google.iq/maps/search/+31.0162,47.4285/@31.0162,47.4285,14z?hl=en\",\"Maplink2\")","v":"Maplink2"},{"$f":"HYPERLINK(\"http://www.bing.com/maps/?lvl=14&sty=h&cp=31.0162~47.4285&sp=point.31.0162_47.4285\",\"Maplink3\")","v":"Maplink3"}]
[1239,"Al-Basrah","Al-Qurna","Markaz Al-Qurna","Al-mezearah","القرنة-المزيرعة ",31.0064472,47.451953,3,18,0,0,0,0,0,0,18,0,0,0,0,0,0,0,0,0,0,0,0,0,0,0,0,18,0,0,0,0,0,0,0,0,0,0,0,0,18,0,0,0,0,0,0,0,0,{"$f":"HYPERLINK(\"http://www.openstreetmap.org/?mlat=31.0064&mlon=47.452&zoom=12#map=12/31.0064/47.452\",\"Maplink1\")","v":"Maplink1"},{"$f":"HYPERLINK(\"https://www.google.iq/maps/search/+31.0064,47.452/@31.0064,47.452,14z?hl=en\",\"Maplink2\")","v":"Maplink2"},{"$f":"HYPERLINK(\"http://www.bing.com/maps/?lvl=14&sty=h&cp=31.0064~47.452&sp=point.31.0064_47.452\",\"Maplink3\")","v":"Maplink3"}]
[1236,"Al-Basrah","Al-Qurna","Markaz Al-Qurna","Al-nesaer","النصير",31.0082119133,47.4199855034,1,6,0,0,0,0,0,0,6,0,0,0,0,0,0,0,0,6,0,0,0,0,0,0,0,0,0,0,0,0,0,0,0,0,0,0,0,0,6,0,0,0,0,0,0,0,0,{"$f":"HYPERLINK(\"http://www.openstreetmap.org/?mlat=31.0082&mlon=47.42&zoom=12#map=12/31.0082/47.42\",\"Maplink1\")","v":"Maplink1"},{"$f":"HYPERLINK(\"https://www.google.iq/maps/search/+31.0082,47.42/@31.0082,47.42,14z?hl=en\",\"Maplink2\")","v":"Maplink2"},{"$f":"HYPERLINK(\"http://www.bing.com/maps/?lvl=14&sty=h&cp=31.0082~47.42&sp=point.31.0082_47.42\",\"Maplink3\")","v":"Maplink3"}]
[1241,"Al-Basrah","Al-Qurna","Markaz Al-Qurna","Al-nehairat","النهيرات",31.0199256543,47.4312737614,3,18,0,0,0,0,0,0,18,0,0,0,0,0,0,0,0,0,0,0,0,0,0,0,0,12,0,0,0,6,0,0,0,0,0,0,0,0,18,0,0,0,0,0,0,0,0,{"$f":"HYPERLINK(\"http://www.openstreetmap.org/?mlat=31.0199&mlon=47.4313&zoom=12#map=12/31.0199/47.4313\",\"Maplink1\")","v":"Maplink1"},{"$f":"HYPERLINK(\"https://www.google.iq/maps/search/+31.0199,47.4313/@31.0199,47.4313,14z?hl=en\",\"Maplink2\")","v":"Maplink2"},{"$f":"HYPERLINK(\"http://www.bing.com/maps/?lvl=14&sty=h&cp=31.0199~47.4313&sp=point.31.0199_47.4313\",\"Maplink3\")","v":"Maplink3"}]
[28407,"Al-Basrah","Al-Qurna","Markaz Al-Qurna","Al Sharsh Shalhat Al-Hassan","الشرش-شلهة الحسن",30.9600868566,47.4567369679,5,30,0,0,0,6,0,0,24,0,0,0,0,0,0,0,0,0,0,0,0,0,0,0,0,0,0,0,0,12,0,18,0,0,0,0,12,12,6,0,0,0,0,0,0,0,0,{"$f":"HYPERLINK(\"http://www.openstreetmap.org/?mlat=30.9601&mlon=47.4567&zoom=12#map=12/30.9601/47.4567\",\"Maplink1\")","v":"Maplink1"},{"$f":"HYPERLINK(\"https://www.google.iq/maps/search/+30.9601,47.4567/@30.9601,47.4567,14z?hl=en\",\"Maplink2\")","v":"Maplink2"},{"$f":"HYPERLINK(\"http://www.bing.com/maps/?lvl=14&sty=h&cp=30.9601~47.4567&sp=point.30.9601_47.4567\",\"Maplink3\")","v":"Maplink3"}]
[25012,"Al-Basrah","Al-Qurna","Markaz Al-Qurna","Al Jelaa","البصره-القرنه-الجلعه",30.9715906327,47.4533395694,9,54,0,0,0,6,0,18,30,0,0,0,0,0,0,0,0,6,0,0,0,0,0,0,0,18,0,0,0,6,0,24,0,0,0,6,6,18,12,12,0,0,0,0,0,0,0,{"$f":"HYPERLINK(\"http://www.openstreetmap.org/?mlat=30.9716&mlon=47.4533&zoom=12#map=12/30.9716/47.4533\",\"Maplink1\")","v":"Maplink1"},{"$f":"HYPERLINK(\"https://www.google.iq/maps/search/+30.9716,47.4533/@30.9716,47.4533,14z?hl=en\",\"Maplink2\")","v":"Maplink2"},{"$f":"HYPERLINK(\"http://www.bing.com/maps/?lvl=14&sty=h&cp=30.9716~47.4533&sp=point.30.9716_47.4533\",\"Maplink3\")","v":"Maplink3"}]
[24677,"Al-Basrah","Al-Zubair","Markaz Al-Zubair","Al Petro","الزبير-البيترو",30.3214464711,47.7212469745,2,12,0,0,0,6,0,0,6,0,0,0,0,0,0,0,0,0,0,0,0,0,0,0,0,0,0,0,0,12,0,0,0,0,0,0,6,6,0,0,0,0,0,0,0,0,0,{"$f":"HYPERLINK(\"http://www.openstreetmap.org/?mlat=30.3214&mlon=47.7212&zoom=12#map=12/30.3214/47.7212\",\"Maplink1\")","v":"Maplink1"},{"$f":"HYPERLINK(\"https://www.google.iq/maps/search/+30.3214,47.7212/@30.3214,47.7212,14z?hl=en\",\"Maplink2\")","v":"Maplink2"},{"$f":"HYPERLINK(\"http://www.bing.com/maps/?lvl=14&sty=h&cp=30.3214~47.7212&sp=point.30.3214_47.7212\",\"Maplink3\")","v":"Maplink3"}]
[760,"Al-Basrah","Al-Zubair","Markaz Al-Zubair","Al-jamhoriyah al-thaniyah","الجمهورية 2",30.3888939141,47.7138299642,10,60,0,0,0,0,0,0,60,0,0,0,0,0,0,0,0,42,0,0,0,0,0,0,0,0,0,0,0,0,0,18,0,0,0,0,0,12,36,12,0,0,0,0,0,0,0,{"$f":"HYPERLINK(\"http://www.openstreetmap.org/?mlat=30.3889&mlon=47.7138&zoom=12#map=12/30.3889/47.7138\",\"Maplink1\")","v":"Maplink1"},{"$f":"HYPERLINK(\"https://www.google.iq/maps/search/+30.3889,47.7138/@30.3889,47.7138,14z?hl=en\",\"Maplink2\")","v":"Maplink2"},{"$f":"HYPERLINK(\"http://www.bing.com/maps/?lvl=14&sty=h&cp=30.3889~47.7138&sp=point.30.3889_47.7138\",\"Maplink3\")","v":"Maplink3"}]
[24229,"Al-Basrah","Al-Zubair","Markaz Al-Zubair","Hay Al-hakim 2","البصرة-الزبير-حي الحكيم-2",30.3810331967,47.707446161,4,24,0,0,0,0,0,6,18,0,0,0,0,0,0,0,0,6,0,12,0,0,0,0,0,0,0,0,0,0,0,6,0,0,0,12,6,6,0,0,0,0,0,0,0,0,0,{"$f":"HYPERLINK(\"http://www.openstreetmap.org/?mlat=30.381&mlon=47.7074&zoom=12#map=12/30.381/47.7074\",\"Maplink1\")","v":"Maplink1"},{"$f":"HYPERLINK(\"https://www.google.iq/maps/search/+30.381,47.7074/@30.381,47.7074,14z?hl=en\",\"Maplink2\")","v":"Maplink2"},{"$f":"HYPERLINK(\"http://www.bing.com/maps/?lvl=14&sty=h&cp=30.381~47.7074&sp=point.30.381_47.7074\",\"Maplink3\")","v":"Maplink3"}]
[367,"Al-Basrah","Al-Zubair","Markaz Al-Zubair","Al Dirhamiyah 1","البصرة-الزبير-الدرهمية 1",30.3776854669,47.7176654559,2,12,0,0,0,0,0,0,12,0,0,0,0,0,0,0,0,0,12,0,0,0,0,0,0,0,0,0,0,0,0,0,0,0,0,0,0,0,12,0,0,0,0,0,0,0,0,{"$f":"HYPERLINK(\"http://www.openstreetmap.org/?mlat=30.3777&mlon=47.7177&zoom=12#map=12/30.3777/47.7177\",\"Maplink1\")","v":"Maplink1"},{"$f":"HYPERLINK(\"https://www.google.iq/maps/search/+30.3777,47.7177/@30.3777,47.7177,14z?hl=en\",\"Maplink2\")","v":"Maplink2"},{"$f":"HYPERLINK(\"http://www.bing.com/maps/?lvl=14&sty=h&cp=30.3777~47.7177&sp=point.30.3777_47.7177\",\"Maplink3\")","v":"Maplink3"}]
[25725,"Al-Basrah","Al-Zubair","Markaz Al-Zubair","Hey Al khatoa","حي الخطوة",30.3929247047,47.7297948642,5,30,0,0,0,0,0,0,30,0,0,0,0,0,0,0,0,0,0,6,0,0,0,0,0,0,0,0,0,0,0,24,0,0,0,0,0,0,30,0,0,0,0,0,0,0,0,{"$f":"HYPERLINK(\"http://www.openstreetmap.org/?mlat=30.3929&mlon=47.7298&zoom=12#map=12/30.3929/47.7298\",\"Maplink1\")","v":"Maplink1"},{"$f":"HYPERLINK(\"https://www.google.iq/maps/search/+30.3929,47.7298/@30.3929,47.7298,14z?hl=en\",\"Maplink2\")","v":"Maplink2"},{"$f":"HYPERLINK(\"http://www.bing.com/maps/?lvl=14&sty=h&cp=30.3929~47.7298&sp=point.30.3929_47.7298\",\"Maplink3\")","v":"Maplink3"}]
[26111,"Al-Basrah","Al-Zubair","Markaz Al-Zubair","Khor Al Zubir-Al Shuqaq","خور الزبير-الشقق",30.2262883523,47.7766188519,6,36,0,0,0,0,0,0,36,0,0,0,0,0,0,0,0,0,0,0,0,0,0,0,0,0,0,0,0,0,0,36,0,0,0,0,18,6,0,6,6,0,0,0,0,0,0,{"$f":"HYPERLINK(\"http://www.openstreetmap.org/?mlat=30.2263&mlon=47.7766&zoom=12#map=12/30.2263/47.7766\",\"Maplink1\")","v":"Maplink1"},{"$f":"HYPERLINK(\"https://www.google.iq/maps/search/+30.2263,47.7766/@30.2263,47.7766,14z?hl=en\",\"Maplink2\")","v":"Maplink2"},{"$f":"HYPERLINK(\"http://www.bing.com/maps/?lvl=14&sty=h&cp=30.2263~47.7766&sp=point.30.2263_47.7766\",\"Maplink3\")","v":"Maplink3"}]
[26109,"Al-Basrah","Al-Zubair","Markaz Al-Zubair","Khor Al zubir-Hay Al-Hakeem","خور الزبير-حي الحكيم",30.2276214407,47.7842157889,2,12,0,0,0,0,0,0,0,0,12,0,0,0,0,0,0,0,0,0,0,0,0,0,0,6,0,0,0,6,0,0,0,0,0,0,6,6,0,0,0,0,0,0,0,0,0,{"$f":"HYPERLINK(\"http://www.openstreetmap.org/?mlat=30.2276&mlon=47.7842&zoom=12#map=12/30.2276/47.7842\",\"Maplink1\")","v":"Maplink1"},{"$f":"HYPERLINK(\"https://www.google.iq/maps/search/+30.2276,47.7842/@30.2276,47.7842,14z?hl=en\",\"Maplink2\")","v":"Maplink2"},{"$f":"HYPERLINK(\"http://www.bing.com/maps/?lvl=14&sty=h&cp=30.2276~47.7842&sp=point.30.2276_47.7842\",\"Maplink3\")","v":"Maplink3"}]
[23976,"Al-Basrah","Al-Zubair","Markaz Al-Zubair","Mahalat Al-Arab","البصرة-الزبير-محلة العرب",30.3956092094,47.6920156925,25,150,0,0,0,24,0,0,126,0,0,0,0,0,0,0,0,54,0,0,0,0,0,0,0,6,0,0,0,30,0,60,0,0,0,0,42,12,18,60,0,18,0,0,0,0,0,{"$f":"HYPERLINK(\"http://www.openstreetmap.org/?mlat=30.3956&mlon=47.692&zoom=12#map=12/30.3956/47.692\",\"Maplink1\")","v":"Maplink1"},{"$f":"HYPERLINK(\"https://www.google.iq/maps/search/+30.3956,47.692/@30.3956,47.692,14z?hl=en\",\"Maplink2\")","v":"Maplink2"},{"$f":"HYPERLINK(\"http://www.bing.com/maps/?lvl=14&sty=h&cp=30.3956~47.692&sp=point.30.3956_47.692\",\"Maplink3\")","v":"Maplink3"}]
[509,"Al-Basrah","Al-Zubair","Markaz Al-Zubair","Al-Shemal Area","البصرة-الزبير-محلة الشمال",30.3980241153,47.7089659524,42,252,0,0,0,36,0,0,216,0,0,0,0,0,0,0,0,30,0,0,0,0,0,0,0,0,0,0,0,48,0,174,0,0,0,48,54,42,66,0,18,24,0,0,0,0,0,{"$f":"HYPERLINK(\"http://www.openstreetmap.org/?mlat=30.398&mlon=47.709&zoom=12#map=12/30.398/47.709\",\"Maplink1\")","v":"Maplink1"},{"$f":"HYPERLINK(\"https://www.google.iq/maps/search/+30.398,47.709/@30.398,47.709,14z?hl=en\",\"Maplink2\")","v":"Maplink2"},{"$f":"HYPERLINK(\"http://www.bing.com/maps/?lvl=14&sty=h&cp=30.398~47.709&sp=point.30.398_47.709\",\"Maplink3\")","v":"Maplink3"}]
[24279,"Al-Basrah","Al-Zubair","Markaz Al-Zubair","Al Dawajin","الزبير-الدواجن",30.351443489,47.7419848904,1,6,0,0,0,0,0,0,6,0,0,0,0,0,0,0,0,0,0,0,0,0,0,0,0,0,0,0,0,0,0,6,0,0,0,0,6,0,0,0,0,0,0,0,0,0,0,{"$f":"HYPERLINK(\"http://www.openstreetmap.org/?mlat=30.3514&mlon=47.742&zoom=12#map=12/30.3514/47.742\",\"Maplink1\")","v":"Maplink1"},{"$f":"HYPERLINK(\"https://www.google.iq/maps/search/+30.3514,47.742/@30.3514,47.742,14z?hl=en\",\"Maplink2\")","v":"Maplink2"},{"$f":"HYPERLINK(\"http://www.bing.com/maps/?lvl=14&sty=h&cp=30.3514~47.742&sp=point.30.3514_47.742\",\"Maplink3\")","v":"Maplink3"}]
[25463,"Al-Basrah","Al-Zubair","Markaz Al-Zubair","Al-Shuaiba Hay Al-Murtadh","الشعيبة حي المرتضى",30.4295577949,47.6790969193,8,48,0,0,0,0,0,0,48,0,0,0,0,0,0,0,0,6,0,0,0,0,0,0,0,24,0,0,0,18,0,0,0,0,0,0,0,0,48,0,0,0,0,0,0,0,0,{"$f":"HYPERLINK(\"http://www.openstreetmap.org/?mlat=30.4296&mlon=47.6791&zoom=12#map=12/30.4296/47.6791\",\"Maplink1\")","v":"Maplink1"},{"$f":"HYPERLINK(\"https://www.google.iq/maps/search/+30.4296,47.6791/@30.4296,47.6791,14z?hl=en\",\"Maplink2\")","v":"Maplink2"},{"$f":"HYPERLINK(\"http://www.bing.com/maps/?lvl=14&sty=h&cp=30.4296~47.6791&sp=point.30.4296_47.6791\",\"Maplink3\")","v":"Maplink3"}]
[767,"Al-Basrah","Al-Zubair","Markaz Al-Zubair","Al-jamhoriyah al-olah","البصرة-الزبير-الجمهورية 1",30.390702051,47.7085846241,6,36,0,0,0,0,0,0,36,0,0,0,0,0,0,0,0,12,0,0,0,0,0,0,0,0,0,0,0,0,0,24,0,0,0,0,0,6,30,0,0,0,0,0,0,0,0,{"$f":"HYPERLINK(\"http://www.openstreetmap.org/?mlat=30.3907&mlon=47.7086&zoom=12#map=12/30.3907/47.7086\",\"Maplink1\")","v":"Maplink1"},{"$f":"HYPERLINK(\"https://www.google.iq/maps/search/+30.3907,47.7086/@30.3907,47.7086,14z?hl=en\",\"Maplink2\")","v":"Maplink2"},{"$f":"HYPERLINK(\"http://www.bing.com/maps/?lvl=14&sty=h&cp=30.3907~47.7086&sp=point.30.3907_47.7086\",\"Maplink3\")","v":"Maplink3"}]
[764,"Al-Basrah","Al-Zubair","Markaz Al-Zubair","Al-rasheidiyah al-thaniyah","البصرة-الزبير-الرشيدية 2",30.3934929175,47.7044125141,5,30,0,0,0,0,0,0,30,0,0,0,0,0,0,0,0,18,0,0,0,0,0,0,0,6,0,0,0,6,0,0,0,0,0,0,0,6,12,6,0,6,0,0,0,0,0,{"$f":"HYPERLINK(\"http://www.openstreetmap.org/?mlat=30.3935&mlon=47.7044&zoom=12#map=12/30.3935/47.7044\",\"Maplink1\")","v":"Maplink1"},{"$f":"HYPERLINK(\"https://www.google.iq/maps/search/+30.3935,47.7044/@30.3935,47.7044,14z?hl=en\",\"Maplink2\")","v":"Maplink2"},{"$f":"HYPERLINK(\"http://www.bing.com/maps/?lvl=14&sty=h&cp=30.3935~47.7044&sp=point.30.3935_47.7044\",\"Maplink3\")","v":"Maplink3"}]
[1311,"Al-Basrah","Al-Zubair","Markaz Al-Zubair","Hay Al Sajad","حي السجاد",30.3837618558,47.7199414782,5,30,0,0,0,6,0,0,24,0,0,0,0,0,0,0,0,18,0,0,0,0,6,0,0,0,0,0,0,6,0,0,0,0,0,12,6,0,6,0,0,6,0,0,0,0,0,{"$f":"HYPERLINK(\"http://www.openstreetmap.org/?mlat=30.3838&mlon=47.7199&zoom=12#map=12/30.3838/47.7199\",\"Maplink1\")","v":"Maplink1"},{"$f":"HYPERLINK(\"https://www.google.iq/maps/search/+30.3838,47.7199/@30.3838,47.7199,14z?hl=en\",\"Maplink2\")","v":"Maplink2"},{"$f":"HYPERLINK(\"http://www.bing.com/maps/?lvl=14&sty=h&cp=30.3838~47.7199&sp=point.30.3838_47.7199\",\"Maplink3\")","v":"Maplink3"}]
[25225,"Al-Basrah","Al-Zubair","Markaz Al-Zubair","Hay Alansar 1","البصرة-الزبير-حي الانصار 1",30.3636755829,47.7191638502,4,24,0,0,0,6,0,0,18,0,0,0,0,0,0,0,0,0,0,0,0,0,0,0,0,6,0,0,0,0,0,18,0,0,0,0,12,12,0,0,0,0,0,0,0,0,0,{"$f":"HYPERLINK(\"http://www.openstreetmap.org/?mlat=30.3637&mlon=47.7192&zoom=12#map=12/30.3637/47.7192\",\"Maplink1\")","v":"Maplink1"},{"$f":"HYPERLINK(\"https://www.google.iq/maps/search/+30.3637,47.7192/@30.3637,47.7192,14z?hl=en\",\"Maplink2\")","v":"Maplink2"},{"$f":"HYPERLINK(\"http://www.bing.com/maps/?lvl=14&sty=h&cp=30.3637~47.7192&sp=point.30.3637_47.7192\",\"Maplink3\")","v":"Maplink3"}]
[1277,"Al-Basrah","Al-Zubair","Markaz Al-Zubair","Hay Al Hussain","البصرة-الزبير-حي الحسين",30.3769432809,47.7290953663,8,48,0,0,0,0,0,30,18,0,0,0,0,0,0,0,0,6,0,0,0,0,0,0,0,12,0,0,0,24,0,6,0,0,0,0,6,6,18,6,0,12,0,0,0,0,0,{"$f":"HYPERLINK(\"http://www.openstreetmap.org/?mlat=30.3769&mlon=47.7291&zoom=12#map=12/30.3769/47.7291\",\"Maplink1\")","v":"Maplink1"},{"$f":"HYPERLINK(\"https://www.google.iq/maps/search/+30.3769,47.7291/@30.3769,47.7291,14z?hl=en\",\"Maplink2\")","v":"Maplink2"},{"$f":"HYPERLINK(\"http://www.bing.com/maps/?lvl=14&sty=h&cp=30.3769~47.7291&sp=point.30.3769_47.7291\",\"Maplink3\")","v":"Maplink3"}]
[757,"Al-Basrah","Al-Zubair","Markaz Al-Zubair","Al-marbed al-kadeem","المربد القديم ",30.3864505021,47.6874747337,2,12,0,0,0,0,0,0,12,0,0,0,0,0,0,0,0,6,0,0,0,0,0,0,0,0,0,0,0,6,0,0,0,0,0,0,6,0,0,0,0,6,0,0,0,0,0,{"$f":"HYPERLINK(\"http://www.openstreetmap.org/?mlat=30.3865&mlon=47.6875&zoom=12#map=12/30.3865/47.6875\",\"Maplink1\")","v":"Maplink1"},{"$f":"HYPERLINK(\"https://www.google.iq/maps/search/+30.3865,47.6875/@30.3865,47.6875,14z?hl=en\",\"Maplink2\")","v":"Maplink2"},{"$f":"HYPERLINK(\"http://www.bing.com/maps/?lvl=14&sty=h&cp=30.3865~47.6875&sp=point.30.3865_47.6875\",\"Maplink3\")","v":"Maplink3"}]
[24676,"Al-Basrah","Al-Zubair","Markaz Al-Zubair","Al Rumilah Al Shamaliyah","البصرة-الزبير-الرميلة الشمالية",30.5603299269,47.3728160728,1,6,0,0,0,0,0,0,6,0,0,0,0,0,0,0,0,0,0,0,0,0,0,0,0,0,0,0,0,6,0,0,0,0,0,0,0,0,6,0,0,0,0,0,0,0,0,{"$f":"HYPERLINK(\"http://www.openstreetmap.org/?mlat=30.5603&mlon=47.3728&zoom=12#map=12/30.5603/47.3728\",\"Maplink1\")","v":"Maplink1"},{"$f":"HYPERLINK(\"https://www.google.iq/maps/search/+30.5603,47.3728/@30.5603,47.3728,14z?hl=en\",\"Maplink2\")","v":"Maplink2"},{"$f":"HYPERLINK(\"http://www.bing.com/maps/?lvl=14&sty=h&cp=30.5603~47.3728&sp=point.30.5603_47.3728\",\"Maplink3\")","v":"Maplink3"}]
[1281,"Al-Basrah","Al-Zubair","Markaz Al-Zubair","Al-Dur Al-Jahiza","البصرة-الزبير-دور الجاهزة",30.3882592678,47.7145080454,2,12,0,0,0,0,0,6,6,0,0,0,0,0,0,0,0,6,0,0,0,0,0,0,0,0,0,0,0,0,0,6,0,0,0,0,0,0,6,6,0,0,0,0,0,0,0,{"$f":"HYPERLINK(\"http://www.openstreetmap.org/?mlat=30.3883&mlon=47.7145&zoom=12#map=12/30.3883/47.7145\",\"Maplink1\")","v":"Maplink1"},{"$f":"HYPERLINK(\"https://www.google.iq/maps/search/+30.3883,47.7145/@30.3883,47.7145,14z?hl=en\",\"Maplink2\")","v":"Maplink2"},{"$f":"HYPERLINK(\"http://www.bing.com/maps/?lvl=14&sty=h&cp=30.3883~47.7145&sp=point.30.3883_47.7145\",\"Maplink3\")","v":"Maplink3"}]
[25226,"Al-Basrah","Al-Zubair","Markaz Al-Zubair","Hay Alansar 2","البصرة-الزبير-حي الانصار2",30.3591869004,47.7188664281,4,24,0,0,0,0,0,0,24,0,0,0,0,0,0,0,0,6,0,0,0,0,0,0,0,0,0,0,0,0,0,18,0,0,0,12,0,0,6,6,0,0,0,0,0,0,0,{"$f":"HYPERLINK(\"http://www.openstreetmap.org/?mlat=30.3592&mlon=47.7189&zoom=12#map=12/30.3592/47.7189\",\"Maplink1\")","v":"Maplink1"},{"$f":"HYPERLINK(\"https://www.google.iq/maps/search/+30.3592,47.7189/@30.3592,47.7189,14z?hl=en\",\"Maplink2\")","v":"Maplink2"},{"$f":"HYPERLINK(\"http://www.bing.com/maps/?lvl=14&sty=h&cp=30.3592~47.7189&sp=point.30.3592_47.7189\",\"Maplink3\")","v":"Maplink3"}]
[23898,"Al-Basrah","Al-Zubair","Markaz Al-Zubair","khor Al Zubair-Hay AL Hasan","البصرة-الزبير-خور الزبير-حي الحسن",30.2337446464,47.7625571836,1,6,0,0,0,0,0,0,6,0,0,0,0,0,0,0,0,6,0,0,0,0,0,0,0,0,0,0,0,0,0,0,0,0,0,0,0,0,6,0,0,0,0,0,0,0,0,{"$f":"HYPERLINK(\"http://www.openstreetmap.org/?mlat=30.2337&mlon=47.7626&zoom=12#map=12/30.2337/47.7626\",\"Maplink1\")","v":"Maplink1"},{"$f":"HYPERLINK(\"https://www.google.iq/maps/search/+30.2337,47.7626/@30.2337,47.7626,14z?hl=en\",\"Maplink2\")","v":"Maplink2"},{"$f":"HYPERLINK(\"http://www.bing.com/maps/?lvl=14&sty=h&cp=30.2337~47.7626&sp=point.30.2337_47.7626\",\"Maplink3\")","v":"Maplink3"}]
[25462,"Al-Basrah","Al-Zubair","Markaz Al-Zubair","Village Al-Nakheel Al-Asria","قرية النخيل العصرية",30.3566035721,47.7173399283,3,18,0,0,0,0,0,0,18,0,0,0,0,0,0,0,0,0,0,0,0,0,0,0,0,0,0,0,0,0,0,18,0,0,0,6,0,0,12,0,0,0,0,0,0,0,0,{"$f":"HYPERLINK(\"http://www.openstreetmap.org/?mlat=30.3566&mlon=47.7173&zoom=12#map=12/30.3566/47.7173\",\"Maplink1\")","v":"Maplink1"},{"$f":"HYPERLINK(\"https://www.google.iq/maps/search/+30.3566,47.7173/@30.3566,47.7173,14z?hl=en\",\"Maplink2\")","v":"Maplink2"},{"$f":"HYPERLINK(\"http://www.bing.com/maps/?lvl=14&sty=h&cp=30.3566~47.7173&sp=point.30.3566_47.7173\",\"Maplink3\")","v":"Maplink3"}]
[1304,"Al-Basrah","Al-Zubair","Markaz Al-Zubair","Hay Al Fedaa","حي الفداء ",30.3706540774,47.7192889876,4,24,0,0,0,0,0,0,24,0,0,0,0,0,0,0,0,0,0,0,0,0,0,0,0,6,0,0,0,6,0,12,0,0,0,0,0,0,18,6,0,0,0,0,0,0,0,{"$f":"HYPERLINK(\"http://www.openstreetmap.org/?mlat=30.3707&mlon=47.7193&zoom=12#map=12/30.3707/47.7193\",\"Maplink1\")","v":"Maplink1"},{"$f":"HYPERLINK(\"https://www.google.iq/maps/search/+30.3707,47.7193/@30.3707,47.7193,14z?hl=en\",\"Maplink2\")","v":"Maplink2"},{"$f":"HYPERLINK(\"http://www.bing.com/maps/?lvl=14&sty=h&cp=30.3707~47.7193&sp=point.30.3707_47.7193\",\"Maplink3\")","v":"Maplink3"}]
[27196,"Al-Basrah","Al-Zubair","Markaz Al-Zubair","khor Al Zubair-Hay Al Baqer Al Ula","خور الزبير-الباقر الاولى",30.225747849,47.7685625294,2,12,0,0,0,6,0,0,6,0,0,0,0,0,0,0,0,0,6,0,0,0,0,0,0,0,0,0,0,6,0,0,0,0,0,0,0,6,0,0,0,6,0,0,0,0,0,{"$f":"HYPERLINK(\"http://www.openstreetmap.org/?mlat=30.2257&mlon=47.7686&zoom=12#map=12/30.2257/47.7686\",\"Maplink1\")","v":"Maplink1"},{"$f":"HYPERLINK(\"https://www.google.iq/maps/search/+30.2257,47.7686/@30.2257,47.7686,14z?hl=en\",\"Maplink2\")","v":"Maplink2"},{"$f":"HYPERLINK(\"http://www.bing.com/maps/?lvl=14&sty=h&cp=30.2257~47.7686&sp=point.30.2257_47.7686\",\"Maplink3\")","v":"Maplink3"}]
[753,"Al-Basrah","Al-Zubair","Markaz Al-Zubair","Al-Kut","الزبير-الكوت",30.3851590166,47.7057948553,7,42,0,0,0,0,0,0,42,0,0,0,0,0,0,0,0,6,0,0,0,0,0,0,0,0,0,0,0,12,0,24,0,0,0,6,0,12,6,0,6,6,6,0,0,0,0,{"$f":"HYPERLINK(\"http://www.openstreetmap.org/?mlat=30.3852&mlon=47.7058&zoom=12#map=12/30.3852/47.7058\",\"Maplink1\")","v":"Maplink1"},{"$f":"HYPERLINK(\"https://www.google.iq/maps/search/+30.3852,47.7058/@30.3852,47.7058,14z?hl=en\",\"Maplink2\")","v":"Maplink2"},{"$f":"HYPERLINK(\"http://www.bing.com/maps/?lvl=14&sty=h&cp=30.3852~47.7058&sp=point.30.3852_47.7058\",\"Maplink3\")","v":"Maplink3"}]
[30700,"Al-Basrah","Al-Zubair","Markaz Al-Zubair","Door Al-Mokawalat","دور المقاولات",30.3444583124,47.7177539056,3,18,0,0,0,0,0,18,0,0,0,0,0,0,0,0,0,0,0,0,0,0,0,0,0,0,0,0,0,0,0,18,0,0,0,0,18,0,0,0,0,0,0,0,0,0,0,{"$f":"HYPERLINK(\"http://www.openstreetmap.org/?mlat=30.3445&mlon=47.7178&zoom=12#map=12/30.3445/47.7178\",\"Maplink1\")","v":"Maplink1"},{"$f":"HYPERLINK(\"https://www.google.iq/maps/search/+30.3445,47.7178/@30.3445,47.7178,14z?hl=en\",\"Maplink2\")","v":"Maplink2"},{"$f":"HYPERLINK(\"http://www.bing.com/maps/?lvl=14&sty=h&cp=30.3445~47.7178&sp=point.30.3445_47.7178\",\"Maplink3\")","v":"Maplink3"}]
[779,"Al-Basrah","Al-Zubair","Markaz Al-Zubair","Al-Rasheidiyah Alolh","البصرة-الزبير-الرشيدية 1",30.3968890615,47.7018999543,17,102,0,0,0,6,0,0,96,0,0,0,0,0,0,0,0,6,0,0,0,0,6,0,0,0,0,0,0,18,0,72,0,0,0,6,6,6,84,0,0,0,0,0,0,0,0,{"$f":"HYPERLINK(\"http://www.openstreetmap.org/?mlat=30.3969&mlon=47.7019&zoom=12#map=12/30.3969/47.7019\",\"Maplink1\")","v":"Maplink1"},{"$f":"HYPERLINK(\"https://www.google.iq/maps/search/+30.3969,47.7019/@30.3969,47.7019,14z?hl=en\",\"Maplink2\")","v":"Maplink2"},{"$f":"HYPERLINK(\"http://www.bing.com/maps/?lvl=14&sty=h&cp=30.3969~47.7019&sp=point.30.3969_47.7019\",\"Maplink3\")","v":"Maplink3"}]
[1312,"Al-Basrah","Al-Zubair","Markaz Al-Zubair","Al-Zubair Hay AlAthar","البصرة-الزبير-حي الاثار",30.3968379909,47.7179990527,1,6,0,0,0,0,0,0,6,0,0,0,0,0,0,0,0,0,6,0,0,0,0,0,0,0,0,0,0,0,0,0,0,0,0,0,6,0,0,0,0,0,0,0,0,0,0,{"$f":"HYPERLINK(\"http://www.openstreetmap.org/?mlat=30.3968&mlon=47.718&zoom=12#map=12/30.3968/47.718\",\"Maplink1\")","v":"Maplink1"},{"$f":"HYPERLINK(\"https://www.google.iq/maps/search/+30.3968,47.718/@30.3968,47.718,14z?hl=en\",\"Maplink2\")","v":"Maplink2"},{"$f":"HYPERLINK(\"http://www.bing.com/maps/?lvl=14&sty=h&cp=30.3968~47.718&sp=point.30.3968_47.718\",\"Maplink3\")","v":"Maplink3"}]
[25227,"Al-Basrah","Al-Zubair","Markaz Al-Zubair","Hay Alansar 3","البصرة-الزبير-حي الانصار3",30.3615645588,47.7237507456,2,12,0,0,0,0,0,0,12,0,0,0,0,0,0,0,0,12,0,0,0,0,0,0,0,0,0,0,0,0,0,0,0,0,0,0,12,0,0,0,0,0,0,0,0,0,0,{"$f":"HYPERLINK(\"http://www.openstreetmap.org/?mlat=30.3616&mlon=47.7238&zoom=12#map=12/30.3616/47.7238\",\"Maplink1\")","v":"Maplink1"},{"$f":"HYPERLINK(\"https://www.google.iq/maps/search/+30.3616,47.7238/@30.3616,47.7238,14z?hl=en\",\"Maplink2\")","v":"Maplink2"},{"$f":"HYPERLINK(\"http://www.bing.com/maps/?lvl=14&sty=h&cp=30.3616~47.7238&sp=point.30.3616_47.7238\",\"Maplink3\")","v":"Maplink3"}]
[26107,"Al-Basrah","Al-Zubair","Markaz Al-Zubair","Khor Al zubir-Hay Al Zahra","خور الزبير-حي الزهراء",30.2361954155,47.7610560715,2,12,0,0,0,0,0,0,12,0,0,0,0,0,0,0,0,6,0,0,0,0,0,0,0,0,0,0,0,0,0,6,0,0,0,0,0,0,6,0,6,0,0,0,0,0,0,{"$f":"HYPERLINK(\"http://www.openstreetmap.org/?mlat=30.2362&mlon=47.7611&zoom=12#map=12/30.2362/47.7611\",\"Maplink1\")","v":"Maplink1"},{"$f":"HYPERLINK(\"https://www.google.iq/maps/search/+30.2362,47.7611/@30.2362,47.7611,14z?hl=en\",\"Maplink2\")","v":"Maplink2"},{"$f":"HYPERLINK(\"http://www.bing.com/maps/?lvl=14&sty=h&cp=30.2362~47.7611&sp=point.30.2362_47.7611\",\"Maplink3\")","v":"Maplink3"}]
[28408,"Al-Basrah","Al-Zubair","Markaz Al-Zubair","khor Al Zubair-Hay Al Baqer Al Thaniyah","خور الزبير-الباقر الثانية",30.2273049032,47.763935525,4,24,0,0,0,0,0,0,24,0,0,0,0,0,0,0,0,12,0,0,0,0,0,0,0,0,0,0,0,0,0,12,0,0,0,0,6,0,12,6,0,0,0,0,0,0,0,{"$f":"HYPERLINK(\"http://www.openstreetmap.org/?mlat=30.2273&mlon=47.7639&zoom=12#map=12/30.2273/47.7639\",\"Maplink1\")","v":"Maplink1"},{"$f":"HYPERLINK(\"https://www.google.iq/maps/search/+30.2273,47.7639/@30.2273,47.7639,14z?hl=en\",\"Maplink2\")","v":"Maplink2"},{"$f":"HYPERLINK(\"http://www.bing.com/maps/?lvl=14&sty=h&cp=30.2273~47.7639&sp=point.30.2273_47.7639\",\"Maplink3\")","v":"Maplink3"}]
[756,"Al-Basrah","Al-Zubair","Markaz Al-Zubair","Hay Al Askarye","الزبير حي العسكري",30.3846022707,47.7263927335,4,24,0,0,0,0,0,0,24,0,0,0,0,0,0,0,0,6,0,0,0,0,0,0,0,6,0,0,0,0,0,12,0,0,0,0,0,12,0,6,6,0,0,0,0,0,0,{"$f":"HYPERLINK(\"http://www.openstreetmap.org/?mlat=30.3846&mlon=47.7264&zoom=12#map=12/30.3846/47.7264\",\"Maplink1\")","v":"Maplink1"},{"$f":"HYPERLINK(\"https://www.google.iq/maps/search/+30.3846,47.7264/@30.3846,47.7264,14z?hl=en\",\"Maplink2\")","v":"Maplink2"},{"$f":"HYPERLINK(\"http://www.bing.com/maps/?lvl=14&sty=h&cp=30.3846~47.7264&sp=point.30.3846_47.7264\",\"Maplink3\")","v":"Maplink3"}]
[25015,"Al-Basrah","Al-Zubair","Safwan","Safwan-Hay Al Tahreer","سفوان-حي التحرير",30.1136681191,47.7153315181,1,6,0,0,0,6,0,0,0,0,0,0,0,0,0,0,0,0,0,0,0,0,0,0,0,0,0,0,0,6,0,0,0,0,0,0,0,6,0,0,0,0,0,0,0,0,0,{"$f":"HYPERLINK(\"http://www.openstreetmap.org/?mlat=30.1137&mlon=47.7153&zoom=12#map=12/30.1137/47.7153\",\"Maplink1\")","v":"Maplink1"},{"$f":"HYPERLINK(\"https://www.google.iq/maps/search/+30.1137,47.7153/@30.1137,47.7153,14z?hl=en\",\"Maplink2\")","v":"Maplink2"},{"$f":"HYPERLINK(\"http://www.bing.com/maps/?lvl=14&sty=h&cp=30.1137~47.7153&sp=point.30.1137_47.7153\",\"Maplink3\")","v":"Maplink3"}]
[25018,"Al-Basrah","Al-Zubair","Safwan","Safwan-Hay Al Risala","سفوان-حي الرساله",30.1160889238,47.7177741192,3,18,0,0,0,0,0,0,18,0,0,0,0,0,0,0,0,6,0,0,0,0,0,0,0,0,0,0,0,0,0,12,0,0,0,6,0,0,12,0,0,0,0,0,0,0,0,{"$f":"HYPERLINK(\"http://www.openstreetmap.org/?mlat=30.1161&mlon=47.7178&zoom=12#map=12/30.1161/47.7178\",\"Maplink1\")","v":"Maplink1"},{"$f":"HYPERLINK(\"https://www.google.iq/maps/search/+30.1161,47.7178/@30.1161,47.7178,14z?hl=en\",\"Maplink2\")","v":"Maplink2"},{"$f":"HYPERLINK(\"http://www.bing.com/maps/?lvl=14&sty=h&cp=30.1161~47.7178&sp=point.30.1161_47.7178\",\"Maplink3\")","v":"Maplink3"}]
[27294,"Al-Basrah","Al-Zubair","Um Qasr","Umm Qasr-Hay Al-Qaeda","ام قصر-حي القاعدة",30.0175146,47.9373494,2,12,0,0,0,0,0,0,12,0,0,0,0,0,0,0,0,0,0,0,0,0,0,0,0,0,0,0,0,12,0,0,0,0,0,0,0,0,12,0,0,0,0,0,0,0,0,{"$f":"HYPERLINK(\"http://www.openstreetmap.org/?mlat=30.0175&mlon=47.9373&zoom=12#map=12/30.0175/47.9373\",\"Maplink1\")","v":"Maplink1"},{"$f":"HYPERLINK(\"https://www.google.iq/maps/search/+30.0175,47.9373/@30.0175,47.9373,14z?hl=en\",\"Maplink2\")","v":"Maplink2"},{"$f":"HYPERLINK(\"http://www.bing.com/maps/?lvl=14&sty=h&cp=30.0175~47.9373&sp=point.30.0175_47.9373\",\"Maplink3\")","v":"Maplink3"}]
[27295,"Al-Basrah","Al-Zubair","Um Qasr","Umm Qasr-Al-hindiyah Al-Janobia","ام قصر-الهندية الجنوبية",30.0309122,47.9191197,1,6,0,0,0,0,0,0,0,0,6,0,0,0,0,0,0,0,0,0,0,0,0,0,0,0,0,0,0,6,0,0,0,0,0,0,0,6,0,0,0,0,0,0,0,0,0,{"$f":"HYPERLINK(\"http://www.openstreetmap.org/?mlat=30.0309&mlon=47.9191&zoom=12#map=12/30.0309/47.9191\",\"Maplink1\")","v":"Maplink1"},{"$f":"HYPERLINK(\"https://www.google.iq/maps/search/+30.0309,47.9191/@30.0309,47.9191,14z?hl=en\",\"Maplink2\")","v":"Maplink2"},{"$f":"HYPERLINK(\"http://www.bing.com/maps/?lvl=14&sty=h&cp=30.0309~47.9191&sp=point.30.0309_47.9191\",\"Maplink3\")","v":"Maplink3"}]
[651,"Al-Basrah","Al-Zubair","Um Qasr","Door al-farook","حي الفاروق ",30.0371919,47.9160836,1,6,0,0,0,0,0,0,6,0,0,0,0,0,0,0,0,6,0,0,0,0,0,0,0,0,0,0,0,0,0,0,0,0,0,0,0,0,0,6,0,0,0,0,0,0,0,{"$f":"HYPERLINK(\"http://www.openstreetmap.org/?mlat=30.0372&mlon=47.9161&zoom=12#map=12/30.0372/47.9161\",\"Maplink1\")","v":"Maplink1"},{"$f":"HYPERLINK(\"https://www.google.iq/maps/search/+30.0372,47.9161/@30.0372,47.9161,14z?hl=en\",\"Maplink2\")","v":"Maplink2"},{"$f":"HYPERLINK(\"http://www.bing.com/maps/?lvl=14&sty=h&cp=30.0372~47.9161&sp=point.30.0372_47.9161\",\"Maplink3\")","v":"Maplink3"}]
[33593,"Al-Basrah","Al-Zubair","Um Qasr","Hai Al-Mualemin","ام قصر حي المعلمين",30.0307239,47.9291534,1,6,0,0,0,0,0,6,0,0,0,0,0,0,0,0,0,0,0,0,0,0,0,0,0,0,0,0,0,0,0,6,0,0,0,0,0,6,0,0,0,0,0,0,0,0,0,{"$f":"HYPERLINK(\"http://www.openstreetmap.org/?mlat=30.0307&mlon=47.9292&zoom=12#map=12/30.0307/47.9292\",\"Maplink1\")","v":"Maplink1"},{"$f":"HYPERLINK(\"https://www.google.iq/maps/search/+30.0307,47.9292/@30.0307,47.9292,14z?hl=en\",\"Maplink2\")","v":"Maplink2"},{"$f":"HYPERLINK(\"http://www.bing.com/maps/?lvl=14&sty=h&cp=30.0307~47.9292&sp=point.30.0307_47.9292\",\"Maplink3\")","v":"Maplink3"}]
[30701,"Al-Basrah","Shat Al-Arab","Markaz Shat Al-Arab","Alzregi","الزريجي",30.7591850875,47.7037166502,1,6,0,0,0,6,0,0,0,0,0,0,0,0,0,0,0,0,0,0,0,0,0,0,0,0,0,0,0,6,0,0,0,0,0,0,0,0,0,0,0,6,0,0,0,0,0,{"$f":"HYPERLINK(\"http://www.openstreetmap.org/?mlat=30.7592&mlon=47.7037&zoom=12#map=12/30.7592/47.7037\",\"Maplink1\")","v":"Maplink1"},{"$f":"HYPERLINK(\"https://www.google.iq/maps/search/+30.7592,47.7037/@30.7592,47.7037,14z?hl=en\",\"Maplink2\")","v":"Maplink2"},{"$f":"HYPERLINK(\"http://www.bing.com/maps/?lvl=14&sty=h&cp=30.7592~47.7037&sp=point.30.7592_47.7037\",\"Maplink3\")","v":"Maplink3"}]
[21640,"Al-Basrah","Shat Al-Arab","Markaz Shat Al-Arab","AL Jazira 3","البصرة-شط العرب-الجزيرة 3",30.5982543413,47.7900306894,5,30,0,0,0,6,0,0,24,0,0,0,0,0,0,0,0,0,0,0,0,0,0,0,0,0,0,0,0,18,0,12,0,0,0,0,6,6,18,0,0,0,0,0,0,0,0,{"$f":"HYPERLINK(\"http://www.openstreetmap.org/?mlat=30.5983&mlon=47.79&zoom=12#map=12/30.5983/47.79\",\"Maplink1\")","v":"Maplink1"},{"$f":"HYPERLINK(\"https://www.google.iq/maps/search/+30.5983,47.79/@30.5983,47.79,14z?hl=en\",\"Maplink2\")","v":"Maplink2"},{"$f":"HYPERLINK(\"http://www.bing.com/maps/?lvl=14&sty=h&cp=30.5983~47.79&sp=point.30.5983_47.79\",\"Maplink3\")","v":"Maplink3"}]
[24775,"Al-Basrah","Shat Al-Arab","Markaz Shat Al-Arab","Street 40","شط العرب التنومه-شارع 40",30.5295642377,47.8499189842,2,12,0,0,0,0,0,0,12,0,0,0,0,0,0,0,0,0,0,0,0,0,0,0,0,0,0,0,0,12,0,0,0,0,0,0,6,0,6,0,0,0,0,0,0,0,0,{"$f":"HYPERLINK(\"http://www.openstreetmap.org/?mlat=30.5296&mlon=47.8499&zoom=12#map=12/30.5296/47.8499\",\"Maplink1\")","v":"Maplink1"},{"$f":"HYPERLINK(\"https://www.google.iq/maps/search/+30.5296,47.8499/@30.5296,47.8499,14z?hl=en\",\"Maplink2\")","v":"Maplink2"},{"$f":"HYPERLINK(\"http://www.bing.com/maps/?lvl=14&sty=h&cp=30.5296~47.8499&sp=point.30.5296_47.8499\",\"Maplink3\")","v":"Maplink3"}]
[23517,"Al-Basrah","Shat Al-Arab","Markaz Shat Al-Arab","Al Hota","الحوطة ",30.6490190421,47.771314311,15,90,0,0,0,0,0,66,24,0,0,0,0,0,0,0,0,6,0,0,0,0,0,0,0,12,0,0,0,66,0,6,0,0,0,0,48,12,18,6,0,6,0,0,0,0,0,{"$f":"HYPERLINK(\"http://www.openstreetmap.org/?mlat=30.649&mlon=47.7713&zoom=12#map=12/30.649/47.7713\",\"Maplink1\")","v":"Maplink1"},{"$f":"HYPERLINK(\"https://www.google.iq/maps/search/+30.649,47.7713/@30.649,47.7713,14z?hl=en\",\"Maplink2\")","v":"Maplink2"},{"$f":"HYPERLINK(\"http://www.bing.com/maps/?lvl=14&sty=h&cp=30.649~47.7713&sp=point.30.649_47.7713\",\"Maplink3\")","v":"Maplink3"}]
[1013,"Al-Basrah","Shat Al-Arab","Markaz Shat Al-Arab","Al-Kibasi Kabeer","البصرة-شط العرب-الكباسي الكبير",30.5680931977,47.8188393711,6,36,0,0,0,12,0,24,0,0,0,0,0,0,0,0,0,18,0,0,0,0,0,0,0,12,0,0,0,0,0,6,0,0,0,0,6,12,12,6,0,0,0,0,0,0,0,{"$f":"HYPERLINK(\"http://www.openstreetmap.org/?mlat=30.5681&mlon=47.8188&zoom=12#map=12/30.5681/47.8188\",\"Maplink1\")","v":"Maplink1"},{"$f":"HYPERLINK(\"https://www.google.iq/maps/search/+30.5681,47.8188/@30.5681,47.8188,14z?hl=en\",\"Maplink2\")","v":"Maplink2"},{"$f":"HYPERLINK(\"http://www.bing.com/maps/?lvl=14&sty=h&cp=30.5681~47.8188&sp=point.30.5681_47.8188\",\"Maplink3\")","v":"Maplink3"}]
[960,"Al-Basrah","Shat Al-Arab","Markaz Shat Al-Arab","Hay al-jami_a","البصرة-شط العرب-حي الجامعة",30.5404231643,47.8551692155,4,24,0,0,0,0,0,0,6,0,18,0,0,0,0,0,0,0,0,0,0,0,0,0,0,6,0,0,0,0,0,18,0,0,0,0,0,0,24,0,0,0,0,0,0,0,0,{"$f":"HYPERLINK(\"http://www.openstreetmap.org/?mlat=30.5404&mlon=47.8552&zoom=12#map=12/30.5404/47.8552\",\"Maplink1\")","v":"Maplink1"},{"$f":"HYPERLINK(\"https://www.google.iq/maps/search/+30.5404,47.8552/@30.5404,47.8552,14z?hl=en\",\"Maplink2\")","v":"Maplink2"},{"$f":"HYPERLINK(\"http://www.bing.com/maps/?lvl=14&sty=h&cp=30.5404~47.8552&sp=point.30.5404_47.8552\",\"Maplink3\")","v":"Maplink3"}]
[1032,"Al-Basrah","Shat Al-Arab","Markaz Shat Al-Arab","Al Jazira-2","البصرة-شط العرب-الجزيرة 2",30.5839362429,47.7809666126,1,6,0,0,0,0,0,0,6,0,0,0,0,0,0,0,0,0,0,0,0,0,0,0,0,6,0,0,0,0,0,0,0,0,0,0,0,6,0,0,0,0,0,0,0,0,0,{"$f":"HYPERLINK(\"http://www.openstreetmap.org/?mlat=30.5839&mlon=47.781&zoom=12#map=12/30.5839/47.781\",\"Maplink1\")","v":"Maplink1"},{"$f":"HYPERLINK(\"https://www.google.iq/maps/search/+30.5839,47.781/@30.5839,47.781,14z?hl=en\",\"Maplink2\")","v":"Maplink2"},{"$f":"HYPERLINK(\"http://www.bing.com/maps/?lvl=14&sty=h&cp=30.5839~47.781&sp=point.30.5839_47.781\",\"Maplink3\")","v":"Maplink3"}]
[936,"Al-Basrah","Shat Al-Arab","Markaz Shat Al-Arab","Geridlan","شط العرب التنومه-كردلان",30.5337214266,47.8446232327,4,24,0,0,0,0,0,0,24,0,0,0,0,0,0,0,0,0,0,0,0,0,12,0,0,12,0,0,0,0,0,0,0,0,0,6,6,12,0,0,0,0,0,0,0,0,0,{"$f":"HYPERLINK(\"http://www.openstreetmap.org/?mlat=30.5337&mlon=47.8446&zoom=12#map=12/30.5337/47.8446\",\"Maplink1\")","v":"Maplink1"},{"$f":"HYPERLINK(\"https://www.google.iq/maps/search/+30.5337,47.8446/@30.5337,47.8446,14z?hl=en\",\"Maplink2\")","v":"Maplink2"},{"$f":"HYPERLINK(\"http://www.bing.com/maps/?lvl=14&sty=h&cp=30.5337~47.8446&sp=point.30.5337_47.8446\",\"Maplink3\")","v":"Maplink3"}]
[25461,"Al-Basrah","Shat Al-Arab","Markaz Shat Al-Arab","Shatt Al-Arab-Tanoma-17 St","التنومه شارع 17",30.5311961014,47.856341939,4,24,0,0,0,0,0,0,24,0,0,0,0,0,0,0,0,0,24,0,0,0,0,0,0,0,0,0,0,0,0,0,0,0,0,0,24,0,0,0,0,0,0,0,0,0,0,{"$f":"HYPERLINK(\"http://www.openstreetmap.org/?mlat=30.5312&mlon=47.8563&zoom=12#map=12/30.5312/47.8563\",\"Maplink1\")","v":"Maplink1"},{"$f":"HYPERLINK(\"https://www.google.iq/maps/search/+30.5312,47.8563/@30.5312,47.8563,14z?hl=en\",\"Maplink2\")","v":"Maplink2"},{"$f":"HYPERLINK(\"http://www.bing.com/maps/?lvl=14&sty=h&cp=30.5312~47.8563&sp=point.30.5312_47.8563\",\"Maplink3\")","v":"Maplink3"}]
[24531,"Al-Basrah","Shat Al-Arab","Markaz Shat Al-Arab","Shatt Al-Arab-Tanoma-36 St","شط العرب التنومه-شارع 36",30.5309679213,47.851351513,2,12,0,0,0,0,0,0,12,0,0,0,0,0,0,0,0,0,0,0,0,0,0,0,0,12,0,0,0,0,0,0,0,0,0,0,12,0,0,0,0,0,0,0,0,0,0,{"$f":"HYPERLINK(\"http://www.openstreetmap.org/?mlat=30.531&mlon=47.8514&zoom=12#map=12/30.531/47.8514\",\"Maplink1\")","v":"Maplink1"},{"$f":"HYPERLINK(\"https://www.google.iq/maps/search/+30.531,47.8514/@30.531,47.8514,14z?hl=en\",\"Maplink2\")","v":"Maplink2"},{"$f":"HYPERLINK(\"http://www.bing.com/maps/?lvl=14&sty=h&cp=30.531~47.8514&sp=point.30.531_47.8514\",\"Maplink3\")","v":"Maplink3"}]
[645,"Al-Basrah","Shat Al-Arab","Outba","As salehiyah","الصالحية ",30.5158897946,47.8712093535,21,126,0,0,0,12,0,102,12,0,0,0,0,0,0,0,0,6,0,102,0,0,6,0,0,12,0,0,0,0,0,0,0,0,0,0,6,24,96,0,0,0,0,0,0,0,0,{"$f":"HYPERLINK(\"http://www.openstreetmap.org/?mlat=30.5159&mlon=47.8712&zoom=12#map=12/30.5159/47.8712\",\"Maplink1\")","v":"Maplink1"},{"$f":"HYPERLINK(\"https://www.google.iq/maps/search/+30.5159,47.8712/@30.5159,47.8712,14z?hl=en\",\"Maplink2\")","v":"Maplink2"},{"$f":"HYPERLINK(\"http://www.bing.com/maps/?lvl=14&sty=h&cp=30.5159~47.8712&sp=point.30.5159_47.8712\",\"Maplink3\")","v":"Maplink3"}]
[23261,"Al-Basrah","Shat Al-Arab","Outba","Al Sahel village","شط العرب التنومه-الساحل",30.5203862532,47.8525876277,2,12,0,0,0,0,0,0,12,0,0,0,0,0,0,0,0,0,0,0,0,0,0,0,0,0,0,0,0,6,0,6,0,0,0,0,0,6,6,0,0,0,0,0,0,0,0,{"$f":"HYPERLINK(\"http://www.openstreetmap.org/?mlat=30.5204&mlon=47.8526&zoom=12#map=12/30.5204/47.8526\",\"Maplink1\")","v":"Maplink1"},{"$f":"HYPERLINK(\"https://www.google.iq/maps/search/+30.5204,47.8526/@30.5204,47.8526,14z?hl=en\",\"Maplink2\")","v":"Maplink2"},{"$f":"HYPERLINK(\"http://www.bing.com/maps/?lvl=14&sty=h&cp=30.5204~47.8526&sp=point.30.5204_47.8526\",\"Maplink3\")","v":"Maplink3"}]
[27301,"Al-Muthanna","Al-Khidhir","Markaz Al-Khidhir","Hay Al Riyadh","حي الرياض",31.1828911,45.5360209,2,12,0,0,0,0,0,0,12,0,0,0,0,0,0,0,0,0,0,0,0,0,0,0,0,0,0,0,0,12,0,0,0,0,0,0,0,12,0,0,0,0,0,0,0,0,0,{"$f":"HYPERLINK(\"http://www.openstreetmap.org/?mlat=31.1829&mlon=45.536&zoom=12#map=12/31.1829/45.536\",\"Maplink1\")","v":"Maplink1"},{"$f":"HYPERLINK(\"https://www.google.iq/maps/search/+31.1829,45.536/@31.1829,45.536,14z?hl=en\",\"Maplink2\")","v":"Maplink2"},{"$f":"HYPERLINK(\"http://www.bing.com/maps/?lvl=14&sty=h&cp=31.1829~45.536&sp=point.31.1829_45.536\",\"Maplink3\")","v":"Maplink3"}]
[27300,"Al-Muthanna","Al-Khidhir","Markaz Al-Khidhir","Hay Al Zahra","حي الزهراء",31.1968094716,45.5264918972,2,12,0,0,0,0,0,0,12,0,0,0,0,0,0,0,0,0,0,0,0,0,0,0,0,12,0,0,0,0,0,0,0,0,0,0,12,0,0,0,0,0,0,0,0,0,0,{"$f":"HYPERLINK(\"http://www.openstreetmap.org/?mlat=31.1968&mlon=45.5265&zoom=12#map=12/31.1968/45.5265\",\"Maplink1\")","v":"Maplink1"},{"$f":"HYPERLINK(\"https://www.google.iq/maps/search/+31.1968,45.5265/@31.1968,45.5265,14z?hl=en\",\"Maplink2\")","v":"Maplink2"},{"$f":"HYPERLINK(\"http://www.bing.com/maps/?lvl=14&sty=h&cp=31.1968~45.5265&sp=point.31.1968_45.5265\",\"Maplink3\")","v":"Maplink3"}]
[27229,"Al-Muthanna","Al-Khidhir","Markaz Al-Khidhir","Albo Resha","البو ريشة",31.1848940095,45.5550998356,1,6,0,0,0,0,0,0,6,0,0,0,0,0,0,0,0,0,0,0,0,0,0,0,0,0,0,0,0,0,0,6,0,0,0,0,6,0,0,0,0,0,0,0,0,0,0,{"$f":"HYPERLINK(\"http://www.openstreetmap.org/?mlat=31.1849&mlon=45.5551&zoom=12#map=12/31.1849/45.5551\",\"Maplink1\")","v":"Maplink1"},{"$f":"HYPERLINK(\"https://www.google.iq/maps/search/+31.1849,45.5551/@31.1849,45.5551,14z?hl=en\",\"Maplink2\")","v":"Maplink2"},{"$f":"HYPERLINK(\"http://www.bing.com/maps/?lvl=14&sty=h&cp=31.1849~45.5551&sp=point.31.1849_45.5551\",\"Maplink3\")","v":"Maplink3"}]
[33679,"Al-Muthanna","Al-Khidhir","Markaz Al-Khidhir","Hay Al-Firdous","حي الفردوس",31.1799083,45.550746,1,6,0,0,0,0,0,0,6,0,0,0,0,0,0,0,0,0,0,0,0,0,0,0,0,0,0,0,0,6,0,0,0,0,0,0,0,6,0,0,0,0,0,0,0,0,0,{"$f":"HYPERLINK(\"http://www.openstreetmap.org/?mlat=31.1799&mlon=45.5507&zoom=12#map=12/31.1799/45.5507\",\"Maplink1\")","v":"Maplink1"},{"$f":"HYPERLINK(\"https://www.google.iq/maps/search/+31.1799,45.5507/@31.1799,45.5507,14z?hl=en\",\"Maplink2\")","v":"Maplink2"},{"$f":"HYPERLINK(\"http://www.bing.com/maps/?lvl=14&sty=h&cp=31.1799~45.5507&sp=point.31.1799_45.5507\",\"Maplink3\")","v":"Maplink3"}]
[33793,"Al-Muthanna","Al-Rumaitha","Al-Hilal","Markaz Al-Hilal","مركز الهلال",31.4325317,45.1061454,1,6,0,0,0,0,0,0,6,0,0,0,0,0,0,0,0,0,0,0,0,0,0,0,0,0,0,0,0,0,0,6,0,0,0,0,6,0,0,0,0,0,0,0,0,0,0,{"$f":"HYPERLINK(\"http://www.openstreetmap.org/?mlat=31.4325&mlon=45.1061&zoom=12#map=12/31.4325/45.1061\",\"Maplink1\")","v":"Maplink1"},{"$f":"HYPERLINK(\"https://www.google.iq/maps/search/+31.4325,45.1061/@31.4325,45.1061,14z?hl=en\",\"Maplink2\")","v":"Maplink2"},{"$f":"HYPERLINK(\"http://www.bing.com/maps/?lvl=14&sty=h&cp=31.4325~45.1061&sp=point.31.4325_45.1061\",\"Maplink3\")","v":"Maplink3"}]
[33794,"Al-Muthanna","Al-Rumaitha","Al-Hilal","Al-Khamees village","قرية آل خميس",31.4290127,45.1042012,1,6,0,0,0,0,0,0,6,0,0,0,0,0,0,0,0,0,0,0,0,0,0,0,0,0,0,0,0,0,0,6,0,0,0,0,6,0,0,0,0,0,0,0,0,0,0,{"$f":"HYPERLINK(\"http://www.openstreetmap.org/?mlat=31.429&mlon=45.1042&zoom=12#map=12/31.429/45.1042\",\"Maplink1\")","v":"Maplink1"},{"$f":"HYPERLINK(\"https://www.google.iq/maps/search/+31.429,45.1042/@31.429,45.1042,14z?hl=en\",\"Maplink2\")","v":"Maplink2"},{"$f":"HYPERLINK(\"http://www.bing.com/maps/?lvl=14&sty=h&cp=31.429~45.1042&sp=point.31.429_45.1042\",\"Maplink3\")","v":"Maplink3"}]
[33792,"Al-Muthanna","Al-Rumaitha","Al-Hilal","Al-Haleela village","قرية الحليلة",31.408838,45.1667942,4,24,0,0,0,0,0,0,24,0,0,0,0,0,0,0,0,0,0,18,0,0,0,0,0,0,0,0,0,0,0,6,0,0,0,0,18,0,6,0,0,0,0,0,0,0,0,{"$f":"HYPERLINK(\"http://www.openstreetmap.org/?mlat=31.4088&mlon=45.1668&zoom=12#map=12/31.4088/45.1668\",\"Maplink1\")","v":"Maplink1"},{"$f":"HYPERLINK(\"https://www.google.iq/maps/search/+31.4088,45.1668/@31.4088,45.1668,14z?hl=en\",\"Maplink2\")","v":"Maplink2"},{"$f":"HYPERLINK(\"http://www.bing.com/maps/?lvl=14&sty=h&cp=31.4088~45.1668&sp=point.31.4088_45.1668\",\"Maplink3\")","v":"Maplink3"}]
[2006,"Al-Muthanna","Al-Rumaitha","Al-Najmi","Al Halaichia","الهلايجية",31.5438008169,45.1996604539,1,6,0,0,0,0,0,0,6,0,0,0,0,0,0,0,0,0,0,0,0,0,0,0,0,6,0,0,0,0,0,0,0,0,0,0,6,0,0,0,0,0,0,0,0,0,0,{"$f":"HYPERLINK(\"http://www.openstreetmap.org/?mlat=31.5438&mlon=45.1997&zoom=12#map=12/31.5438/45.1997\",\"Maplink1\")","v":"Maplink1"},{"$f":"HYPERLINK(\"https://www.google.iq/maps/search/+31.5438,45.1997/@31.5438,45.1997,14z?hl=en\",\"Maplink2\")","v":"Maplink2"},{"$f":"HYPERLINK(\"http://www.bing.com/maps/?lvl=14&sty=h&cp=31.5438~45.1997&sp=point.31.5438_45.1997\",\"Maplink3\")","v":"Maplink3"}]
[34180,"Al-Muthanna","Al-Rumaitha","Al-Najmi","Hay Al-Muhandiseen","حي المهندسين",31.53786,45.19753,1,6,0,0,0,0,0,0,6,0,0,0,0,0,0,0,0,6,0,0,0,0,0,0,0,0,0,0,0,0,0,0,0,0,0,6,0,0,0,0,0,0,0,0,0,0,0,{"$f":"HYPERLINK(\"http://www.openstreetmap.org/?mlat=31.5379&mlon=45.1975&zoom=12#map=12/31.5379/45.1975\",\"Maplink1\")","v":"Maplink1"},{"$f":"HYPERLINK(\"https://www.google.iq/maps/search/+31.5379,45.1975/@31.5379,45.1975,14z?hl=en\",\"Maplink2\")","v":"Maplink2"},{"$f":"HYPERLINK(\"http://www.bing.com/maps/?lvl=14&sty=h&cp=31.5379~45.1975&sp=point.31.5379_45.1975\",\"Maplink3\")","v":"Maplink3"}]
[25976,"Al-Muthanna","Al-Rumaitha","Al-Warka","Al-Warka-Al-Shuhada","حي الشهداء",31.4739559,45.2846529,6,36,0,0,0,0,0,0,36,0,0,0,0,0,0,0,0,0,0,0,0,0,0,0,0,0,0,0,0,36,0,0,0,0,0,0,36,0,0,0,0,0,0,0,0,0,0,{"$f":"HYPERLINK(\"http://www.openstreetmap.org/?mlat=31.474&mlon=45.2847&zoom=12#map=12/31.474/45.2847\",\"Maplink1\")","v":"Maplink1"},{"$f":"HYPERLINK(\"https://www.google.iq/maps/search/+31.474,45.2847/@31.474,45.2847,14z?hl=en\",\"Maplink2\")","v":"Maplink2"},{"$f":"HYPERLINK(\"http://www.bing.com/maps/?lvl=14&sty=h&cp=31.474~45.2847&sp=point.31.474_45.2847\",\"Maplink3\")","v":"Maplink3"}]
[29681,"Al-Muthanna","Al-Rumaitha","Al-Warka","Al-Hala","الحله",31.4710075,45.2847805,2,12,0,0,0,0,0,0,12,0,0,0,0,0,0,0,0,0,0,0,0,0,0,0,0,0,0,0,0,12,0,0,0,0,0,0,12,0,0,0,0,0,0,0,0,0,0,{"$f":"HYPERLINK(\"http://www.openstreetmap.org/?mlat=31.471&mlon=45.2848&zoom=12#map=12/31.471/45.2848\",\"Maplink1\")","v":"Maplink1"},{"$f":"HYPERLINK(\"https://www.google.iq/maps/search/+31.471,45.2848/@31.471,45.2848,14z?hl=en\",\"Maplink2\")","v":"Maplink2"},{"$f":"HYPERLINK(\"http://www.bing.com/maps/?lvl=14&sty=h&cp=31.471~45.2848&sp=point.31.471_45.2848\",\"Maplink3\")","v":"Maplink3"}]
[27228,"Al-Muthanna","Al-Rumaitha","Al-Warka","Al Warkaa-Hay Al Zahra","حي الزهراء-الوركاء",31.4609118,45.2865368,11,66,0,0,0,0,0,0,66,0,0,0,0,0,0,0,0,0,0,0,0,0,0,0,0,0,0,0,0,66,0,0,0,0,0,0,48,18,0,0,0,0,0,0,0,0,0,{"$f":"HYPERLINK(\"http://www.openstreetmap.org/?mlat=31.4609&mlon=45.2865&zoom=12#map=12/31.4609/45.2865\",\"Maplink1\")","v":"Maplink1"},{"$f":"HYPERLINK(\"https://www.google.iq/maps/search/+31.4609,45.2865/@31.4609,45.2865,14z?hl=en\",\"Maplink2\")","v":"Maplink2"},{"$f":"HYPERLINK(\"http://www.bing.com/maps/?lvl=14&sty=h&cp=31.4609~45.2865&sp=point.31.4609_45.2865\",\"Maplink3\")","v":"Maplink3"}]
[1991,"Al-Muthanna","Al-Rumaitha","Markaz Al-Rumaitha","Al-Muthlem Village","قرية المظلم",31.5396761661,45.1834589615,4,24,0,0,0,0,0,0,0,0,0,24,0,0,0,0,0,0,0,0,0,0,0,0,0,0,0,0,0,24,0,0,0,0,0,0,18,0,6,0,0,0,0,0,0,0,0,{"$f":"HYPERLINK(\"http://www.openstreetmap.org/?mlat=31.5397&mlon=45.1835&zoom=12#map=12/31.5397/45.1835\",\"Maplink1\")","v":"Maplink1"},{"$f":"HYPERLINK(\"https://www.google.iq/maps/search/+31.5397,45.1835/@31.5397,45.1835,14z?hl=en\",\"Maplink2\")","v":"Maplink2"},{"$f":"HYPERLINK(\"http://www.bing.com/maps/?lvl=14&sty=h&cp=31.5397~45.1835&sp=point.31.5397_45.1835\",\"Maplink3\")","v":"Maplink3"}]
[2026,"Al-Muthanna","Al-Rumaitha","Markaz Al-Rumaitha","Al Ardhyat","العارضيات",31.5565597499,45.1477304567,1,6,0,0,0,0,0,0,0,0,0,0,0,6,0,0,0,0,0,0,0,0,0,0,0,0,0,0,0,6,0,0,0,0,0,0,0,0,6,0,0,0,0,0,0,0,0,{"$f":"HYPERLINK(\"http://www.openstreetmap.org/?mlat=31.5566&mlon=45.1477&zoom=12#map=12/31.5566/45.1477\",\"Maplink1\")","v":"Maplink1"},{"$f":"HYPERLINK(\"https://www.google.iq/maps/search/+31.5566,45.1477/@31.5566,45.1477,14z?hl=en\",\"Maplink2\")","v":"Maplink2"},{"$f":"HYPERLINK(\"http://www.bing.com/maps/?lvl=14&sty=h&cp=31.5566~45.1477&sp=point.31.5566_45.1477\",\"Maplink3\")","v":"Maplink3"}]
[1885,"Al-Muthanna","Al-Rumaitha","Markaz Al-Rumaitha","Hay al-hussain","حي الحسين",31.527915,45.2057995,4,24,0,0,0,0,0,0,24,0,0,0,0,0,0,0,0,0,0,12,0,0,0,0,0,0,0,0,0,12,0,0,0,0,0,6,12,6,0,0,0,0,0,0,0,0,0,{"$f":"HYPERLINK(\"http://www.openstreetmap.org/?mlat=31.5279&mlon=45.2058&zoom=12#map=12/31.5279/45.2058\",\"Maplink1\")","v":"Maplink1"},{"$f":"HYPERLINK(\"https://www.google.iq/maps/search/+31.5279,45.2058/@31.5279,45.2058,14z?hl=en\",\"Maplink2\")","v":"Maplink2"},{"$f":"HYPERLINK(\"http://www.bing.com/maps/?lvl=14&sty=h&cp=31.5279~45.2058&sp=point.31.5279_45.2058\",\"Maplink3\")","v":"Maplink3"}]
[1888,"Al-Muthanna","Al-Rumaitha","Markaz Al-Rumaitha","Al-hay al-askary","حي العسكري",31.5330177,45.2008856,1,6,0,0,0,0,0,0,6,0,0,0,0,0,0,0,0,0,0,6,0,0,0,0,0,0,0,0,0,0,0,0,0,0,0,0,0,6,0,0,0,0,0,0,0,0,0,{"$f":"HYPERLINK(\"http://www.openstreetmap.org/?mlat=31.533&mlon=45.2009&zoom=12#map=12/31.533/45.2009\",\"Maplink1\")","v":"Maplink1"},{"$f":"HYPERLINK(\"https://www.google.iq/maps/search/+31.533,45.2009/@31.533,45.2009,14z?hl=en\",\"Maplink2\")","v":"Maplink2"},{"$f":"HYPERLINK(\"http://www.bing.com/maps/?lvl=14&sty=h&cp=31.533~45.2009&sp=point.31.533_45.2009\",\"Maplink3\")","v":"Maplink3"}]
[1803,"Al-Muthanna","Al-Rumaitha","Markaz Al-Rumaitha","Al Athar","العذار",31.4947194,45.2007893,8,48,0,0,0,0,0,0,48,0,0,0,0,0,0,0,0,0,0,48,0,0,0,0,0,0,0,0,0,0,0,0,0,0,0,0,42,0,6,0,0,0,0,0,0,0,0,{"$f":"HYPERLINK(\"http://www.openstreetmap.org/?mlat=31.4947&mlon=45.2008&zoom=12#map=12/31.4947/45.2008\",\"Maplink1\")","v":"Maplink1"},{"$f":"HYPERLINK(\"https://www.google.iq/maps/search/+31.4947,45.2008/@31.4947,45.2008,14z?hl=en\",\"Maplink2\")","v":"Maplink2"},{"$f":"HYPERLINK(\"http://www.bing.com/maps/?lvl=14&sty=h&cp=31.4947~45.2008&sp=point.31.4947_45.2008\",\"Maplink3\")","v":"Maplink3"}]
[1874,"Al-Muthanna","Al-Rumaitha","Markaz Al-Rumaitha","Al-Shuhada","حي الشهداء",31.5265189,45.2144948,3,18,0,0,0,0,0,0,18,0,0,0,0,0,0,0,0,6,0,0,0,0,0,0,0,0,0,0,0,12,0,0,0,0,0,6,6,0,0,6,0,0,0,0,0,0,0,{"$f":"HYPERLINK(\"http://www.openstreetmap.org/?mlat=31.5265&mlon=45.2145&zoom=12#map=12/31.5265/45.2145\",\"Maplink1\")","v":"Maplink1"},{"$f":"HYPERLINK(\"https://www.google.iq/maps/search/+31.5265,45.2145/@31.5265,45.2145,14z?hl=en\",\"Maplink2\")","v":"Maplink2"},{"$f":"HYPERLINK(\"http://www.bing.com/maps/?lvl=14&sty=h&cp=31.5265~45.2145&sp=point.31.5265_45.2145\",\"Maplink3\")","v":"Maplink3"}]
[26083,"Al-Muthanna","Al-Salman","Markaz Al-Salman","Al Mamlaha","المملحة",31.2638196861,45.0641841721,1,6,0,0,0,6,0,0,0,0,0,0,0,0,0,0,0,6,0,0,0,0,0,0,0,0,0,0,0,0,0,0,0,0,0,0,0,0,0,6,0,0,0,0,0,0,0,{"$f":"HYPERLINK(\"http://www.openstreetmap.org/?mlat=31.2638&mlon=45.0642&zoom=12#map=12/31.2638/45.0642\",\"Maplink1\")","v":"Maplink1"},{"$f":"HYPERLINK(\"https://www.google.iq/maps/search/+31.2638,45.0642/@31.2638,45.0642,14z?hl=en\",\"Maplink2\")","v":"Maplink2"},{"$f":"HYPERLINK(\"http://www.bing.com/maps/?lvl=14&sty=h&cp=31.2638~45.0642&sp=point.31.2638_45.0642\",\"Maplink3\")","v":"Maplink3"}]
[29573,"Al-Muthanna","Al-Samawa","Al-Sowair","Hay Alabeiad","حي ال عبيد",31.3181711733,45.2944189589,1,6,0,0,0,6,0,0,0,0,0,0,0,0,0,0,0,0,0,0,0,0,0,0,0,0,0,0,0,6,0,0,0,0,0,0,0,6,0,0,0,0,0,0,0,0,0,{"$f":"HYPERLINK(\"http://www.openstreetmap.org/?mlat=31.3182&mlon=45.2944&zoom=12#map=12/31.3182/45.2944\",\"Maplink1\")","v":"Maplink1"},{"$f":"HYPERLINK(\"https://www.google.iq/maps/search/+31.3182,45.2944/@31.3182,45.2944,14z?hl=en\",\"Maplink2\")","v":"Maplink2"},{"$f":"HYPERLINK(\"http://www.bing.com/maps/?lvl=14&sty=h&cp=31.3182~45.2944&sp=point.31.3182_45.2944\",\"Maplink3\")","v":"Maplink3"}]
[1485,"Al-Muthanna","Al-Samawa","Al-Sowair","Hay Al-Sadir","حي الصدر",31.3067668816,45.2618992701,3,18,0,0,0,0,0,0,18,0,0,0,0,0,0,0,0,0,0,0,0,0,0,0,0,0,0,0,0,18,0,0,0,0,0,0,6,6,6,0,0,0,0,0,0,0,0,{"$f":"HYPERLINK(\"http://www.openstreetmap.org/?mlat=31.3068&mlon=45.2619&zoom=12#map=12/31.3068/45.2619\",\"Maplink1\")","v":"Maplink1"},{"$f":"HYPERLINK(\"https://www.google.iq/maps/search/+31.3068,45.2619/@31.3068,45.2619,14z?hl=en\",\"Maplink2\")","v":"Maplink2"},{"$f":"HYPERLINK(\"http://www.bing.com/maps/?lvl=14&sty=h&cp=31.3068~45.2619&sp=point.31.3068_45.2619\",\"Maplink3\")","v":"Maplink3"}]
[2033,"Al-Muthanna","Al-Samawa","Al-Sowair","Al-Samawa-Al Maaly","ال معالي",31.275497,45.2693086,3,18,0,0,0,6,0,0,12,0,0,0,0,0,0,0,0,6,0,0,0,0,0,0,0,6,0,0,0,0,0,6,0,0,0,0,12,0,0,6,0,0,0,0,0,0,0,{"$f":"HYPERLINK(\"http://www.openstreetmap.org/?mlat=31.2755&mlon=45.2693&zoom=12#map=12/31.2755/45.2693\",\"Maplink1\")","v":"Maplink1"},{"$f":"HYPERLINK(\"https://www.google.iq/maps/search/+31.2755,45.2693/@31.2755,45.2693,14z?hl=en\",\"Maplink2\")","v":"Maplink2"},{"$f":"HYPERLINK(\"http://www.bing.com/maps/?lvl=14&sty=h&cp=31.2755~45.2693&sp=point.31.2755_45.2693\",\"Maplink3\")","v":"Maplink3"}]
[1596,"Al-Muthanna","Al-Samawa","Al-Sowair","Al-Qushlah","القشله",31.3175732922,45.2923361398,1,6,0,0,0,0,0,0,6,0,0,0,0,0,0,0,0,0,0,0,0,0,0,0,0,0,0,0,0,6,0,0,0,0,0,0,0,6,0,0,0,0,0,0,0,0,0,{"$f":"HYPERLINK(\"http://www.openstreetmap.org/?mlat=31.3176&mlon=45.2923&zoom=12#map=12/31.3176/45.2923\",\"Maplink1\")","v":"Maplink1"},{"$f":"HYPERLINK(\"https://www.google.iq/maps/search/+31.3176,45.2923/@31.3176,45.2923,14z?hl=en\",\"Maplink2\")","v":"Maplink2"},{"$f":"HYPERLINK(\"http://www.bing.com/maps/?lvl=14&sty=h&cp=31.3176~45.2923&sp=point.31.3176_45.2923\",\"Maplink3\")","v":"Maplink3"}]
[2010,"Al-Muthanna","Al-Samawa","Al-Sowair","Hay Al Jarboaia","الجربوعية",31.3491724,45.2670015,5,30,0,0,0,0,0,0,30,0,0,0,0,0,0,0,0,0,0,6,0,0,0,0,0,0,0,0,0,0,0,24,0,0,0,0,12,6,12,0,0,0,0,0,0,0,0,{"$f":"HYPERLINK(\"http://www.openstreetmap.org/?mlat=31.3492&mlon=45.267&zoom=12#map=12/31.3492/45.267\",\"Maplink1\")","v":"Maplink1"},{"$f":"HYPERLINK(\"https://www.google.iq/maps/search/+31.3492,45.267/@31.3492,45.267,14z?hl=en\",\"Maplink2\")","v":"Maplink2"},{"$f":"HYPERLINK(\"http://www.bing.com/maps/?lvl=14&sty=h&cp=31.3492~45.267&sp=point.31.3492_45.267\",\"Maplink3\")","v":"Maplink3"}]
[33240,"Al-Muthanna","Al-Samawa","Al-Sowair","AL-Tuail","الطوايل",31.2214094,45.4396778,1,6,0,0,0,6,0,0,0,0,0,0,0,0,0,0,0,0,0,0,0,0,0,0,0,6,0,0,0,0,0,0,0,0,0,0,6,0,0,0,0,0,0,0,0,0,0,{"$f":"HYPERLINK(\"http://www.openstreetmap.org/?mlat=31.2214&mlon=45.4397&zoom=12#map=12/31.2214/45.4397\",\"Maplink1\")","v":"Maplink1"},{"$f":"HYPERLINK(\"https://www.google.iq/maps/search/+31.2214,45.4397/@31.2214,45.4397,14z?hl=en\",\"Maplink2\")","v":"Maplink2"},{"$f":"HYPERLINK(\"http://www.bing.com/maps/?lvl=14&sty=h&cp=31.2214~45.4397&sp=point.31.2214_45.4397\",\"Maplink3\")","v":"Maplink3"}]
[33297,"Al-Muthanna","Al-Samawa","Al-Sowair","Hay Musa AL-Kadhum","حي موسى الكاظم",31.3367404,45.2964618,5,30,0,0,0,0,0,0,30,0,0,0,0,0,0,0,0,6,0,0,0,0,0,0,0,0,0,0,0,24,0,0,0,0,0,0,0,18,12,0,0,0,0,0,0,0,0,{"$f":"HYPERLINK(\"http://www.openstreetmap.org/?mlat=31.3367&mlon=45.2965&zoom=12#map=12/31.3367/45.2965\",\"Maplink1\")","v":"Maplink1"},{"$f":"HYPERLINK(\"https://www.google.iq/maps/search/+31.3367,45.2965/@31.3367,45.2965,14z?hl=en\",\"Maplink2\")","v":"Maplink2"},{"$f":"HYPERLINK(\"http://www.bing.com/maps/?lvl=14&sty=h&cp=31.3367~45.2965&sp=point.31.3367_45.2965\",\"Maplink3\")","v":"Maplink3"}]
[21433,"Al-Muthanna","Al-Samawa","Al-Sowair","Al-Shuhada","حي الشهداء",31.3048471324,45.3034662176,1,6,0,0,0,0,0,0,6,0,0,0,0,0,0,0,0,0,0,0,0,0,0,0,0,0,0,0,0,6,0,0,0,0,0,0,0,0,6,0,0,0,0,0,0,0,0,{"$f":"HYPERLINK(\"http://www.openstreetmap.org/?mlat=31.3048&mlon=45.3035&zoom=12#map=12/31.3048/45.3035\",\"Maplink1\")","v":"Maplink1"},{"$f":"HYPERLINK(\"https://www.google.iq/maps/search/+31.3048,45.3035/@31.3048,45.3035,14z?hl=en\",\"Maplink2\")","v":"Maplink2"},{"$f":"HYPERLINK(\"http://www.bing.com/maps/?lvl=14&sty=h&cp=31.3048~45.3035&sp=point.31.3048_45.3035\",\"Maplink3\")","v":"Maplink3"}]
[1562,"Al-Muthanna","Al-Samawa","Al-Sowair","Hay 270 Dar","270 حي دار",31.2974207243,45.2637618128,1,6,0,0,0,0,0,0,6,0,0,0,0,0,0,0,0,0,0,0,0,0,0,0,0,6,0,0,0,0,0,0,0,0,0,0,0,0,6,0,0,0,0,0,0,0,0,{"$f":"HYPERLINK(\"http://www.openstreetmap.org/?mlat=31.2974&mlon=45.2638&zoom=12#map=12/31.2974/45.2638\",\"Maplink1\")","v":"Maplink1"},{"$f":"HYPERLINK(\"https://www.google.iq/maps/search/+31.2974,45.2638/@31.2974,45.2638,14z?hl=en\",\"Maplink2\")","v":"Maplink2"},{"$f":"HYPERLINK(\"http://www.bing.com/maps/?lvl=14&sty=h&cp=31.2974~45.2638&sp=point.31.2974_45.2638\",\"Maplink3\")","v":"Maplink3"}]
[21317,"Al-Muthanna","Al-Samawa","Al-Sowair","Hay Alhussein","حي الحسين",31.3160120789,45.2622287407,5,30,0,0,0,0,0,0,30,0,0,0,0,0,0,0,0,12,0,0,0,0,0,0,0,0,0,0,0,18,0,0,0,0,0,0,6,12,6,6,0,0,0,0,0,0,0,{"$f":"HYPERLINK(\"http://www.openstreetmap.org/?mlat=31.316&mlon=45.2622&zoom=12#map=12/31.316/45.2622\",\"Maplink1\")","v":"Maplink1"},{"$f":"HYPERLINK(\"https://www.google.iq/maps/search/+31.316,45.2622/@31.316,45.2622,14z?hl=en\",\"Maplink2\")","v":"Maplink2"},{"$f":"HYPERLINK(\"http://www.bing.com/maps/?lvl=14&sty=h&cp=31.316~45.2622&sp=point.31.316_45.2622\",\"Maplink3\")","v":"Maplink3"}]
[21434,"Al-Muthanna","Al-Samawa","Al-Sowair","Al Sharagia","الشراكية",31.2762686,45.2790965,5,30,0,12,0,0,0,0,30,0,0,0,0,0,0,0,0,0,0,0,0,0,0,0,0,24,0,0,0,6,0,0,0,0,0,0,6,12,6,6,0,0,0,0,0,0,0,{"$f":"HYPERLINK(\"http://www.openstreetmap.org/?mlat=31.2763&mlon=45.2791&zoom=12#map=12/31.2763/45.2791\",\"Maplink1\")","v":"Maplink1"},{"$f":"HYPERLINK(\"https://www.google.iq/maps/search/+31.2763,45.2791/@31.2763,45.2791,14z?hl=en\",\"Maplink2\")","v":"Maplink2"},{"$f":"HYPERLINK(\"http://www.bing.com/maps/?lvl=14&sty=h&cp=31.2763~45.2791&sp=point.31.2763_45.2791\",\"Maplink3\")","v":"Maplink3"}]
[25784,"Al-Muthanna","Al-Samawa","Al-Sowair","Al-Samawa-Hay Al-Hakim","حي الحكيم",31.2981268,45.28026,5,30,0,0,0,0,0,0,30,0,0,0,0,0,0,0,0,0,0,0,0,0,6,0,0,0,0,0,0,24,0,0,0,0,0,0,18,0,6,0,0,6,0,0,0,0,0,{"$f":"HYPERLINK(\"http://www.openstreetmap.org/?mlat=31.2981&mlon=45.2803&zoom=12#map=12/31.2981/45.2803\",\"Maplink1\")","v":"Maplink1"},{"$f":"HYPERLINK(\"https://www.google.iq/maps/search/+31.2981,45.2803/@31.2981,45.2803,14z?hl=en\",\"Maplink2\")","v":"Maplink2"},{"$f":"HYPERLINK(\"http://www.bing.com/maps/?lvl=14&sty=h&cp=31.2981~45.2803&sp=point.31.2981_45.2803\",\"Maplink3\")","v":"Maplink3"}]
[2060,"Al-Muthanna","Al-Samawa","Al-Sowair","Hay Al Gharbi ","حي الغربي",31.3190295,45.2780584,7,42,0,18,0,0,0,0,42,0,0,0,0,0,0,0,0,6,0,0,0,0,6,0,0,0,0,0,0,30,0,0,0,0,0,6,18,18,0,0,0,0,0,0,0,0,0,{"$f":"HYPERLINK(\"http://www.openstreetmap.org/?mlat=31.319&mlon=45.2781&zoom=12#map=12/31.319/45.2781\",\"Maplink1\")","v":"Maplink1"},{"$f":"HYPERLINK(\"https://www.google.iq/maps/search/+31.319,45.2781/@31.319,45.2781,14z?hl=en\",\"Maplink2\")","v":"Maplink2"},{"$f":"HYPERLINK(\"http://www.bing.com/maps/?lvl=14&sty=h&cp=31.319~45.2781&sp=point.31.319_45.2781\",\"Maplink3\")","v":"Maplink3"}]
[33239,"Al-Muthanna","Al-Samawa","Al-Sowair","AL-Mutasher","ال مطشر",31.2944425,45.3024274,3,18,0,0,0,0,0,0,18,0,0,0,0,0,0,0,0,0,0,0,0,0,0,0,0,0,0,0,0,18,0,0,0,0,0,0,0,18,0,0,0,0,0,0,0,0,0,{"$f":"HYPERLINK(\"http://www.openstreetmap.org/?mlat=31.2944&mlon=45.3024&zoom=12#map=12/31.2944/45.3024\",\"Maplink1\")","v":"Maplink1"},{"$f":"HYPERLINK(\"https://www.google.iq/maps/search/+31.2944,45.3024/@31.2944,45.3024,14z?hl=en\",\"Maplink2\")","v":"Maplink2"},{"$f":"HYPERLINK(\"http://www.bing.com/maps/?lvl=14&sty=h&cp=31.2944~45.3024&sp=point.31.2944_45.3024\",\"Maplink3\")","v":"Maplink3"}]
[1526,"Al-Muthanna","Al-Samawa","Al-Sowair","Hay Dour AL-Sikak","حي دور السكك",31.2727669,45.2920175,1,6,0,0,0,6,0,0,0,0,0,0,0,0,0,0,0,0,0,0,0,0,0,0,0,0,0,0,0,6,0,0,0,0,0,0,0,6,0,0,0,0,0,0,0,0,0,{"$f":"HYPERLINK(\"http://www.openstreetmap.org/?mlat=31.2728&mlon=45.292&zoom=12#map=12/31.2728/45.292\",\"Maplink1\")","v":"Maplink1"},{"$f":"HYPERLINK(\"https://www.google.iq/maps/search/+31.2728,45.292/@31.2728,45.292,14z?hl=en\",\"Maplink2\")","v":"Maplink2"},{"$f":"HYPERLINK(\"http://www.bing.com/maps/?lvl=14&sty=h&cp=31.2728~45.292&sp=point.31.2728_45.292\",\"Maplink3\")","v":"Maplink3"}]
[25496,"Al-Muthanna","Al-Samawa","Al-Sowair","Al Maredh","المعارض",31.2831532,45.3003184,2,12,0,0,0,0,0,0,12,0,0,0,0,0,0,0,0,0,0,0,0,0,0,0,0,12,0,0,0,0,0,0,0,0,0,0,12,0,0,0,0,0,0,0,0,0,0,{"$f":"HYPERLINK(\"http://www.openstreetmap.org/?mlat=31.2832&mlon=45.3003&zoom=12#map=12/31.2832/45.3003\",\"Maplink1\")","v":"Maplink1"},{"$f":"HYPERLINK(\"https://www.google.iq/maps/search/+31.2832,45.3003/@31.2832,45.3003,14z?hl=en\",\"Maplink2\")","v":"Maplink2"},{"$f":"HYPERLINK(\"http://www.bing.com/maps/?lvl=14&sty=h&cp=31.2832~45.3003&sp=point.31.2832_45.3003\",\"Maplink3\")","v":"Maplink3"}]
[25430,"Al-Muthanna","Al-Samawa","Al-Sowair","Al Zahra","الزهراء",31.3424241,45.2942519,9,54,0,0,0,0,0,0,54,0,0,0,0,0,0,0,0,0,0,0,0,0,0,0,0,0,0,0,0,54,0,0,0,0,0,0,0,18,0,12,0,24,0,0,0,0,0,{"$f":"HYPERLINK(\"http://www.openstreetmap.org/?mlat=31.3424&mlon=45.2943&zoom=12#map=12/31.3424/45.2943\",\"Maplink1\")","v":"Maplink1"},{"$f":"HYPERLINK(\"https://www.google.iq/maps/search/+31.3424,45.2943/@31.3424,45.2943,14z?hl=en\",\"Maplink2\")","v":"Maplink2"},{"$f":"HYPERLINK(\"http://www.bing.com/maps/?lvl=14&sty=h&cp=31.3424~45.2943&sp=point.31.3424_45.2943\",\"Maplink3\")","v":"Maplink3"}]
[1480,"Al-Muthanna","Al-Samawa","Al-Sowair","Al-Samawa-Al-Hay Al-Askary","حي العسكري",31.299946,45.265502,2,12,0,0,0,0,0,0,12,0,0,0,0,0,0,0,0,6,0,0,0,0,0,0,0,0,0,0,0,0,0,6,0,0,0,0,0,0,12,0,0,0,0,0,0,0,0,{"$f":"HYPERLINK(\"http://www.openstreetmap.org/?mlat=31.2999&mlon=45.2655&zoom=12#map=12/31.2999/45.2655\",\"Maplink1\")","v":"Maplink1"},{"$f":"HYPERLINK(\"https://www.google.iq/maps/search/+31.2999,45.2655/@31.2999,45.2655,14z?hl=en\",\"Maplink2\")","v":"Maplink2"},{"$f":"HYPERLINK(\"http://www.bing.com/maps/?lvl=14&sty=h&cp=31.2999~45.2655&sp=point.31.2999_45.2655\",\"Maplink3\")","v":"Maplink3"}]
[2077,"Al-Muthanna","Al-Samawa","Al-Sowair","Um AL-Housh","ام الهوش",31.3382203,45.2791682,3,18,0,0,0,0,0,0,18,0,0,0,0,0,0,0,0,6,0,12,0,0,0,0,0,0,0,0,0,0,0,0,0,0,0,0,12,0,6,0,0,0,0,0,0,0,0,{"$f":"HYPERLINK(\"http://www.openstreetmap.org/?mlat=31.3382&mlon=45.2792&zoom=12#map=12/31.3382/45.2792\",\"Maplink1\")","v":"Maplink1"},{"$f":"HYPERLINK(\"https://www.google.iq/maps/search/+31.3382,45.2792/@31.3382,45.2792,14z?hl=en\",\"Maplink2\")","v":"Maplink2"},{"$f":"HYPERLINK(\"http://www.bing.com/maps/?lvl=14&sty=h&cp=31.3382~45.2792&sp=point.31.3382_45.2792\",\"Maplink3\")","v":"Maplink3"}]
[1573,"Al-Muthanna","Al-Samawa","Al-Sowair","Hay Saed Jabar","حي سيد جبار",31.3063877,45.3108609,5,30,0,0,0,0,0,0,30,0,0,0,0,0,0,0,0,0,0,6,0,0,0,0,0,0,0,0,0,18,0,6,0,0,0,0,6,24,0,0,0,0,0,0,0,0,0,{"$f":"HYPERLINK(\"http://www.openstreetmap.org/?mlat=31.3064&mlon=45.3109&zoom=12#map=12/31.3064/45.3109\",\"Maplink1\")","v":"Maplink1"},{"$f":"HYPERLINK(\"https://www.google.iq/maps/search/+31.3064,45.3109/@31.3064,45.3109,14z?hl=en\",\"Maplink2\")","v":"Maplink2"},{"$f":"HYPERLINK(\"http://www.bing.com/maps/?lvl=14&sty=h&cp=31.3064~45.3109&sp=point.31.3064_45.3109\",\"Maplink3\")","v":"Maplink3"}]
[2045,"Al-Muthanna","Al-Samawa","Al-Sowair","Hay 9 Nissan","حي 9 نيسان",31.3085472817,45.3072568495,5,30,0,0,0,6,0,0,24,0,0,0,0,0,0,0,0,6,0,6,0,0,0,0,0,0,0,0,0,18,0,0,0,0,0,6,6,6,12,0,0,0,0,0,0,0,0,{"$f":"HYPERLINK(\"http://www.openstreetmap.org/?mlat=31.3085&mlon=45.3073&zoom=12#map=12/31.3085/45.3073\",\"Maplink1\")","v":"Maplink1"},{"$f":"HYPERLINK(\"https://www.google.iq/maps/search/+31.3085,45.3073/@31.3085,45.3073,14z?hl=en\",\"Maplink2\")","v":"Maplink2"},{"$f":"HYPERLINK(\"http://www.bing.com/maps/?lvl=14&sty=h&cp=31.3085~45.3073&sp=point.31.3085_45.3073\",\"Maplink3\")","v":"Maplink3"}]
[27268,"Al-Muthanna","Al-Samawa","Al-Sowair","Hay Al Mualmeen 2","حي المعلمين 2",31.3128323,45.2628422,2,12,0,0,0,0,0,0,12,0,0,0,0,0,0,0,0,0,0,0,0,0,0,0,0,0,0,0,0,12,0,0,0,0,0,0,0,12,0,0,0,0,0,0,0,0,0,{"$f":"HYPERLINK(\"http://www.openstreetmap.org/?mlat=31.3128&mlon=45.2628&zoom=12#map=12/31.3128/45.2628\",\"Maplink1\")","v":"Maplink1"},{"$f":"HYPERLINK(\"https://www.google.iq/maps/search/+31.3128,45.2628/@31.3128,45.2628,14z?hl=en\",\"Maplink2\")","v":"Maplink2"},{"$f":"HYPERLINK(\"http://www.bing.com/maps/?lvl=14&sty=h&cp=31.3128~45.2628&sp=point.31.3128_45.2628\",\"Maplink3\")","v":"Maplink3"}]
[29575,"Al-Muthanna","Al-Samawa","Al-Sowair","Hay Dor Al Shareka","حي دور الشركة",31.3037680881,45.3007897083,1,6,0,0,0,6,0,0,0,0,0,0,0,0,0,0,0,0,0,0,0,0,0,0,0,0,0,0,0,6,0,0,0,0,0,0,6,0,0,0,0,0,0,0,0,0,0,{"$f":"HYPERLINK(\"http://www.openstreetmap.org/?mlat=31.3038&mlon=45.3008&zoom=12#map=12/31.3038/45.3008\",\"Maplink1\")","v":"Maplink1"},{"$f":"HYPERLINK(\"https://www.google.iq/maps/search/+31.3038,45.3008/@31.3038,45.3008,14z?hl=en\",\"Maplink2\")","v":"Maplink2"},{"$f":"HYPERLINK(\"http://www.bing.com/maps/?lvl=14&sty=h&cp=31.3038~45.3008&sp=point.31.3038_45.3008\",\"Maplink3\")","v":"Maplink3"}]
[29572,"Al-Muthanna","Al-Samawa","Al-Sowair","Hay Al Jmhoori","حي الجمهوري",31.3019649731,45.2724276111,2,12,0,0,0,0,0,0,12,0,0,0,0,0,0,0,0,12,0,0,0,0,0,0,0,0,0,0,0,0,0,0,0,0,0,0,0,0,6,6,0,0,0,0,0,0,0,{"$f":"HYPERLINK(\"http://www.openstreetmap.org/?mlat=31.302&mlon=45.2724&zoom=12#map=12/31.302/45.2724\",\"Maplink1\")","v":"Maplink1"},{"$f":"HYPERLINK(\"https://www.google.iq/maps/search/+31.302,45.2724/@31.302,45.2724,14z?hl=en\",\"Maplink2\")","v":"Maplink2"},{"$f":"HYPERLINK(\"http://www.bing.com/maps/?lvl=14&sty=h&cp=31.302~45.2724&sp=point.31.302_45.2724\",\"Maplink3\")","v":"Maplink3"}]
[1586,"Al-Muthanna","Al-Samawa","Al-Sowair","Hay Al Mualmeen","حي المعلمين",31.3164926134,45.2751221415,2,12,0,0,0,0,0,0,12,0,0,0,0,0,0,0,0,0,0,0,0,0,0,0,0,0,0,0,0,12,0,0,0,0,0,0,0,12,0,0,0,0,0,0,0,0,0,{"$f":"HYPERLINK(\"http://www.openstreetmap.org/?mlat=31.3165&mlon=45.2751&zoom=12#map=12/31.3165/45.2751\",\"Maplink1\")","v":"Maplink1"},{"$f":"HYPERLINK(\"https://www.google.iq/maps/search/+31.3165,45.2751/@31.3165,45.2751,14z?hl=en\",\"Maplink2\")","v":"Maplink2"},{"$f":"HYPERLINK(\"http://www.bing.com/maps/?lvl=14&sty=h&cp=31.3165~45.2751&sp=point.31.3165_45.2751\",\"Maplink3\")","v":"Maplink3"}]
[2071,"Al-Muthanna","Al-Samawa","Al-Sowair","Hay Alnadhem","حي الناظم",31.3232937,45.294652,1,6,0,0,0,0,0,0,6,0,0,0,0,0,0,0,0,0,0,0,0,0,6,0,0,0,0,0,0,0,0,0,0,0,0,0,0,6,0,0,0,0,0,0,0,0,0,{"$f":"HYPERLINK(\"http://www.openstreetmap.org/?mlat=31.3233&mlon=45.2947&zoom=12#map=12/31.3233/45.2947\",\"Maplink1\")","v":"Maplink1"},{"$f":"HYPERLINK(\"https://www.google.iq/maps/search/+31.3233,45.2947/@31.3233,45.2947,14z?hl=en\",\"Maplink2\")","v":"Maplink2"},{"$f":"HYPERLINK(\"http://www.bing.com/maps/?lvl=14&sty=h&cp=31.3233~45.2947&sp=point.31.3233_45.2947\",\"Maplink3\")","v":"Maplink3"}]
[33241,"Al-Muthanna","Al-Samawa","Al-Sowair","Hay 36","حي 36",31.291878568,45.2626669384,2,12,0,0,0,0,0,0,12,0,0,0,0,0,0,0,0,6,0,0,0,0,0,0,0,6,0,0,0,0,0,0,0,0,0,0,6,6,0,0,0,0,0,0,0,0,0,{"$f":"HYPERLINK(\"http://www.openstreetmap.org/?mlat=31.2919&mlon=45.2627&zoom=12#map=12/31.2919/45.2627\",\"Maplink1\")","v":"Maplink1"},{"$f":"HYPERLINK(\"https://www.google.iq/maps/search/+31.2919,45.2627/@31.2919,45.2627,14z?hl=en\",\"Maplink2\")","v":"Maplink2"},{"$f":"HYPERLINK(\"http://www.bing.com/maps/?lvl=14&sty=h&cp=31.2919~45.2627&sp=point.31.2919_45.2627\",\"Maplink3\")","v":"Maplink3"}]
[34280,"Al-Muthanna","Al-Samawa","Al-Sowair","Basateen Al Qadouri","بساتين ال قدوري",31.3309153,45.2902328,1,6,0,0,0,0,0,0,6,0,0,0,0,0,0,0,0,6,0,0,0,0,0,0,0,0,0,0,0,0,0,0,0,0,0,0,0,0,0,6,0,0,0,0,0,0,0,{"$f":"HYPERLINK(\"http://www.openstreetmap.org/?mlat=31.3309&mlon=45.2902&zoom=12#map=12/31.3309/45.2902\",\"Maplink1\")","v":"Maplink1"},{"$f":"HYPERLINK(\"https://www.google.iq/maps/search/+31.3309,45.2902/@31.3309,45.2902,14z?hl=en\",\"Maplink2\")","v":"Maplink2"},{"$f":"HYPERLINK(\"http://www.bing.com/maps/?lvl=14&sty=h&cp=31.3309~45.2902&sp=point.31.3309_45.2902\",\"Maplink3\")","v":"Maplink3"}]
[1570,"Al-Muthanna","Al-Samawa","Al-Sowair","Hay Al Bani","حي ال باني",31.3099172,45.2752148,5,30,0,0,0,0,0,0,30,0,0,0,0,0,0,0,0,0,0,6,0,0,6,0,0,0,0,0,0,18,0,0,0,0,0,0,12,6,6,0,0,6,0,0,0,0,0,{"$f":"HYPERLINK(\"http://www.openstreetmap.org/?mlat=31.3099&mlon=45.2752&zoom=12#map=12/31.3099/45.2752\",\"Maplink1\")","v":"Maplink1"},{"$f":"HYPERLINK(\"https://www.google.iq/maps/search/+31.3099,45.2752/@31.3099,45.2752,14z?hl=en\",\"Maplink2\")","v":"Maplink2"},{"$f":"HYPERLINK(\"http://www.bing.com/maps/?lvl=14&sty=h&cp=31.3099~45.2752&sp=point.31.3099_45.2752\",\"Maplink3\")","v":"Maplink3"}]
[1609,"Al-Muthanna","Al-Samawa","Al-Sowair","Al Basateen Al Gharbia","البساتين الغربية",31.3262343546,45.2706156112,1,6,0,0,0,0,0,0,0,0,0,0,0,6,0,0,0,0,0,0,0,0,0,0,0,0,0,0,0,6,0,0,0,0,0,0,0,6,0,0,0,0,0,0,0,0,0,{"$f":"HYPERLINK(\"http://www.openstreetmap.org/?mlat=31.3262&mlon=45.2706&zoom=12#map=12/31.3262/45.2706\",\"Maplink1\")","v":"Maplink1"},{"$f":"HYPERLINK(\"https://www.google.iq/maps/search/+31.3262,45.2706/@31.3262,45.2706,14z?hl=en\",\"Maplink2\")","v":"Maplink2"},{"$f":"HYPERLINK(\"http://www.bing.com/maps/?lvl=14&sty=h&cp=31.3262~45.2706&sp=point.31.3262_45.2706\",\"Maplink3\")","v":"Maplink3"}]
[24613,"Al-Najaf","Al-Kufa","Al-Huriya","Al Abassiyah-Hay Al Resalah 2","العباسية حي الرسالة الثانية",32.0749750026,44.4359772991,2,12,0,0,0,0,0,0,12,0,0,0,0,0,0,0,0,0,0,0,0,0,0,0,0,0,0,0,0,12,0,0,0,0,0,0,12,0,0,0,0,0,0,0,0,0,0,{"$f":"HYPERLINK(\"http://www.openstreetmap.org/?mlat=32.075&mlon=44.436&zoom=12#map=12/32.075/44.436\",\"Maplink1\")","v":"Maplink1"},{"$f":"HYPERLINK(\"https://www.google.iq/maps/search/+32.075,44.436/@32.075,44.436,14z?hl=en\",\"Maplink2\")","v":"Maplink2"},{"$f":"HYPERLINK(\"http://www.bing.com/maps/?lvl=14&sty=h&cp=32.075~44.436&sp=point.32.075_44.436\",\"Maplink3\")","v":"Maplink3"}]
[29622,"Al-Najaf","Al-Kufa","Al-Huriya","Fadak Village","قرية فدك",32.1176327236,44.3394312598,18,108,0,0,0,0,0,0,108,0,0,0,0,0,0,0,0,0,0,0,0,0,0,0,0,0,0,0,0,108,0,0,0,0,0,0,0,108,0,0,0,0,0,0,0,0,0,{"$f":"HYPERLINK(\"http://www.openstreetmap.org/?mlat=32.1176&mlon=44.3394&zoom=12#map=12/32.1176/44.3394\",\"Maplink1\")","v":"Maplink1"},{"$f":"HYPERLINK(\"https://www.google.iq/maps/search/+32.1176,44.3394/@32.1176,44.3394,14z?hl=en\",\"Maplink2\")","v":"Maplink2"},{"$f":"HYPERLINK(\"http://www.bing.com/maps/?lvl=14&sty=h&cp=32.1176~44.3394&sp=point.32.1176_44.3394\",\"Maplink3\")","v":"Maplink3"}]
[20340,"Al-Najaf","Al-Kufa","Al-Huriya","Al Hureya","الحرية",32.1025923307,44.5406634248,4,24,0,0,0,0,0,0,24,0,0,0,0,0,0,0,0,0,0,0,0,0,0,0,0,0,0,0,0,24,0,0,0,0,0,0,0,24,0,0,0,0,0,0,0,0,0,{"$f":"HYPERLINK(\"http://www.openstreetmap.org/?mlat=32.1026&mlon=44.5407&zoom=12#map=12/32.1026/44.5407\",\"Maplink1\")","v":"Maplink1"},{"$f":"HYPERLINK(\"https://www.google.iq/maps/search/+32.1026,44.5407/@32.1026,44.5407,14z?hl=en\",\"Maplink2\")","v":"Maplink2"},{"$f":"HYPERLINK(\"http://www.bing.com/maps/?lvl=14&sty=h&cp=32.1026~44.5407&sp=point.32.1026_44.5407\",\"Maplink3\")","v":"Maplink3"}]
[24614,"Al-Najaf","Al-Kufa","Al-Huriya","Al Abassiyah-Al Resalah 3","العباسية حي الرسالة الثالثة",32.0724987233,44.4333274088,2,12,0,0,0,0,0,0,12,0,0,0,0,0,0,0,0,0,0,0,0,0,0,0,0,0,0,0,0,12,0,0,0,0,0,0,0,12,0,0,0,0,0,0,0,0,0,{"$f":"HYPERLINK(\"http://www.openstreetmap.org/?mlat=32.0725&mlon=44.4333&zoom=12#map=12/32.0725/44.4333\",\"Maplink1\")","v":"Maplink1"},{"$f":"HYPERLINK(\"https://www.google.iq/maps/search/+32.0725,44.4333/@32.0725,44.4333,14z?hl=en\",\"Maplink2\")","v":"Maplink2"},{"$f":"HYPERLINK(\"http://www.bing.com/maps/?lvl=14&sty=h&cp=32.0725~44.4333&sp=point.32.0725_44.4333\",\"Maplink3\")","v":"Maplink3"}]
[20173,"Al-Najaf","Al-Kufa","Al-Huriya","Al Abassiyah-Hay Al muntadher","العباسية-حي المنتظر",32.0760691894,44.4440039251,3,18,0,0,0,0,0,0,18,0,0,0,0,0,0,0,0,0,0,0,0,0,0,0,0,0,0,0,0,18,0,0,0,0,0,0,18,0,0,0,0,0,0,0,0,0,0,{"$f":"HYPERLINK(\"http://www.openstreetmap.org/?mlat=32.0761&mlon=44.444&zoom=12#map=12/32.0761/44.444\",\"Maplink1\")","v":"Maplink1"},{"$f":"HYPERLINK(\"https://www.google.iq/maps/search/+32.0761,44.444/@32.0761,44.444,14z?hl=en\",\"Maplink2\")","v":"Maplink2"},{"$f":"HYPERLINK(\"http://www.bing.com/maps/?lvl=14&sty=h&cp=32.0761~44.444&sp=point.32.0761_44.444\",\"Maplink3\")","v":"Maplink3"}]
[25890,"Al-Najaf","Al-Kufa","Markaz Al-Kufa","Sader 3","الصدر الثالث",32.0078481634,44.3920663004,7,42,0,0,0,0,0,0,42,0,0,0,0,0,0,0,0,0,0,0,0,0,0,0,0,0,0,0,0,42,0,0,0,0,0,0,0,42,0,0,0,0,0,0,0,0,0,{"$f":"HYPERLINK(\"http://www.openstreetmap.org/?mlat=32.0078&mlon=44.3921&zoom=12#map=12/32.0078/44.3921\",\"Maplink1\")","v":"Maplink1"},{"$f":"HYPERLINK(\"https://www.google.iq/maps/search/+32.0078,44.3921/@32.0078,44.3921,14z?hl=en\",\"Maplink2\")","v":"Maplink2"},{"$f":"HYPERLINK(\"http://www.bing.com/maps/?lvl=14&sty=h&cp=32.0078~44.3921&sp=point.32.0078_44.3921\",\"Maplink3\")","v":"Maplink3"}]
[24311,"Al-Najaf","Al-Kufa","Markaz Al-Kufa","Alwat Al Fahal","علوة الفحل",32.0815603202,44.3768515223,115,690,0,0,0,0,0,0,690,0,0,0,0,0,0,0,0,0,0,0,0,0,0,0,0,0,0,0,0,690,0,0,0,0,0,0,0,0,690,0,0,0,0,0,0,0,0,{"$f":"HYPERLINK(\"http://www.openstreetmap.org/?mlat=32.0816&mlon=44.3769&zoom=12#map=12/32.0816/44.3769\",\"Maplink1\")","v":"Maplink1"},{"$f":"HYPERLINK(\"https://www.google.iq/maps/search/+32.0816,44.3769/@32.0816,44.3769,14z?hl=en\",\"Maplink2\")","v":"Maplink2"},{"$f":"HYPERLINK(\"http://www.bing.com/maps/?lvl=14&sty=h&cp=32.0816~44.3769&sp=point.32.0816_44.3769\",\"Maplink3\")","v":"Maplink3"}]
[25644,"Al-Najaf","Al-Kufa","Markaz Al-Kufa","Al Suhailiya 2","السهيليه 2",32.0345773,44.3907608,2,12,0,0,0,0,0,0,12,0,0,0,0,0,0,0,0,0,0,0,0,0,0,0,0,0,0,0,0,12,0,0,0,0,0,12,0,0,0,0,0,0,0,0,0,0,0,{"$f":"HYPERLINK(\"http://www.openstreetmap.org/?mlat=32.0346&mlon=44.3908&zoom=12#map=12/32.0346/44.3908\",\"Maplink1\")","v":"Maplink1"},{"$f":"HYPERLINK(\"https://www.google.iq/maps/search/+32.0346,44.3908/@32.0346,44.3908,14z?hl=en\",\"Maplink2\")","v":"Maplink2"},{"$f":"HYPERLINK(\"http://www.bing.com/maps/?lvl=14&sty=h&cp=32.0346~44.3908&sp=point.32.0346_44.3908\",\"Maplink3\")","v":"Maplink3"}]
[20298,"Al-Najaf","Al-Kufa","Markaz Al-Kufa","Al Barakiya","البراكية",32.0125120614,44.4188639032,52,312,0,0,0,0,0,0,312,0,0,0,0,0,0,0,0,0,0,0,0,0,0,0,0,0,0,0,0,312,0,0,0,0,0,0,312,0,0,0,0,0,0,0,0,0,0,{"$f":"HYPERLINK(\"http://www.openstreetmap.org/?mlat=32.0125&mlon=44.4189&zoom=12#map=12/32.0125/44.4189\",\"Maplink1\")","v":"Maplink1"},{"$f":"HYPERLINK(\"https://www.google.iq/maps/search/+32.0125,44.4189/@32.0125,44.4189,14z?hl=en\",\"Maplink2\")","v":"Maplink2"},{"$f":"HYPERLINK(\"http://www.bing.com/maps/?lvl=14&sty=h&cp=32.0125~44.4189&sp=point.32.0125_44.4189\",\"Maplink3\")","v":"Maplink3"}]
[24374,"Al-Najaf","Al-Kufa","Markaz Al-Kufa","Albu Hadary","البو حداري",32.0720396,44.3943598,4,24,0,0,0,0,0,0,24,0,0,0,0,0,0,0,0,0,0,0,0,0,0,0,0,0,0,0,0,24,0,0,0,0,0,0,24,0,0,0,0,0,0,0,0,0,0,{"$f":"HYPERLINK(\"http://www.openstreetmap.org/?mlat=32.072&mlon=44.3944&zoom=12#map=12/32.072/44.3944\",\"Maplink1\")","v":"Maplink1"},{"$f":"HYPERLINK(\"https://www.google.iq/maps/search/+32.072,44.3944/@32.072,44.3944,14z?hl=en\",\"Maplink2\")","v":"Maplink2"},{"$f":"HYPERLINK(\"http://www.bing.com/maps/?lvl=14&sty=h&cp=32.072~44.3944&sp=point.32.072_44.3944\",\"Maplink3\")","v":"Maplink3"}]
[20347,"Al-Najaf","Al-Kufa","Markaz Al-Kufa","Maytham Al Tamar","حي ميثم التمار",32.0193019,44.3981725,3,18,0,0,0,0,0,0,18,0,0,0,0,0,0,0,0,0,0,0,0,0,0,0,0,0,0,0,0,18,0,0,0,0,0,0,0,18,0,0,0,0,0,0,0,0,0,{"$f":"HYPERLINK(\"http://www.openstreetmap.org/?mlat=32.0193&mlon=44.3982&zoom=12#map=12/32.0193/44.3982\",\"Maplink1\")","v":"Maplink1"},{"$f":"HYPERLINK(\"https://www.google.iq/maps/search/+32.0193,44.3982/@32.0193,44.3982,14z?hl=en\",\"Maplink2\")","v":"Maplink2"},{"$f":"HYPERLINK(\"http://www.bing.com/maps/?lvl=14&sty=h&cp=32.0193~44.3982&sp=point.32.0193_44.3982\",\"Maplink3\")","v":"Maplink3"}]
[20304,"Al-Najaf","Al-Kufa","Markaz Al-Kufa","AL-RADHAWIYA","الرضوية 1",31.9625698589,44.4132356213,140,840,0,0,0,0,0,0,840,0,0,0,0,0,0,0,0,0,0,0,0,0,0,0,0,0,0,0,0,840,0,0,0,0,0,0,0,840,0,0,0,0,0,0,0,0,0,{"$f":"HYPERLINK(\"http://www.openstreetmap.org/?mlat=31.9626&mlon=44.4132&zoom=12#map=12/31.9626/44.4132\",\"Maplink1\")","v":"Maplink1"},{"$f":"HYPERLINK(\"https://www.google.iq/maps/search/+31.9626,44.4132/@31.9626,44.4132,14z?hl=en\",\"Maplink2\")","v":"Maplink2"},{"$f":"HYPERLINK(\"http://www.bing.com/maps/?lvl=14&sty=h&cp=31.9626~44.4132&sp=point.31.9626_44.4132\",\"Maplink3\")","v":"Maplink3"}]
[20046,"Al-Najaf","Al-Kufa","Markaz Al-Kufa","Al Kreishat 2","الكريشات 2",32.0310248,44.4064995,4,24,0,0,0,0,0,0,24,0,0,0,0,0,0,0,0,0,0,0,0,0,0,0,0,0,0,0,0,24,0,0,0,0,0,0,24,0,0,0,0,0,0,0,0,0,0,{"$f":"HYPERLINK(\"http://www.openstreetmap.org/?mlat=32.031&mlon=44.4065&zoom=12#map=12/32.031/44.4065\",\"Maplink1\")","v":"Maplink1"},{"$f":"HYPERLINK(\"https://www.google.iq/maps/search/+32.031,44.4065/@32.031,44.4065,14z?hl=en\",\"Maplink2\")","v":"Maplink2"},{"$f":"HYPERLINK(\"http://www.bing.com/maps/?lvl=14&sty=h&cp=32.031~44.4065&sp=point.32.031_44.4065\",\"Maplink3\")","v":"Maplink3"}]
[20041,"Al-Najaf","Al-Kufa","Markaz Al-Kufa","Hay alfurat","حي الفرات",32.0300538,44.4072868,3,18,0,0,0,0,0,0,18,0,0,0,0,0,0,0,0,0,0,0,0,0,0,0,0,0,0,0,0,18,0,0,0,0,0,0,0,18,0,0,0,0,0,0,0,0,0,{"$f":"HYPERLINK(\"http://www.openstreetmap.org/?mlat=32.0301&mlon=44.4073&zoom=12#map=12/32.0301/44.4073\",\"Maplink1\")","v":"Maplink1"},{"$f":"HYPERLINK(\"https://www.google.iq/maps/search/+32.0301,44.4073/@32.0301,44.4073,14z?hl=en\",\"Maplink2\")","v":"Maplink2"},{"$f":"HYPERLINK(\"http://www.bing.com/maps/?lvl=14&sty=h&cp=32.0301~44.4073&sp=point.32.0301_44.4073\",\"Maplink3\")","v":"Maplink3"}]
[20089,"Al-Najaf","Al-Kufa","Markaz Al-Kufa","Al Suhailiya 1","السهيليه 1",32.0358425,44.3871691,3,18,0,0,0,0,0,0,18,0,0,0,0,0,0,0,0,0,0,0,0,0,0,0,0,0,0,0,0,18,0,0,0,0,0,0,0,0,18,0,0,0,0,0,0,0,0,{"$f":"HYPERLINK(\"http://www.openstreetmap.org/?mlat=32.0358&mlon=44.3872&zoom=12#map=12/32.0358/44.3872\",\"Maplink1\")","v":"Maplink1"},{"$f":"HYPERLINK(\"https://www.google.iq/maps/search/+32.0358,44.3872/@32.0358,44.3872,14z?hl=en\",\"Maplink2\")","v":"Maplink2"},{"$f":"HYPERLINK(\"http://www.bing.com/maps/?lvl=14&sty=h&cp=32.0358~44.3872&sp=point.32.0358_44.3872\",\"Maplink3\")","v":"Maplink3"}]
[19634,"Al-Najaf","Al-Kufa","Markaz Al-Kufa","Al Sahla","السهله",32.037128,44.382744,4,24,0,0,0,0,0,0,24,0,0,0,0,0,0,0,0,0,0,0,0,0,0,0,0,0,0,0,0,24,0,0,0,0,0,0,24,0,0,0,0,0,0,0,0,0,0,{"$f":"HYPERLINK(\"http://www.openstreetmap.org/?mlat=32.0371&mlon=44.3827&zoom=12#map=12/32.0371/44.3827\",\"Maplink1\")","v":"Maplink1"},{"$f":"HYPERLINK(\"https://www.google.iq/maps/search/+32.0371,44.3827/@32.0371,44.3827,14z?hl=en\",\"Maplink2\")","v":"Maplink2"},{"$f":"HYPERLINK(\"http://www.bing.com/maps/?lvl=14&sty=h&cp=32.0371~44.3827&sp=point.32.0371_44.3827\",\"Maplink3\")","v":"Maplink3"}]
[23485,"Al-Najaf","Al-Kufa","Markaz Al-Kufa","Albu Noman","البو نعمان",32.029177,44.4182394,4,24,0,0,0,0,0,0,24,0,0,0,0,0,0,0,0,0,0,0,0,0,0,0,0,0,0,0,0,24,0,0,0,0,0,0,24,0,0,0,0,0,0,0,0,0,0,{"$f":"HYPERLINK(\"http://www.openstreetmap.org/?mlat=32.0292&mlon=44.4182&zoom=12#map=12/32.0292/44.4182\",\"Maplink1\")","v":"Maplink1"},{"$f":"HYPERLINK(\"https://www.google.iq/maps/search/+32.0292,44.4182/@32.0292,44.4182,14z?hl=en\",\"Maplink2\")","v":"Maplink2"},{"$f":"HYPERLINK(\"http://www.bing.com/maps/?lvl=14&sty=h&cp=32.0292~44.4182&sp=point.32.0292_44.4182\",\"Maplink3\")","v":"Maplink3"}]
[19911,"Al-Najaf","Al-Manathera","Al-Heera","Hay almatat","حي المطاط",31.914383,44.480615,3,18,0,0,0,0,0,0,18,0,0,0,0,0,0,0,0,0,0,0,0,0,0,0,0,0,0,0,0,18,0,0,0,0,0,0,18,0,0,0,0,0,0,0,0,0,0,{"$f":"HYPERLINK(\"http://www.openstreetmap.org/?mlat=31.9144&mlon=44.4806&zoom=12#map=12/31.9144/44.4806\",\"Maplink1\")","v":"Maplink1"},{"$f":"HYPERLINK(\"https://www.google.iq/maps/search/+31.9144,44.4806/@31.9144,44.4806,14z?hl=en\",\"Maplink2\")","v":"Maplink2"},{"$f":"HYPERLINK(\"http://www.bing.com/maps/?lvl=14&sty=h&cp=31.9144~44.4806&sp=point.31.9144_44.4806\",\"Maplink3\")","v":"Maplink3"}]
[22228,"Al-Najaf","Al-Manathera","Al-Heera","Al-Muhajerah","حي المحجره",31.914793,44.477524,3,18,0,0,0,0,0,0,18,0,0,0,0,0,0,0,0,0,0,0,0,0,0,0,0,0,0,0,0,18,0,0,0,0,0,0,0,18,0,0,0,0,0,0,0,0,0,{"$f":"HYPERLINK(\"http://www.openstreetmap.org/?mlat=31.9148&mlon=44.4775&zoom=12#map=12/31.9148/44.4775\",\"Maplink1\")","v":"Maplink1"},{"$f":"HYPERLINK(\"https://www.google.iq/maps/search/+31.9148,44.4775/@31.9148,44.4775,14z?hl=en\",\"Maplink2\")","v":"Maplink2"},{"$f":"HYPERLINK(\"http://www.bing.com/maps/?lvl=14&sty=h&cp=31.9148~44.4775&sp=point.31.9148_44.4775\",\"Maplink3\")","v":"Maplink3"}]
[19588,"Al-Najaf","Al-Manathera","Al-Heera","Al Mishkhab","المشخاب",31.8079939535,44.4912969186,10,60,0,0,0,0,0,0,60,0,0,0,0,0,0,0,0,12,0,0,0,0,0,0,0,0,0,0,0,48,0,0,0,0,0,0,0,0,60,0,0,0,0,0,0,0,0,{"$f":"HYPERLINK(\"http://www.openstreetmap.org/?mlat=31.808&mlon=44.4913&zoom=12#map=12/31.808/44.4913\",\"Maplink1\")","v":"Maplink1"},{"$f":"HYPERLINK(\"https://www.google.iq/maps/search/+31.808,44.4913/@31.808,44.4913,14z?hl=en\",\"Maplink2\")","v":"Maplink2"},{"$f":"HYPERLINK(\"http://www.bing.com/maps/?lvl=14&sty=h&cp=31.808~44.4913&sp=point.31.808_44.4913\",\"Maplink3\")","v":"Maplink3"}]
[34007,"Al-Najaf","Al-Najaf","Al-Haydariya","Hay AL Karrar","حي الكرار",32.2837094127,44.2784405179,200,{"v":1200,"d":"1,200"},0,0,0,0,0,{"v":1200,"d":"1,200"},0,0,0,0,0,0,0,0,0,0,0,0,0,0,0,0,0,0,0,0,0,{"v":1200,"d":"1,200"},0,0,0,0,0,0,{"v":1200,"d":"1,200"},0,0,0,0,0,0,0,0,0,0,{"$f":"HYPERLINK(\"http://www.openstreetmap.org/?mlat=32.2837&mlon=44.2784&zoom=12#map=12/32.2837/44.2784\",\"Maplink1\")","v":"Maplink1"},{"$f":"HYPERLINK(\"https://www.google.iq/maps/search/+32.2837,44.2784/@32.2837,44.2784,14z?hl=en\",\"Maplink2\")","v":"Maplink2"},{"$f":"HYPERLINK(\"http://www.bing.com/maps/?lvl=14&sty=h&cp=32.2837~44.2784&sp=point.32.2837_44.2784\",\"Maplink3\")","v":"Maplink3"}]
[24240,"Al-Najaf","Al-Najaf","Al-Haydariya","Hay Al zahraa-Al Haidariyah","حي الزهراء-الحيدرية",32.3128062993,44.2740785652,6,36,0,0,0,0,0,0,36,0,0,0,0,0,0,0,0,0,0,0,0,0,0,0,0,0,0,0,0,36,0,0,0,0,0,0,36,0,0,0,0,0,0,0,0,0,0,{"$f":"HYPERLINK(\"http://www.openstreetmap.org/?mlat=32.3128&mlon=44.2741&zoom=12#map=12/32.3128/44.2741\",\"Maplink1\")","v":"Maplink1"},{"$f":"HYPERLINK(\"https://www.google.iq/maps/search/+32.3128,44.2741/@32.3128,44.2741,14z?hl=en\",\"Maplink2\")","v":"Maplink2"},{"$f":"HYPERLINK(\"http://www.bing.com/maps/?lvl=14&sty=h&cp=32.3128~44.2741&sp=point.32.3128_44.2741\",\"Maplink3\")","v":"Maplink3"}]
[29623,"Al-Najaf","Al-Najaf","Al-Haydariya","Al-Mazara 2","المزارع الثانية",32.1416320043,44.333502471,16,96,0,0,0,0,0,0,96,0,0,0,0,0,0,0,0,0,0,0,0,0,0,0,0,0,0,0,0,96,0,0,0,0,0,0,96,0,0,0,0,0,0,0,0,0,0,{"$f":"HYPERLINK(\"http://www.openstreetmap.org/?mlat=32.1416&mlon=44.3335&zoom=12#map=12/32.1416/44.3335\",\"Maplink1\")","v":"Maplink1"},{"$f":"HYPERLINK(\"https://www.google.iq/maps/search/+32.1416,44.3335/@32.1416,44.3335,14z?hl=en\",\"Maplink2\")","v":"Maplink2"},{"$f":"HYPERLINK(\"http://www.bing.com/maps/?lvl=14&sty=h&cp=32.1416~44.3335&sp=point.32.1416_44.3335\",\"Maplink3\")","v":"Maplink3"}]
[20260,"Al-Najaf","Al-Najaf","Al-Haydariya","Al bory","قرية البوري",32.2796099,44.2892457,2,12,0,0,0,0,0,0,12,0,0,0,0,0,0,0,0,0,0,0,0,0,0,0,0,0,0,0,0,12,0,0,0,0,0,0,0,12,0,0,0,0,0,0,0,0,0,{"$f":"HYPERLINK(\"http://www.openstreetmap.org/?mlat=32.2796&mlon=44.2892&zoom=12#map=12/32.2796/44.2892\",\"Maplink1\")","v":"Maplink1"},{"$f":"HYPERLINK(\"https://www.google.iq/maps/search/+32.2796,44.2892/@32.2796,44.2892,14z?hl=en\",\"Maplink2\")","v":"Maplink2"},{"$f":"HYPERLINK(\"http://www.bing.com/maps/?lvl=14&sty=h&cp=32.2796~44.2892&sp=point.32.2796_44.2892\",\"Maplink3\")","v":"Maplink3"}]
[29619,"Al-Najaf","Al-Najaf","Al-Haydariya","Al-Mazarea AL-Westa","المزارع الوسطى",32.2673666905,44.2891418985,100,600,0,0,0,0,0,0,600,0,0,0,0,0,0,0,0,0,0,0,0,0,0,0,0,0,0,0,0,600,0,0,0,0,0,0,600,0,0,0,0,0,0,0,0,0,0,{"$f":"HYPERLINK(\"http://www.openstreetmap.org/?mlat=32.2674&mlon=44.2891&zoom=12#map=12/32.2674/44.2891\",\"Maplink1\")","v":"Maplink1"},{"$f":"HYPERLINK(\"https://www.google.iq/maps/search/+32.2674,44.2891/@32.2674,44.2891,14z?hl=en\",\"Maplink2\")","v":"Maplink2"},{"$f":"HYPERLINK(\"http://www.bing.com/maps/?lvl=14&sty=h&cp=32.2674~44.2891&sp=point.32.2674_44.2891\",\"Maplink3\")","v":"Maplink3"}]
[19637,"Al-Najaf","Al-Najaf","Al-Haydariya","Markaz Alhaidariya","مركز الحيدرية",32.3187588178,44.2727962274,15,90,0,0,0,0,0,0,90,0,0,0,0,0,0,0,0,0,0,0,0,0,0,0,0,0,0,0,0,90,0,0,0,0,0,0,90,0,0,0,0,0,0,0,0,0,0,{"$f":"HYPERLINK(\"http://www.openstreetmap.org/?mlat=32.3188&mlon=44.2728&zoom=12#map=12/32.3188/44.2728\",\"Maplink1\")","v":"Maplink1"},{"$f":"HYPERLINK(\"https://www.google.iq/maps/search/+32.3188,44.2728/@32.3188,44.2728,14z?hl=en\",\"Maplink2\")","v":"Maplink2"},{"$f":"HYPERLINK(\"http://www.bing.com/maps/?lvl=14&sty=h&cp=32.3188~44.2728&sp=point.32.3188_44.2728\",\"Maplink3\")","v":"Maplink3"}]
[25431,"Al-Najaf","Al-Najaf","Al-Haydariya","Hay Al Ameer","حي الامير",32.315968084,44.2689273967,31,186,0,0,0,0,0,0,186,0,0,0,0,0,0,0,0,0,0,0,0,0,0,0,0,0,0,0,0,186,0,0,0,0,0,0,186,0,0,0,0,0,0,0,0,0,0,{"$f":"HYPERLINK(\"http://www.openstreetmap.org/?mlat=32.316&mlon=44.2689&zoom=12#map=12/32.316/44.2689\",\"Maplink1\")","v":"Maplink1"},{"$f":"HYPERLINK(\"https://www.google.iq/maps/search/+32.316,44.2689/@32.316,44.2689,14z?hl=en\",\"Maplink2\")","v":"Maplink2"},{"$f":"HYPERLINK(\"http://www.bing.com/maps/?lvl=14&sty=h&cp=32.316~44.2689&sp=point.32.316_44.2689\",\"Maplink3\")","v":"Maplink3"}]
[29598,"Al-Najaf","Al-Najaf","Al-Haydariya","Al Salam Complex","مجمع السلام",32.174145,44.307526,90,540,0,0,0,0,0,0,0,0,0,0,540,0,0,0,0,0,0,0,0,0,0,0,0,0,0,0,0,540,0,0,0,0,0,0,540,0,0,0,0,0,0,0,0,0,0,{"$f":"HYPERLINK(\"http://www.openstreetmap.org/?mlat=32.1741&mlon=44.3075&zoom=12#map=12/32.1741/44.3075\",\"Maplink1\")","v":"Maplink1"},{"$f":"HYPERLINK(\"https://www.google.iq/maps/search/+32.1741,44.3075/@32.1741,44.3075,14z?hl=en\",\"Maplink2\")","v":"Maplink2"},{"$f":"HYPERLINK(\"http://www.bing.com/maps/?lvl=14&sty=h&cp=32.1741~44.3075&sp=point.32.1741_44.3075\",\"Maplink3\")","v":"Maplink3"}]
[20341,"Al-Najaf","Al-Najaf","Al-Haydariya","Al-Qasim","القاسم",32.3109911924,44.2745328185,20,120,0,0,0,0,0,0,120,0,0,0,0,0,0,0,0,0,0,0,0,0,0,0,0,0,0,0,0,120,0,0,0,0,0,0,120,0,0,0,0,0,0,0,0,0,0,{"$f":"HYPERLINK(\"http://www.openstreetmap.org/?mlat=32.311&mlon=44.2745&zoom=12#map=12/32.311/44.2745\",\"Maplink1\")","v":"Maplink1"},{"$f":"HYPERLINK(\"https://www.google.iq/maps/search/+32.311,44.2745/@32.311,44.2745,14z?hl=en\",\"Maplink2\")","v":"Maplink2"},{"$f":"HYPERLINK(\"http://www.bing.com/maps/?lvl=14&sty=h&cp=32.311~44.2745&sp=point.32.311_44.2745\",\"Maplink3\")","v":"Maplink3"}]
[29618,"Al-Najaf","Al-Najaf","Al-Haydariya","Mafraq Al-Kefal","مفرك الجفل",32.2184922423,44.3070675465,24,144,0,0,0,0,0,0,144,0,0,0,0,0,0,0,0,0,0,0,0,0,0,0,0,0,0,0,0,144,0,0,0,0,0,0,144,0,0,0,0,0,0,0,0,0,0,{"$f":"HYPERLINK(\"http://www.openstreetmap.org/?mlat=32.2185&mlon=44.3071&zoom=12#map=12/32.2185/44.3071\",\"Maplink1\")","v":"Maplink1"},{"$f":"HYPERLINK(\"https://www.google.iq/maps/search/+32.2185,44.3071/@32.2185,44.3071,14z?hl=en\",\"Maplink2\")","v":"Maplink2"},{"$f":"HYPERLINK(\"http://www.bing.com/maps/?lvl=14&sty=h&cp=32.2185~44.3071&sp=point.32.2185_44.3071\",\"Maplink3\")","v":"Maplink3"}]
[20130,"Al-Najaf","Al-Najaf","Markaz Al-Najaf","Hay missan 232","حي ميسان 232",32.0493671027,44.3647361372,3,18,0,0,0,0,0,0,18,0,0,0,0,0,0,0,0,0,0,0,0,0,0,0,0,0,0,0,0,18,0,0,0,0,0,0,0,18,0,0,0,0,0,0,0,0,0,{"$f":"HYPERLINK(\"http://www.openstreetmap.org/?mlat=32.0494&mlon=44.3647&zoom=12#map=12/32.0494/44.3647\",\"Maplink1\")","v":"Maplink1"},{"$f":"HYPERLINK(\"https://www.google.iq/maps/search/+32.0494,44.3647/@32.0494,44.3647,14z?hl=en\",\"Maplink2\")","v":"Maplink2"},{"$f":"HYPERLINK(\"http://www.bing.com/maps/?lvl=14&sty=h&cp=32.0494~44.3647&sp=point.32.0494_44.3647\",\"Maplink3\")","v":"Maplink3"}]
[33155,"Al-Najaf","Al-Najaf","Markaz Al-Najaf","Hay missan 15-A","حي ميسان 15-أ",32.0490765315,44.3627590314,4,24,0,0,0,0,0,0,24,0,0,0,0,0,0,0,0,0,0,0,0,0,0,0,0,0,0,0,0,24,0,0,0,0,0,0,24,0,0,0,0,0,0,0,0,0,0,{"$f":"HYPERLINK(\"http://www.openstreetmap.org/?mlat=32.0491&mlon=44.3628&zoom=12#map=12/32.0491/44.3628\",\"Maplink1\")","v":"Maplink1"},{"$f":"HYPERLINK(\"https://www.google.iq/maps/search/+32.0491,44.3628/@32.0491,44.3628,14z?hl=en\",\"Maplink2\")","v":"Maplink2"},{"$f":"HYPERLINK(\"http://www.bing.com/maps/?lvl=14&sty=h&cp=32.0491~44.3628&sp=point.32.0491_44.3628\",\"Maplink3\")","v":"Maplink3"}]
[22565,"Al-Najaf","Al-Najaf","Markaz Al-Najaf","Al Jamiaa 3","الجامعة 3",32.0374648589,44.3564115122,2,12,0,0,0,0,0,0,12,0,0,0,0,0,0,0,0,0,0,0,0,0,0,0,0,0,0,0,0,12,0,0,0,0,0,0,12,0,0,0,0,0,0,0,0,0,0,{"$f":"HYPERLINK(\"http://www.openstreetmap.org/?mlat=32.0375&mlon=44.3564&zoom=12#map=12/32.0375/44.3564\",\"Maplink1\")","v":"Maplink1"},{"$f":"HYPERLINK(\"https://www.google.iq/maps/search/+32.0375,44.3564/@32.0375,44.3564,14z?hl=en\",\"Maplink2\")","v":"Maplink2"},{"$f":"HYPERLINK(\"http://www.bing.com/maps/?lvl=14&sty=h&cp=32.0375~44.3564&sp=point.32.0375_44.3564\",\"Maplink3\")","v":"Maplink3"}]
[23705,"Al-Najaf","Al-Najaf","Markaz Al-Najaf","Al Rehab","الرحاب",32.087963374,44.3393566828,9,54,0,0,0,0,0,0,54,0,0,0,0,0,0,0,0,0,0,0,0,0,0,0,0,0,0,0,0,54,0,0,0,0,0,0,54,0,0,0,0,0,0,0,0,0,0,{"$f":"HYPERLINK(\"http://www.openstreetmap.org/?mlat=32.088&mlon=44.3394&zoom=12#map=12/32.088/44.3394\",\"Maplink1\")","v":"Maplink1"},{"$f":"HYPERLINK(\"https://www.google.iq/maps/search/+32.088,44.3394/@32.088,44.3394,14z?hl=en\",\"Maplink2\")","v":"Maplink2"},{"$f":"HYPERLINK(\"http://www.bing.com/maps/?lvl=14&sty=h&cp=32.088~44.3394&sp=point.32.088_44.3394\",\"Maplink3\")","v":"Maplink3"}]
[20282,"Al-Najaf","Al-Najaf","Markaz Al-Najaf","Shawafi Village","الشوافع",31.9887993012,44.3148833404,15,90,0,0,0,0,0,0,90,0,0,0,0,0,0,0,0,0,0,0,0,0,0,0,0,0,0,0,0,90,0,0,0,0,0,0,90,0,0,0,0,0,0,0,0,0,0,{"$f":"HYPERLINK(\"http://www.openstreetmap.org/?mlat=31.9888&mlon=44.3149&zoom=12#map=12/31.9888/44.3149\",\"Maplink1\")","v":"Maplink1"},{"$f":"HYPERLINK(\"https://www.google.iq/maps/search/+31.9888,44.3149/@31.9888,44.3149,14z?hl=en\",\"Maplink2\")","v":"Maplink2"},{"$f":"HYPERLINK(\"http://www.bing.com/maps/?lvl=14&sty=h&cp=31.9888~44.3149&sp=point.31.9888_44.3149\",\"Maplink3\")","v":"Maplink3"}]
[22114,"Al-Najaf","Al-Najaf","Markaz Al-Najaf","Al Jamiaa 1","الجامعة 1",32.0265558056,44.3524202911,4,24,0,0,0,0,0,0,24,0,0,0,0,0,0,0,0,0,0,0,0,0,0,0,0,0,0,0,0,24,0,0,0,0,0,0,0,24,0,0,0,0,0,0,0,0,0,{"$f":"HYPERLINK(\"http://www.openstreetmap.org/?mlat=32.0266&mlon=44.3524&zoom=12#map=12/32.0266/44.3524\",\"Maplink1\")","v":"Maplink1"},{"$f":"HYPERLINK(\"https://www.google.iq/maps/search/+32.0266,44.3524/@32.0266,44.3524,14z?hl=en\",\"Maplink2\")","v":"Maplink2"},{"$f":"HYPERLINK(\"http://www.bing.com/maps/?lvl=14&sty=h&cp=32.0266~44.3524&sp=point.32.0266_44.3524\",\"Maplink3\")","v":"Maplink3"}]
[19971,"Al-Najaf","Al-Najaf","Markaz Al-Najaf","Al-Ansar","الانصار",31.9882080261,44.3565853252,3,18,0,0,0,0,0,0,18,0,0,0,0,0,0,0,0,0,0,0,0,0,0,0,0,0,0,0,0,18,0,0,0,0,0,0,18,0,0,0,0,0,0,0,0,0,0,{"$f":"HYPERLINK(\"http://www.openstreetmap.org/?mlat=31.9882&mlon=44.3566&zoom=12#map=12/31.9882/44.3566\",\"Maplink1\")","v":"Maplink1"},{"$f":"HYPERLINK(\"https://www.google.iq/maps/search/+31.9882,44.3566/@31.9882,44.3566,14z?hl=en\",\"Maplink2\")","v":"Maplink2"},{"$f":"HYPERLINK(\"http://www.bing.com/maps/?lvl=14&sty=h&cp=31.9882~44.3566&sp=point.31.9882_44.3566\",\"Maplink3\")","v":"Maplink3"}]
[20287,"Al-Najaf","Al-Najaf","Markaz Al-Najaf","Al-Ghadeer Village complex","مجمع قرية الغدير",32.079590395,44.3362601595,100,600,0,0,0,0,0,0,600,0,0,0,0,0,0,0,0,0,0,0,0,0,42,0,0,0,0,0,0,522,0,36,0,0,0,0,522,0,78,0,0,0,0,0,0,0,0,{"$f":"HYPERLINK(\"http://www.openstreetmap.org/?mlat=32.0796&mlon=44.3363&zoom=12#map=12/32.0796/44.3363\",\"Maplink1\")","v":"Maplink1"},{"$f":"HYPERLINK(\"https://www.google.iq/maps/search/+32.0796,44.3363/@32.0796,44.3363,14z?hl=en\",\"Maplink2\")","v":"Maplink2"},{"$f":"HYPERLINK(\"http://www.bing.com/maps/?lvl=14&sty=h&cp=32.0796~44.3363&sp=point.32.0796_44.3363\",\"Maplink3\")","v":"Maplink3"}]
[33157,"Al-Najaf","Al-Najaf","Markaz Al-Najaf","Hay missan 14","حي ميسان 14",32.0499555058,44.3672464567,4,24,0,0,0,0,0,0,24,0,0,0,0,0,0,0,0,0,0,0,0,0,0,0,0,0,0,0,0,24,0,0,0,0,0,0,0,0,24,0,0,0,0,0,0,0,0,{"$f":"HYPERLINK(\"http://www.openstreetmap.org/?mlat=32.05&mlon=44.3672&zoom=12#map=12/32.05/44.3672\",\"Maplink1\")","v":"Maplink1"},{"$f":"HYPERLINK(\"https://www.google.iq/maps/search/+32.05,44.3672/@32.05,44.3672,14z?hl=en\",\"Maplink2\")","v":"Maplink2"},{"$f":"HYPERLINK(\"http://www.bing.com/maps/?lvl=14&sty=h&cp=32.05~44.3672&sp=point.32.05_44.3672\",\"Maplink3\")","v":"Maplink3"}]
[26015,"Al-Najaf","Al-Najaf","Markaz Al-Najaf","Al-Ameriya","العامرية",31.9874667348,44.3133153725,9,54,0,0,0,0,0,0,54,0,0,0,0,0,0,0,0,0,0,0,0,0,0,0,0,0,0,0,0,54,0,0,0,0,0,0,0,54,0,0,0,0,0,0,0,0,0,{"$f":"HYPERLINK(\"http://www.openstreetmap.org/?mlat=31.9875&mlon=44.3133&zoom=12#map=12/31.9875/44.3133\",\"Maplink1\")","v":"Maplink1"},{"$f":"HYPERLINK(\"https://www.google.iq/maps/search/+31.9875,44.3133/@31.9875,44.3133,14z?hl=en\",\"Maplink2\")","v":"Maplink2"},{"$f":"HYPERLINK(\"http://www.bing.com/maps/?lvl=14&sty=h&cp=31.9875~44.3133&sp=point.31.9875_44.3133\",\"Maplink3\")","v":"Maplink3"}]
[20349,"Al-Najaf","Al-Najaf","Markaz Al-Najaf","Hay Al Rahma","حي الرحمة",32.01782453,44.3227176554,5,30,0,0,0,0,0,0,30,0,0,0,0,0,0,0,0,0,0,0,0,0,0,0,0,0,0,0,0,30,0,0,0,0,0,0,30,0,0,0,0,0,0,0,0,0,0,{"$f":"HYPERLINK(\"http://www.openstreetmap.org/?mlat=32.0178&mlon=44.3227&zoom=12#map=12/32.0178/44.3227\",\"Maplink1\")","v":"Maplink1"},{"$f":"HYPERLINK(\"https://www.google.iq/maps/search/+32.0178,44.3227/@32.0178,44.3227,14z?hl=en\",\"Maplink2\")","v":"Maplink2"},{"$f":"HYPERLINK(\"http://www.bing.com/maps/?lvl=14&sty=h&cp=32.0178~44.3227&sp=point.32.0178_44.3227\",\"Maplink3\")","v":"Maplink3"}]
[20073,"Al-Najaf","Al-Najaf","Markaz Al-Najaf","Al-Jihad 5","الجهاد 5",32.0402705263,44.311206881,3,18,0,0,0,0,0,0,18,0,0,0,0,0,0,0,0,0,0,0,0,0,0,0,0,0,0,0,0,18,0,0,0,0,0,0,18,0,0,0,0,0,0,0,0,0,0,{"$f":"HYPERLINK(\"http://www.openstreetmap.org/?mlat=32.0403&mlon=44.3112&zoom=12#map=12/32.0403/44.3112\",\"Maplink1\")","v":"Maplink1"},{"$f":"HYPERLINK(\"https://www.google.iq/maps/search/+32.0403,44.3112/@32.0403,44.3112,14z?hl=en\",\"Maplink2\")","v":"Maplink2"},{"$f":"HYPERLINK(\"http://www.bing.com/maps/?lvl=14&sty=h&cp=32.0403~44.3112&sp=point.32.0403_44.3112\",\"Maplink3\")","v":"Maplink3"}]
[24377,"Al-Najaf","Al-Najaf","Markaz Al-Najaf","Hay Al qadissiyah","حي القادسية",32.001088,44.371881,3,18,0,0,0,0,0,0,18,0,0,0,0,0,0,0,0,0,0,0,0,0,0,0,0,0,0,0,0,18,0,0,0,0,0,0,0,0,18,0,0,0,0,0,0,0,0,{"$f":"HYPERLINK(\"http://www.openstreetmap.org/?mlat=32.0011&mlon=44.3719&zoom=12#map=12/32.0011/44.3719\",\"Maplink1\")","v":"Maplink1"},{"$f":"HYPERLINK(\"https://www.google.iq/maps/search/+32.0011,44.3719/@32.0011,44.3719,14z?hl=en\",\"Maplink2\")","v":"Maplink2"},{"$f":"HYPERLINK(\"http://www.bing.com/maps/?lvl=14&sty=h&cp=32.0011~44.3719&sp=point.32.0011_44.3719\",\"Maplink3\")","v":"Maplink3"}]
[22769,"Al-Najaf","Al-Najaf","Markaz Al-Najaf","Hay Al Yarmook 326","حي اليرموك 326",32.0609463291,44.343004065,10,60,0,0,0,0,0,0,60,0,0,0,0,0,0,0,0,0,0,0,0,0,0,0,0,0,0,0,0,60,0,0,0,0,0,0,60,0,0,0,0,0,0,0,0,0,0,{"$f":"HYPERLINK(\"http://www.openstreetmap.org/?mlat=32.0609&mlon=44.343&zoom=12#map=12/32.0609/44.343\",\"Maplink1\")","v":"Maplink1"},{"$f":"HYPERLINK(\"https://www.google.iq/maps/search/+32.0609,44.343/@32.0609,44.343,14z?hl=en\",\"Maplink2\")","v":"Maplink2"},{"$f":"HYPERLINK(\"http://www.bing.com/maps/?lvl=14&sty=h&cp=32.0609~44.343&sp=point.32.0609_44.343\",\"Maplink3\")","v":"Maplink3"}]
[20098,"Al-Najaf","Al-Najaf","Markaz Al-Najaf","Al-Jihad 2","الجهاد 2",32.0380606029,44.3126732343,4,24,0,0,0,0,0,0,24,0,0,0,0,0,0,0,0,0,0,0,0,0,0,0,0,0,0,0,0,24,0,0,0,0,0,0,24,0,0,0,0,0,0,0,0,0,0,{"$f":"HYPERLINK(\"http://www.openstreetmap.org/?mlat=32.0381&mlon=44.3127&zoom=12#map=12/32.0381/44.3127\",\"Maplink1\")","v":"Maplink1"},{"$f":"HYPERLINK(\"https://www.google.iq/maps/search/+32.0381,44.3127/@32.0381,44.3127,14z?hl=en\",\"Maplink2\")","v":"Maplink2"},{"$f":"HYPERLINK(\"http://www.bing.com/maps/?lvl=14&sty=h&cp=32.0381~44.3127&sp=point.32.0381_44.3127\",\"Maplink3\")","v":"Maplink3"}]
[33156,"Al-Najaf","Al-Najaf","Markaz Al-Najaf","Hay missan-Al-Shareet 2","حي ميسان-الشريط 2",32.0577509207,44.351505483,3,18,0,0,0,0,0,0,18,0,0,0,0,0,0,0,0,0,0,0,0,0,0,0,0,0,0,0,0,18,0,0,0,0,0,0,0,18,0,0,0,0,0,0,0,0,0,{"$f":"HYPERLINK(\"http://www.openstreetmap.org/?mlat=32.0578&mlon=44.3515&zoom=12#map=12/32.0578/44.3515\",\"Maplink1\")","v":"Maplink1"},{"$f":"HYPERLINK(\"https://www.google.iq/maps/search/+32.0578,44.3515/@32.0578,44.3515,14z?hl=en\",\"Maplink2\")","v":"Maplink2"},{"$f":"HYPERLINK(\"http://www.bing.com/maps/?lvl=14&sty=h&cp=32.0578~44.3515&sp=point.32.0578_44.3515\",\"Maplink3\")","v":"Maplink3"}]
[20122,"Al-Najaf","Al-Najaf","Markaz Al-Najaf","Hay missan 230","حي ميسان 230",32.0623853545,44.3617796498,54,324,0,0,0,0,0,264,60,0,0,0,0,0,0,0,0,0,0,0,0,0,0,0,0,0,0,0,0,324,0,0,0,0,0,0,0,324,0,0,0,0,0,0,0,0,0,{"$f":"HYPERLINK(\"http://www.openstreetmap.org/?mlat=32.0624&mlon=44.3618&zoom=12#map=12/32.0624/44.3618\",\"Maplink1\")","v":"Maplink1"},{"$f":"HYPERLINK(\"https://www.google.iq/maps/search/+32.0624,44.3618/@32.0624,44.3618,14z?hl=en\",\"Maplink2\")","v":"Maplink2"},{"$f":"HYPERLINK(\"http://www.bing.com/maps/?lvl=14&sty=h&cp=32.0624~44.3618&sp=point.32.0624_44.3618\",\"Maplink3\")","v":"Maplink3"}]
[29658,"Al-Najaf","Al-Najaf","Markaz Al-Najaf","Al-Shaheed Al-Sadar-Shareet","حي الشهيد الصدر-الشريط",32.073740061,44.3267433369,15,90,0,0,0,0,0,0,90,0,0,0,0,0,0,0,0,0,0,0,0,0,0,0,0,0,0,0,0,90,0,0,0,0,0,0,90,0,0,0,0,0,0,0,0,0,0,{"$f":"HYPERLINK(\"http://www.openstreetmap.org/?mlat=32.0737&mlon=44.3267&zoom=12#map=12/32.0737/44.3267\",\"Maplink1\")","v":"Maplink1"},{"$f":"HYPERLINK(\"https://www.google.iq/maps/search/+32.0737,44.3267/@32.0737,44.3267,14z?hl=en\",\"Maplink2\")","v":"Maplink2"},{"$f":"HYPERLINK(\"http://www.bing.com/maps/?lvl=14&sty=h&cp=32.0737~44.3267&sp=point.32.0737_44.3267\",\"Maplink3\")","v":"Maplink3"}]
[20276,"Al-Najaf","Al-Najaf","Markaz Al-Najaf","Hay missan 31","حي ميسان 31",32.055821721,44.3638260846,2,12,0,0,0,0,0,0,12,0,0,0,0,0,0,0,0,0,0,0,0,0,0,0,0,0,0,0,0,12,0,0,0,0,0,0,0,12,0,0,0,0,0,0,0,0,0,{"$f":"HYPERLINK(\"http://www.openstreetmap.org/?mlat=32.0558&mlon=44.3638&zoom=12#map=12/32.0558/44.3638\",\"Maplink1\")","v":"Maplink1"},{"$f":"HYPERLINK(\"https://www.google.iq/maps/search/+32.0558,44.3638/@32.0558,44.3638,14z?hl=en\",\"Maplink2\")","v":"Maplink2"},{"$f":"HYPERLINK(\"http://www.bing.com/maps/?lvl=14&sty=h&cp=32.0558~44.3638&sp=point.32.0558_44.3638\",\"Maplink3\")","v":"Maplink3"}]
[25642,"Al-Najaf","Al-Najaf","Markaz Al-Najaf","Al Jazair 4","الجزائر 4",32.0457894391,44.3507444875,5,30,0,0,0,0,0,0,30,0,0,0,0,0,0,0,0,0,0,0,0,0,0,0,0,0,0,0,0,30,0,0,0,0,0,0,0,0,30,0,0,0,0,0,0,0,0,{"$f":"HYPERLINK(\"http://www.openstreetmap.org/?mlat=32.0458&mlon=44.3507&zoom=12#map=12/32.0458/44.3507\",\"Maplink1\")","v":"Maplink1"},{"$f":"HYPERLINK(\"https://www.google.iq/maps/search/+32.0458,44.3507/@32.0458,44.3507,14z?hl=en\",\"Maplink2\")","v":"Maplink2"},{"$f":"HYPERLINK(\"http://www.bing.com/maps/?lvl=14&sty=h&cp=32.0458~44.3507&sp=point.32.0458_44.3507\",\"Maplink3\")","v":"Maplink3"}]
[24378,"Al-Najaf","Al-Najaf","Markaz Al-Najaf","Hay Tabok","حي تبوك",31.984239,44.331763,3,18,0,0,0,0,0,0,18,0,0,0,0,0,0,0,0,0,0,0,0,0,0,0,0,0,0,0,0,18,0,0,0,0,0,0,18,0,0,0,0,0,0,0,0,0,0,{"$f":"HYPERLINK(\"http://www.openstreetmap.org/?mlat=31.9842&mlon=44.3318&zoom=12#map=12/31.9842/44.3318\",\"Maplink1\")","v":"Maplink1"},{"$f":"HYPERLINK(\"https://www.google.iq/maps/search/+31.9842,44.3318/@31.9842,44.3318,14z?hl=en\",\"Maplink2\")","v":"Maplink2"},{"$f":"HYPERLINK(\"http://www.bing.com/maps/?lvl=14&sty=h&cp=31.9842~44.3318&sp=point.31.9842_44.3318\",\"Maplink3\")","v":"Maplink3"}]
[29621,"Al-Najaf","Al-Najaf","Markaz Al-Najaf","Mazara Al-Hawli","مزارع الحولي",32.1091620039,44.3300850555,130,780,0,0,0,0,0,0,780,0,0,0,0,0,0,0,0,0,0,0,0,0,0,0,0,0,0,0,0,780,0,0,0,0,0,0,780,0,0,0,0,0,0,0,0,0,0,{"$f":"HYPERLINK(\"http://www.openstreetmap.org/?mlat=32.1092&mlon=44.3301&zoom=12#map=12/32.1092/44.3301\",\"Maplink1\")","v":"Maplink1"},{"$f":"HYPERLINK(\"https://www.google.iq/maps/search/+32.1092,44.3301/@32.1092,44.3301,14z?hl=en\",\"Maplink2\")","v":"Maplink2"},{"$f":"HYPERLINK(\"http://www.bing.com/maps/?lvl=14&sty=h&cp=32.1092~44.3301&sp=point.32.1092_44.3301\",\"Maplink3\")","v":"Maplink3"}]
[19643,"Al-Najaf","Al-Najaf","Markaz Al-Najaf","Al Salam","حي السلام",32.0275811286,44.3371417456,5,30,0,0,0,0,0,0,30,0,0,0,0,0,0,0,0,0,0,0,0,0,0,0,0,0,0,0,0,30,0,0,0,0,0,0,30,0,0,0,0,0,0,0,0,0,0,{"$f":"HYPERLINK(\"http://www.openstreetmap.org/?mlat=32.0276&mlon=44.3371&zoom=12#map=12/32.0276/44.3371\",\"Maplink1\")","v":"Maplink1"},{"$f":"HYPERLINK(\"https://www.google.iq/maps/search/+32.0276,44.3371/@32.0276,44.3371,14z?hl=en\",\"Maplink2\")","v":"Maplink2"},{"$f":"HYPERLINK(\"http://www.bing.com/maps/?lvl=14&sty=h&cp=32.0276~44.3371&sp=point.32.0276_44.3371\",\"Maplink3\")","v":"Maplink3"}]
[19965,"Al-Najaf","Al-Najaf","Markaz Al-Najaf","Aljadidah alulah","الجديدة الاولى",31.9955405368,44.3316124575,14,84,0,0,0,0,0,0,84,0,0,0,0,0,0,0,0,0,0,0,0,0,0,0,0,0,0,0,0,84,0,0,0,0,0,0,84,0,0,0,0,0,0,0,0,0,0,{"$f":"HYPERLINK(\"http://www.openstreetmap.org/?mlat=31.9955&mlon=44.3316&zoom=12#map=12/31.9955/44.3316\",\"Maplink1\")","v":"Maplink1"},{"$f":"HYPERLINK(\"https://www.google.iq/maps/search/+31.9955,44.3316/@31.9955,44.3316,14z?hl=en\",\"Maplink2\")","v":"Maplink2"},{"$f":"HYPERLINK(\"http://www.bing.com/maps/?lvl=14&sty=h&cp=31.9955~44.3316&sp=point.31.9955_44.3316\",\"Maplink3\")","v":"Maplink3"}]
[25643,"Al-Najaf","Al-Najaf","Markaz Al-Najaf","Shareet Noor-Tabook","شريط نور-تبوك",31.979443,44.329237,3,18,0,0,0,0,0,0,18,0,0,0,0,0,0,0,0,0,0,0,0,0,0,0,0,0,0,0,0,18,0,0,0,0,0,0,18,0,0,0,0,0,0,0,0,0,0,{"$f":"HYPERLINK(\"http://www.openstreetmap.org/?mlat=31.9794&mlon=44.3292&zoom=12#map=12/31.9794/44.3292\",\"Maplink1\")","v":"Maplink1"},{"$f":"HYPERLINK(\"https://www.google.iq/maps/search/+31.9794,44.3292/@31.9794,44.3292,14z?hl=en\",\"Maplink2\")","v":"Maplink2"},{"$f":"HYPERLINK(\"http://www.bing.com/maps/?lvl=14&sty=h&cp=31.9794~44.3292&sp=point.31.9794_44.3292\",\"Maplink3\")","v":"Maplink3"}]
[20148,"Al-Najaf","Al-Najaf","Markaz Al-Najaf","Hay missan block 238","حي ميسان 238",32.0461745519,44.3675833346,4,24,0,0,0,0,0,0,24,0,0,0,0,0,0,0,0,0,0,0,0,0,0,0,0,0,0,0,0,24,0,0,0,0,0,0,0,0,24,0,0,0,0,0,0,0,0,{"$f":"HYPERLINK(\"http://www.openstreetmap.org/?mlat=32.0462&mlon=44.3676&zoom=12#map=12/32.0462/44.3676\",\"Maplink1\")","v":"Maplink1"},{"$f":"HYPERLINK(\"https://www.google.iq/maps/search/+32.0462,44.3676/@32.0462,44.3676,14z?hl=en\",\"Maplink2\")","v":"Maplink2"},{"$f":"HYPERLINK(\"http://www.bing.com/maps/?lvl=14&sty=h&cp=32.0462~44.3676&sp=point.32.0462_44.3676\",\"Maplink3\")","v":"Maplink3"}]
[19968,"Al-Najaf","Al-Najaf","Markaz Al-Najaf","Aljadidah althanyah","الجديدة الثانية",31.9922440588,44.3235457869,2,12,0,0,0,0,0,0,12,0,0,0,0,0,0,0,0,0,0,0,0,0,0,0,0,0,0,0,0,12,0,0,0,0,0,0,12,0,0,0,0,0,0,0,0,0,0,{"$f":"HYPERLINK(\"http://www.openstreetmap.org/?mlat=31.9922&mlon=44.3235&zoom=12#map=12/31.9922/44.3235\",\"Maplink1\")","v":"Maplink1"},{"$f":"HYPERLINK(\"https://www.google.iq/maps/search/+31.9922,44.3235/@31.9922,44.3235,14z?hl=en\",\"Maplink2\")","v":"Maplink2"},{"$f":"HYPERLINK(\"http://www.bing.com/maps/?lvl=14&sty=h&cp=31.9922~44.3235&sp=point.31.9922_44.3235\",\"Maplink3\")","v":"Maplink3"}]
[20161,"Al-Najaf","Al-Najaf","Markaz Al-Najaf","Hay missan 236","حي ميسان 236",32.0619609213,44.3609962897,3,18,0,0,0,0,0,0,18,0,0,0,0,0,0,0,0,0,0,0,0,0,0,0,0,0,0,0,0,18,0,0,0,0,0,0,18,0,0,0,0,0,0,0,0,0,0,{"$f":"HYPERLINK(\"http://www.openstreetmap.org/?mlat=32.062&mlon=44.361&zoom=12#map=12/32.062/44.361\",\"Maplink1\")","v":"Maplink1"},{"$f":"HYPERLINK(\"https://www.google.iq/maps/search/+32.062,44.361/@32.062,44.361,14z?hl=en\",\"Maplink2\")","v":"Maplink2"},{"$f":"HYPERLINK(\"http://www.bing.com/maps/?lvl=14&sty=h&cp=32.062~44.361&sp=point.32.062_44.361\",\"Maplink3\")","v":"Maplink3"}]
[20080,"Al-Najaf","Al-Najaf","Markaz Al-Najaf","Hay alsalam 131","حي السلام 131",32.033624716,44.3292623794,10,60,0,0,0,0,0,0,60,0,0,0,0,0,0,0,0,0,0,0,0,0,0,0,0,0,0,0,0,60,0,0,0,0,0,0,0,60,0,0,0,0,0,0,0,0,0,{"$f":"HYPERLINK(\"http://www.openstreetmap.org/?mlat=32.0336&mlon=44.3293&zoom=12#map=12/32.0336/44.3293\",\"Maplink1\")","v":"Maplink1"},{"$f":"HYPERLINK(\"https://www.google.iq/maps/search/+32.0336,44.3293/@32.0336,44.3293,14z?hl=en\",\"Maplink2\")","v":"Maplink2"},{"$f":"HYPERLINK(\"http://www.bing.com/maps/?lvl=14&sty=h&cp=32.0336~44.3293&sp=point.32.0336_44.3293\",\"Maplink3\")","v":"Maplink3"}]
[20132,"Al-Najaf","Al-Najaf","Markaz Al-Najaf","Hay missan 234","حي ميسان 234",32.0584035752,44.355614388,3,18,0,0,0,0,0,0,18,0,0,0,0,0,0,0,0,0,0,0,0,0,0,0,0,0,0,0,0,18,0,0,0,0,0,0,0,18,0,0,0,0,0,0,0,0,0,{"$f":"HYPERLINK(\"http://www.openstreetmap.org/?mlat=32.0584&mlon=44.3556&zoom=12#map=12/32.0584/44.3556\",\"Maplink1\")","v":"Maplink1"},{"$f":"HYPERLINK(\"https://www.google.iq/maps/search/+32.0584,44.3556/@32.0584,44.3556,14z?hl=en\",\"Maplink2\")","v":"Maplink2"},{"$f":"HYPERLINK(\"http://www.bing.com/maps/?lvl=14&sty=h&cp=32.0584~44.3556&sp=point.32.0584_44.3556\",\"Maplink3\")","v":"Maplink3"}]
[21936,"Al-Najaf","Al-Najaf","Markaz Al-Najaf","Al Jazair 3","الجزائر 3",32.0471577567,44.343287929,4,24,0,0,0,0,0,0,24,0,0,0,0,0,0,0,0,0,0,0,0,0,0,0,0,0,0,0,0,24,0,0,0,0,0,0,0,24,0,0,0,0,0,0,0,0,0,{"$f":"HYPERLINK(\"http://www.openstreetmap.org/?mlat=32.0472&mlon=44.3433&zoom=12#map=12/32.0472/44.3433\",\"Maplink1\")","v":"Maplink1"},{"$f":"HYPERLINK(\"https://www.google.iq/maps/search/+32.0472,44.3433/@32.0472,44.3433,14z?hl=en\",\"Maplink2\")","v":"Maplink2"},{"$f":"HYPERLINK(\"http://www.bing.com/maps/?lvl=14&sty=h&cp=32.0472~44.3433&sp=point.32.0472_44.3433\",\"Maplink3\")","v":"Maplink3"}]
[20338,"Al-Najaf","Al-Najaf","Markaz Al-Najaf","AL JEDAIDA","الجديدة 4",31.9894291584,44.3210681644,44,264,0,0,0,0,0,0,264,0,0,0,0,0,0,0,0,0,0,0,0,0,0,0,0,0,0,0,0,264,0,0,0,0,0,0,264,0,0,0,0,0,0,0,0,0,0,{"$f":"HYPERLINK(\"http://www.openstreetmap.org/?mlat=31.9894&mlon=44.3211&zoom=12#map=12/31.9894/44.3211\",\"Maplink1\")","v":"Maplink1"},{"$f":"HYPERLINK(\"https://www.google.iq/maps/search/+31.9894,44.3211/@31.9894,44.3211,14z?hl=en\",\"Maplink2\")","v":"Maplink2"},{"$f":"HYPERLINK(\"http://www.bing.com/maps/?lvl=14&sty=h&cp=31.9894~44.3211&sp=point.31.9894_44.3211\",\"Maplink3\")","v":"Maplink3"}]
[23747,"Al-Najaf","Al-Najaf","Markaz Al-Najaf","Al-Qasim 2","حي القاسم 2",32.0488951199,44.3124219459,3,18,0,0,0,0,0,0,18,0,0,0,0,0,0,0,0,0,0,0,0,0,0,0,0,0,0,0,0,18,0,0,0,0,0,0,18,0,0,0,0,0,0,0,0,0,0,{"$f":"HYPERLINK(\"http://www.openstreetmap.org/?mlat=32.0489&mlon=44.3124&zoom=12#map=12/32.0489/44.3124\",\"Maplink1\")","v":"Maplink1"},{"$f":"HYPERLINK(\"https://www.google.iq/maps/search/+32.0489,44.3124/@32.0489,44.3124,14z?hl=en\",\"Maplink2\")","v":"Maplink2"},{"$f":"HYPERLINK(\"http://www.bing.com/maps/?lvl=14&sty=h&cp=32.0489~44.3124&sp=point.32.0489_44.3124\",\"Maplink3\")","v":"Maplink3"}]
[19976,"Al-Najaf","Al-Najaf","Markaz Al-Najaf","Aljadidah althalthah","الجديدة الثالثة",31.9923583997,44.3311955874,4,24,0,0,0,0,0,0,24,0,0,0,0,0,0,0,0,0,0,0,0,0,0,0,0,0,0,0,0,24,0,0,0,0,0,0,24,0,0,0,0,0,0,0,0,0,0,{"$f":"HYPERLINK(\"http://www.openstreetmap.org/?mlat=31.9924&mlon=44.3312&zoom=12#map=12/31.9924/44.3312\",\"Maplink1\")","v":"Maplink1"},{"$f":"HYPERLINK(\"https://www.google.iq/maps/search/+31.9924,44.3312/@31.9924,44.3312,14z?hl=en\",\"Maplink2\")","v":"Maplink2"},{"$f":"HYPERLINK(\"http://www.bing.com/maps/?lvl=14&sty=h&cp=31.9924~44.3312&sp=point.31.9924_44.3312\",\"Maplink3\")","v":"Maplink3"}]
[20062,"Al-Najaf","Al-Najaf","Markaz Al-Najaf","Hay aby taleb","حي ابو طالب",32.0279783573,44.3138466646,3,18,0,0,0,0,0,0,18,0,0,0,0,0,0,0,0,0,0,0,0,0,0,0,0,0,0,0,0,18,0,0,0,0,0,0,18,0,0,0,0,0,0,0,0,0,0,{"$f":"HYPERLINK(\"http://www.openstreetmap.org/?mlat=32.028&mlon=44.3138&zoom=12#map=12/32.028/44.3138\",\"Maplink1\")","v":"Maplink1"},{"$f":"HYPERLINK(\"https://www.google.iq/maps/search/+32.028,44.3138/@32.028,44.3138,14z?hl=en\",\"Maplink2\")","v":"Maplink2"},{"$f":"HYPERLINK(\"http://www.bing.com/maps/?lvl=14&sty=h&cp=32.028~44.3138&sp=point.32.028_44.3138\",\"Maplink3\")","v":"Maplink3"}]
[21574,"Al-Najaf","Al-Najaf","Markaz Al-Najaf","Al-Shaheed Al-Sadar 1","حي الشهيد الصدر 1",32.0632225343,44.3234887878,4,24,0,0,0,0,0,0,24,0,0,0,0,0,0,0,0,0,0,0,0,0,0,0,0,0,0,0,0,24,0,0,0,0,0,0,24,0,0,0,0,0,0,0,0,0,0,{"$f":"HYPERLINK(\"http://www.openstreetmap.org/?mlat=32.0632&mlon=44.3235&zoom=12#map=12/32.0632/44.3235\",\"Maplink1\")","v":"Maplink1"},{"$f":"HYPERLINK(\"https://www.google.iq/maps/search/+32.0632,44.3235/@32.0632,44.3235,14z?hl=en\",\"Maplink2\")","v":"Maplink2"},{"$f":"HYPERLINK(\"http://www.bing.com/maps/?lvl=14&sty=h&cp=32.0632~44.3235&sp=point.32.0632_44.3235\",\"Maplink3\")","v":"Maplink3"}]
[20128,"Al-Najaf","Al-Najaf","Markaz Al-Najaf","Al-Qasim 3","حي القاسم 3",32.0516739344,44.3144670808,3,18,0,0,0,0,0,0,0,18,0,0,0,0,0,0,0,0,0,0,0,0,0,0,0,0,0,0,0,18,0,0,0,0,0,0,0,18,0,0,0,0,0,0,0,0,0,{"$f":"HYPERLINK(\"http://www.openstreetmap.org/?mlat=32.0517&mlon=44.3145&zoom=12#map=12/32.0517/44.3145\",\"Maplink1\")","v":"Maplink1"},{"$f":"HYPERLINK(\"https://www.google.iq/maps/search/+32.0517,44.3145/@32.0517,44.3145,14z?hl=en\",\"Maplink2\")","v":"Maplink2"},{"$f":"HYPERLINK(\"http://www.bing.com/maps/?lvl=14&sty=h&cp=32.0517~44.3145&sp=point.32.0517_44.3145\",\"Maplink3\")","v":"Maplink3"}]
[24287,"Al-Qadissiya","Afaq","Al-Bdair","Hay Al Askary 2","حي العسكري2",31.9679167354,45.4050071854,16,96,0,18,0,0,0,0,96,0,0,0,0,0,0,0,0,0,0,0,0,0,0,0,0,96,0,0,0,0,0,0,0,0,0,0,18,78,0,0,0,0,0,0,0,0,0,{"$f":"HYPERLINK(\"http://www.openstreetmap.org/?mlat=31.9679&mlon=45.405&zoom=12#map=12/31.9679/45.405\",\"Maplink1\")","v":"Maplink1"},{"$f":"HYPERLINK(\"https://www.google.iq/maps/search/+31.9679,45.405/@31.9679,45.405,14z?hl=en\",\"Maplink2\")","v":"Maplink2"},{"$f":"HYPERLINK(\"http://www.bing.com/maps/?lvl=14&sty=h&cp=31.9679~45.405&sp=point.31.9679_45.405\",\"Maplink3\")","v":"Maplink3"}]
[25374,"Al-Qadissiya","Afaq","Al-Bdair","Tajamo Al-Mohajreen","تجمع المهاجرين",31.9801058248,45.4142962125,15,90,0,0,0,0,0,0,90,0,0,0,0,0,0,0,0,0,0,0,0,0,0,0,0,90,0,0,0,0,0,0,0,0,0,0,12,78,0,0,0,0,0,0,0,0,0,{"$f":"HYPERLINK(\"http://www.openstreetmap.org/?mlat=31.9801&mlon=45.4143&zoom=12#map=12/31.9801/45.4143\",\"Maplink1\")","v":"Maplink1"},{"$f":"HYPERLINK(\"https://www.google.iq/maps/search/+31.9801,45.4143/@31.9801,45.4143,14z?hl=en\",\"Maplink2\")","v":"Maplink2"},{"$f":"HYPERLINK(\"http://www.bing.com/maps/?lvl=14&sty=h&cp=31.9801~45.4143&sp=point.31.9801_45.4143\",\"Maplink3\")","v":"Maplink3"}]
[2802,"Al-Qadissiya","Afaq","Al-Bdair","Hay al-jihad","حي الجهاد",31.973435632,45.4134042219,12,72,0,0,0,0,0,0,72,0,0,0,0,0,0,0,0,0,0,0,0,0,0,0,0,72,0,0,0,0,0,0,0,0,0,0,72,0,0,0,0,0,0,0,0,0,0,{"$f":"HYPERLINK(\"http://www.openstreetmap.org/?mlat=31.9734&mlon=45.4134&zoom=12#map=12/31.9734/45.4134\",\"Maplink1\")","v":"Maplink1"},{"$f":"HYPERLINK(\"https://www.google.iq/maps/search/+31.9734,45.4134/@31.9734,45.4134,14z?hl=en\",\"Maplink2\")","v":"Maplink2"},{"$f":"HYPERLINK(\"http://www.bing.com/maps/?lvl=14&sty=h&cp=31.9734~45.4134&sp=point.31.9734_45.4134\",\"Maplink3\")","v":"Maplink3"}]
[25378,"Al-Qadissiya","Afaq","Al-Bdair","Hay Al-Sadrain","حي الصدرين",31.9779288769,45.3971406447,12,72,0,0,0,0,0,0,72,0,0,0,0,0,0,0,0,0,0,0,0,0,0,0,0,72,0,0,0,0,0,0,0,0,0,0,24,48,0,0,0,0,0,0,0,0,0,{"$f":"HYPERLINK(\"http://www.openstreetmap.org/?mlat=31.9779&mlon=45.3971&zoom=12#map=12/31.9779/45.3971\",\"Maplink1\")","v":"Maplink1"},{"$f":"HYPERLINK(\"https://www.google.iq/maps/search/+31.9779,45.3971/@31.9779,45.3971,14z?hl=en\",\"Maplink2\")","v":"Maplink2"},{"$f":"HYPERLINK(\"http://www.bing.com/maps/?lvl=14&sty=h&cp=31.9779~45.3971&sp=point.31.9779_45.3971\",\"Maplink3\")","v":"Maplink3"}]
[25369,"Al-Qadissiya","Afaq","Al-Bdair","Hay Al-Salam","حي السلام",31.9802629855,45.4081304029,9,54,0,0,0,0,0,0,54,0,0,0,0,0,0,0,0,0,0,0,0,0,0,0,0,54,0,0,0,0,0,0,0,0,0,0,0,54,0,0,0,0,0,0,0,0,0,{"$f":"HYPERLINK(\"http://www.openstreetmap.org/?mlat=31.9803&mlon=45.4081&zoom=12#map=12/31.9803/45.4081\",\"Maplink1\")","v":"Maplink1"},{"$f":"HYPERLINK(\"https://www.google.iq/maps/search/+31.9803,45.4081/@31.9803,45.4081,14z?hl=en\",\"Maplink2\")","v":"Maplink2"},{"$f":"HYPERLINK(\"http://www.bing.com/maps/?lvl=14&sty=h&cp=31.9803~45.4081&sp=point.31.9803_45.4081\",\"Maplink3\")","v":"Maplink3"}]
[2795,"Al-Qadissiya","Afaq","Al-Bdair","Hay Al-sakban","حي الصكبان",31.9724988705,45.4100497545,10,60,0,0,0,0,0,0,60,0,0,0,0,0,0,0,0,0,0,0,0,0,0,0,0,60,0,0,0,0,0,0,0,0,0,0,36,24,0,0,0,0,0,0,0,0,0,{"$f":"HYPERLINK(\"http://www.openstreetmap.org/?mlat=31.9725&mlon=45.41&zoom=12#map=12/31.9725/45.41\",\"Maplink1\")","v":"Maplink1"},{"$f":"HYPERLINK(\"https://www.google.iq/maps/search/+31.9725,45.41/@31.9725,45.41,14z?hl=en\",\"Maplink2\")","v":"Maplink2"},{"$f":"HYPERLINK(\"http://www.bing.com/maps/?lvl=14&sty=h&cp=31.9725~45.41&sp=point.31.9725_45.41\",\"Maplink3\")","v":"Maplink3"}]
[24756,"Al-Qadissiya","Afaq","Al-Fawwar","Al-Zawad village","قرية الزواد",32.0237648782,45.0605125265,5,30,0,0,0,0,0,0,30,0,0,0,0,0,0,0,0,0,0,0,0,0,0,0,0,30,0,0,0,0,0,0,0,0,0,0,30,0,0,0,0,0,0,0,0,0,0,{"$f":"HYPERLINK(\"http://www.openstreetmap.org/?mlat=32.0238&mlon=45.0605&zoom=12#map=12/32.0238/45.0605\",\"Maplink1\")","v":"Maplink1"},{"$f":"HYPERLINK(\"https://www.google.iq/maps/search/+32.0238,45.0605/@32.0238,45.0605,14z?hl=en\",\"Maplink2\")","v":"Maplink2"},{"$f":"HYPERLINK(\"http://www.bing.com/maps/?lvl=14&sty=h&cp=32.0238~45.0605&sp=point.32.0238_45.0605\",\"Maplink3\")","v":"Maplink3"}]
[25382,"Al-Qadissiya","Afaq","Markaz Afaq","Hay Al-Hussein","حي الحسين",32.0627755943,45.2546195241,9,54,0,0,0,0,0,0,36,0,0,0,0,18,0,0,0,0,0,0,0,0,0,0,0,6,0,0,0,48,0,0,0,0,0,0,54,0,0,0,0,0,0,0,0,0,0,{"$f":"HYPERLINK(\"http://www.openstreetmap.org/?mlat=32.0628&mlon=45.2546&zoom=12#map=12/32.0628/45.2546\",\"Maplink1\")","v":"Maplink1"},{"$f":"HYPERLINK(\"https://www.google.iq/maps/search/+32.0628,45.2546/@32.0628,45.2546,14z?hl=en\",\"Maplink2\")","v":"Maplink2"},{"$f":"HYPERLINK(\"http://www.bing.com/maps/?lvl=14&sty=h&cp=32.0628~45.2546&sp=point.32.0628_45.2546\",\"Maplink3\")","v":"Maplink3"}]
[24288,"Al-Qadissiya","Afaq","Markaz Afaq","Hay Al Zahraa","حي الزهراء",32.063236116,45.2367269271,4,24,0,0,0,0,0,0,24,0,0,0,0,0,0,0,0,0,0,0,0,0,0,0,0,24,0,0,0,0,0,0,0,0,0,0,24,0,0,0,0,0,0,0,0,0,0,{"$f":"HYPERLINK(\"http://www.openstreetmap.org/?mlat=32.0632&mlon=45.2367&zoom=12#map=12/32.0632/45.2367\",\"Maplink1\")","v":"Maplink1"},{"$f":"HYPERLINK(\"https://www.google.iq/maps/search/+32.0632,45.2367/@32.0632,45.2367,14z?hl=en\",\"Maplink2\")","v":"Maplink2"},{"$f":"HYPERLINK(\"http://www.bing.com/maps/?lvl=14&sty=h&cp=32.0632~45.2367&sp=point.32.0632_45.2367\",\"Maplink3\")","v":"Maplink3"}]
[3362,"Al-Qadissiya","Afaq","Markaz Afaq","Hay Al-Askari","حي العسكري ",32.0660688363,45.2406862068,9,54,0,0,0,0,0,0,54,0,0,0,0,0,0,0,0,0,0,0,0,0,0,0,0,6,0,0,0,48,0,0,0,0,0,0,6,48,0,0,0,0,0,0,0,0,0,{"$f":"HYPERLINK(\"http://www.openstreetmap.org/?mlat=32.0661&mlon=45.2407&zoom=12#map=12/32.0661/45.2407\",\"Maplink1\")","v":"Maplink1"},{"$f":"HYPERLINK(\"https://www.google.iq/maps/search/+32.0661,45.2407/@32.0661,45.2407,14z?hl=en\",\"Maplink2\")","v":"Maplink2"},{"$f":"HYPERLINK(\"http://www.bing.com/maps/?lvl=14&sty=h&cp=32.0661~45.2407&sp=point.32.0661_45.2407\",\"Maplink3\")","v":"Maplink3"}]
[3392,"Al-Qadissiya","Afaq","Markaz Afaq","AL-Qati","القاطع",32.053763984,45.2333997609,9,54,0,0,0,0,0,0,48,0,0,0,0,6,0,0,0,0,0,0,0,0,0,0,0,42,0,0,0,12,0,0,0,0,0,0,54,0,0,0,0,0,0,0,0,0,0,{"$f":"HYPERLINK(\"http://www.openstreetmap.org/?mlat=32.0538&mlon=45.2334&zoom=12#map=12/32.0538/45.2334\",\"Maplink1\")","v":"Maplink1"},{"$f":"HYPERLINK(\"https://www.google.iq/maps/search/+32.0538,45.2334/@32.0538,45.2334,14z?hl=en\",\"Maplink2\")","v":"Maplink2"},{"$f":"HYPERLINK(\"http://www.bing.com/maps/?lvl=14&sty=h&cp=32.0538~45.2334&sp=point.32.0538_45.2334\",\"Maplink3\")","v":"Maplink3"}]
[25502,"Al-Qadissiya","Afaq","Sumer","Hay Al-Askary","حي العسكري",32.1451122262,44.9928492229,11,66,0,24,0,0,0,0,66,0,0,0,0,0,0,0,0,0,0,0,0,0,0,0,0,0,0,0,0,66,0,0,0,0,0,0,0,66,0,0,0,0,0,0,0,0,0,{"$f":"HYPERLINK(\"http://www.openstreetmap.org/?mlat=32.1451&mlon=44.9928&zoom=12#map=12/32.1451/44.9928\",\"Maplink1\")","v":"Maplink1"},{"$f":"HYPERLINK(\"https://www.google.iq/maps/search/+32.1451,44.9928/@32.1451,44.9928,14z?hl=en\",\"Maplink2\")","v":"Maplink2"},{"$f":"HYPERLINK(\"http://www.bing.com/maps/?lvl=14&sty=h&cp=32.1451~44.9928&sp=point.32.1451_44.9928\",\"Maplink3\")","v":"Maplink3"}]
[24601,"Al-Qadissiya","Afaq","Sumer","Al-Sabkaia","الصبخاية",32.1524920536,45.0048223871,3,18,0,0,0,0,0,0,18,0,0,0,0,0,0,0,0,0,0,0,0,0,0,0,0,0,0,0,0,18,0,0,0,0,0,0,0,18,0,0,0,0,0,0,0,0,0,{"$f":"HYPERLINK(\"http://www.openstreetmap.org/?mlat=32.1525&mlon=45.0048&zoom=12#map=12/32.1525/45.0048\",\"Maplink1\")","v":"Maplink1"},{"$f":"HYPERLINK(\"https://www.google.iq/maps/search/+32.1525,45.0048/@32.1525,45.0048,14z?hl=en\",\"Maplink2\")","v":"Maplink2"},{"$f":"HYPERLINK(\"http://www.bing.com/maps/?lvl=14&sty=h&cp=32.1525~45.0048&sp=point.32.1525_45.0048\",\"Maplink3\")","v":"Maplink3"}]
[22751,"Al-Qadissiya","Afaq","Sumer","Hay Al Jumhoriyah","حي الجمهورية ",32.1524027887,45.0014419198,5,30,0,0,0,0,0,0,30,0,0,0,0,0,0,0,0,0,0,0,0,0,0,0,0,30,0,0,0,0,0,0,0,0,0,0,30,0,0,0,0,0,0,0,0,0,0,{"$f":"HYPERLINK(\"http://www.openstreetmap.org/?mlat=32.1524&mlon=45.0014&zoom=12#map=12/32.1524/45.0014\",\"Maplink1\")","v":"Maplink1"},{"$f":"HYPERLINK(\"https://www.google.iq/maps/search/+32.1524,45.0014/@32.1524,45.0014,14z?hl=en\",\"Maplink2\")","v":"Maplink2"},{"$f":"HYPERLINK(\"http://www.bing.com/maps/?lvl=14&sty=h&cp=32.1524~45.0014&sp=point.32.1524_45.0014\",\"Maplink3\")","v":"Maplink3"}]
[24149,"Al-Qadissiya","Al-Diwaniya","Al-Daghara","Hay Al Shahada","حي الشهداء ",32.1357497849,44.9305147983,13,78,0,24,0,0,0,0,54,0,0,0,0,24,0,0,0,0,0,0,0,0,0,0,0,0,0,0,0,78,0,0,0,0,0,0,36,42,0,0,0,0,0,0,0,0,0,{"$f":"HYPERLINK(\"http://www.openstreetmap.org/?mlat=32.1357&mlon=44.9305&zoom=12#map=12/32.1357/44.9305\",\"Maplink1\")","v":"Maplink1"},{"$f":"HYPERLINK(\"https://www.google.iq/maps/search/+32.1357,44.9305/@32.1357,44.9305,14z?hl=en\",\"Maplink2\")","v":"Maplink2"},{"$f":"HYPERLINK(\"http://www.bing.com/maps/?lvl=14&sty=h&cp=32.1357~44.9305&sp=point.32.1357_44.9305\",\"Maplink3\")","v":"Maplink3"}]
[3308,"Al-Qadissiya","Al-Diwaniya","Al-Daghara","Hay Al-Askaary","حي العسكري",32.1319147754,44.9316329394,9,54,0,0,0,0,0,0,54,0,0,0,0,0,0,0,0,0,0,0,0,0,0,0,0,12,0,0,0,42,0,0,0,0,0,0,36,18,0,0,0,0,0,0,0,0,0,{"$f":"HYPERLINK(\"http://www.openstreetmap.org/?mlat=32.1319&mlon=44.9316&zoom=12#map=12/32.1319/44.9316\",\"Maplink1\")","v":"Maplink1"},{"$f":"HYPERLINK(\"https://www.google.iq/maps/search/+32.1319,44.9316/@32.1319,44.9316,14z?hl=en\",\"Maplink2\")","v":"Maplink2"},{"$f":"HYPERLINK(\"http://www.bing.com/maps/?lvl=14&sty=h&cp=32.1319~44.9316&sp=point.32.1319_44.9316\",\"Maplink3\")","v":"Maplink3"}]
[24739,"Al-Qadissiya","Al-Diwaniya","Al-Daghara","Hay Al Mulmeen","حي المعلمين",32.1362424395,44.9363444741,4,24,0,0,0,0,0,0,12,0,0,0,0,12,0,0,0,0,0,0,0,0,0,0,0,0,0,0,0,24,0,0,0,0,0,0,24,0,0,0,0,0,0,0,0,0,0,{"$f":"HYPERLINK(\"http://www.openstreetmap.org/?mlat=32.1362&mlon=44.9363&zoom=12#map=12/32.1362/44.9363\",\"Maplink1\")","v":"Maplink1"},{"$f":"HYPERLINK(\"https://www.google.iq/maps/search/+32.1362,44.9363/@32.1362,44.9363,14z?hl=en\",\"Maplink2\")","v":"Maplink2"},{"$f":"HYPERLINK(\"http://www.bing.com/maps/?lvl=14&sty=h&cp=32.1362~44.9363&sp=point.32.1362_44.9363\",\"Maplink3\")","v":"Maplink3"}]
[24966,"Al-Qadissiya","Al-Diwaniya","Al-Daghara","Hay Al Hurriya","حي الحرية",32.1465847169,44.9317777393,14,84,0,0,0,0,0,0,84,0,0,0,0,0,0,0,0,0,0,0,0,0,0,0,0,0,0,0,0,84,0,0,0,0,0,0,60,24,0,0,0,0,0,0,0,0,0,{"$f":"HYPERLINK(\"http://www.openstreetmap.org/?mlat=32.1466&mlon=44.9318&zoom=12#map=12/32.1466/44.9318\",\"Maplink1\")","v":"Maplink1"},{"$f":"HYPERLINK(\"https://www.google.iq/maps/search/+32.1466,44.9318/@32.1466,44.9318,14z?hl=en\",\"Maplink2\")","v":"Maplink2"},{"$f":"HYPERLINK(\"http://www.bing.com/maps/?lvl=14&sty=h&cp=32.1466~44.9318&sp=point.32.1466_44.9318\",\"Maplink3\")","v":"Maplink3"}]
[24309,"Al-Qadissiya","Al-Diwaniya","Al-Saniya","Hay Al Waely","حي الوائلي",32.057930586,44.7729948073,9,54,0,0,0,0,0,0,54,0,0,0,0,0,0,0,0,0,0,0,0,0,0,0,0,0,0,0,0,54,0,0,0,0,0,0,42,12,0,0,0,0,0,0,0,0,0,{"$f":"HYPERLINK(\"http://www.openstreetmap.org/?mlat=32.0579&mlon=44.773&zoom=12#map=12/32.0579/44.773\",\"Maplink1\")","v":"Maplink1"},{"$f":"HYPERLINK(\"https://www.google.iq/maps/search/+32.0579,44.773/@32.0579,44.773,14z?hl=en\",\"Maplink2\")","v":"Maplink2"},{"$f":"HYPERLINK(\"http://www.bing.com/maps/?lvl=14&sty=h&cp=32.0579~44.773&sp=point.32.0579_44.773\",\"Maplink3\")","v":"Maplink3"}]
[25071,"Al-Qadissiya","Al-Diwaniya","Al-Saniya","Al-Jabaar village","قرية ال جبار",32.0319890929,44.7900744,8,48,0,0,0,0,0,0,24,0,0,0,0,24,0,0,0,0,0,0,0,0,0,0,0,0,0,0,0,48,0,0,0,0,0,0,36,12,0,0,0,0,0,0,0,0,0,{"$f":"HYPERLINK(\"http://www.openstreetmap.org/?mlat=32.032&mlon=44.7901&zoom=12#map=12/32.032/44.7901\",\"Maplink1\")","v":"Maplink1"},{"$f":"HYPERLINK(\"https://www.google.iq/maps/search/+32.032,44.7901/@32.032,44.7901,14z?hl=en\",\"Maplink2\")","v":"Maplink2"},{"$f":"HYPERLINK(\"http://www.bing.com/maps/?lvl=14&sty=h&cp=32.032~44.7901&sp=point.32.032_44.7901\",\"Maplink3\")","v":"Maplink3"}]
[24905,"Al-Qadissiya","Al-Diwaniya","Al-Saniya","Al himran village","قرية الحمران",32.0377858076,44.7834731733,8,48,0,0,0,0,0,0,24,0,0,0,0,24,0,0,0,0,0,0,0,0,0,0,0,0,0,0,0,48,0,0,0,0,0,0,48,0,0,0,0,0,0,0,0,0,0,{"$f":"HYPERLINK(\"http://www.openstreetmap.org/?mlat=32.0378&mlon=44.7835&zoom=12#map=12/32.0378/44.7835\",\"Maplink1\")","v":"Maplink1"},{"$f":"HYPERLINK(\"https://www.google.iq/maps/search/+32.0378,44.7835/@32.0378,44.7835,14z?hl=en\",\"Maplink2\")","v":"Maplink2"},{"$f":"HYPERLINK(\"http://www.bing.com/maps/?lvl=14&sty=h&cp=32.0378~44.7835&sp=point.32.0378_44.7835\",\"Maplink3\")","v":"Maplink3"}]
[2621,"Al-Qadissiya","Al-Diwaniya","Al-Saniya","Albu Khnefis village","قرية البو خنيفس",32.0209653411,44.8605491768,5,30,0,0,0,0,0,0,18,0,0,0,0,12,0,0,0,0,0,0,0,0,0,0,0,0,0,0,0,30,0,0,0,0,0,0,18,12,0,0,0,0,0,0,0,0,0,{"$f":"HYPERLINK(\"http://www.openstreetmap.org/?mlat=32.021&mlon=44.8605&zoom=12#map=12/32.021/44.8605\",\"Maplink1\")","v":"Maplink1"},{"$f":"HYPERLINK(\"https://www.google.iq/maps/search/+32.021,44.8605/@32.021,44.8605,14z?hl=en\",\"Maplink2\")","v":"Maplink2"},{"$f":"HYPERLINK(\"http://www.bing.com/maps/?lvl=14&sty=h&cp=32.021~44.8605&sp=point.32.021_44.8605\",\"Maplink3\")","v":"Maplink3"}]
[24436,"Al-Qadissiya","Al-Diwaniya","Al-Saniya","Albo Hasan village","قرية البو حسن",32.0208274154,44.8188983684,9,54,0,0,0,0,0,0,42,0,0,0,0,12,0,0,0,0,0,0,0,0,0,0,0,0,0,0,0,54,0,0,0,0,0,0,24,30,0,0,0,0,0,0,0,0,0,{"$f":"HYPERLINK(\"http://www.openstreetmap.org/?mlat=32.0208&mlon=44.8189&zoom=12#map=12/32.0208/44.8189\",\"Maplink1\")","v":"Maplink1"},{"$f":"HYPERLINK(\"https://www.google.iq/maps/search/+32.0208,44.8189/@32.0208,44.8189,14z?hl=en\",\"Maplink2\")","v":"Maplink2"},{"$f":"HYPERLINK(\"http://www.bing.com/maps/?lvl=14&sty=h&cp=32.0208~44.8189&sp=point.32.0208_44.8189\",\"Maplink3\")","v":"Maplink3"}]
[25070,"Al-Qadissiya","Al-Diwaniya","Al-Saniya","Hay Al-Hussain","حي الحسين",32.0701462957,44.7676568807,8,48,0,0,0,0,0,0,24,0,0,0,0,24,0,0,0,0,0,0,0,0,0,0,0,0,0,0,0,48,0,0,0,0,0,0,6,42,0,0,0,0,0,0,0,0,0,{"$f":"HYPERLINK(\"http://www.openstreetmap.org/?mlat=32.0701&mlon=44.7677&zoom=12#map=12/32.0701/44.7677\",\"Maplink1\")","v":"Maplink1"},{"$f":"HYPERLINK(\"https://www.google.iq/maps/search/+32.0701,44.7677/@32.0701,44.7677,14z?hl=en\",\"Maplink2\")","v":"Maplink2"},{"$f":"HYPERLINK(\"http://www.bing.com/maps/?lvl=14&sty=h&cp=32.0701~44.7677&sp=point.32.0701_44.7677\",\"Maplink3\")","v":"Maplink3"}]
[23551,"Al-Qadissiya","Al-Diwaniya","Al-Saniya","Hay Al Jamiaa-Al-Hawli","حي الجامعة-الحولي",32.0074005696,44.8707858412,6,36,0,0,0,0,0,0,36,0,0,0,0,0,0,0,0,0,0,0,0,0,0,0,0,36,0,0,0,0,0,0,0,0,0,0,36,0,0,0,0,0,0,0,0,0,0,{"$f":"HYPERLINK(\"http://www.openstreetmap.org/?mlat=32.0074&mlon=44.8708&zoom=12#map=12/32.0074/44.8708\",\"Maplink1\")","v":"Maplink1"},{"$f":"HYPERLINK(\"https://www.google.iq/maps/search/+32.0074,44.8708/@32.0074,44.8708,14z?hl=en\",\"Maplink2\")","v":"Maplink2"},{"$f":"HYPERLINK(\"http://www.bing.com/maps/?lvl=14&sty=h&cp=32.0074~44.8708&sp=point.32.0074_44.8708\",\"Maplink3\")","v":"Maplink3"}]
[25568,"Al-Qadissiya","Al-Diwaniya","Al-Saniya","Hay Al-Amin 2","حي الامين 2",32.0062987693,44.8447732166,9,54,0,0,0,0,0,0,30,0,0,0,0,24,0,0,0,0,0,0,0,0,0,0,0,0,0,0,0,54,0,0,0,0,0,0,12,42,0,0,0,0,0,0,0,0,0,{"$f":"HYPERLINK(\"http://www.openstreetmap.org/?mlat=32.0063&mlon=44.8448&zoom=12#map=12/32.0063/44.8448\",\"Maplink1\")","v":"Maplink1"},{"$f":"HYPERLINK(\"https://www.google.iq/maps/search/+32.0063,44.8448/@32.0063,44.8448,14z?hl=en\",\"Maplink2\")","v":"Maplink2"},{"$f":"HYPERLINK(\"http://www.bing.com/maps/?lvl=14&sty=h&cp=32.0063~44.8448&sp=point.32.0063_44.8448\",\"Maplink3\")","v":"Maplink3"}]
[2885,"Al-Qadissiya","Al-Diwaniya","Al-Shafeia","Al-Jazaair 2","الجزائر الثانية",31.9871806959,44.9025009109,6,36,0,0,0,0,0,0,36,0,0,0,0,0,0,0,0,0,0,0,0,0,0,0,0,0,0,0,0,36,0,0,0,0,0,0,36,0,0,0,0,0,0,0,0,0,0,{"$f":"HYPERLINK(\"http://www.openstreetmap.org/?mlat=31.9872&mlon=44.9025&zoom=12#map=12/31.9872/44.9025\",\"Maplink1\")","v":"Maplink1"},{"$f":"HYPERLINK(\"https://www.google.iq/maps/search/+31.9872,44.9025/@31.9872,44.9025,14z?hl=en\",\"Maplink2\")","v":"Maplink2"},{"$f":"HYPERLINK(\"http://www.bing.com/maps/?lvl=14&sty=h&cp=31.9872~44.9025&sp=point.31.9872_44.9025\",\"Maplink3\")","v":"Maplink3"}]
[24382,"Al-Qadissiya","Al-Diwaniya","Al-Shafeia","Hay Al Shomos","حي الشموس",32.0018013893,44.8640472443,8,48,0,0,0,0,0,0,36,0,0,0,0,12,0,0,0,0,0,0,0,0,0,0,0,12,0,0,0,36,0,0,0,0,0,0,48,0,0,0,0,0,0,0,0,0,0,{"$f":"HYPERLINK(\"http://www.openstreetmap.org/?mlat=32.0018&mlon=44.864&zoom=12#map=12/32.0018/44.864\",\"Maplink1\")","v":"Maplink1"},{"$f":"HYPERLINK(\"https://www.google.iq/maps/search/+32.0018,44.864/@32.0018,44.864,14z?hl=en\",\"Maplink2\")","v":"Maplink2"},{"$f":"HYPERLINK(\"http://www.bing.com/maps/?lvl=14&sty=h&cp=32.0018~44.864&sp=point.32.0018_44.864\",\"Maplink3\")","v":"Maplink3"}]
[25790,"Al-Qadissiya","Al-Diwaniya","Al-Shafeia","Hay Al Jamiaa","حي الجامعة",31.9969622931,44.8745785796,9,54,0,0,0,0,0,0,54,0,0,0,0,0,0,0,0,0,0,0,0,0,0,0,0,42,0,0,0,12,0,0,0,0,0,0,54,0,0,0,0,0,0,0,0,0,0,{"$f":"HYPERLINK(\"http://www.openstreetmap.org/?mlat=31.997&mlon=44.8746&zoom=12#map=12/31.997/44.8746\",\"Maplink1\")","v":"Maplink1"},{"$f":"HYPERLINK(\"https://www.google.iq/maps/search/+31.997,44.8746/@31.997,44.8746,14z?hl=en\",\"Maplink2\")","v":"Maplink2"},{"$f":"HYPERLINK(\"http://www.bing.com/maps/?lvl=14&sty=h&cp=31.997~44.8746&sp=point.31.997_44.8746\",\"Maplink3\")","v":"Maplink3"}]
[24307,"Al-Qadissiya","Al-Diwaniya","Al-Shafeia","Hay Ramadan","حي رمضان",31.9799313135,44.9005274468,5,30,0,0,0,0,0,0,30,0,0,0,0,0,0,0,0,0,0,0,0,0,0,0,0,6,0,0,0,24,0,0,0,0,0,0,30,0,0,0,0,0,0,0,0,0,0,{"$f":"HYPERLINK(\"http://www.openstreetmap.org/?mlat=31.9799&mlon=44.9005&zoom=12#map=12/31.9799/44.9005\",\"Maplink1\")","v":"Maplink1"},{"$f":"HYPERLINK(\"https://www.google.iq/maps/search/+31.9799,44.9005/@31.9799,44.9005,14z?hl=en\",\"Maplink2\")","v":"Maplink2"},{"$f":"HYPERLINK(\"http://www.bing.com/maps/?lvl=14&sty=h&cp=31.9799~44.9005&sp=point.31.9799_44.9005\",\"Maplink3\")","v":"Maplink3"}]
[25861,"Al-Qadissiya","Al-Diwaniya","Al-Shafeia","Sayed Talib Village","قرية سيد طالب",31.9583001779,44.7502365852,5,30,0,0,0,0,0,0,30,0,0,0,0,0,0,0,0,0,0,0,0,0,0,0,0,30,0,0,0,0,0,0,0,0,0,0,30,0,0,0,0,0,0,0,0,0,0,{"$f":"HYPERLINK(\"http://www.openstreetmap.org/?mlat=31.9583&mlon=44.7502&zoom=12#map=12/31.9583/44.7502\",\"Maplink1\")","v":"Maplink1"},{"$f":"HYPERLINK(\"https://www.google.iq/maps/search/+31.9583,44.7502/@31.9583,44.7502,14z?hl=en\",\"Maplink2\")","v":"Maplink2"},{"$f":"HYPERLINK(\"http://www.bing.com/maps/?lvl=14&sty=h&cp=31.9583~44.7502&sp=point.31.9583_44.7502\",\"Maplink3\")","v":"Maplink3"}]
[24904,"Al-Qadissiya","Al-Diwaniya","Al-Shafeia","Um tibashi village","قرية ام طباشي",32.0072806254,44.853895211,8,48,0,0,0,0,0,0,36,0,0,0,0,12,0,0,0,0,0,0,0,0,0,0,0,0,0,0,0,48,0,0,0,0,0,0,48,0,0,0,0,0,0,0,0,0,0,{"$f":"HYPERLINK(\"http://www.openstreetmap.org/?mlat=32.0073&mlon=44.8539&zoom=12#map=12/32.0073/44.8539\",\"Maplink1\")","v":"Maplink1"},{"$f":"HYPERLINK(\"https://www.google.iq/maps/search/+32.0073,44.8539/@32.0073,44.8539,14z?hl=en\",\"Maplink2\")","v":"Maplink2"},{"$f":"HYPERLINK(\"http://www.bing.com/maps/?lvl=14&sty=h&cp=32.0073~44.8539&sp=point.32.0073_44.8539\",\"Maplink3\")","v":"Maplink3"}]
[2705,"Al-Qadissiya","Al-Diwaniya","Al-Shafeia","Al-tharwa al-alhaiwaniya","الثروة الحيوانية",31.9557993533,44.7714993501,4,24,0,0,0,0,0,0,24,0,0,0,0,0,0,0,0,0,0,0,0,0,0,0,0,0,0,0,0,24,0,0,0,0,0,0,24,0,0,0,0,0,0,0,0,0,0,{"$f":"HYPERLINK(\"http://www.openstreetmap.org/?mlat=31.9558&mlon=44.7715&zoom=12#map=12/31.9558/44.7715\",\"Maplink1\")","v":"Maplink1"},{"$f":"HYPERLINK(\"https://www.google.iq/maps/search/+31.9558,44.7715/@31.9558,44.7715,14z?hl=en\",\"Maplink2\")","v":"Maplink2"},{"$f":"HYPERLINK(\"http://www.bing.com/maps/?lvl=14&sty=h&cp=31.9558~44.7715&sp=point.31.9558_44.7715\",\"Maplink3\")","v":"Maplink3"}]
[24381,"Al-Qadissiya","Al-Diwaniya","Al-Shafeia","Al-Taqiya 2","التقية الثانية",31.9703624531,44.8911874701,7,42,0,0,0,0,0,0,30,0,0,0,0,12,0,0,0,0,0,0,0,0,0,0,0,12,0,0,0,30,0,0,0,0,0,0,42,0,0,0,0,0,0,0,0,0,0,{"$f":"HYPERLINK(\"http://www.openstreetmap.org/?mlat=31.9704&mlon=44.8912&zoom=12#map=12/31.9704/44.8912\",\"Maplink1\")","v":"Maplink1"},{"$f":"HYPERLINK(\"https://www.google.iq/maps/search/+31.9704,44.8912/@31.9704,44.8912,14z?hl=en\",\"Maplink2\")","v":"Maplink2"},{"$f":"HYPERLINK(\"http://www.bing.com/maps/?lvl=14&sty=h&cp=31.9704~44.8912&sp=point.31.9704_44.8912\",\"Maplink3\")","v":"Maplink3"}]
[3209,"Al-Qadissiya","Al-Diwaniya","Al-Shafeia","Hay al-muaalmien","حي المعلمين ",31.9914014032,44.8956077166,7,42,0,0,0,0,0,0,42,0,0,0,0,0,0,0,0,0,0,0,0,0,0,0,0,6,0,0,0,36,0,0,0,0,0,0,42,0,0,0,0,0,0,0,0,0,0,{"$f":"HYPERLINK(\"http://www.openstreetmap.org/?mlat=31.9914&mlon=44.8956&zoom=12#map=12/31.9914/44.8956\",\"Maplink1\")","v":"Maplink1"},{"$f":"HYPERLINK(\"https://www.google.iq/maps/search/+31.9914,44.8956/@31.9914,44.8956,14z?hl=en\",\"Maplink2\")","v":"Maplink2"},{"$f":"HYPERLINK(\"http://www.bing.com/maps/?lvl=14&sty=h&cp=31.9914~44.8956&sp=point.31.9914_44.8956\",\"Maplink3\")","v":"Maplink3"}]
[22815,"Al-Qadissiya","Al-Diwaniya","Markaz Al-Diwaniya","Hay Al Jumhori Al Sharqi","حي الجمهوري الشرقي",31.9914242412,44.9313761456,6,36,0,0,0,0,0,0,36,0,0,0,0,0,0,0,0,0,0,0,0,0,0,0,0,0,0,0,0,36,0,0,0,0,0,0,0,36,0,0,0,0,0,0,0,0,0,{"$f":"HYPERLINK(\"http://www.openstreetmap.org/?mlat=31.9914&mlon=44.9314&zoom=12#map=12/31.9914/44.9314\",\"Maplink1\")","v":"Maplink1"},{"$f":"HYPERLINK(\"https://www.google.iq/maps/search/+31.9914,44.9314/@31.9914,44.9314,14z?hl=en\",\"Maplink2\")","v":"Maplink2"},{"$f":"HYPERLINK(\"http://www.bing.com/maps/?lvl=14&sty=h&cp=31.9914~44.9314&sp=point.31.9914_44.9314\",\"Maplink3\")","v":"Maplink3"}]
[22326,"Al-Qadissiya","Al-Diwaniya","Markaz Al-Diwaniya","Al Mojamaa Al Sakani","المجمع السكني",31.9818831235,44.9729864563,21,126,0,0,0,0,0,0,0,0,0,0,126,0,0,0,0,0,0,0,0,0,0,0,0,0,0,0,0,126,0,0,0,0,0,0,0,126,0,0,0,0,0,0,0,0,0,{"$f":"HYPERLINK(\"http://www.openstreetmap.org/?mlat=31.9819&mlon=44.973&zoom=12#map=12/31.9819/44.973\",\"Maplink1\")","v":"Maplink1"},{"$f":"HYPERLINK(\"https://www.google.iq/maps/search/+31.9819,44.973/@31.9819,44.973,14z?hl=en\",\"Maplink2\")","v":"Maplink2"},{"$f":"HYPERLINK(\"http://www.bing.com/maps/?lvl=14&sty=h&cp=31.9819~44.973&sp=point.31.9819_44.973\",\"Maplink3\")","v":"Maplink3"}]
[2943,"Al-Qadissiya","Al-Diwaniya","Markaz Al-Diwaniya","Al hamad village","قرية الحمد",32.0040916465,44.9990023729,14,84,0,0,0,0,0,0,48,0,0,0,0,36,0,0,0,0,0,0,0,0,0,0,0,0,0,0,0,84,0,0,0,0,0,0,0,84,0,0,0,0,0,0,0,0,0,{"$f":"HYPERLINK(\"http://www.openstreetmap.org/?mlat=32.0041&mlon=44.999&zoom=12#map=12/32.0041/44.999\",\"Maplink1\")","v":"Maplink1"},{"$f":"HYPERLINK(\"https://www.google.iq/maps/search/+32.0041,44.999/@32.0041,44.999,14z?hl=en\",\"Maplink2\")","v":"Maplink2"},{"$f":"HYPERLINK(\"http://www.bing.com/maps/?lvl=14&sty=h&cp=32.0041~44.999&sp=point.32.0041_44.999\",\"Maplink3\")","v":"Maplink3"}]
[23749,"Al-Qadissiya","Al-Diwaniya","Markaz Al-Diwaniya","Hay Al-Asry-118","حي العصري محلة 118",31.9853588892,44.9339453141,7,42,0,0,0,6,0,0,36,0,0,0,0,0,0,0,0,0,0,0,0,0,0,0,0,0,0,0,0,42,0,0,0,0,0,0,42,0,0,0,0,0,0,0,0,0,0,{"$f":"HYPERLINK(\"http://www.openstreetmap.org/?mlat=31.9854&mlon=44.9339&zoom=12#map=12/31.9854/44.9339\",\"Maplink1\")","v":"Maplink1"},{"$f":"HYPERLINK(\"https://www.google.iq/maps/search/+31.9854,44.9339/@31.9854,44.9339,14z?hl=en\",\"Maplink2\")","v":"Maplink2"},{"$f":"HYPERLINK(\"http://www.bing.com/maps/?lvl=14&sty=h&cp=31.9854~44.9339&sp=point.31.9854_44.9339\",\"Maplink3\")","v":"Maplink3"}]
[23715,"Al-Qadissiya","Al-Diwaniya","Markaz Al-Diwaniya","Hay Al-Hadarah","حي الحضارة",32.0156769347,44.9173569003,7,42,0,0,0,0,0,0,42,0,0,0,0,0,0,0,0,0,0,0,0,0,0,0,0,0,0,0,0,42,0,0,0,0,0,0,42,0,0,0,0,0,0,0,0,0,0,{"$f":"HYPERLINK(\"http://www.openstreetmap.org/?mlat=32.0157&mlon=44.9174&zoom=12#map=12/32.0157/44.9174\",\"Maplink1\")","v":"Maplink1"},{"$f":"HYPERLINK(\"https://www.google.iq/maps/search/+32.0157,44.9174/@32.0157,44.9174,14z?hl=en\",\"Maplink2\")","v":"Maplink2"},{"$f":"HYPERLINK(\"http://www.bing.com/maps/?lvl=14&sty=h&cp=32.0157~44.9174&sp=point.32.0157_44.9174\",\"Maplink3\")","v":"Maplink3"}]
[25370,"Al-Qadissiya","Al-Diwaniya","Markaz Al-Diwaniya","Al-Mawqee Al-Askary","الموقع العسكري",31.9809384172,44.9241521125,3,18,0,0,0,0,0,0,0,0,0,18,0,0,0,0,0,0,0,0,0,0,0,0,0,18,0,0,0,0,0,0,0,0,0,0,18,0,0,0,0,0,0,0,0,0,0,{"$f":"HYPERLINK(\"http://www.openstreetmap.org/?mlat=31.9809&mlon=44.9242&zoom=12#map=12/31.9809/44.9242\",\"Maplink1\")","v":"Maplink1"},{"$f":"HYPERLINK(\"https://www.google.iq/maps/search/+31.9809,44.9242/@31.9809,44.9242,14z?hl=en\",\"Maplink2\")","v":"Maplink2"},{"$f":"HYPERLINK(\"http://www.bing.com/maps/?lvl=14&sty=h&cp=31.9809~44.9242&sp=point.31.9809_44.9242\",\"Maplink3\")","v":"Maplink3"}]
[25509,"Al-Qadissiya","Al-Diwaniya","Markaz Al-Diwaniya","Al-Taamem-2","التأميم الثانية",31.9797811517,44.942167323,6,36,0,0,0,0,0,0,36,0,0,0,0,0,0,0,0,0,0,0,0,0,0,0,0,0,0,0,0,36,0,0,0,0,0,0,18,18,0,0,0,0,0,0,0,0,0,{"$f":"HYPERLINK(\"http://www.openstreetmap.org/?mlat=31.9798&mlon=44.9422&zoom=12#map=12/31.9798/44.9422\",\"Maplink1\")","v":"Maplink1"},{"$f":"HYPERLINK(\"https://www.google.iq/maps/search/+31.9798,44.9422/@31.9798,44.9422,14z?hl=en\",\"Maplink2\")","v":"Maplink2"},{"$f":"HYPERLINK(\"http://www.bing.com/maps/?lvl=14&sty=h&cp=31.9798~44.9422&sp=point.31.9798_44.9422\",\"Maplink3\")","v":"Maplink3"}]
[22452,"Al-Qadissiya","Al-Diwaniya","Markaz Al-Diwaniya","Qaryat Al Ensaf","قرية الانصاف",31.9991649705,45.0154067767,16,96,0,0,0,0,0,0,78,0,0,0,0,18,0,0,0,0,0,36,0,0,0,0,0,0,0,0,0,30,0,30,0,0,0,0,0,66,30,0,0,0,0,0,0,0,0,{"$f":"HYPERLINK(\"http://www.openstreetmap.org/?mlat=31.9992&mlon=45.0154&zoom=12#map=12/31.9992/45.0154\",\"Maplink1\")","v":"Maplink1"},{"$f":"HYPERLINK(\"https://www.google.iq/maps/search/+31.9992,45.0154/@31.9992,45.0154,14z?hl=en\",\"Maplink2\")","v":"Maplink2"},{"$f":"HYPERLINK(\"http://www.bing.com/maps/?lvl=14&sty=h&cp=31.9992~45.0154&sp=point.31.9992_45.0154\",\"Maplink3\")","v":"Maplink3"}]
[24903,"Al-Qadissiya","Al-Diwaniya","Markaz Al-Diwaniya","Hay Al Sadir 2","حي الصدر الثاني",32.0063780621,44.9373574577,13,78,0,6,0,0,0,0,78,0,0,0,0,0,0,0,0,0,0,0,0,0,0,0,0,78,0,0,0,0,0,0,0,0,0,0,78,0,0,0,0,0,0,0,0,0,0,{"$f":"HYPERLINK(\"http://www.openstreetmap.org/?mlat=32.0064&mlon=44.9374&zoom=12#map=12/32.0064/44.9374\",\"Maplink1\")","v":"Maplink1"},{"$f":"HYPERLINK(\"https://www.google.iq/maps/search/+32.0064,44.9374/@32.0064,44.9374,14z?hl=en\",\"Maplink2\")","v":"Maplink2"},{"$f":"HYPERLINK(\"http://www.bing.com/maps/?lvl=14&sty=h&cp=32.0064~44.9374&sp=point.32.0064_44.9374\",\"Maplink3\")","v":"Maplink3"}]
[3367,"Al-Qadissiya","Al-Diwaniya","Markaz Al-Diwaniya","Hay Al-Dhubat 2","حي الضباط الثاني",32.0076612619,44.9225516779,10,60,0,0,0,0,0,0,60,0,0,0,0,0,0,0,0,0,0,0,0,0,0,0,0,18,0,0,0,42,0,0,0,0,0,0,60,0,0,0,0,0,0,0,0,0,0,{"$f":"HYPERLINK(\"http://www.openstreetmap.org/?mlat=32.0077&mlon=44.9226&zoom=12#map=12/32.0077/44.9226\",\"Maplink1\")","v":"Maplink1"},{"$f":"HYPERLINK(\"https://www.google.iq/maps/search/+32.0077,44.9226/@32.0077,44.9226,14z?hl=en\",\"Maplink2\")","v":"Maplink2"},{"$f":"HYPERLINK(\"http://www.bing.com/maps/?lvl=14&sty=h&cp=32.0077~44.9226&sp=point.32.0077_44.9226\",\"Maplink3\")","v":"Maplink3"}]
[25287,"Al-Qadissiya","Al-Diwaniya","Markaz Al-Diwaniya","Hay Al-Nahtha 1","حي النهضة 1",31.98492,44.938874,10,60,0,18,0,0,0,0,60,0,0,0,0,0,0,0,0,0,0,0,0,0,0,0,0,12,0,0,0,48,0,0,0,0,0,0,60,0,0,0,0,0,0,0,0,0,0,{"$f":"HYPERLINK(\"http://www.openstreetmap.org/?mlat=31.9849&mlon=44.9389&zoom=12#map=12/31.9849/44.9389\",\"Maplink1\")","v":"Maplink1"},{"$f":"HYPERLINK(\"https://www.google.iq/maps/search/+31.9849,44.9389/@31.9849,44.9389,14z?hl=en\",\"Maplink2\")","v":"Maplink2"},{"$f":"HYPERLINK(\"http://www.bing.com/maps/?lvl=14&sty=h&cp=31.9849~44.9389&sp=point.31.9849_44.9389\",\"Maplink3\")","v":"Maplink3"}]
[25512,"Al-Qadissiya","Al-Diwaniya","Markaz Al-Diwaniya","Hay Al-Zaieem","حي الزعيم",31.9858942938,44.9293912449,7,42,0,0,0,0,0,0,42,0,0,0,0,0,0,0,0,0,0,0,0,0,0,0,0,30,0,0,0,12,0,0,0,0,0,0,30,12,0,0,0,0,0,0,0,0,0,{"$f":"HYPERLINK(\"http://www.openstreetmap.org/?mlat=31.9859&mlon=44.9294&zoom=12#map=12/31.9859/44.9294\",\"Maplink1\")","v":"Maplink1"},{"$f":"HYPERLINK(\"https://www.google.iq/maps/search/+31.9859,44.9294/@31.9859,44.9294,14z?hl=en\",\"Maplink2\")","v":"Maplink2"},{"$f":"HYPERLINK(\"http://www.bing.com/maps/?lvl=14&sty=h&cp=31.9859~44.9294&sp=point.31.9859_44.9294\",\"Maplink3\")","v":"Maplink3"}]
[24148,"Al-Qadissiya","Al-Diwaniya","Markaz Al-Diwaniya","Hay Al Nahda 3","حي النهضة 3",31.9858933407,44.9530462834,3,18,0,0,0,0,0,0,18,0,0,0,0,0,0,0,0,0,0,0,0,0,0,0,0,18,0,0,0,0,0,0,0,0,0,0,18,0,0,0,0,0,0,0,0,0,0,{"$f":"HYPERLINK(\"http://www.openstreetmap.org/?mlat=31.9859&mlon=44.953&zoom=12#map=12/31.9859/44.953\",\"Maplink1\")","v":"Maplink1"},{"$f":"HYPERLINK(\"https://www.google.iq/maps/search/+31.9859,44.953/@31.9859,44.953,14z?hl=en\",\"Maplink2\")","v":"Maplink2"},{"$f":"HYPERLINK(\"http://www.bing.com/maps/?lvl=14&sty=h&cp=31.9859~44.953&sp=point.31.9859_44.953\",\"Maplink3\")","v":"Maplink3"}]
[25860,"Al-Qadissiya","Al-Diwaniya","Markaz Al-Diwaniya","Salman Hlis Village","قرية سلمان هليس",31.9976262236,44.9812203134,6,36,0,0,0,0,0,0,36,0,0,0,0,0,0,0,0,0,0,0,0,0,0,0,0,36,0,0,0,0,0,0,0,0,0,0,36,0,0,0,0,0,0,0,0,0,0,{"$f":"HYPERLINK(\"http://www.openstreetmap.org/?mlat=31.9976&mlon=44.9812&zoom=12#map=12/31.9976/44.9812\",\"Maplink1\")","v":"Maplink1"},{"$f":"HYPERLINK(\"https://www.google.iq/maps/search/+31.9976,44.9812/@31.9976,44.9812,14z?hl=en\",\"Maplink2\")","v":"Maplink2"},{"$f":"HYPERLINK(\"http://www.bing.com/maps/?lvl=14&sty=h&cp=31.9976~44.9812&sp=point.31.9976_44.9812\",\"Maplink3\")","v":"Maplink3"}]
[24208,"Al-Qadissiya","Al-Diwaniya","Markaz Al-Diwaniya","Hay Al Sadir 3","حي الصدر الثالث",32.004631944,44.9423782086,9,54,0,0,0,0,0,0,54,0,0,0,0,0,0,0,0,0,0,18,0,0,0,0,0,36,0,0,0,0,0,0,0,0,0,0,36,18,0,0,0,0,0,0,0,0,0,{"$f":"HYPERLINK(\"http://www.openstreetmap.org/?mlat=32.0046&mlon=44.9424&zoom=12#map=12/32.0046/44.9424\",\"Maplink1\")","v":"Maplink1"},{"$f":"HYPERLINK(\"https://www.google.iq/maps/search/+32.0046,44.9424/@32.0046,44.9424,14z?hl=en\",\"Maplink2\")","v":"Maplink2"},{"$f":"HYPERLINK(\"http://www.bing.com/maps/?lvl=14&sty=h&cp=32.0046~44.9424&sp=point.32.0046_44.9424\",\"Maplink3\")","v":"Maplink3"}]
[21945,"Al-Qadissiya","Al-Diwaniya","Markaz Al-Diwaniya","Hay Al Wihda 3","حي الوحده الثالثه",31.9930097281,44.9467431193,8,48,0,24,0,0,0,0,48,0,0,0,0,0,0,0,0,0,0,0,0,0,0,0,0,48,0,0,0,0,0,0,0,0,0,0,48,0,0,0,0,0,0,0,0,0,0,{"$f":"HYPERLINK(\"http://www.openstreetmap.org/?mlat=31.993&mlon=44.9467&zoom=12#map=12/31.993/44.9467\",\"Maplink1\")","v":"Maplink1"},{"$f":"HYPERLINK(\"https://www.google.iq/maps/search/+31.993,44.9467/@31.993,44.9467,14z?hl=en\",\"Maplink2\")","v":"Maplink2"},{"$f":"HYPERLINK(\"http://www.bing.com/maps/?lvl=14&sty=h&cp=31.993~44.9467&sp=point.31.993_44.9467\",\"Maplink3\")","v":"Maplink3"}]
[23681,"Al-Qadissiya","Al-Diwaniya","Markaz Al-Diwaniya","Hay Al Furat-2","حي الفرات الثانية",32.0200608111,44.9003653605,5,30,0,0,0,0,0,0,30,0,0,0,0,0,0,0,0,0,0,0,0,0,0,0,0,12,0,0,0,18,0,0,0,0,0,0,30,0,0,0,0,0,0,0,0,0,0,{"$f":"HYPERLINK(\"http://www.openstreetmap.org/?mlat=32.0201&mlon=44.9004&zoom=12#map=12/32.0201/44.9004\",\"Maplink1\")","v":"Maplink1"},{"$f":"HYPERLINK(\"https://www.google.iq/maps/search/+32.0201,44.9004/@32.0201,44.9004,14z?hl=en\",\"Maplink2\")","v":"Maplink2"},{"$f":"HYPERLINK(\"http://www.bing.com/maps/?lvl=14&sty=h&cp=32.0201~44.9004&sp=point.32.0201_44.9004\",\"Maplink3\")","v":"Maplink3"}]
[25372,"Al-Qadissiya","Al-Diwaniya","Markaz Al-Diwaniya","Hay Al-Naseej","حي النسيج",31.9670749409,44.965272656,11,66,0,0,0,0,0,0,66,0,0,0,0,0,0,0,0,0,0,0,0,0,0,0,0,36,0,0,0,30,0,0,0,0,0,0,36,30,0,0,0,0,0,0,0,0,0,{"$f":"HYPERLINK(\"http://www.openstreetmap.org/?mlat=31.9671&mlon=44.9653&zoom=12#map=12/31.9671/44.9653\",\"Maplink1\")","v":"Maplink1"},{"$f":"HYPERLINK(\"https://www.google.iq/maps/search/+31.9671,44.9653/@31.9671,44.9653,14z?hl=en\",\"Maplink2\")","v":"Maplink2"},{"$f":"HYPERLINK(\"http://www.bing.com/maps/?lvl=14&sty=h&cp=31.9671~44.9653&sp=point.31.9671_44.9653\",\"Maplink3\")","v":"Maplink3"}]
[25288,"Al-Qadissiya","Al-Diwaniya","Markaz Al-Diwaniya","Al-Jasem Village","قرية الجاسم",32.0152389907,44.931650741,7,42,0,0,0,0,0,0,42,0,0,0,0,0,0,0,0,0,0,0,0,0,0,0,0,0,0,0,0,42,0,0,0,0,0,0,42,0,0,0,0,0,0,0,0,0,0,{"$f":"HYPERLINK(\"http://www.openstreetmap.org/?mlat=32.0152&mlon=44.9317&zoom=12#map=12/32.0152/44.9317\",\"Maplink1\")","v":"Maplink1"},{"$f":"HYPERLINK(\"https://www.google.iq/maps/search/+32.0152,44.9317/@32.0152,44.9317,14z?hl=en\",\"Maplink2\")","v":"Maplink2"},{"$f":"HYPERLINK(\"http://www.bing.com/maps/?lvl=14&sty=h&cp=32.0152~44.9317&sp=point.32.0152_44.9317\",\"Maplink3\")","v":"Maplink3"}]
[23680,"Al-Qadissiya","Al-Diwaniya","Markaz Al-Diwaniya","Hay Al Sadir 1","حي الصدر الاول",32.0116889139,44.919243129,5,30,0,0,0,0,0,0,30,0,0,0,0,0,0,0,0,0,0,30,0,0,0,0,0,0,0,0,0,0,0,0,0,0,0,0,0,30,0,0,0,0,0,0,0,0,0,{"$f":"HYPERLINK(\"http://www.openstreetmap.org/?mlat=32.0117&mlon=44.9192&zoom=12#map=12/32.0117/44.9192\",\"Maplink1\")","v":"Maplink1"},{"$f":"HYPERLINK(\"https://www.google.iq/maps/search/+32.0117,44.9192/@32.0117,44.9192,14z?hl=en\",\"Maplink2\")","v":"Maplink2"},{"$f":"HYPERLINK(\"http://www.bing.com/maps/?lvl=14&sty=h&cp=32.0117~44.9192&sp=point.32.0117_44.9192\",\"Maplink3\")","v":"Maplink3"}]
[21783,"Al-Qadissiya","Al-Diwaniya","Markaz Al-Diwaniya","Hay Al-Sadir 4","حي الصدر الرابعة",31.9950297195,44.9562248593,5,30,0,0,0,0,0,0,30,0,0,0,0,0,0,0,0,0,0,0,0,0,0,0,0,30,0,0,0,0,0,0,0,0,0,0,30,0,0,0,0,0,0,0,0,0,0,{"$f":"HYPERLINK(\"http://www.openstreetmap.org/?mlat=31.995&mlon=44.9562&zoom=12#map=12/31.995/44.9562\",\"Maplink1\")","v":"Maplink1"},{"$f":"HYPERLINK(\"https://www.google.iq/maps/search/+31.995,44.9562/@31.995,44.9562,14z?hl=en\",\"Maplink2\")","v":"Maplink2"},{"$f":"HYPERLINK(\"http://www.bing.com/maps/?lvl=14&sty=h&cp=31.995~44.9562&sp=point.31.995_44.9562\",\"Maplink3\")","v":"Maplink3"}]
[24583,"Al-Qadissiya","Al-Hamza","Al-Sadeer","Al-Marshad village","قرية المرشد",31.8604446,44.9292598,3,18,0,0,0,0,0,0,12,0,0,0,0,6,0,0,0,0,0,0,0,0,0,0,0,0,0,0,0,18,0,0,0,0,0,0,0,18,0,0,0,0,0,0,0,0,0,{"$f":"HYPERLINK(\"http://www.openstreetmap.org/?mlat=31.8604&mlon=44.9293&zoom=12#map=12/31.8604/44.9293\",\"Maplink1\")","v":"Maplink1"},{"$f":"HYPERLINK(\"https://www.google.iq/maps/search/+31.8604,44.9293/@31.8604,44.9293,14z?hl=en\",\"Maplink2\")","v":"Maplink2"},{"$f":"HYPERLINK(\"http://www.bing.com/maps/?lvl=14&sty=h&cp=31.8604~44.9293&sp=point.31.8604_44.9293\",\"Maplink3\")","v":"Maplink3"}]
[25564,"Al-Qadissiya","Al-Hamza","Al-Sadeer","Hay Al-Hur","حي الحر",31.8221339397,44.9442870246,4,24,0,6,0,0,0,0,24,0,0,0,0,0,0,0,0,0,0,0,0,0,0,0,0,24,0,0,0,0,0,0,0,0,0,0,24,0,0,0,0,0,0,0,0,0,0,{"$f":"HYPERLINK(\"http://www.openstreetmap.org/?mlat=31.8221&mlon=44.9443&zoom=12#map=12/31.8221/44.9443\",\"Maplink1\")","v":"Maplink1"},{"$f":"HYPERLINK(\"https://www.google.iq/maps/search/+31.8221,44.9443/@31.8221,44.9443,14z?hl=en\",\"Maplink2\")","v":"Maplink2"},{"$f":"HYPERLINK(\"http://www.bing.com/maps/?lvl=14&sty=h&cp=31.8221~44.9443&sp=point.31.8221_44.9443\",\"Maplink3\")","v":"Maplink3"}]
[25285,"Al-Qadissiya","Al-Hamza","Al-Sadeer","Hay Al-Askary","حي العسكري",31.8254737509,44.9427859293,3,18,0,0,0,0,0,0,12,0,0,0,0,6,0,0,0,0,0,0,0,0,0,0,0,0,0,0,0,18,0,0,0,0,0,0,18,0,0,0,0,0,0,0,0,0,0,{"$f":"HYPERLINK(\"http://www.openstreetmap.org/?mlat=31.8255&mlon=44.9428&zoom=12#map=12/31.8255/44.9428\",\"Maplink1\")","v":"Maplink1"},{"$f":"HYPERLINK(\"https://www.google.iq/maps/search/+31.8255,44.9428/@31.8255,44.9428,14z?hl=en\",\"Maplink2\")","v":"Maplink2"},{"$f":"HYPERLINK(\"http://www.bing.com/maps/?lvl=14&sty=h&cp=31.8255~44.9428&sp=point.31.8255_44.9428\",\"Maplink3\")","v":"Maplink3"}]
[25284,"Al-Qadissiya","Al-Hamza","Al-Sadeer","Salim village","قرية سالم",31.7361178689,44.9761842008,5,30,0,0,0,0,0,0,30,0,0,0,0,0,0,0,0,0,0,0,0,0,0,0,0,0,0,0,0,30,0,0,0,0,0,0,30,0,0,0,0,0,0,0,0,0,0,{"$f":"HYPERLINK(\"http://www.openstreetmap.org/?mlat=31.7361&mlon=44.9762&zoom=12#map=12/31.7361/44.9762\",\"Maplink1\")","v":"Maplink1"},{"$f":"HYPERLINK(\"https://www.google.iq/maps/search/+31.7361,44.9762/@31.7361,44.9762,14z?hl=en\",\"Maplink2\")","v":"Maplink2"},{"$f":"HYPERLINK(\"http://www.bing.com/maps/?lvl=14&sty=h&cp=31.7361~44.9762&sp=point.31.7361_44.9762\",\"Maplink3\")","v":"Maplink3"}]
[24582,"Al-Qadissiya","Al-Hamza","Markaz Al-Hamza","Mantaket Al-Giwam","منطقة الكوام",31.7277437031,44.9724628354,3,18,0,0,0,0,0,0,18,0,0,0,0,0,0,0,0,0,0,0,0,0,0,0,0,0,0,0,0,18,0,0,0,0,0,0,18,0,0,0,0,0,0,0,0,0,0,{"$f":"HYPERLINK(\"http://www.openstreetmap.org/?mlat=31.7277&mlon=44.9725&zoom=12#map=12/31.7277/44.9725\",\"Maplink1\")","v":"Maplink1"},{"$f":"HYPERLINK(\"https://www.google.iq/maps/search/+31.7277,44.9725/@31.7277,44.9725,14z?hl=en\",\"Maplink2\")","v":"Maplink2"},{"$f":"HYPERLINK(\"http://www.bing.com/maps/?lvl=14&sty=h&cp=31.7277~44.9725&sp=point.31.7277_44.9725\",\"Maplink3\")","v":"Maplink3"}]
[22000,"Al-Qadissiya","Al-Hamza","Markaz Al-Hamza","Hay Hussain","حي الحسين",31.7160727182,44.9707064665,3,18,0,0,0,0,0,0,18,0,0,0,0,0,0,0,0,0,0,0,0,0,0,0,0,0,0,0,0,18,0,0,0,0,0,0,0,18,0,0,0,0,0,0,0,0,0,{"$f":"HYPERLINK(\"http://www.openstreetmap.org/?mlat=31.7161&mlon=44.9707&zoom=12#map=12/31.7161/44.9707\",\"Maplink1\")","v":"Maplink1"},{"$f":"HYPERLINK(\"https://www.google.iq/maps/search/+31.7161,44.9707/@31.7161,44.9707,14z?hl=en\",\"Maplink2\")","v":"Maplink2"},{"$f":"HYPERLINK(\"http://www.bing.com/maps/?lvl=14&sty=h&cp=31.7161~44.9707&sp=point.31.7161_44.9707\",\"Maplink3\")","v":"Maplink3"}]
[2766,"Al-Qadissiya","Al-Shamiya","Al-Mihanawiya","Mahlat al-souq","محلة السوق",31.960626198,44.6016230888,12,72,0,0,0,0,0,0,72,0,0,0,0,0,0,0,0,0,0,0,0,0,0,0,0,18,0,0,0,54,0,0,0,0,0,0,72,0,0,0,0,0,0,0,0,0,0,{"$f":"HYPERLINK(\"http://www.openstreetmap.org/?mlat=31.9606&mlon=44.6016&zoom=12#map=12/31.9606/44.6016\",\"Maplink1\")","v":"Maplink1"},{"$f":"HYPERLINK(\"https://www.google.iq/maps/search/+31.9606,44.6016/@31.9606,44.6016,14z?hl=en\",\"Maplink2\")","v":"Maplink2"},{"$f":"HYPERLINK(\"http://www.bing.com/maps/?lvl=14&sty=h&cp=31.9606~44.6016&sp=point.31.9606_44.6016\",\"Maplink3\")","v":"Maplink3"}]
[2749,"Al-Qadissiya","Al-Shamiya","Al-Mihanawiya","Hay Al-aaskary al-gharby","حي العسكري الغربي",31.9572482491,44.5736161349,10,60,0,0,0,0,0,0,54,0,0,0,0,6,0,0,0,0,0,0,0,0,0,0,0,12,0,0,0,48,0,0,0,0,0,0,48,12,0,0,0,0,0,0,0,0,0,{"$f":"HYPERLINK(\"http://www.openstreetmap.org/?mlat=31.9572&mlon=44.5736&zoom=12#map=12/31.9572/44.5736\",\"Maplink1\")","v":"Maplink1"},{"$f":"HYPERLINK(\"https://www.google.iq/maps/search/+31.9572,44.5736/@31.9572,44.5736,14z?hl=en\",\"Maplink2\")","v":"Maplink2"},{"$f":"HYPERLINK(\"http://www.bing.com/maps/?lvl=14&sty=h&cp=31.9572~44.5736&sp=point.31.9572_44.5736\",\"Maplink3\")","v":"Maplink3"}]
[2792,"Al-Qadissiya","Al-Shamiya","Al-Mihanawiya","Hay al-mualamien","حي المعلمين ",31.96539219,44.6002684752,7,42,0,0,0,0,0,0,42,0,0,0,0,0,0,0,0,0,0,24,0,0,0,0,0,0,0,0,0,18,0,0,0,0,0,0,0,18,24,0,0,0,0,0,0,0,0,{"$f":"HYPERLINK(\"http://www.openstreetmap.org/?mlat=31.9654&mlon=44.6003&zoom=12#map=12/31.9654/44.6003\",\"Maplink1\")","v":"Maplink1"},{"$f":"HYPERLINK(\"https://www.google.iq/maps/search/+31.9654,44.6003/@31.9654,44.6003,14z?hl=en\",\"Maplink2\")","v":"Maplink2"},{"$f":"HYPERLINK(\"http://www.bing.com/maps/?lvl=14&sty=h&cp=31.9654~44.6003&sp=point.31.9654_44.6003\",\"Maplink3\")","v":"Maplink3"}]
[24245,"Al-Qadissiya","Al-Shamiya","Al-Mihanawiya","Hay Al-Shuhada","حي الشهادة",31.9706870383,44.6112885439,7,42,0,0,0,0,0,0,42,0,0,0,0,0,0,0,0,0,0,0,0,0,0,0,0,18,0,0,0,24,0,0,0,0,0,0,30,12,0,0,0,0,0,0,0,0,0,{"$f":"HYPERLINK(\"http://www.openstreetmap.org/?mlat=31.9707&mlon=44.6113&zoom=12#map=12/31.9707/44.6113\",\"Maplink1\")","v":"Maplink1"},{"$f":"HYPERLINK(\"https://www.google.iq/maps/search/+31.9707,44.6113/@31.9707,44.6113,14z?hl=en\",\"Maplink2\")","v":"Maplink2"},{"$f":"HYPERLINK(\"http://www.bing.com/maps/?lvl=14&sty=h&cp=31.9707~44.6113&sp=point.31.9707_44.6113\",\"Maplink3\")","v":"Maplink3"}]
[2459,"Al-Qadissiya","Al-Shamiya","Ghammas","Hawy Village","قرية حاوي",31.7640510197,44.60867809,7,42,0,0,0,0,0,0,42,0,0,0,0,0,0,0,0,0,0,0,0,0,0,0,0,0,0,0,0,42,0,0,0,0,0,0,24,18,0,0,0,0,0,0,0,0,0,{"$f":"HYPERLINK(\"http://www.openstreetmap.org/?mlat=31.7641&mlon=44.6087&zoom=12#map=12/31.7641/44.6087\",\"Maplink1\")","v":"Maplink1"},{"$f":"HYPERLINK(\"https://www.google.iq/maps/search/+31.7641,44.6087/@31.7641,44.6087,14z?hl=en\",\"Maplink2\")","v":"Maplink2"},{"$f":"HYPERLINK(\"http://www.bing.com/maps/?lvl=14&sty=h&cp=31.7641~44.6087&sp=point.31.7641_44.6087\",\"Maplink3\")","v":"Maplink3"}]
[22593,"Al-Qadissiya","Al-Shamiya","Ghammas","Hay Al Tabqa","حي الطبكة",31.7474490652,44.6132781205,7,42,0,0,0,0,0,0,42,0,0,0,0,0,0,0,0,0,0,0,0,0,0,0,0,0,0,0,0,42,0,0,0,0,0,0,0,42,0,0,0,0,0,0,0,0,0,{"$f":"HYPERLINK(\"http://www.openstreetmap.org/?mlat=31.7474&mlon=44.6133&zoom=12#map=12/31.7474/44.6133\",\"Maplink1\")","v":"Maplink1"},{"$f":"HYPERLINK(\"https://www.google.iq/maps/search/+31.7474,44.6133/@31.7474,44.6133,14z?hl=en\",\"Maplink2\")","v":"Maplink2"},{"$f":"HYPERLINK(\"http://www.bing.com/maps/?lvl=14&sty=h&cp=31.7474~44.6133&sp=point.31.7474_44.6133\",\"Maplink3\")","v":"Maplink3"}]
[4684,"Al-Sulaymaniyah","Al-Sulaymaniyah","Bazian","Bazyan-paroyee","بازيان-بارويي",35.4868861,45.286471,9,54,0,0,0,0,0,0,54,0,0,0,0,0,0,0,0,0,0,30,0,0,0,0,0,0,0,0,0,0,0,24,0,0,0,0,6,6,12,12,0,0,6,0,6,6,0,{"$f":"HYPERLINK(\"http://www.openstreetmap.org/?mlat=35.4869&mlon=45.2865&zoom=12#map=12/35.4869/45.2865\",\"Maplink1\")","v":"Maplink1"},{"$f":"HYPERLINK(\"https://www.google.iq/maps/search/+35.4869,45.2865/@35.4869,45.2865,14z?hl=en\",\"Maplink2\")","v":"Maplink2"},{"$f":"HYPERLINK(\"http://www.bing.com/maps/?lvl=14&sty=h&cp=35.4869~45.2865&sp=point.35.4869_45.2865\",\"Maplink3\")","v":"Maplink3"}]
[4964,"Al-Sulaymaniyah","Al-Sulaymaniyah","Bazian","Bazyan-qoshqaya","بازيان-قوشقاية",35.5587622,45.2057779,91,546,0,24,0,0,0,0,546,0,0,0,0,0,0,0,0,84,18,60,0,0,42,0,0,0,0,0,0,150,0,192,0,0,0,0,132,84,102,42,48,6,12,48,48,24,0,{"$f":"HYPERLINK(\"http://www.openstreetmap.org/?mlat=35.5588&mlon=45.2058&zoom=12#map=12/35.5588/45.2058\",\"Maplink1\")","v":"Maplink1"},{"$f":"HYPERLINK(\"https://www.google.iq/maps/search/+35.5588,45.2058/@35.5588,45.2058,14z?hl=en\",\"Maplink2\")","v":"Maplink2"},{"$f":"HYPERLINK(\"http://www.bing.com/maps/?lvl=14&sty=h&cp=35.5588~45.2058&sp=point.35.5588_45.2058\",\"Maplink3\")","v":"Maplink3"}]
[21283,"Al-Sulaymaniyah","Al-Sulaymaniyah","Bazian","Bazian-Sharwani","شاروانى",35.6002549,45.1323067,89,534,6,18,0,0,0,0,534,0,0,0,0,0,0,0,0,96,72,114,0,0,18,0,0,42,0,0,0,30,0,162,0,0,0,0,120,60,42,6,42,12,114,6,72,54,6,{"$f":"HYPERLINK(\"http://www.openstreetmap.org/?mlat=35.6003&mlon=45.1323&zoom=12#map=12/35.6003/45.1323\",\"Maplink1\")","v":"Maplink1"},{"$f":"HYPERLINK(\"https://www.google.iq/maps/search/+35.6003,45.1323/@35.6003,45.1323,14z?hl=en\",\"Maplink2\")","v":"Maplink2"},{"$f":"HYPERLINK(\"http://www.bing.com/maps/?lvl=14&sty=h&cp=35.6003~45.1323&sp=point.35.6003_45.1323\",\"Maplink3\")","v":"Maplink3"}]
[4563,"Al-Sulaymaniyah","Al-Sulaymaniyah","Bazian","Bazyan-Haley sarchaw","بازيان-هالةي سةرجاو",35.534033,45.1994179,20,120,0,0,0,0,0,0,120,0,0,0,0,0,0,0,0,30,0,12,0,0,0,0,0,0,0,0,0,6,0,72,0,0,0,0,6,18,18,6,18,6,12,18,18,0,0,{"$f":"HYPERLINK(\"http://www.openstreetmap.org/?mlat=35.534&mlon=45.1994&zoom=12#map=12/35.534/45.1994\",\"Maplink1\")","v":"Maplink1"},{"$f":"HYPERLINK(\"https://www.google.iq/maps/search/+35.534,45.1994/@35.534,45.1994,14z?hl=en\",\"Maplink2\")","v":"Maplink2"},{"$f":"HYPERLINK(\"http://www.bing.com/maps/?lvl=14&sty=h&cp=35.534~45.1994&sp=point.35.534_45.1994\",\"Maplink3\")","v":"Maplink3"}]
[5760,"Al-Sulaymaniyah","Al-Sulaymaniyah","Bazian","Bazyan-Haley haji rasheed","بازيان-هالةي حاجي رشيد",35.528169,45.171784,2,12,0,0,0,0,0,0,12,0,0,0,0,0,0,0,0,6,0,0,0,0,0,0,0,0,0,0,0,0,0,6,0,0,0,0,0,0,6,0,0,0,0,0,6,0,0,{"$f":"HYPERLINK(\"http://www.openstreetmap.org/?mlat=35.5282&mlon=45.1718&zoom=12#map=12/35.5282/45.1718\",\"Maplink1\")","v":"Maplink1"},{"$f":"HYPERLINK(\"https://www.google.iq/maps/search/+35.5282,45.1718/@35.5282,45.1718,14z?hl=en\",\"Maplink2\")","v":"Maplink2"},{"$f":"HYPERLINK(\"http://www.bing.com/maps/?lvl=14&sty=h&cp=35.5282~45.1718&sp=point.35.5282_45.1718\",\"Maplink3\")","v":"Maplink3"}]
[23927,"Al-Sulaymaniyah","Al-Sulaymaniyah","Bazian","Bazian-Brayati","برايتى",35.5936957,45.1396147,173,{"v":1038,"d":"1,038"},6,30,0,0,0,0,{"v":1038,"d":"1,038"},0,0,0,0,0,0,0,0,192,42,396,0,0,66,0,0,102,0,0,0,102,0,138,0,0,0,24,108,102,114,108,84,78,276,36,66,36,6,{"$f":"HYPERLINK(\"http://www.openstreetmap.org/?mlat=35.5937&mlon=45.1396&zoom=12#map=12/35.5937/45.1396\",\"Maplink1\")","v":"Maplink1"},{"$f":"HYPERLINK(\"https://www.google.iq/maps/search/+35.5937,45.1396/@35.5937,45.1396,14z?hl=en\",\"Maplink2\")","v":"Maplink2"},{"$f":"HYPERLINK(\"http://www.bing.com/maps/?lvl=14&sty=h&cp=35.5937~45.1396&sp=point.35.5937_45.1396\",\"Maplink3\")","v":"Maplink3"}]
[25300,"Al-Sulaymaniyah","Al-Sulaymaniyah","Bazian","Bardaqaraman-Piramerd","بيرميرد-بردةقارمان",35.6470422,45.0668176,31,186,0,0,0,0,0,0,186,0,0,0,0,0,0,0,0,78,0,90,0,0,12,0,0,0,0,0,0,0,0,6,0,0,0,18,6,0,30,0,12,30,18,18,30,24,0,{"$f":"HYPERLINK(\"http://www.openstreetmap.org/?mlat=35.647&mlon=45.0668&zoom=12#map=12/35.647/45.0668\",\"Maplink1\")","v":"Maplink1"},{"$f":"HYPERLINK(\"https://www.google.iq/maps/search/+35.647,45.0668/@35.647,45.0668,14z?hl=en\",\"Maplink2\")","v":"Maplink2"},{"$f":"HYPERLINK(\"http://www.bing.com/maps/?lvl=14&sty=h&cp=35.647~45.0668&sp=point.35.647_45.0668\",\"Maplink3\")","v":"Maplink3"}]
[25873,"Al-Sulaymaniyah","Al-Sulaymaniyah","Bazian","Azadi-Bazyan","ازادي-بازيان",35.6035472,45.1284235,91,546,6,24,0,0,0,0,546,0,0,0,0,0,0,0,0,66,12,114,0,0,18,0,0,102,0,0,0,72,0,162,0,0,0,6,72,6,54,24,72,18,186,24,36,42,6,{"$f":"HYPERLINK(\"http://www.openstreetmap.org/?mlat=35.6035&mlon=45.1284&zoom=12#map=12/35.6035/45.1284\",\"Maplink1\")","v":"Maplink1"},{"$f":"HYPERLINK(\"https://www.google.iq/maps/search/+35.6035,45.1284/@35.6035,45.1284,14z?hl=en\",\"Maplink2\")","v":"Maplink2"},{"$f":"HYPERLINK(\"http://www.bing.com/maps/?lvl=14&sty=h&cp=35.6035~45.1284&sp=point.35.6035_45.1284\",\"Maplink3\")","v":"Maplink3"}]
[25384,"Al-Sulaymaniyah","Al-Sulaymaniyah","Qaradagh","Gulli Shar","كولي شار",35.5301924465,45.4380206419,143,858,0,42,0,0,0,180,678,0,0,0,0,0,0,0,0,132,12,366,0,0,120,0,0,6,0,0,0,66,0,156,0,0,0,12,96,66,132,96,84,108,30,30,30,174,0,{"$f":"HYPERLINK(\"http://www.openstreetmap.org/?mlat=35.5302&mlon=45.438&zoom=12#map=12/35.5302/45.438\",\"Maplink1\")","v":"Maplink1"},{"$f":"HYPERLINK(\"https://www.google.iq/maps/search/+35.5302,45.438/@35.5302,45.438,14z?hl=en\",\"Maplink2\")","v":"Maplink2"},{"$f":"HYPERLINK(\"http://www.bing.com/maps/?lvl=14&sty=h&cp=35.5302~45.438&sp=point.35.5302_45.438\",\"Maplink3\")","v":"Maplink3"}]
[21243,"Al-Sulaymaniyah","Al-Sulaymaniyah","Qaradagh","Khabat 306+304+308","خبات 306+304+308",35.5454331869,45.4405658515,245,{"v":1470,"d":"1,470"},12,0,0,0,0,0,{"v":1470,"d":"1,470"},0,0,0,0,0,0,0,0,456,108,300,0,0,228,0,0,0,0,0,0,126,0,252,0,0,0,66,210,204,288,198,282,72,72,18,12,36,12,{"$f":"HYPERLINK(\"http://www.openstreetmap.org/?mlat=35.5454&mlon=45.4406&zoom=12#map=12/35.5454/45.4406\",\"Maplink1\")","v":"Maplink1"},{"$f":"HYPERLINK(\"https://www.google.iq/maps/search/+35.5454,45.4406/@35.5454,45.4406,14z?hl=en\",\"Maplink2\")","v":"Maplink2"},{"$f":"HYPERLINK(\"http://www.bing.com/maps/?lvl=14&sty=h&cp=35.5454~45.4406&sp=point.35.5454_45.4406\",\"Maplink3\")","v":"Maplink3"}]
[24097,"Al-Sulaymaniyah","Al-Sulaymaniyah","Qaradagh","Goyzha City","كويزة ستى",35.5609481,45.4859011,222,{"v":1332,"d":"1,332"},0,0,0,0,0,300,{"v":1032,"d":"1,032"},0,0,0,0,0,0,0,0,150,0,816,0,0,66,0,0,0,0,0,0,156,0,144,0,0,0,96,192,120,126,222,162,240,72,0,12,90,0,{"$f":"HYPERLINK(\"http://www.openstreetmap.org/?mlat=35.5609&mlon=45.4859&zoom=12#map=12/35.5609/45.4859\",\"Maplink1\")","v":"Maplink1"},{"$f":"HYPERLINK(\"https://www.google.iq/maps/search/+35.5609,45.4859/@35.5609,45.4859,14z?hl=en\",\"Maplink2\")","v":"Maplink2"},{"$f":"HYPERLINK(\"http://www.bing.com/maps/?lvl=14&sty=h&cp=35.5609~45.4859&sp=point.35.5609_45.4859\",\"Maplink3\")","v":"Maplink3"}]
[21023,"Al-Sulaymaniyah","Al-Sulaymaniyah","Qaradagh","Sarshaqam 310","سرشقام 310",35.5481535397,45.4342610509,45,270,0,12,0,0,0,0,270,0,0,0,0,0,0,0,0,114,0,78,0,0,18,0,0,0,0,0,0,12,0,48,0,0,0,24,36,12,30,66,90,6,0,0,0,6,0,{"$f":"HYPERLINK(\"http://www.openstreetmap.org/?mlat=35.5482&mlon=45.4343&zoom=12#map=12/35.5482/45.4343\",\"Maplink1\")","v":"Maplink1"},{"$f":"HYPERLINK(\"https://www.google.iq/maps/search/+35.5482,45.4343/@35.5482,45.4343,14z?hl=en\",\"Maplink2\")","v":"Maplink2"},{"$f":"HYPERLINK(\"http://www.bing.com/maps/?lvl=14&sty=h&cp=35.5482~45.4343&sp=point.35.5482_45.4343\",\"Maplink3\")","v":"Maplink3"}]
[25289,"Al-Sulaymaniyah","Al-Sulaymaniyah","Qaradagh","Arbat-Arbat Kon","عربت كون",35.4212587315,45.5797686846,14,84,0,0,0,0,0,0,84,0,0,0,0,0,0,0,0,6,18,12,0,0,0,0,0,0,0,0,0,0,0,48,0,0,0,6,54,0,24,0,0,0,0,0,0,0,0,{"$f":"HYPERLINK(\"http://www.openstreetmap.org/?mlat=35.4213&mlon=45.5798&zoom=12#map=12/35.4213/45.5798\",\"Maplink1\")","v":"Maplink1"},{"$f":"HYPERLINK(\"https://www.google.iq/maps/search/+35.4213,45.5798/@35.4213,45.5798,14z?hl=en\",\"Maplink2\")","v":"Maplink2"},{"$f":"HYPERLINK(\"http://www.bing.com/maps/?lvl=14&sty=h&cp=35.4213~45.5798&sp=point.35.4213_45.5798\",\"Maplink3\")","v":"Maplink3"}]
[21202,"Al-Sulaymaniyah","Al-Sulaymaniyah","Qaradagh","Azadi","ازادى",35.5616741,45.4647153,161,966,6,0,0,0,0,30,936,0,0,0,0,0,0,0,0,72,348,144,0,0,114,0,0,0,0,0,0,90,0,198,0,0,0,120,210,72,186,90,78,66,66,0,48,24,6,{"$f":"HYPERLINK(\"http://www.openstreetmap.org/?mlat=35.5617&mlon=45.4647&zoom=12#map=12/35.5617/45.4647\",\"Maplink1\")","v":"Maplink1"},{"$f":"HYPERLINK(\"https://www.google.iq/maps/search/+35.5617,45.4647/@35.5617,45.4647,14z?hl=en\",\"Maplink2\")","v":"Maplink2"},{"$f":"HYPERLINK(\"http://www.bing.com/maps/?lvl=14&sty=h&cp=35.5617~45.4647&sp=point.35.5617_45.4647\",\"Maplink3\")","v":"Maplink3"}]
[4558,"Al-Sulaymaniyah","Al-Sulaymaniyah","Qaradagh","Arbat-Koza raqa","عربت-كوزة رقا",35.4666551322,45.5408381259,4,24,0,0,0,0,0,0,24,0,0,0,0,0,0,0,0,0,0,0,0,0,18,0,0,0,0,0,0,6,0,0,0,0,0,0,6,0,0,0,18,0,0,0,0,0,0,{"$f":"HYPERLINK(\"http://www.openstreetmap.org/?mlat=35.4667&mlon=45.5408&zoom=12#map=12/35.4667/45.5408\",\"Maplink1\")","v":"Maplink1"},{"$f":"HYPERLINK(\"https://www.google.iq/maps/search/+35.4667,45.5408/@35.4667,45.5408,14z?hl=en\",\"Maplink2\")","v":"Maplink2"},{"$f":"HYPERLINK(\"http://www.bing.com/maps/?lvl=14&sty=h&cp=35.4667~45.5408&sp=point.35.4667_45.5408\",\"Maplink3\")","v":"Maplink3"}]
[25303,"Al-Sulaymaniyah","Al-Sulaymaniyah","Qaradagh","Kani Iskan","كانيسكان",35.5597165,45.4381391,96,576,0,42,0,0,0,0,576,0,0,0,0,0,0,0,0,150,6,204,0,0,48,0,0,0,0,0,0,84,0,84,0,0,0,0,78,18,150,66,90,0,42,36,18,78,0,{"$f":"HYPERLINK(\"http://www.openstreetmap.org/?mlat=35.5597&mlon=45.4381&zoom=12#map=12/35.5597/45.4381\",\"Maplink1\")","v":"Maplink1"},{"$f":"HYPERLINK(\"https://www.google.iq/maps/search/+35.5597,45.4381/@35.5597,45.4381,14z?hl=en\",\"Maplink2\")","v":"Maplink2"},{"$f":"HYPERLINK(\"http://www.bing.com/maps/?lvl=14&sty=h&cp=35.5597~45.4381&sp=point.35.5597_45.4381\",\"Maplink3\")","v":"Maplink3"}]
[31971,"Al-Sulaymaniyah","Al-Sulaymaniyah","Qaradagh","Degulan","ديكولان",35.1271607,45.5908271,1,6,0,0,0,0,0,0,6,0,0,0,0,0,0,0,0,0,0,0,0,0,0,0,0,0,0,0,0,0,0,6,0,0,0,0,6,0,0,0,0,0,0,0,0,0,0,{"$f":"HYPERLINK(\"http://www.openstreetmap.org/?mlat=35.1272&mlon=45.5908&zoom=12#map=12/35.1272/45.5908\",\"Maplink1\")","v":"Maplink1"},{"$f":"HYPERLINK(\"https://www.google.iq/maps/search/+35.1272,45.5908/@35.1272,45.5908,14z?hl=en\",\"Maplink2\")","v":"Maplink2"},{"$f":"HYPERLINK(\"http://www.bing.com/maps/?lvl=14&sty=h&cp=35.1272~45.5908&sp=point.35.1272_45.5908\",\"Maplink3\")","v":"Maplink3"}]
[4732,"Al-Sulaymaniyah","Al-Sulaymaniyah","Qaradagh","Tavan","تافان",35.3114999,45.36609,4,24,0,0,0,0,0,0,24,0,0,0,0,0,0,0,0,0,0,0,0,0,0,0,0,0,0,0,0,6,0,18,0,0,0,0,6,0,0,6,6,0,6,0,0,0,0,{"$f":"HYPERLINK(\"http://www.openstreetmap.org/?mlat=35.3115&mlon=45.3661&zoom=12#map=12/35.3115/45.3661\",\"Maplink1\")","v":"Maplink1"},{"$f":"HYPERLINK(\"https://www.google.iq/maps/search/+35.3115,45.3661/@35.3115,45.3661,14z?hl=en\",\"Maplink2\")","v":"Maplink2"},{"$f":"HYPERLINK(\"http://www.bing.com/maps/?lvl=14&sty=h&cp=35.3115~45.3661&sp=point.35.3115_45.3661\",\"Maplink3\")","v":"Maplink3"}]
[5930,"Al-Sulaymaniyah","Al-Sulaymaniyah","Qaradagh","Wluba 326","ولوبه 326",35.5342216116,45.4295712289,110,660,0,0,0,0,0,0,660,0,0,0,0,0,0,0,0,54,156,168,0,0,126,0,0,0,0,0,0,18,0,138,0,0,0,0,102,156,156,72,132,0,36,6,0,0,0,{"$f":"HYPERLINK(\"http://www.openstreetmap.org/?mlat=35.5342&mlon=45.4296&zoom=12#map=12/35.5342/45.4296\",\"Maplink1\")","v":"Maplink1"},{"$f":"HYPERLINK(\"https://www.google.iq/maps/search/+35.5342,45.4296/@35.5342,45.4296,14z?hl=en\",\"Maplink2\")","v":"Maplink2"},{"$f":"HYPERLINK(\"http://www.bing.com/maps/?lvl=14&sty=h&cp=35.5342~45.4296&sp=point.35.5342_45.4296\",\"Maplink3\")","v":"Maplink3"}]
[33379,"Al-Sulaymaniyah","Al-Sulaymaniyah","Qaradagh","Shahidani Azadi 214","شهيداني ازادي 214",35.5656062,45.462519,40,240,0,0,0,0,0,0,240,0,0,0,0,0,0,0,0,48,78,54,0,0,6,0,0,0,0,0,0,6,0,48,0,0,0,42,72,24,6,30,30,0,12,12,6,6,0,{"$f":"HYPERLINK(\"http://www.openstreetmap.org/?mlat=35.5656&mlon=45.4625&zoom=12#map=12/35.5656/45.4625\",\"Maplink1\")","v":"Maplink1"},{"$f":"HYPERLINK(\"https://www.google.iq/maps/search/+35.5656,45.4625/@35.5656,45.4625,14z?hl=en\",\"Maplink2\")","v":"Maplink2"},{"$f":"HYPERLINK(\"http://www.bing.com/maps/?lvl=14&sty=h&cp=35.5656~45.4625&sp=point.35.5656_45.4625\",\"Maplink3\")","v":"Maplink3"}]
[4467,"Al-Sulaymaniyah","Al-Sulaymaniyah","Qaradagh","Koshki Sarw","كوشكي سرو",35.2427435,45.4644129,1,6,0,0,0,0,0,0,6,0,0,0,0,0,0,0,0,0,0,0,0,0,6,0,0,0,0,0,0,0,0,0,0,0,0,0,0,0,0,0,0,0,0,0,0,6,0,{"$f":"HYPERLINK(\"http://www.openstreetmap.org/?mlat=35.2427&mlon=45.4644&zoom=12#map=12/35.2427/45.4644\",\"Maplink1\")","v":"Maplink1"},{"$f":"HYPERLINK(\"https://www.google.iq/maps/search/+35.2427,45.4644/@35.2427,45.4644,14z?hl=en\",\"Maplink2\")","v":"Maplink2"},{"$f":"HYPERLINK(\"http://www.bing.com/maps/?lvl=14&sty=h&cp=35.2427~45.4644&sp=point.35.2427_45.4644\",\"Maplink3\")","v":"Maplink3"}]
[33351,"Al-Sulaymaniyah","Al-Sulaymaniyah","Qaradagh","Wais 402","ويس 402",35.5540596,45.4318906,10,60,0,0,0,0,0,0,60,0,0,0,0,0,0,0,0,18,0,6,0,0,0,0,0,0,0,0,0,18,0,18,0,0,0,0,6,6,6,6,18,0,0,12,0,6,0,{"$f":"HYPERLINK(\"http://www.openstreetmap.org/?mlat=35.5541&mlon=45.4319&zoom=12#map=12/35.5541/45.4319\",\"Maplink1\")","v":"Maplink1"},{"$f":"HYPERLINK(\"https://www.google.iq/maps/search/+35.5541,45.4319/@35.5541,45.4319,14z?hl=en\",\"Maplink2\")","v":"Maplink2"},{"$f":"HYPERLINK(\"http://www.bing.com/maps/?lvl=14&sty=h&cp=35.5541~45.4319&sp=point.35.5541_45.4319\",\"Maplink3\")","v":"Maplink3"}]
[25524,"Al-Sulaymaniyah","Al-Sulaymaniyah","Qaradagh","Newroz","نوروز",35.5311140913,45.4433403834,92,552,0,36,0,0,0,6,546,0,0,0,0,0,0,0,0,138,18,162,0,0,66,0,0,0,0,0,0,78,0,90,0,0,0,24,54,84,138,78,30,54,30,18,6,36,0,{"$f":"HYPERLINK(\"http://www.openstreetmap.org/?mlat=35.5311&mlon=45.4433&zoom=12#map=12/35.5311/45.4433\",\"Maplink1\")","v":"Maplink1"},{"$f":"HYPERLINK(\"https://www.google.iq/maps/search/+35.5311,45.4433/@35.5311,45.4433,14z?hl=en\",\"Maplink2\")","v":"Maplink2"},{"$f":"HYPERLINK(\"http://www.bing.com/maps/?lvl=14&sty=h&cp=35.5311~45.4433&sp=point.35.5311_45.4433\",\"Maplink3\")","v":"Maplink3"}]
[31976,"Al-Sulaymaniyah","Al-Sulaymaniyah","Qaradagh","Shari Pzishkan","شاري بزيشكان",35.5264003,45.4604301,56,336,0,6,0,0,0,102,234,0,0,0,0,0,0,0,0,60,6,198,0,0,24,0,0,6,0,0,0,24,0,18,0,0,0,24,54,0,78,42,24,24,18,18,12,42,0,{"$f":"HYPERLINK(\"http://www.openstreetmap.org/?mlat=35.5264&mlon=45.4604&zoom=12#map=12/35.5264/45.4604\",\"Maplink1\")","v":"Maplink1"},{"$f":"HYPERLINK(\"https://www.google.iq/maps/search/+35.5264,45.4604/@35.5264,45.4604,14z?hl=en\",\"Maplink2\")","v":"Maplink2"},{"$f":"HYPERLINK(\"http://www.bing.com/maps/?lvl=14&sty=h&cp=35.5264~45.4604&sp=point.35.5264_45.4604\",\"Maplink3\")","v":"Maplink3"}]
[31955,"Al-Sulaymaniyah","Al-Sulaymaniyah","Qaradagh","Pary 315","باري 315",35.5432765,45.4677451,4,24,0,0,0,0,0,0,24,0,0,0,0,0,0,0,0,12,0,0,0,0,0,0,0,0,0,0,0,0,0,12,0,0,0,0,0,0,0,12,0,12,0,0,0,0,0,{"$f":"HYPERLINK(\"http://www.openstreetmap.org/?mlat=35.5433&mlon=45.4677&zoom=12#map=12/35.5433/45.4677\",\"Maplink1\")","v":"Maplink1"},{"$f":"HYPERLINK(\"https://www.google.iq/maps/search/+35.5433,45.4677/@35.5433,45.4677,14z?hl=en\",\"Maplink2\")","v":"Maplink2"},{"$f":"HYPERLINK(\"http://www.bing.com/maps/?lvl=14&sty=h&cp=35.5433~45.4677&sp=point.35.5433_45.4677\",\"Maplink3\")","v":"Maplink3"}]
[31957,"Al-Sulaymaniyah","Al-Sulaymaniyah","Qaradagh","Gula bakh 335","كولة باخ 335",35.5244995,45.4693214,12,72,0,0,0,0,0,0,72,0,0,0,0,0,0,0,0,12,12,24,0,0,12,0,0,0,0,0,0,6,0,6,0,0,0,0,0,0,24,6,12,24,0,0,0,6,0,{"$f":"HYPERLINK(\"http://www.openstreetmap.org/?mlat=35.5245&mlon=45.4693&zoom=12#map=12/35.5245/45.4693\",\"Maplink1\")","v":"Maplink1"},{"$f":"HYPERLINK(\"https://www.google.iq/maps/search/+35.5245,45.4693/@35.5245,45.4693,14z?hl=en\",\"Maplink2\")","v":"Maplink2"},{"$f":"HYPERLINK(\"http://www.bing.com/maps/?lvl=14&sty=h&cp=35.5245~45.4693&sp=point.35.5245_45.4693\",\"Maplink3\")","v":"Maplink3"}]
[6144,"Al-Sulaymaniyah","Al-Sulaymaniyah","Qaradagh","Balambo 324","بلامبو 324",35.5328643607,45.4363299665,46,276,0,0,0,0,0,6,270,0,0,0,0,0,0,0,0,6,42,42,0,0,120,0,0,0,0,0,0,42,0,24,0,0,0,0,72,30,48,36,0,36,6,0,0,48,0,{"$f":"HYPERLINK(\"http://www.openstreetmap.org/?mlat=35.5329&mlon=45.4363&zoom=12#map=12/35.5329/45.4363\",\"Maplink1\")","v":"Maplink1"},{"$f":"HYPERLINK(\"https://www.google.iq/maps/search/+35.5329,45.4363/@35.5329,45.4363,14z?hl=en\",\"Maplink2\")","v":"Maplink2"},{"$f":"HYPERLINK(\"http://www.bing.com/maps/?lvl=14&sty=h&cp=35.5329~45.4363&sp=point.35.5329_45.4363\",\"Maplink3\")","v":"Maplink3"}]
[31978,"Al-Sulaymaniyah","Al-Sulaymaniyah","Qaradagh","Chrakhan 322","جراخان 322",35.5215127,45.4399047,133,798,0,12,0,0,0,18,780,0,0,0,0,0,0,0,0,210,12,138,0,0,84,0,0,0,0,0,0,126,0,228,0,0,0,72,264,60,222,18,0,0,54,48,0,60,0,{"$f":"HYPERLINK(\"http://www.openstreetmap.org/?mlat=35.5215&mlon=45.4399&zoom=12#map=12/35.5215/45.4399\",\"Maplink1\")","v":"Maplink1"},{"$f":"HYPERLINK(\"https://www.google.iq/maps/search/+35.5215,45.4399/@35.5215,45.4399,14z?hl=en\",\"Maplink2\")","v":"Maplink2"},{"$f":"HYPERLINK(\"http://www.bing.com/maps/?lvl=14&sty=h&cp=35.5215~45.4399&sp=point.35.5215_45.4399\",\"Maplink3\")","v":"Maplink3"}]
[31974,"Al-Sulaymaniyah","Al-Sulaymaniyah","Qaradagh","Chya 316","جيا 316",35.5357158383,45.4503021909,62,372,0,30,0,0,0,0,372,0,0,0,0,0,0,0,0,60,6,174,0,0,18,0,0,0,0,0,0,54,0,60,0,0,0,12,90,42,54,30,36,42,48,6,6,6,0,{"$f":"HYPERLINK(\"http://www.openstreetmap.org/?mlat=35.5357&mlon=45.4503&zoom=12#map=12/35.5357/45.4503\",\"Maplink1\")","v":"Maplink1"},{"$f":"HYPERLINK(\"https://www.google.iq/maps/search/+35.5357,45.4503/@35.5357,45.4503,14z?hl=en\",\"Maplink2\")","v":"Maplink2"},{"$f":"HYPERLINK(\"http://www.bing.com/maps/?lvl=14&sty=h&cp=35.5357~45.4503&sp=point.35.5357_45.4503\",\"Maplink3\")","v":"Maplink3"}]
[23717,"Al-Sulaymaniyah","Al-Sulaymaniyah","Qaradagh","Dilan City","ديلان ستى",35.5457368,45.4802463,91,546,0,0,0,0,0,192,354,0,0,0,0,0,0,0,0,138,0,336,0,0,24,0,0,0,0,0,0,12,0,36,0,0,0,0,90,6,66,84,156,66,42,0,12,24,0,{"$f":"HYPERLINK(\"http://www.openstreetmap.org/?mlat=35.5457&mlon=45.4802&zoom=12#map=12/35.5457/45.4802\",\"Maplink1\")","v":"Maplink1"},{"$f":"HYPERLINK(\"https://www.google.iq/maps/search/+35.5457,45.4802/@35.5457,45.4802,14z?hl=en\",\"Maplink2\")","v":"Maplink2"},{"$f":"HYPERLINK(\"http://www.bing.com/maps/?lvl=14&sty=h&cp=35.5457~45.4802&sp=point.35.5457_45.4802\",\"Maplink3\")","v":"Maplink3"}]
[32073,"Al-Sulaymaniyah","Al-Sulaymaniyah","Sarchnar","Daban 201","دابان 201",35.562812732,45.356295369,60,360,0,0,0,0,0,0,360,0,0,0,0,0,0,0,0,54,6,162,0,0,42,0,0,24,0,0,0,18,0,54,0,0,0,0,72,84,102,0,0,18,54,0,30,0,0,{"$f":"HYPERLINK(\"http://www.openstreetmap.org/?mlat=35.5628&mlon=45.3563&zoom=12#map=12/35.5628/45.3563\",\"Maplink1\")","v":"Maplink1"},{"$f":"HYPERLINK(\"https://www.google.iq/maps/search/+35.5628,45.3563/@35.5628,45.3563,14z?hl=en\",\"Maplink2\")","v":"Maplink2"},{"$f":"HYPERLINK(\"http://www.bing.com/maps/?lvl=14&sty=h&cp=35.5628~45.3563&sp=point.35.5628_45.3563\",\"Maplink3\")","v":"Maplink3"}]
[32004,"Al-Sulaymaniyah","Al-Sulaymaniyah","Sarchnar","Zirak","زيراك",35.5976809,45.4175725,45,270,0,0,0,0,0,0,270,0,0,0,0,0,0,0,0,144,6,78,0,0,0,0,0,0,0,0,0,12,0,30,0,0,0,18,66,0,54,24,18,0,0,12,18,60,0,{"$f":"HYPERLINK(\"http://www.openstreetmap.org/?mlat=35.5977&mlon=45.4176&zoom=12#map=12/35.5977/45.4176\",\"Maplink1\")","v":"Maplink1"},{"$f":"HYPERLINK(\"https://www.google.iq/maps/search/+35.5977,45.4176/@35.5977,45.4176,14z?hl=en\",\"Maplink2\")","v":"Maplink2"},{"$f":"HYPERLINK(\"http://www.bing.com/maps/?lvl=14&sty=h&cp=35.5977~45.4176&sp=point.35.5977_45.4176\",\"Maplink3\")","v":"Maplink3"}]
[23870,"Al-Sulaymaniyah","Al-Sulaymaniyah","Sarchnar","Hawari Taza","هوارى تازة",35.5790653,45.44857,30,180,0,0,0,0,0,0,180,0,0,0,0,0,0,0,0,66,0,42,0,0,12,0,0,0,0,0,0,12,0,48,0,0,0,18,6,0,30,18,42,30,12,0,6,18,0,{"$f":"HYPERLINK(\"http://www.openstreetmap.org/?mlat=35.5791&mlon=45.4486&zoom=12#map=12/35.5791/45.4486\",\"Maplink1\")","v":"Maplink1"},{"$f":"HYPERLINK(\"https://www.google.iq/maps/search/+35.5791,45.4486/@35.5791,45.4486,14z?hl=en\",\"Maplink2\")","v":"Maplink2"},{"$f":"HYPERLINK(\"http://www.bing.com/maps/?lvl=14&sty=h&cp=35.5791~45.4486&sp=point.35.5791_45.4486\",\"Maplink3\")","v":"Maplink3"}]
[31983,"Al-Sulaymaniyah","Al-Sulaymaniyah","Sarchnar","Rizgari 412","رزكاري 412",35.5624727398,45.3971270831,154,924,18,0,0,0,0,0,924,0,0,0,0,0,0,0,0,108,60,540,0,0,72,0,0,0,0,0,0,72,0,72,0,0,0,36,114,120,78,102,72,84,54,126,60,60,18,{"$f":"HYPERLINK(\"http://www.openstreetmap.org/?mlat=35.5625&mlon=45.3971&zoom=12#map=12/35.5625/45.3971\",\"Maplink1\")","v":"Maplink1"},{"$f":"HYPERLINK(\"https://www.google.iq/maps/search/+35.5625,45.3971/@35.5625,45.3971,14z?hl=en\",\"Maplink2\")","v":"Maplink2"},{"$f":"HYPERLINK(\"http://www.bing.com/maps/?lvl=14&sty=h&cp=35.5625~45.3971&sp=point.35.5625_45.3971\",\"Maplink3\")","v":"Maplink3"}]
[4441,"Al-Sulaymaniyah","Al-Sulaymaniyah","Sarchnar","Sarchnar","سرجنار",35.5803015,45.383606,416,{"v":2496,"d":"2,496"},24,132,0,0,0,138,{"v":2358,"d":"2,358"},0,0,0,0,0,0,0,0,{"v":1038,"d":"1,038"},60,594,0,0,288,0,0,90,0,0,0,174,0,252,0,0,0,42,210,156,504,354,330,72,282,144,66,312,24,{"$f":"HYPERLINK(\"http://www.openstreetmap.org/?mlat=35.5803&mlon=45.3836&zoom=12#map=12/35.5803/45.3836\",\"Maplink1\")","v":"Maplink1"},{"$f":"HYPERLINK(\"https://www.google.iq/maps/search/+35.5803,45.3836/@35.5803,45.3836,14z?hl=en\",\"Maplink2\")","v":"Maplink2"},{"$f":"HYPERLINK(\"http://www.bing.com/maps/?lvl=14&sty=h&cp=35.5803~45.3836&sp=point.35.5803_45.3836\",\"Maplink3\")","v":"Maplink3"}]
[32074,"Al-Sulaymaniyah","Al-Sulaymaniyah","Sarchnar","Peshawa 301","بيشوا 301",35.5495784316,45.3656923579,52,312,0,0,0,0,0,0,312,0,0,0,0,0,0,0,0,120,6,96,0,0,24,0,0,18,0,0,0,30,0,18,0,0,0,0,78,72,72,48,0,24,18,0,0,0,0,{"$f":"HYPERLINK(\"http://www.openstreetmap.org/?mlat=35.5496&mlon=45.3657&zoom=12#map=12/35.5496/45.3657\",\"Maplink1\")","v":"Maplink1"},{"$f":"HYPERLINK(\"https://www.google.iq/maps/search/+35.5496,45.3657/@35.5496,45.3657,14z?hl=en\",\"Maplink2\")","v":"Maplink2"},{"$f":"HYPERLINK(\"http://www.bing.com/maps/?lvl=14&sty=h&cp=35.5496~45.3657&sp=point.35.5496_45.3657\",\"Maplink3\")","v":"Maplink3"}]
[32008,"Al-Sulaymaniyah","Al-Sulaymaniyah","Sarchnar","Kewstan","كويستان",35.5892923,45.3995959,88,528,6,0,0,0,0,0,528,0,0,0,0,0,0,0,0,114,12,258,0,0,24,0,0,48,0,0,0,12,0,60,0,0,0,66,30,0,0,60,18,42,96,12,84,114,6,{"$f":"HYPERLINK(\"http://www.openstreetmap.org/?mlat=35.5893&mlon=45.3996&zoom=12#map=12/35.5893/45.3996\",\"Maplink1\")","v":"Maplink1"},{"$f":"HYPERLINK(\"https://www.google.iq/maps/search/+35.5893,45.3996/@35.5893,45.3996,14z?hl=en\",\"Maplink2\")","v":"Maplink2"},{"$f":"HYPERLINK(\"http://www.bing.com/maps/?lvl=14&sty=h&cp=35.5893~45.3996&sp=point.35.5893_45.3996\",\"Maplink3\")","v":"Maplink3"}]
[21319,"Al-Sulaymaniyah","Al-Sulaymaniyah","Sarchnar","Grdi Sarchnar","كردى سرجنار",35.5740354,45.3877837,137,822,0,6,0,0,0,84,738,0,0,0,0,0,0,0,0,102,0,354,0,0,102,0,0,108,0,0,0,78,0,78,0,0,0,0,60,36,96,48,72,60,192,42,42,174,0,{"$f":"HYPERLINK(\"http://www.openstreetmap.org/?mlat=35.574&mlon=45.3878&zoom=12#map=12/35.574/45.3878\",\"Maplink1\")","v":"Maplink1"},{"$f":"HYPERLINK(\"https://www.google.iq/maps/search/+35.574,45.3878/@35.574,45.3878,14z?hl=en\",\"Maplink2\")","v":"Maplink2"},{"$f":"HYPERLINK(\"http://www.bing.com/maps/?lvl=14&sty=h&cp=35.574~45.3878&sp=point.35.574_45.3878\",\"Maplink3\")","v":"Maplink3"}]
[32072,"Al-Sulaymaniyah","Al-Sulaymaniyah","Sarchnar","Goran 104","كوران 104",35.5608606443,45.3516843491,63,378,0,0,0,0,0,0,378,0,0,0,0,0,0,0,0,84,12,156,0,0,18,0,0,36,0,0,0,30,0,42,0,0,0,36,54,90,72,0,0,78,48,0,0,0,0,{"$f":"HYPERLINK(\"http://www.openstreetmap.org/?mlat=35.5609&mlon=45.3517&zoom=12#map=12/35.5609/45.3517\",\"Maplink1\")","v":"Maplink1"},{"$f":"HYPERLINK(\"https://www.google.iq/maps/search/+35.5609,45.3517/@35.5609,45.3517,14z?hl=en\",\"Maplink2\")","v":"Maplink2"},{"$f":"HYPERLINK(\"http://www.bing.com/maps/?lvl=14&sty=h&cp=35.5609~45.3517&sp=point.35.5609_45.3517\",\"Maplink3\")","v":"Maplink3"}]
[31988,"Al-Sulaymaniyah","Al-Sulaymaniyah","Sarchnar","Khwar kurdsat 134","خوار كوردسات 134",35.5827635,45.4377619,89,534,0,0,0,0,0,180,354,0,0,0,0,0,0,0,0,78,12,306,0,0,42,0,0,0,0,0,0,42,0,54,0,0,0,30,120,0,144,84,30,36,24,54,12,0,0,{"$f":"HYPERLINK(\"http://www.openstreetmap.org/?mlat=35.5828&mlon=45.4378&zoom=12#map=12/35.5828/45.4378\",\"Maplink1\")","v":"Maplink1"},{"$f":"HYPERLINK(\"https://www.google.iq/maps/search/+35.5828,45.4378/@35.5828,45.4378,14z?hl=en\",\"Maplink2\")","v":"Maplink2"},{"$f":"HYPERLINK(\"http://www.bing.com/maps/?lvl=14&sty=h&cp=35.5828~45.4378&sp=point.35.5828_45.4378\",\"Maplink3\")","v":"Maplink3"}]
[32014,"Al-Sulaymaniyah","Al-Sulaymaniyah","Sarchnar","Raparine-Mahwey","رابرين-محوي",35.5930865,45.3246187,46,276,0,6,0,0,0,0,276,0,0,0,0,0,0,0,0,42,12,72,0,0,12,0,0,24,0,0,0,30,0,84,0,0,0,12,54,72,42,18,18,0,48,0,0,12,0,{"$f":"HYPERLINK(\"http://www.openstreetmap.org/?mlat=35.5931&mlon=45.3246&zoom=12#map=12/35.5931/45.3246\",\"Maplink1\")","v":"Maplink1"},{"$f":"HYPERLINK(\"https://www.google.iq/maps/search/+35.5931,45.3246/@35.5931,45.3246,14z?hl=en\",\"Maplink2\")","v":"Maplink2"},{"$f":"HYPERLINK(\"http://www.bing.com/maps/?lvl=14&sty=h&cp=35.5931~45.3246&sp=point.35.5931_45.3246\",\"Maplink3\")","v":"Maplink3"}]
[33353,"Al-Sulaymaniyah","Al-Sulaymaniyah","Sarchnar","Bakhan 108","باخان 108",35.5751967,45.4206479,38,228,0,0,0,0,0,0,228,0,0,0,0,0,0,0,0,72,18,90,0,0,36,0,0,0,0,0,0,0,0,12,0,0,0,0,6,0,24,30,42,54,6,12,12,42,0,{"$f":"HYPERLINK(\"http://www.openstreetmap.org/?mlat=35.5752&mlon=45.4206&zoom=12#map=12/35.5752/45.4206\",\"Maplink1\")","v":"Maplink1"},{"$f":"HYPERLINK(\"https://www.google.iq/maps/search/+35.5752,45.4206/@35.5752,45.4206,14z?hl=en\",\"Maplink2\")","v":"Maplink2"},{"$f":"HYPERLINK(\"http://www.bing.com/maps/?lvl=14&sty=h&cp=35.5752~45.4206&sp=point.35.5752_45.4206\",\"Maplink3\")","v":"Maplink3"}]
[21287,"Al-Sulaymaniyah","Al-Sulaymaniyah","Sarchnar","Chwar Chra","جوارجرا",35.5420488,45.4011283,75,450,12,0,0,0,0,54,384,0,0,0,0,12,0,0,0,48,6,222,0,0,60,0,0,0,0,0,0,84,0,30,0,0,0,6,6,54,12,30,54,90,48,60,54,24,12,{"$f":"HYPERLINK(\"http://www.openstreetmap.org/?mlat=35.542&mlon=45.4011&zoom=12#map=12/35.542/45.4011\",\"Maplink1\")","v":"Maplink1"},{"$f":"HYPERLINK(\"https://www.google.iq/maps/search/+35.542,45.4011/@35.542,45.4011,14z?hl=en\",\"Maplink2\")","v":"Maplink2"},{"$f":"HYPERLINK(\"http://www.bing.com/maps/?lvl=14&sty=h&cp=35.542~45.4011&sp=point.35.542_45.4011\",\"Maplink3\")","v":"Maplink3"}]
[32009,"Al-Sulaymaniyah","Al-Sulaymaniyah","Sarchnar","Nergiz","نيركز",35.5842705,45.3998687,39,234,0,0,0,0,0,0,234,0,0,0,0,0,0,0,0,84,0,48,0,0,12,0,0,0,0,0,0,42,0,48,0,0,0,60,60,18,54,0,0,0,24,0,18,0,0,{"$f":"HYPERLINK(\"http://www.openstreetmap.org/?mlat=35.5843&mlon=45.3999&zoom=12#map=12/35.5843/45.3999\",\"Maplink1\")","v":"Maplink1"},{"$f":"HYPERLINK(\"https://www.google.iq/maps/search/+35.5843,45.3999/@35.5843,45.3999,14z?hl=en\",\"Maplink2\")","v":"Maplink2"},{"$f":"HYPERLINK(\"http://www.bing.com/maps/?lvl=14&sty=h&cp=35.5843~45.3999&sp=point.35.5843_45.3999\",\"Maplink3\")","v":"Maplink3"}]
[5809,"Al-Sulaymaniyah","Al-Sulaymaniyah","Sarchnar","Tasluja","طاسلوجة",35.5950953,45.2288011,305,{"v":1830,"d":"1,830"},0,78,0,0,0,72,{"v":1758,"d":"1,758"},0,0,0,0,0,0,0,0,126,60,330,0,0,126,0,0,132,0,0,0,666,0,390,0,0,0,36,180,588,162,72,90,72,246,84,168,132,0,{"$f":"HYPERLINK(\"http://www.openstreetmap.org/?mlat=35.5951&mlon=45.2288&zoom=12#map=12/35.5951/45.2288\",\"Maplink1\")","v":"Maplink1"},{"$f":"HYPERLINK(\"https://www.google.iq/maps/search/+35.5951,45.2288/@35.5951,45.2288,14z?hl=en\",\"Maplink2\")","v":"Maplink2"},{"$f":"HYPERLINK(\"http://www.bing.com/maps/?lvl=14&sty=h&cp=35.5951~45.2288&sp=point.35.5951_45.2288\",\"Maplink3\")","v":"Maplink3"}]
[24102,"Al-Sulaymaniyah","Al-Sulaymaniyah","Sarchnar","Barez City","بريز ستى",35.5944943,45.3432287,65,390,0,0,0,0,0,60,330,0,0,0,0,0,0,0,0,60,0,162,0,0,6,0,0,18,0,0,0,30,0,114,0,0,0,0,90,120,54,24,30,0,36,0,18,18,0,{"$f":"HYPERLINK(\"http://www.openstreetmap.org/?mlat=35.5945&mlon=45.3432&zoom=12#map=12/35.5945/45.3432\",\"Maplink1\")","v":"Maplink1"},{"$f":"HYPERLINK(\"https://www.google.iq/maps/search/+35.5945,45.3432/@35.5945,45.3432,14z?hl=en\",\"Maplink2\")","v":"Maplink2"},{"$f":"HYPERLINK(\"http://www.bing.com/maps/?lvl=14&sty=h&cp=35.5945~45.3432&sp=point.35.5945_45.3432\",\"Maplink3\")","v":"Maplink3"}]
[32076,"Al-Sulaymaniyah","Al-Sulaymaniyah","Sarchnar","Kurdi 402","كوردى 402",35.5501506107,45.3480203476,146,876,0,0,0,0,0,0,876,0,0,0,0,0,0,0,0,42,0,168,0,0,18,0,0,492,0,0,0,42,0,114,0,0,0,36,108,24,60,24,12,12,582,0,18,0,0,{"$f":"HYPERLINK(\"http://www.openstreetmap.org/?mlat=35.5502&mlon=45.348&zoom=12#map=12/35.5502/45.348\",\"Maplink1\")","v":"Maplink1"},{"$f":"HYPERLINK(\"https://www.google.iq/maps/search/+35.5502,45.348/@35.5502,45.348,14z?hl=en\",\"Maplink2\")","v":"Maplink2"},{"$f":"HYPERLINK(\"http://www.bing.com/maps/?lvl=14&sty=h&cp=35.5502~45.348&sp=point.35.5502_45.348\",\"Maplink3\")","v":"Maplink3"}]
[21204,"Al-Sulaymaniyah","Al-Sulaymaniyah","Sarchnar","Bakhtiary New 117","بختيارى نوي 117",35.5727833977,45.3980278052,125,750,18,0,0,0,0,12,738,0,0,0,0,0,0,0,0,138,36,432,0,0,48,0,0,0,0,0,0,36,0,60,0,0,0,42,90,42,192,78,120,36,48,24,18,42,18,{"$f":"HYPERLINK(\"http://www.openstreetmap.org/?mlat=35.5728&mlon=45.398&zoom=12#map=12/35.5728/45.398\",\"Maplink1\")","v":"Maplink1"},{"$f":"HYPERLINK(\"https://www.google.iq/maps/search/+35.5728,45.398/@35.5728,45.398,14z?hl=en\",\"Maplink2\")","v":"Maplink2"},{"$f":"HYPERLINK(\"http://www.bing.com/maps/?lvl=14&sty=h&cp=35.5728~45.398&sp=point.35.5728_45.398\",\"Maplink3\")","v":"Maplink3"}]
[23720,"Al-Sulaymaniyah","Al-Sulaymaniyah","Sarchnar","Majeed Bag","مجيد بك",35.5703987,45.4423669,52,312,6,0,0,0,0,0,312,0,0,0,0,0,0,0,0,84,18,78,0,0,24,0,0,0,0,0,0,36,0,72,0,0,0,24,24,30,42,60,54,24,36,0,12,0,6,{"$f":"HYPERLINK(\"http://www.openstreetmap.org/?mlat=35.5704&mlon=45.4424&zoom=12#map=12/35.5704/45.4424\",\"Maplink1\")","v":"Maplink1"},{"$f":"HYPERLINK(\"https://www.google.iq/maps/search/+35.5704,45.4424/@35.5704,45.4424,14z?hl=en\",\"Maplink2\")","v":"Maplink2"},{"$f":"HYPERLINK(\"http://www.bing.com/maps/?lvl=14&sty=h&cp=35.5704~45.4424&sp=point.35.5704_45.4424\",\"Maplink3\")","v":"Maplink3"}]
[32011,"Al-Sulaymaniyah","Al-Sulaymaniyah","Sarchnar","Raparine-Soran","رابرين-سوران",35.5738889,45.336193,60,360,0,12,0,0,0,30,330,0,0,0,0,0,0,0,0,54,0,192,0,0,24,0,0,0,0,0,0,12,0,78,0,0,0,18,60,36,18,42,0,36,42,0,60,48,0,{"$f":"HYPERLINK(\"http://www.openstreetmap.org/?mlat=35.5739&mlon=45.3362&zoom=12#map=12/35.5739/45.3362\",\"Maplink1\")","v":"Maplink1"},{"$f":"HYPERLINK(\"https://www.google.iq/maps/search/+35.5739,45.3362/@35.5739,45.3362,14z?hl=en\",\"Maplink2\")","v":"Maplink2"},{"$f":"HYPERLINK(\"http://www.bing.com/maps/?lvl=14&sty=h&cp=35.5739~45.3362&sp=point.35.5739_45.3362\",\"Maplink3\")","v":"Maplink3"}]
[32002,"Al-Sulaymaniyah","Al-Sulaymaniyah","Sarchnar","Chnarok ","جناروك",35.5981074,45.4019184,86,516,0,6,0,0,0,0,516,0,0,0,0,0,0,0,0,252,12,138,0,0,6,0,0,12,0,0,0,18,0,78,0,0,0,48,72,48,30,90,36,6,48,24,12,102,0,{"$f":"HYPERLINK(\"http://www.openstreetmap.org/?mlat=35.5981&mlon=45.4019&zoom=12#map=12/35.5981/45.4019\",\"Maplink1\")","v":"Maplink1"},{"$f":"HYPERLINK(\"https://www.google.iq/maps/search/+35.5981,45.4019/@35.5981,45.4019,14z?hl=en\",\"Maplink2\")","v":"Maplink2"},{"$f":"HYPERLINK(\"http://www.bing.com/maps/?lvl=14&sty=h&cp=35.5981~45.4019&sp=point.35.5981_45.4019\",\"Maplink3\")","v":"Maplink3"}]
[25570,"Al-Sulaymaniyah","Al-Sulaymaniyah","Sarchnar","Khak","خاك",35.5840814,45.3160706,131,786,0,12,0,0,0,18,768,0,0,0,0,0,0,0,0,60,36,174,0,0,150,0,0,54,0,0,0,96,0,216,0,0,0,18,66,90,96,96,60,72,90,60,90,48,0,{"$f":"HYPERLINK(\"http://www.openstreetmap.org/?mlat=35.5841&mlon=45.3161&zoom=12#map=12/35.5841/45.3161\",\"Maplink1\")","v":"Maplink1"},{"$f":"HYPERLINK(\"https://www.google.iq/maps/search/+35.5841,45.3161/@35.5841,45.3161,14z?hl=en\",\"Maplink2\")","v":"Maplink2"},{"$f":"HYPERLINK(\"http://www.bing.com/maps/?lvl=14&sty=h&cp=35.5841~45.3161&sp=point.35.5841_45.3161\",\"Maplink3\")","v":"Maplink3"}]
[31982,"Al-Sulaymaniyah","Al-Sulaymaniyah","Sarchnar","Handren 109","هندرين 109",35.5671630255,45.4025117504,57,342,0,0,0,0,0,0,342,0,0,0,0,0,0,0,0,90,12,204,0,0,12,0,0,0,0,0,0,12,0,12,0,0,0,12,72,18,48,42,48,30,30,0,12,30,0,{"$f":"HYPERLINK(\"http://www.openstreetmap.org/?mlat=35.5672&mlon=45.4025&zoom=12#map=12/35.5672/45.4025\",\"Maplink1\")","v":"Maplink1"},{"$f":"HYPERLINK(\"https://www.google.iq/maps/search/+35.5672,45.4025/@35.5672,45.4025,14z?hl=en\",\"Maplink2\")","v":"Maplink2"},{"$f":"HYPERLINK(\"http://www.bing.com/maps/?lvl=14&sty=h&cp=35.5672~45.4025&sp=point.35.5672_45.4025\",\"Maplink3\")","v":"Maplink3"}]
[24260,"Al-Sulaymaniyah","Al-Sulaymaniyah","Sarchnar","Kurd city","كورد ستى",35.5380213,45.4133973,269,{"v":1614,"d":"1,614"},0,0,0,0,0,180,{"v":1434,"d":"1,434"},0,0,0,0,0,0,0,0,330,6,924,0,0,126,0,0,0,0,0,0,78,0,150,0,0,0,0,36,24,174,258,342,318,240,72,84,66,0,{"$f":"HYPERLINK(\"http://www.openstreetmap.org/?mlat=35.538&mlon=45.4134&zoom=12#map=12/35.538/45.4134\",\"Maplink1\")","v":"Maplink1"},{"$f":"HYPERLINK(\"https://www.google.iq/maps/search/+35.538,45.4134/@35.538,45.4134,14z?hl=en\",\"Maplink2\")","v":"Maplink2"},{"$f":"HYPERLINK(\"http://www.bing.com/maps/?lvl=14&sty=h&cp=35.538~45.4134&sp=point.35.538_45.4134\",\"Maplink3\")","v":"Maplink3"}]
[21719,"Al-Sulaymaniyah","Chamchamal","Agjalare","Shahidan","شهيدان",35.7458356,44.8993451,13,78,0,0,0,0,0,0,78,0,0,0,0,0,0,0,0,6,0,12,0,0,0,0,0,0,0,0,0,48,0,12,0,0,0,0,18,48,6,6,0,0,0,0,0,0,0,{"$f":"HYPERLINK(\"http://www.openstreetmap.org/?mlat=35.7458&mlon=44.8993&zoom=12#map=12/35.7458/44.8993\",\"Maplink1\")","v":"Maplink1"},{"$f":"HYPERLINK(\"https://www.google.iq/maps/search/+35.7458,44.8993/@35.7458,44.8993,14z?hl=en\",\"Maplink2\")","v":"Maplink2"},{"$f":"HYPERLINK(\"http://www.bing.com/maps/?lvl=14&sty=h&cp=35.7458~44.8993&sp=point.35.7458_44.8993\",\"Maplink3\")","v":"Maplink3"}]
[4902,"Al-Sulaymaniyah","Chamchamal","Agjalare","Mayla","مايلة",35.8024747,44.9081966,10,60,0,0,0,0,0,0,60,0,0,0,0,0,0,0,0,12,0,12,0,0,0,0,0,6,0,0,0,18,0,12,0,0,0,0,30,0,12,0,6,0,12,0,0,0,0,{"$f":"HYPERLINK(\"http://www.openstreetmap.org/?mlat=35.8025&mlon=44.9082&zoom=12#map=12/35.8025/44.9082\",\"Maplink1\")","v":"Maplink1"},{"$f":"HYPERLINK(\"https://www.google.iq/maps/search/+35.8025,44.9082/@35.8025,44.9082,14z?hl=en\",\"Maplink2\")","v":"Maplink2"},{"$f":"HYPERLINK(\"http://www.bing.com/maps/?lvl=14&sty=h&cp=35.8025~44.9082&sp=point.35.8025_44.9082\",\"Maplink3\")","v":"Maplink3"}]
[3415,"Al-Sulaymaniyah","Chamchamal","Cenkaw","Kirpchina","كيربجينا",35.2824205,45.2768729,4,24,0,0,0,0,0,0,24,0,0,0,0,0,0,0,0,0,0,0,0,0,6,0,0,0,0,0,0,12,0,6,0,0,0,0,0,12,0,0,6,6,0,0,0,0,0,{"$f":"HYPERLINK(\"http://www.openstreetmap.org/?mlat=35.2824&mlon=45.2769&zoom=12#map=12/35.2824/45.2769\",\"Maplink1\")","v":"Maplink1"},{"$f":"HYPERLINK(\"https://www.google.iq/maps/search/+35.2824,45.2769/@35.2824,45.2769,14z?hl=en\",\"Maplink2\")","v":"Maplink2"},{"$f":"HYPERLINK(\"http://www.bing.com/maps/?lvl=14&sty=h&cp=35.2824~45.2769&sp=point.35.2824_45.2769\",\"Maplink3\")","v":"Maplink3"}]
[31933,"Al-Sulaymaniyah","Chamchamal","Cenkaw","Sangawi kon","سنكاوي كون",35.2853785,45.1744684,15,90,0,0,0,0,0,0,90,0,0,0,0,0,0,0,0,6,6,0,0,0,48,0,0,0,0,0,0,6,0,24,0,0,0,0,6,18,24,12,6,0,12,0,0,12,0,{"$f":"HYPERLINK(\"http://www.openstreetmap.org/?mlat=35.2854&mlon=45.1745&zoom=12#map=12/35.2854/45.1745\",\"Maplink1\")","v":"Maplink1"},{"$f":"HYPERLINK(\"https://www.google.iq/maps/search/+35.2854,45.1745/@35.2854,45.1745,14z?hl=en\",\"Maplink2\")","v":"Maplink2"},{"$f":"HYPERLINK(\"http://www.bing.com/maps/?lvl=14&sty=h&cp=35.2854~45.1745&sp=point.35.2854_45.1745\",\"Maplink3\")","v":"Maplink3"}]
[3416,"Al-Sulaymaniyah","Chamchamal","Cenkaw","Kichan","كيجان",35.2393069,45.2453056,6,36,0,6,0,0,0,0,36,0,0,0,0,0,0,0,0,0,0,0,0,0,24,0,0,0,0,0,0,12,0,0,0,0,0,0,12,0,12,0,12,0,0,0,0,0,0,{"$f":"HYPERLINK(\"http://www.openstreetmap.org/?mlat=35.2393&mlon=45.2453&zoom=12#map=12/35.2393/45.2453\",\"Maplink1\")","v":"Maplink1"},{"$f":"HYPERLINK(\"https://www.google.iq/maps/search/+35.2393,45.2453/@35.2393,45.2453,14z?hl=en\",\"Maplink2\")","v":"Maplink2"},{"$f":"HYPERLINK(\"http://www.bing.com/maps/?lvl=14&sty=h&cp=35.2393~45.2453&sp=point.35.2393_45.2453\",\"Maplink3\")","v":"Maplink3"}]
[22080,"Al-Sulaymaniyah","Chamchamal","Markaz Chamchamal","Bekas","بيكس",35.5387463007,44.831091184900004,54,324,0,0,0,0,0,0,324,0,0,0,0,0,0,0,0,102,36,36,0,0,48,0,0,48,0,0,0,6,0,48,0,0,0,18,42,0,48,30,54,36,96,0,0,0,0,{"$f":"HYPERLINK(\"http://www.openstreetmap.org/?mlat=35.5387&mlon=44.8311&zoom=12#map=12/35.5387/44.8311\",\"Maplink1\")","v":"Maplink1"},{"$f":"HYPERLINK(\"https://www.google.iq/maps/search/+35.5387,44.8311/@35.5387,44.8311,14z?hl=en\",\"Maplink2\")","v":"Maplink2"},{"$f":"HYPERLINK(\"http://www.bing.com/maps/?lvl=14&sty=h&cp=35.5387~44.8311&sp=point.35.5387_44.8311\",\"Maplink3\")","v":"Maplink3"}]
[21717,"Al-Sulaymaniyah","Chamchamal","Markaz Chamchamal","Qadir Kir Mikan","قادركرميكان",35.5037911,44.8521651,58,348,0,12,0,0,0,0,348,0,0,0,0,0,0,0,0,96,18,60,0,0,12,0,0,36,0,0,0,30,0,96,0,0,0,24,66,0,72,0,12,0,96,24,24,30,0,{"$f":"HYPERLINK(\"http://www.openstreetmap.org/?mlat=35.5038&mlon=44.8522&zoom=12#map=12/35.5038/44.8522\",\"Maplink1\")","v":"Maplink1"},{"$f":"HYPERLINK(\"https://www.google.iq/maps/search/+35.5038,44.8522/@35.5038,44.8522,14z?hl=en\",\"Maplink2\")","v":"Maplink2"},{"$f":"HYPERLINK(\"http://www.bing.com/maps/?lvl=14&sty=h&cp=35.5038~44.8522&sp=point.35.5038_44.8522\",\"Maplink3\")","v":"Maplink3"}]
[24216,"Al-Sulaymaniyah","Chamchamal","Markaz Chamchamal","Jarmo City","جرمو ستى",35.5207525,44.834213,59,354,0,6,0,0,0,6,348,0,0,0,0,0,0,0,0,90,6,66,0,0,0,0,0,30,0,0,0,48,0,114,0,0,0,12,60,48,60,30,12,0,78,12,30,12,0,{"$f":"HYPERLINK(\"http://www.openstreetmap.org/?mlat=35.5208&mlon=44.8342&zoom=12#map=12/35.5208/44.8342\",\"Maplink1\")","v":"Maplink1"},{"$f":"HYPERLINK(\"https://www.google.iq/maps/search/+35.5208,44.8342/@35.5208,44.8342,14z?hl=en\",\"Maplink2\")","v":"Maplink2"},{"$f":"HYPERLINK(\"http://www.bing.com/maps/?lvl=14&sty=h&cp=35.5208~44.8342&sp=point.35.5208_44.8342\",\"Maplink3\")","v":"Maplink3"}]
[20815,"Al-Sulaymaniyah","Chamchamal","Markaz Chamchamal","MOFARIAKAN","موفريكان",35.5059122,44.8286487,14,84,0,12,0,0,0,0,84,0,0,0,0,0,0,0,0,54,0,30,0,0,0,0,0,0,0,0,0,0,0,0,0,0,0,12,18,0,12,0,6,0,12,6,12,6,0,{"$f":"HYPERLINK(\"http://www.openstreetmap.org/?mlat=35.5059&mlon=44.8286&zoom=12#map=12/35.5059/44.8286\",\"Maplink1\")","v":"Maplink1"},{"$f":"HYPERLINK(\"https://www.google.iq/maps/search/+35.5059,44.8286/@35.5059,44.8286,14z?hl=en\",\"Maplink2\")","v":"Maplink2"},{"$f":"HYPERLINK(\"http://www.bing.com/maps/?lvl=14&sty=h&cp=35.5059~44.8286&sp=point.35.5059_44.8286\",\"Maplink3\")","v":"Maplink3"}]
[24894,"Al-Sulaymaniyah","Chamchamal","Markaz Chamchamal","Chamchamal-Raparin","جمجمال-رابرين",35.5235643283,44.8227401816,144,864,0,0,0,0,0,0,864,0,0,0,0,0,0,0,0,90,246,114,0,0,102,0,0,48,0,0,0,0,0,264,0,0,0,60,204,180,192,18,18,12,168,12,0,0,0,{"$f":"HYPERLINK(\"http://www.openstreetmap.org/?mlat=35.5236&mlon=44.8227&zoom=12#map=12/35.5236/44.8227\",\"Maplink1\")","v":"Maplink1"},{"$f":"HYPERLINK(\"https://www.google.iq/maps/search/+35.5236,44.8227/@35.5236,44.8227,14z?hl=en\",\"Maplink2\")","v":"Maplink2"},{"$f":"HYPERLINK(\"http://www.bing.com/maps/?lvl=14&sty=h&cp=35.5236~44.8227&sp=point.35.5236_44.8227\",\"Maplink3\")","v":"Maplink3"}]
[24251,"Al-Sulaymaniyah","Derbendikhan","Markaz Derbendikhan","Kanito","كانى توو",35.1125479797,45.6895516704,104,624,0,0,0,0,0,0,624,0,0,0,0,0,0,0,0,36,0,36,0,0,420,0,0,0,0,0,0,0,0,132,0,0,0,12,156,78,222,66,90,0,0,0,0,0,0,{"$f":"HYPERLINK(\"http://www.openstreetmap.org/?mlat=35.1125&mlon=45.6896&zoom=12#map=12/35.1125/45.6896\",\"Maplink1\")","v":"Maplink1"},{"$f":"HYPERLINK(\"https://www.google.iq/maps/search/+35.1125,45.6896/@35.1125,45.6896,14z?hl=en\",\"Maplink2\")","v":"Maplink2"},{"$f":"HYPERLINK(\"http://www.bing.com/maps/?lvl=14&sty=h&cp=35.1125~45.6896&sp=point.35.1125_45.6896\",\"Maplink3\")","v":"Maplink3"}]
[25080,"Al-Sulaymaniyah","Derbendikhan","Markaz Derbendikhan","Sharstani","شارستانى",35.3276531,45.6919109,22,132,0,12,0,0,0,0,132,0,0,0,0,0,0,0,0,12,6,24,0,0,60,0,0,0,0,0,0,0,0,30,0,0,0,0,36,24,42,0,12,0,0,6,0,12,0,{"$f":"HYPERLINK(\"http://www.openstreetmap.org/?mlat=35.3277&mlon=45.6919&zoom=12#map=12/35.3277/45.6919\",\"Maplink1\")","v":"Maplink1"},{"$f":"HYPERLINK(\"https://www.google.iq/maps/search/+35.3277,45.6919/@35.3277,45.6919,14z?hl=en\",\"Maplink2\")","v":"Maplink2"},{"$f":"HYPERLINK(\"http://www.bing.com/maps/?lvl=14&sty=h&cp=35.3277~45.6919&sp=point.35.3277_45.6919\",\"Maplink3\")","v":"Maplink3"}]
[29693,"Al-Sulaymaniyah","Derbendikhan","Markaz Derbendikhan","Kani mil","كاني ميل",35.3050872,45.6779334,50,300,0,18,0,0,0,0,300,0,0,0,0,0,0,0,0,42,12,108,0,0,90,0,0,0,0,0,0,0,0,48,0,0,0,0,48,18,36,72,24,30,6,48,0,18,0,{"$f":"HYPERLINK(\"http://www.openstreetmap.org/?mlat=35.3051&mlon=45.6779&zoom=12#map=12/35.3051/45.6779\",\"Maplink1\")","v":"Maplink1"},{"$f":"HYPERLINK(\"https://www.google.iq/maps/search/+35.3051,45.6779/@35.3051,45.6779,14z?hl=en\",\"Maplink2\")","v":"Maplink2"},{"$f":"HYPERLINK(\"http://www.bing.com/maps/?lvl=14&sty=h&cp=35.3051~45.6779&sp=point.35.3051_45.6779\",\"Maplink3\")","v":"Maplink3"}]
[5093,"Al-Sulaymaniyah","Derbendikhan","Markaz Derbendikhan","Zarayan Kon","زرايان كون",35.3027427,45.6835041,26,156,0,0,0,0,0,0,156,0,0,0,0,0,0,0,0,72,0,42,0,0,36,0,0,0,0,0,0,0,0,6,0,0,0,0,36,30,36,18,24,0,6,0,6,0,0,{"$f":"HYPERLINK(\"http://www.openstreetmap.org/?mlat=35.3027&mlon=45.6835&zoom=12#map=12/35.3027/45.6835\",\"Maplink1\")","v":"Maplink1"},{"$f":"HYPERLINK(\"https://www.google.iq/maps/search/+35.3027,45.6835/@35.3027,45.6835,14z?hl=en\",\"Maplink2\")","v":"Maplink2"},{"$f":"HYPERLINK(\"http://www.bing.com/maps/?lvl=14&sty=h&cp=35.3027~45.6835&sp=point.35.3027_45.6835\",\"Maplink3\")","v":"Maplink3"}]
[29705,"Al-Sulaymaniyah","Derbendikhan","Markaz Derbendikhan","Roshambiran","روشمبيران",35.3162687,45.6769582,16,96,0,0,0,0,0,0,96,0,0,0,0,0,0,0,0,48,0,18,0,0,12,0,0,0,0,0,0,0,0,18,0,0,0,0,30,0,54,12,0,0,0,0,0,0,0,{"$f":"HYPERLINK(\"http://www.openstreetmap.org/?mlat=35.3163&mlon=45.677&zoom=12#map=12/35.3163/45.677\",\"Maplink1\")","v":"Maplink1"},{"$f":"HYPERLINK(\"https://www.google.iq/maps/search/+35.3163,45.677/@35.3163,45.677,14z?hl=en\",\"Maplink2\")","v":"Maplink2"},{"$f":"HYPERLINK(\"http://www.bing.com/maps/?lvl=14&sty=h&cp=35.3163~45.677&sp=point.35.3163_45.677\",\"Maplink3\")","v":"Maplink3"}]
[33349,"Al-Sulaymaniyah","Derbendikhan","Markaz Derbendikhan","Ronaki Shar","روناكي شار",35.3112866,45.6940133,30,180,0,0,0,0,0,0,180,0,0,0,0,0,0,0,0,78,6,24,0,0,54,0,0,0,0,0,0,0,0,18,0,0,0,0,24,18,60,30,18,30,0,0,0,0,0,{"$f":"HYPERLINK(\"http://www.openstreetmap.org/?mlat=35.3113&mlon=45.694&zoom=12#map=12/35.3113/45.694\",\"Maplink1\")","v":"Maplink1"},{"$f":"HYPERLINK(\"https://www.google.iq/maps/search/+35.3113,45.694/@35.3113,45.694,14z?hl=en\",\"Maplink2\")","v":"Maplink2"},{"$f":"HYPERLINK(\"http://www.bing.com/maps/?lvl=14&sty=h&cp=35.3113~45.694&sp=point.35.3113_45.694\",\"Maplink3\")","v":"Maplink3"}]
[23923,"Al-Sulaymaniyah","Dokan","Gnareen","Sarcham","سرجم",35.9272149,44.9626967,32,192,0,0,0,0,0,0,192,0,0,0,0,0,0,0,0,84,12,36,0,0,60,0,0,0,0,0,0,0,0,0,0,0,0,42,24,6,36,18,0,0,0,0,12,54,0,{"$f":"HYPERLINK(\"http://www.openstreetmap.org/?mlat=35.9272&mlon=44.9627&zoom=12#map=12/35.9272/44.9627\",\"Maplink1\")","v":"Maplink1"},{"$f":"HYPERLINK(\"https://www.google.iq/maps/search/+35.9272,44.9627/@35.9272,44.9627,14z?hl=en\",\"Maplink2\")","v":"Maplink2"},{"$f":"HYPERLINK(\"http://www.bing.com/maps/?lvl=14&sty=h&cp=35.9272~44.9627&sp=point.35.9272_44.9627\",\"Maplink3\")","v":"Maplink3"}]
[6157,"Al-Sulaymaniyah","Dokan","Gnareen","Grda baroo","كردة بةروو",36.0091556,44.852224,10,60,0,0,0,0,0,0,60,0,0,0,0,0,0,0,0,0,0,0,0,0,0,0,0,0,0,0,0,60,0,0,0,0,0,0,0,42,0,18,0,0,0,0,0,0,0,{"$f":"HYPERLINK(\"http://www.openstreetmap.org/?mlat=36.0092&mlon=44.8522&zoom=12#map=12/36.0092/44.8522\",\"Maplink1\")","v":"Maplink1"},{"$f":"HYPERLINK(\"https://www.google.iq/maps/search/+36.0092,44.8522/@36.0092,44.8522,14z?hl=en\",\"Maplink2\")","v":"Maplink2"},{"$f":"HYPERLINK(\"http://www.bing.com/maps/?lvl=14&sty=h&cp=36.0092~44.8522&sp=point.36.0092_44.8522\",\"Maplink3\")","v":"Maplink3"}]
[23333,"Al-Sulaymaniyah","Dokan","Sourdash","Pishowa","بيشوا",35.7372811222,45.1412702601,93,558,0,12,0,0,0,30,528,0,0,0,0,0,0,0,0,24,186,144,0,0,72,0,0,12,0,0,0,30,0,90,0,0,0,72,180,30,150,0,42,0,48,0,18,18,0,{"$f":"HYPERLINK(\"http://www.openstreetmap.org/?mlat=35.7373&mlon=45.1413&zoom=12#map=12/35.7373/45.1413\",\"Maplink1\")","v":"Maplink1"},{"$f":"HYPERLINK(\"https://www.google.iq/maps/search/+35.7373,45.1413/@35.7373,45.1413,14z?hl=en\",\"Maplink2\")","v":"Maplink2"},{"$f":"HYPERLINK(\"http://www.bing.com/maps/?lvl=14&sty=h&cp=35.7373~45.1413&sp=point.35.7373_45.1413\",\"Maplink3\")","v":"Maplink3"}]
[3595,"Al-Sulaymaniyah","Dokan","Sourdash","Taramar","تةرةمار",35.680843609,45.1352356369,14,84,0,0,0,0,0,0,84,0,0,0,0,0,0,0,0,0,12,0,0,0,0,0,0,0,0,0,0,60,0,12,0,0,0,0,24,54,0,0,0,0,0,0,0,6,0,{"$f":"HYPERLINK(\"http://www.openstreetmap.org/?mlat=35.6808&mlon=45.1352&zoom=12#map=12/35.6808/45.1352\",\"Maplink1\")","v":"Maplink1"},{"$f":"HYPERLINK(\"https://www.google.iq/maps/search/+35.6808,45.1352/@35.6808,45.1352,14z?hl=en\",\"Maplink2\")","v":"Maplink2"},{"$f":"HYPERLINK(\"http://www.bing.com/maps/?lvl=14&sty=h&cp=35.6808~45.1352&sp=point.35.6808_45.1352\",\"Maplink3\")","v":"Maplink3"}]
[3593,"Al-Sulaymaniyah","Dokan","Sourdash","Timar","تيمار",35.8575543,45.0771735,10,60,0,0,0,0,0,0,60,0,0,0,0,0,0,0,0,0,18,0,0,0,6,0,0,0,0,0,0,18,0,18,0,0,0,0,30,12,0,0,0,6,6,6,0,0,0,{"$f":"HYPERLINK(\"http://www.openstreetmap.org/?mlat=35.8576&mlon=45.0772&zoom=12#map=12/35.8576/45.0772\",\"Maplink1\")","v":"Maplink1"},{"$f":"HYPERLINK(\"https://www.google.iq/maps/search/+35.8576,45.0772/@35.8576,45.0772,14z?hl=en\",\"Maplink2\")","v":"Maplink2"},{"$f":"HYPERLINK(\"http://www.bing.com/maps/?lvl=14&sty=h&cp=35.8576~45.0772&sp=point.35.8576_45.0772\",\"Maplink3\")","v":"Maplink3"}]
[6306,"Al-Sulaymaniyah","Dokan","Sourdash","Sharawany","شاروانى",35.7318221421,45.146081915,61,366,0,12,0,0,0,12,354,0,0,0,0,0,0,0,0,24,174,84,0,0,36,0,0,0,0,0,0,30,0,18,0,0,0,48,162,36,96,0,0,0,6,6,0,12,0,{"$f":"HYPERLINK(\"http://www.openstreetmap.org/?mlat=35.7318&mlon=45.1461&zoom=12#map=12/35.7318/45.1461\",\"Maplink1\")","v":"Maplink1"},{"$f":"HYPERLINK(\"https://www.google.iq/maps/search/+35.7318,45.1461/@35.7318,45.1461,14z?hl=en\",\"Maplink2\")","v":"Maplink2"},{"$f":"HYPERLINK(\"http://www.bing.com/maps/?lvl=14&sty=h&cp=35.7318~45.1461&sp=point.35.7318_45.1461\",\"Maplink3\")","v":"Maplink3"}]
[24639,"Al-Sulaymaniyah","Halabcha","Khourmal","Dalani","دالاني",35.2965545,46.0368652,12,72,0,0,0,0,0,0,72,0,0,0,0,0,0,0,0,12,12,6,0,0,30,0,0,0,0,0,0,12,0,0,0,0,0,30,18,0,6,0,6,0,0,6,6,0,0,{"$f":"HYPERLINK(\"http://www.openstreetmap.org/?mlat=35.2966&mlon=46.0369&zoom=12#map=12/35.2966/46.0369\",\"Maplink1\")","v":"Maplink1"},{"$f":"HYPERLINK(\"https://www.google.iq/maps/search/+35.2966,46.0369/@35.2966,46.0369,14z?hl=en\",\"Maplink2\")","v":"Maplink2"},{"$f":"HYPERLINK(\"http://www.bing.com/maps/?lvl=14&sty=h&cp=35.2966~46.0369&sp=point.35.2966_46.0369\",\"Maplink3\")","v":"Maplink3"}]
[4974,"Al-Sulaymaniyah","Halabcha","Khourmal","Gundi reshen","كوندي ريشين",35.3587196,45.9702663,7,42,0,6,0,0,0,0,42,0,0,0,0,0,0,0,0,0,0,0,0,0,42,0,0,0,0,0,0,0,0,0,0,0,0,6,0,0,6,6,0,0,6,6,6,6,0,{"$f":"HYPERLINK(\"http://www.openstreetmap.org/?mlat=35.3587&mlon=45.9703&zoom=12#map=12/35.3587/45.9703\",\"Maplink1\")","v":"Maplink1"},{"$f":"HYPERLINK(\"https://www.google.iq/maps/search/+35.3587,45.9703/@35.3587,45.9703,14z?hl=en\",\"Maplink2\")","v":"Maplink2"},{"$f":"HYPERLINK(\"http://www.bing.com/maps/?lvl=14&sty=h&cp=35.3587~45.9703&sp=point.35.3587_45.9703\",\"Maplink3\")","v":"Maplink3"}]
[22031,"Al-Sulaymaniyah","Halabcha","Markaz Halabja","Kani Qulka","كاني قولكه",35.1867169,45.9896361,20,120,24,0,0,0,0,0,120,0,0,0,0,0,0,0,0,48,6,18,0,0,12,0,0,0,0,0,0,18,0,18,0,0,0,12,6,0,18,12,30,0,0,0,0,18,24,{"$f":"HYPERLINK(\"http://www.openstreetmap.org/?mlat=35.1867&mlon=45.9896&zoom=12#map=12/35.1867/45.9896\",\"Maplink1\")","v":"Maplink1"},{"$f":"HYPERLINK(\"https://www.google.iq/maps/search/+35.1867,45.9896/@35.1867,45.9896,14z?hl=en\",\"Maplink2\")","v":"Maplink2"},{"$f":"HYPERLINK(\"http://www.bing.com/maps/?lvl=14&sty=h&cp=35.1867~45.9896&sp=point.35.1867_45.9896\",\"Maplink3\")","v":"Maplink3"}]
[22994,"Al-Sulaymaniyah","Halabcha","Markaz Halabja","Sarray","ساراى",35.174385,45.9897492,29,174,0,0,0,0,0,0,174,0,0,0,0,0,0,0,0,30,6,42,0,0,18,0,0,0,0,0,0,12,0,66,0,0,0,24,18,0,6,24,30,18,0,0,54,0,0,{"$f":"HYPERLINK(\"http://www.openstreetmap.org/?mlat=35.1744&mlon=45.9897&zoom=12#map=12/35.1744/45.9897\",\"Maplink1\")","v":"Maplink1"},{"$f":"HYPERLINK(\"https://www.google.iq/maps/search/+35.1744,45.9897/@35.1744,45.9897,14z?hl=en\",\"Maplink2\")","v":"Maplink2"},{"$f":"HYPERLINK(\"http://www.bing.com/maps/?lvl=14&sty=h&cp=35.1744~45.9897&sp=point.35.1744_45.9897\",\"Maplink3\")","v":"Maplink3"}]
[31862,"Al-Sulaymaniyah","Halabcha","Markaz Halabja","Raparine","رابرين",35.2568791,45.9355807,40,240,0,0,0,0,0,6,234,0,0,0,0,0,0,0,0,0,6,54,0,0,138,0,0,6,0,0,0,0,0,36,0,0,0,0,0,0,60,6,42,6,48,18,54,6,0,{"$f":"HYPERLINK(\"http://www.openstreetmap.org/?mlat=35.2569&mlon=45.9356&zoom=12#map=12/35.2569/45.9356\",\"Maplink1\")","v":"Maplink1"},{"$f":"HYPERLINK(\"https://www.google.iq/maps/search/+35.2569,45.9356/@35.2569,45.9356,14z?hl=en\",\"Maplink2\")","v":"Maplink2"},{"$f":"HYPERLINK(\"http://www.bing.com/maps/?lvl=14&sty=h&cp=35.2569~45.9356&sp=point.35.2569_45.9356\",\"Maplink3\")","v":"Maplink3"}]
[21960,"Al-Sulaymaniyah","Halabcha","Markaz Halabja","Farmanbaran","فرمانبران",35.1856034,45.9806675,28,168,0,0,0,0,0,0,168,0,0,0,0,0,0,0,0,108,0,0,0,0,30,0,0,0,0,0,0,6,0,24,0,0,0,24,6,0,12,0,54,0,0,0,12,60,0,{"$f":"HYPERLINK(\"http://www.openstreetmap.org/?mlat=35.1856&mlon=45.9807&zoom=12#map=12/35.1856/45.9807\",\"Maplink1\")","v":"Maplink1"},{"$f":"HYPERLINK(\"https://www.google.iq/maps/search/+35.1856,45.9807/@35.1856,45.9807,14z?hl=en\",\"Maplink2\")","v":"Maplink2"},{"$f":"HYPERLINK(\"http://www.bing.com/maps/?lvl=14&sty=h&cp=35.1856~45.9807&sp=point.35.1856_45.9807\",\"Maplink3\")","v":"Maplink3"}]
[25648,"Al-Sulaymaniyah","Halabcha","Shahrazur","Qlija village","قرية قليجه",35.370575,45.7117998,13,78,0,6,0,0,0,0,78,0,0,0,0,0,0,0,0,18,30,0,0,0,18,0,0,0,0,0,0,0,0,12,0,0,0,0,42,0,6,0,6,0,12,6,0,6,0,{"$f":"HYPERLINK(\"http://www.openstreetmap.org/?mlat=35.3706&mlon=45.7118&zoom=12#map=12/35.3706/45.7118\",\"Maplink1\")","v":"Maplink1"},{"$f":"HYPERLINK(\"https://www.google.iq/maps/search/+35.3706,45.7118/@35.3706,45.7118,14z?hl=en\",\"Maplink2\")","v":"Maplink2"},{"$f":"HYPERLINK(\"http://www.bing.com/maps/?lvl=14&sty=h&cp=35.3706~45.7118&sp=point.35.3706_45.7118\",\"Maplink3\")","v":"Maplink3"}]
[24096,"Al-Sulaymaniyah","Halabcha","Shahrazur","Barkew","بركيو",35.3549425,45.8689987,60,360,0,0,0,0,0,0,360,0,0,0,0,0,0,0,0,30,54,72,0,0,84,0,0,12,0,0,0,72,0,36,0,0,0,30,60,108,24,18,42,18,42,6,0,12,0,{"$f":"HYPERLINK(\"http://www.openstreetmap.org/?mlat=35.3549&mlon=45.869&zoom=12#map=12/35.3549/45.869\",\"Maplink1\")","v":"Maplink1"},{"$f":"HYPERLINK(\"https://www.google.iq/maps/search/+35.3549,45.869/@35.3549,45.869,14z?hl=en\",\"Maplink2\")","v":"Maplink2"},{"$f":"HYPERLINK(\"http://www.bing.com/maps/?lvl=14&sty=h&cp=35.3549~45.869&sp=point.35.3549_45.869\",\"Maplink3\")","v":"Maplink3"}]
[31932,"Al-Sulaymaniyah","Kalar","Markaz Kalar","Azadi","ازادي",34.657823604,45.2365220461,42,252,0,0,0,0,0,0,252,0,0,0,0,0,0,0,0,12,36,18,0,0,144,0,0,0,0,0,0,0,0,42,0,0,0,0,114,12,48,12,6,12,42,0,0,6,0,{"$f":"HYPERLINK(\"http://www.openstreetmap.org/?mlat=34.6578&mlon=45.2365&zoom=12#map=12/34.6578/45.2365\",\"Maplink1\")","v":"Maplink1"},{"$f":"HYPERLINK(\"https://www.google.iq/maps/search/+34.6578,45.2365/@34.6578,45.2365,14z?hl=en\",\"Maplink2\")","v":"Maplink2"},{"$f":"HYPERLINK(\"http://www.bing.com/maps/?lvl=14&sty=h&cp=34.6578~45.2365&sp=point.34.6578_45.2365\",\"Maplink3\")","v":"Maplink3"}]
[6286,"Al-Sulaymaniyah","Kalar","Markaz Kalar","Kalar Kon","كلار كون",34.6379547604,45.3051016194,167,{"v":1002,"d":"1,002"},0,6,0,0,0,0,{"v":1002,"d":"1,002"},0,0,0,0,0,0,0,0,18,0,36,0,0,570,0,0,0,0,0,0,0,0,378,0,0,0,0,72,48,144,102,42,144,450,0,0,0,0,{"$f":"HYPERLINK(\"http://www.openstreetmap.org/?mlat=34.638&mlon=45.3051&zoom=12#map=12/34.638/45.3051\",\"Maplink1\")","v":"Maplink1"},{"$f":"HYPERLINK(\"https://www.google.iq/maps/search/+34.638,45.3051/@34.638,45.3051,14z?hl=en\",\"Maplink2\")","v":"Maplink2"},{"$f":"HYPERLINK(\"http://www.bing.com/maps/?lvl=14&sty=h&cp=34.638~45.3051&sp=point.34.638_45.3051\",\"Maplink3\")","v":"Maplink3"}]
[32018,"Al-Sulaymaniyah","Kalar","Markaz Kalar","Nawrooz","نوروز",34.6378579372,45.3500633128,9,54,0,0,0,0,0,0,54,0,0,0,0,0,0,0,0,0,0,12,0,0,42,0,0,0,0,0,0,0,0,0,0,0,0,0,0,24,12,0,0,12,0,0,6,0,0,{"$f":"HYPERLINK(\"http://www.openstreetmap.org/?mlat=34.6379&mlon=45.3501&zoom=12#map=12/34.6379/45.3501\",\"Maplink1\")","v":"Maplink1"},{"$f":"HYPERLINK(\"https://www.google.iq/maps/search/+34.6379,45.3501/@34.6379,45.3501,14z?hl=en\",\"Maplink2\")","v":"Maplink2"},{"$f":"HYPERLINK(\"http://www.bing.com/maps/?lvl=14&sty=h&cp=34.6379~45.3501&sp=point.34.6379_45.3501\",\"Maplink3\")","v":"Maplink3"}]
[31928,"Al-Sulaymaniyah","Kalar","Markaz Kalar","Nawrooz","نوروز",34.6582542513,45.25208639,75,450,0,0,0,0,0,0,450,0,0,0,0,0,0,0,0,30,36,0,0,0,132,0,0,0,0,0,0,0,0,252,0,0,0,36,36,12,60,54,0,12,234,6,0,0,0,{"$f":"HYPERLINK(\"http://www.openstreetmap.org/?mlat=34.6583&mlon=45.2521&zoom=12#map=12/34.6583/45.2521\",\"Maplink1\")","v":"Maplink1"},{"$f":"HYPERLINK(\"https://www.google.iq/maps/search/+34.6583,45.2521/@34.6583,45.2521,14z?hl=en\",\"Maplink2\")","v":"Maplink2"},{"$f":"HYPERLINK(\"http://www.bing.com/maps/?lvl=14&sty=h&cp=34.6583~45.2521&sp=point.34.6583_45.2521\",\"Maplink3\")","v":"Maplink3"}]
[24892,"Al-Sulaymaniyah","Kalar","Markaz Kalar","Hamren","حمرين",34.617055283,45.3079411646,81,486,0,12,0,0,0,0,486,0,0,0,0,0,0,0,0,6,0,18,0,0,372,0,0,0,0,0,0,0,0,90,0,0,0,6,102,12,114,30,24,96,66,36,0,0,0,{"$f":"HYPERLINK(\"http://www.openstreetmap.org/?mlat=34.6171&mlon=45.3079&zoom=12#map=12/34.6171/45.3079\",\"Maplink1\")","v":"Maplink1"},{"$f":"HYPERLINK(\"https://www.google.iq/maps/search/+34.6171,45.3079/@34.6171,45.3079,14z?hl=en\",\"Maplink2\")","v":"Maplink2"},{"$f":"HYPERLINK(\"http://www.bing.com/maps/?lvl=14&sty=h&cp=34.6171~45.3079&sp=point.34.6171_45.3079\",\"Maplink3\")","v":"Maplink3"}]
[24962,"Al-Sulaymaniyah","Kalar","Markaz Kalar","Sharawani","شارواني",34.6401081165,45.3169485616,125,750,0,24,0,0,0,0,750,0,0,0,0,0,0,0,0,102,0,36,0,0,510,0,0,0,0,0,0,24,0,78,0,0,0,36,60,54,138,78,48,168,168,0,0,0,0,{"$f":"HYPERLINK(\"http://www.openstreetmap.org/?mlat=34.6401&mlon=45.3169&zoom=12#map=12/34.6401/45.3169\",\"Maplink1\")","v":"Maplink1"},{"$f":"HYPERLINK(\"https://www.google.iq/maps/search/+34.6401,45.3169/@34.6401,45.3169,14z?hl=en\",\"Maplink2\")","v":"Maplink2"},{"$f":"HYPERLINK(\"http://www.bing.com/maps/?lvl=14&sty=h&cp=34.6401~45.3169&sp=point.34.6401_45.3169\",\"Maplink3\")","v":"Maplink3"}]
[24891,"Al-Sulaymaniyah","Kalar","Markaz Kalar","Azadi","ازادي",34.6319380282,45.3399223846,68,408,0,6,0,0,0,0,408,0,0,0,0,0,0,0,0,72,0,0,0,0,264,0,0,0,0,0,0,0,0,72,0,0,0,48,102,30,66,6,18,66,60,12,0,0,0,{"$f":"HYPERLINK(\"http://www.openstreetmap.org/?mlat=34.6319&mlon=45.3399&zoom=12#map=12/34.6319/45.3399\",\"Maplink1\")","v":"Maplink1"},{"$f":"HYPERLINK(\"https://www.google.iq/maps/search/+34.6319,45.3399/@34.6319,45.3399,14z?hl=en\",\"Maplink2\")","v":"Maplink2"},{"$f":"HYPERLINK(\"http://www.bing.com/maps/?lvl=14&sty=h&cp=34.6319~45.3399&sp=point.34.6319_45.3399\",\"Maplink3\")","v":"Maplink3"}]
[22459,"Al-Sulaymaniyah","Panjwin","Markaz Panjwin","Mamostayan","ماموستايان",35.6216077,45.9500864,2,12,0,0,0,0,0,0,12,0,0,0,0,0,0,0,0,6,0,6,0,0,0,0,0,0,0,0,0,0,0,0,0,0,0,6,0,0,6,0,0,0,0,0,0,0,0,{"$f":"HYPERLINK(\"http://www.openstreetmap.org/?mlat=35.6216&mlon=45.9501&zoom=12#map=12/35.6216/45.9501\",\"Maplink1\")","v":"Maplink1"},{"$f":"HYPERLINK(\"https://www.google.iq/maps/search/+35.6216,45.9501/@35.6216,45.9501,14z?hl=en\",\"Maplink2\")","v":"Maplink2"},{"$f":"HYPERLINK(\"http://www.bing.com/maps/?lvl=14&sty=h&cp=35.6216~45.9501&sp=point.35.6216_45.9501\",\"Maplink3\")","v":"Maplink3"}]
[31855,"Al-Sulaymaniyah","Pshdar","Markaz Pshdar","Raparine-Qaladiza","رابرين-قلادزي",36.1757632,45.130561,2,12,0,0,0,0,0,0,12,0,0,0,0,0,0,0,0,12,0,0,0,0,0,0,0,0,0,0,0,0,0,0,0,0,0,0,0,0,0,0,0,0,12,0,0,0,0,{"$f":"HYPERLINK(\"http://www.openstreetmap.org/?mlat=36.1758&mlon=45.1306&zoom=12#map=12/36.1758/45.1306\",\"Maplink1\")","v":"Maplink1"},{"$f":"HYPERLINK(\"https://www.google.iq/maps/search/+36.1758,45.1306/@36.1758,45.1306,14z?hl=en\",\"Maplink2\")","v":"Maplink2"},{"$f":"HYPERLINK(\"http://www.bing.com/maps/?lvl=14&sty=h&cp=36.1758~45.1306&sp=point.36.1758_45.1306\",\"Maplink3\")","v":"Maplink3"}]
[31848,"Al-Sulaymaniyah","Pshdar","Nawdasht","Hawarei new","هواري نوي",36.2449673,45.0097656,5,30,0,0,0,0,0,0,30,0,0,0,0,0,0,0,0,24,0,0,0,0,6,0,0,0,0,0,0,0,0,0,0,0,0,30,0,0,0,0,0,0,0,0,0,0,0,{"$f":"HYPERLINK(\"http://www.openstreetmap.org/?mlat=36.245&mlon=45.0098&zoom=12#map=12/36.245/45.0098\",\"Maplink1\")","v":"Maplink1"},{"$f":"HYPERLINK(\"https://www.google.iq/maps/search/+36.245,45.0098/@36.245,45.0098,14z?hl=en\",\"Maplink2\")","v":"Maplink2"},{"$f":"HYPERLINK(\"http://www.bing.com/maps/?lvl=14&sty=h&cp=36.245~45.0098&sp=point.36.245_45.0098\",\"Maplink3\")","v":"Maplink3"}]
[31849,"Al-Sulaymaniyah","Pshdar","Nawdasht","Asos","اسوس",36.2488525,45.0071684,2,12,0,0,0,0,0,0,12,0,0,0,0,0,0,0,0,6,0,0,0,0,0,0,0,0,0,0,0,6,0,0,0,0,0,6,0,0,6,0,0,0,0,0,0,0,0,{"$f":"HYPERLINK(\"http://www.openstreetmap.org/?mlat=36.2489&mlon=45.0072&zoom=12#map=12/36.2489/45.0072\",\"Maplink1\")","v":"Maplink1"},{"$f":"HYPERLINK(\"https://www.google.iq/maps/search/+36.2489,45.0072/@36.2489,45.0072,14z?hl=en\",\"Maplink2\")","v":"Maplink2"},{"$f":"HYPERLINK(\"http://www.bing.com/maps/?lvl=14&sty=h&cp=36.2489~45.0072&sp=point.36.2489_45.0072\",\"Maplink3\")","v":"Maplink3"}]
[4201,"Al-Sulaymaniyah","Rania","Markaz Rania","Qalat","قلات",36.2527747,44.8851583,8,48,0,0,0,0,0,0,48,0,0,0,0,0,0,0,0,30,6,6,0,0,0,0,0,0,0,0,0,6,0,0,0,0,0,12,6,12,6,12,0,0,0,0,0,0,0,{"$f":"HYPERLINK(\"http://www.openstreetmap.org/?mlat=36.2528&mlon=44.8852&zoom=12#map=12/36.2528/44.8852\",\"Maplink1\")","v":"Maplink1"},{"$f":"HYPERLINK(\"https://www.google.iq/maps/search/+36.2528,44.8852/@36.2528,44.8852,14z?hl=en\",\"Maplink2\")","v":"Maplink2"},{"$f":"HYPERLINK(\"http://www.bing.com/maps/?lvl=14&sty=h&cp=36.2528~44.8852&sp=point.36.2528_44.8852\",\"Maplink3\")","v":"Maplink3"}]
[5568,"Al-Sulaymaniyah","Rania","Markaz Rania","kurdistan","كوردستان",36.2207716,44.8360385,3,18,0,0,0,0,0,0,18,0,0,0,0,0,0,0,0,6,0,0,0,0,0,0,0,12,0,0,0,0,0,0,0,0,0,0,0,0,0,0,6,0,12,0,0,0,0,{"$f":"HYPERLINK(\"http://www.openstreetmap.org/?mlat=36.2208&mlon=44.836&zoom=12#map=12/36.2208/44.836\",\"Maplink1\")","v":"Maplink1"},{"$f":"HYPERLINK(\"https://www.google.iq/maps/search/+36.2208,44.836/@36.2208,44.836,14z?hl=en\",\"Maplink2\")","v":"Maplink2"},{"$f":"HYPERLINK(\"http://www.bing.com/maps/?lvl=14&sty=h&cp=36.2208~44.836&sp=point.36.2208_44.836\",\"Maplink3\")","v":"Maplink3"}]
[4206,"Al-Sulaymaniyah","Rania","Markaz Rania","Srra","سةرا",36.2533576,44.8794732,11,66,0,0,0,0,0,0,66,0,0,0,0,0,0,0,0,18,6,18,0,0,24,0,0,0,0,0,0,0,0,0,0,0,0,36,6,0,6,12,0,6,0,0,0,0,0,{"$f":"HYPERLINK(\"http://www.openstreetmap.org/?mlat=36.2534&mlon=44.8795&zoom=12#map=12/36.2534/44.8795\",\"Maplink1\")","v":"Maplink1"},{"$f":"HYPERLINK(\"https://www.google.iq/maps/search/+36.2534,44.8795/@36.2534,44.8795,14z?hl=en\",\"Maplink2\")","v":"Maplink2"},{"$f":"HYPERLINK(\"http://www.bing.com/maps/?lvl=14&sty=h&cp=36.2534~44.8795&sp=point.36.2534_44.8795\",\"Maplink3\")","v":"Maplink3"}]
[25521,"Al-Sulaymaniyah","Rania","Markaz Rania","Rozh City","روز ستي",36.2601975,44.8497637,6,36,0,6,0,0,0,0,36,0,0,0,0,0,0,0,0,12,0,18,0,0,0,0,0,0,0,0,0,6,0,0,0,0,0,0,0,6,12,12,0,0,0,0,0,6,0,{"$f":"HYPERLINK(\"http://www.openstreetmap.org/?mlat=36.2602&mlon=44.8498&zoom=12#map=12/36.2602/44.8498\",\"Maplink1\")","v":"Maplink1"},{"$f":"HYPERLINK(\"https://www.google.iq/maps/search/+36.2602,44.8498/@36.2602,44.8498,14z?hl=en\",\"Maplink2\")","v":"Maplink2"},{"$f":"HYPERLINK(\"http://www.bing.com/maps/?lvl=14&sty=h&cp=36.2602~44.8498&sp=point.36.2602_44.8498\",\"Maplink3\")","v":"Maplink3"}]
[24898,"Al-Sulaymaniyah","Rania","Markaz Rania","Chwarchra","جوارجرا",36.2443556,44.7756395,5,30,0,0,0,0,0,0,30,0,0,0,0,0,0,0,0,24,0,0,0,0,0,0,0,0,0,0,0,0,0,6,0,0,0,0,6,12,12,0,0,0,0,0,0,0,0,{"$f":"HYPERLINK(\"http://www.openstreetmap.org/?mlat=36.2444&mlon=44.7756&zoom=12#map=12/36.2444/44.7756\",\"Maplink1\")","v":"Maplink1"},{"$f":"HYPERLINK(\"https://www.google.iq/maps/search/+36.2444,44.7756/@36.2444,44.7756,14z?hl=en\",\"Maplink2\")","v":"Maplink2"},{"$f":"HYPERLINK(\"http://www.bing.com/maps/?lvl=14&sty=h&cp=36.2444~44.7756&sp=point.36.2444_44.7756\",\"Maplink3\")","v":"Maplink3"}]
[31873,"Al-Sulaymaniyah","Rania","Markaz Rania","Rasha merk","رةشتة ميرك",36.2594336,44.8821551,10,60,0,0,0,0,0,0,60,0,0,0,0,0,0,0,0,36,0,0,0,0,0,0,0,0,0,0,0,0,0,24,0,0,0,6,18,6,12,0,12,0,0,6,0,0,0,{"$f":"HYPERLINK(\"http://www.openstreetmap.org/?mlat=36.2594&mlon=44.8822&zoom=12#map=12/36.2594/44.8822\",\"Maplink1\")","v":"Maplink1"},{"$f":"HYPERLINK(\"https://www.google.iq/maps/search/+36.2594,44.8822/@36.2594,44.8822,14z?hl=en\",\"Maplink2\")","v":"Maplink2"},{"$f":"HYPERLINK(\"http://www.bing.com/maps/?lvl=14&sty=h&cp=36.2594~44.8822&sp=point.36.2594_44.8822\",\"Maplink3\")","v":"Maplink3"}]
[31870,"Al-Sulaymaniyah","Rania","Markaz Rania","Azadi 1","ازادي 1",36.2582084,44.8776143,11,66,0,0,0,0,0,0,66,0,0,0,0,0,0,0,0,42,0,24,0,0,0,0,0,0,0,0,0,0,0,0,0,0,0,0,30,12,24,0,0,0,0,0,0,0,0,{"$f":"HYPERLINK(\"http://www.openstreetmap.org/?mlat=36.2582&mlon=44.8776&zoom=12#map=12/36.2582/44.8776\",\"Maplink1\")","v":"Maplink1"},{"$f":"HYPERLINK(\"https://www.google.iq/maps/search/+36.2582,44.8776/@36.2582,44.8776,14z?hl=en\",\"Maplink2\")","v":"Maplink2"},{"$f":"HYPERLINK(\"http://www.bing.com/maps/?lvl=14&sty=h&cp=36.2582~44.8776&sp=point.36.2582_44.8776\",\"Maplink3\")","v":"Maplink3"}]
[4239,"Al-Sulaymaniyah","Sharbazher","Markaz Sharbazher","Sitak","سيتك",35.6370215,45.5037227,56,336,0,0,0,0,0,0,336,0,0,0,0,0,0,0,0,0,0,0,0,0,0,0,0,0,0,0,0,336,0,0,0,0,0,0,0,336,0,0,0,0,0,0,0,0,0,{"$f":"HYPERLINK(\"http://www.openstreetmap.org/?mlat=35.637&mlon=45.5037&zoom=12#map=12/35.637/45.5037\",\"Maplink1\")","v":"Maplink1"},{"$f":"HYPERLINK(\"https://www.google.iq/maps/search/+35.637,45.5037/@35.637,45.5037,14z?hl=en\",\"Maplink2\")","v":"Maplink2"},{"$f":"HYPERLINK(\"http://www.bing.com/maps/?lvl=14&sty=h&cp=35.637~45.5037&sp=point.35.637_45.5037\",\"Maplink3\")","v":"Maplink3"}]
[6361,"Babil","Al-Hashimiya","Al-Qasim","Al Qasim-Al Askari","ناحية القاسم-العسكري",32.2996086733,44.6900318242,1,6,0,0,0,0,0,0,6,0,0,0,0,0,0,0,0,0,0,0,0,0,0,0,0,0,0,0,0,6,0,0,0,0,0,0,6,0,0,0,0,0,0,0,0,0,0,{"$f":"HYPERLINK(\"http://www.openstreetmap.org/?mlat=32.2996&mlon=44.69&zoom=12#map=12/32.2996/44.69\",\"Maplink1\")","v":"Maplink1"},{"$f":"HYPERLINK(\"https://www.google.iq/maps/search/+32.2996,44.69/@32.2996,44.69,14z?hl=en\",\"Maplink2\")","v":"Maplink2"},{"$f":"HYPERLINK(\"http://www.bing.com/maps/?lvl=14&sty=h&cp=32.2996~44.69&sp=point.32.2996_44.69\",\"Maplink3\")","v":"Maplink3"}]
[6824,"Babil","Al-Hilla","Abi Gharaq","Abi Gharaq-Albu Hamdan","قرية البو حمدان",32.50885849,44.29494297,1,6,0,0,0,0,0,0,6,0,0,0,0,0,0,0,0,0,0,0,0,0,0,0,0,0,0,0,0,6,0,0,0,0,0,0,6,0,0,0,0,0,0,0,0,0,0,{"$f":"HYPERLINK(\"http://www.openstreetmap.org/?mlat=32.5089&mlon=44.2949&zoom=12#map=12/32.5089/44.2949\",\"Maplink1\")","v":"Maplink1"},{"$f":"HYPERLINK(\"https://www.google.iq/maps/search/+32.5089,44.2949/@32.5089,44.2949,14z?hl=en\",\"Maplink2\")","v":"Maplink2"},{"$f":"HYPERLINK(\"http://www.bing.com/maps/?lvl=14&sty=h&cp=32.5089~44.2949&sp=point.32.5089_44.2949\",\"Maplink3\")","v":"Maplink3"}]
[24457,"Babil","Al-Hilla","Abi Gharaq","Hay Al Hussain-Abu Gharaq","ناحية ابي غرق-حي الحسين",32.5240657073,44.3635713151,2,12,0,0,0,0,0,0,12,0,0,0,0,0,0,0,0,0,0,0,0,0,0,0,0,0,0,0,0,12,0,0,0,0,0,0,12,0,0,0,0,0,0,0,0,0,0,{"$f":"HYPERLINK(\"http://www.openstreetmap.org/?mlat=32.5241&mlon=44.3636&zoom=12#map=12/32.5241/44.3636\",\"Maplink1\")","v":"Maplink1"},{"$f":"HYPERLINK(\"https://www.google.iq/maps/search/+32.5241,44.3636/@32.5241,44.3636,14z?hl=en\",\"Maplink2\")","v":"Maplink2"},{"$f":"HYPERLINK(\"http://www.bing.com/maps/?lvl=14&sty=h&cp=32.5241~44.3636&sp=point.32.5241_44.3636\",\"Maplink3\")","v":"Maplink3"}]
[34275,"Babil","Al-Hilla","Abi Gharaq","Al Hamam 2","ناحية ابي غرق-الحمام 2",32.5465503,44.3220972,9,54,0,0,0,0,0,54,0,0,0,0,0,0,0,0,0,0,0,0,0,0,0,0,0,0,0,0,0,0,0,54,0,0,0,0,0,54,0,0,0,0,0,0,0,0,0,{"$f":"HYPERLINK(\"http://www.openstreetmap.org/?mlat=32.5466&mlon=44.3221&zoom=12#map=12/32.5466/44.3221\",\"Maplink1\")","v":"Maplink1"},{"$f":"HYPERLINK(\"https://www.google.iq/maps/search/+32.5466,44.3221/@32.5466,44.3221,14z?hl=en\",\"Maplink2\")","v":"Maplink2"},{"$f":"HYPERLINK(\"http://www.bing.com/maps/?lvl=14&sty=h&cp=32.5466~44.3221&sp=point.32.5466_44.3221\",\"Maplink3\")","v":"Maplink3"}]
[7191,"Babil","Al-Hilla","Markaz Al-Hilla","Hay Al-Bakarley 4","البكرلي-4",32.4929075,44.4690614,1,6,0,0,0,0,0,0,6,0,0,0,0,0,0,0,0,0,0,0,0,0,0,0,0,0,0,0,0,6,0,0,0,0,0,0,6,0,0,0,0,0,0,0,0,0,0,{"$f":"HYPERLINK(\"http://www.openstreetmap.org/?mlat=32.4929&mlon=44.4691&zoom=12#map=12/32.4929/44.4691\",\"Maplink1\")","v":"Maplink1"},{"$f":"HYPERLINK(\"https://www.google.iq/maps/search/+32.4929,44.4691/@32.4929,44.4691,14z?hl=en\",\"Maplink2\")","v":"Maplink2"},{"$f":"HYPERLINK(\"http://www.bing.com/maps/?lvl=14&sty=h&cp=32.4929~44.4691&sp=point.32.4929_44.4691\",\"Maplink3\")","v":"Maplink3"}]
[23318,"Babil","Al-Hilla","Markaz Al-Hilla","Hay Al Asatitha","الاساتذه",32.4838620777,44.408410019,1,6,0,0,0,0,0,6,0,0,0,0,0,0,0,0,0,6,0,0,0,0,0,0,0,0,0,0,0,0,0,0,0,0,0,0,0,6,0,0,0,0,0,0,0,0,0,{"$f":"HYPERLINK(\"http://www.openstreetmap.org/?mlat=32.4839&mlon=44.4084&zoom=12#map=12/32.4839/44.4084\",\"Maplink1\")","v":"Maplink1"},{"$f":"HYPERLINK(\"https://www.google.iq/maps/search/+32.4839,44.4084/@32.4839,44.4084,14z?hl=en\",\"Maplink2\")","v":"Maplink2"},{"$f":"HYPERLINK(\"http://www.bing.com/maps/?lvl=14&sty=h&cp=32.4839~44.4084&sp=point.32.4839_44.4084\",\"Maplink3\")","v":"Maplink3"}]
[23954,"Babil","Al-Hilla","Markaz Al-Hilla","Al Iskan","الاسكان",32.4670318724,44.42438,2,12,0,0,0,0,0,0,12,0,0,0,0,0,0,0,0,0,0,0,0,0,0,0,0,0,0,0,0,12,0,0,0,0,0,0,12,0,0,0,0,0,0,0,0,0,0,{"$f":"HYPERLINK(\"http://www.openstreetmap.org/?mlat=32.467&mlon=44.4244&zoom=12#map=12/32.467/44.4244\",\"Maplink1\")","v":"Maplink1"},{"$f":"HYPERLINK(\"https://www.google.iq/maps/search/+32.467,44.4244/@32.467,44.4244,14z?hl=en\",\"Maplink2\")","v":"Maplink2"},{"$f":"HYPERLINK(\"http://www.bing.com/maps/?lvl=14&sty=h&cp=32.467~44.4244&sp=point.32.467_44.4244\",\"Maplink3\")","v":"Maplink3"}]
[24336,"Babil","Al-Mahaweel","Al-Mashroo","Al Tahriyah","الطاهريه",32.748223,44.431139,3,18,0,0,0,0,0,0,18,0,0,0,0,0,0,0,0,0,18,0,0,0,0,0,0,0,0,0,0,0,0,0,0,0,0,0,0,18,0,0,0,0,0,0,0,0,0,{"$f":"HYPERLINK(\"http://www.openstreetmap.org/?mlat=32.7482&mlon=44.4311&zoom=12#map=12/32.7482/44.4311\",\"Maplink1\")","v":"Maplink1"},{"$f":"HYPERLINK(\"https://www.google.iq/maps/search/+32.7482,44.4311/@32.7482,44.4311,14z?hl=en\",\"Maplink2\")","v":"Maplink2"},{"$f":"HYPERLINK(\"http://www.bing.com/maps/?lvl=14&sty=h&cp=32.7482~44.4311&sp=point.32.7482_44.4311\",\"Maplink3\")","v":"Maplink3"}]
[20927,"Babil","Al-Mahaweel","Markaz Al-Mahawil","Hay Al-Askari","حي العسكري ",32.6651003144,44.4058474278,7,42,0,0,0,0,0,0,42,0,0,0,0,0,0,0,0,0,42,0,0,0,0,0,0,0,0,0,0,0,0,0,0,0,0,0,0,42,0,0,0,0,0,0,0,0,0,{"$f":"HYPERLINK(\"http://www.openstreetmap.org/?mlat=32.6651&mlon=44.4058&zoom=12#map=12/32.6651/44.4058\",\"Maplink1\")","v":"Maplink1"},{"$f":"HYPERLINK(\"https://www.google.iq/maps/search/+32.6651,44.4058/@32.6651,44.4058,14z?hl=en\",\"Maplink2\")","v":"Maplink2"},{"$f":"HYPERLINK(\"http://www.bing.com/maps/?lvl=14&sty=h&cp=32.6651~44.4058&sp=point.32.6651_44.4058\",\"Maplink3\")","v":"Maplink3"}]
[25617,"Babil","Al-Mahaweel","Markaz Al-Mahawil","Al-Mahawil-Hay Al-Mashtal","حي المشتل",32.666289935,44.3966678294,5,30,0,0,0,0,0,0,30,0,0,0,0,0,0,0,0,0,30,0,0,0,0,0,0,0,0,0,0,0,0,0,0,0,0,0,0,30,0,0,0,0,0,0,0,0,0,{"$f":"HYPERLINK(\"http://www.openstreetmap.org/?mlat=32.6663&mlon=44.3967&zoom=12#map=12/32.6663/44.3967\",\"Maplink1\")","v":"Maplink1"},{"$f":"HYPERLINK(\"https://www.google.iq/maps/search/+32.6663,44.3967/@32.6663,44.3967,14z?hl=en\",\"Maplink2\")","v":"Maplink2"},{"$f":"HYPERLINK(\"http://www.bing.com/maps/?lvl=14&sty=h&cp=32.6663~44.3967&sp=point.32.6663_44.3967\",\"Maplink3\")","v":"Maplink3"}]
[28455,"Babil","Al-Mahaweel","Markaz Al-Mahawil","Hay Al Rasool","حي الرسول",32.6505578057,44.4092517323,1,6,0,0,0,0,0,0,6,0,0,0,0,0,0,0,0,0,0,6,0,0,0,0,0,0,0,0,0,0,0,0,0,0,0,0,0,6,0,0,0,0,0,0,0,0,0,{"$f":"HYPERLINK(\"http://www.openstreetmap.org/?mlat=32.6506&mlon=44.4093&zoom=12#map=12/32.6506/44.4093\",\"Maplink1\")","v":"Maplink1"},{"$f":"HYPERLINK(\"https://www.google.iq/maps/search/+32.6506,44.4093/@32.6506,44.4093,14z?hl=en\",\"Maplink2\")","v":"Maplink2"},{"$f":"HYPERLINK(\"http://www.bing.com/maps/?lvl=14&sty=h&cp=32.6506~44.4093&sp=point.32.6506_44.4093\",\"Maplink3\")","v":"Maplink3"}]
[24651,"Babil","Al-Mussyab","Al-Iskandaria","Al-Iskandaria-Hay Al-Mustafa","ناحيه الاسكندريه-حي المصطفى",32.87836002,44.34681103,11,66,0,0,0,0,0,0,66,0,0,0,0,0,0,0,0,0,66,0,0,0,0,0,0,0,0,0,0,0,0,0,0,0,0,0,0,66,0,0,0,0,0,0,0,0,0,{"$f":"HYPERLINK(\"http://www.openstreetmap.org/?mlat=32.8784&mlon=44.3468&zoom=12#map=12/32.8784/44.3468\",\"Maplink1\")","v":"Maplink1"},{"$f":"HYPERLINK(\"https://www.google.iq/maps/search/+32.8784,44.3468/@32.8784,44.3468,14z?hl=en\",\"Maplink2\")","v":"Maplink2"},{"$f":"HYPERLINK(\"http://www.bing.com/maps/?lvl=14&sty=h&cp=32.8784~44.3468&sp=point.32.8784_44.3468\",\"Maplink3\")","v":"Maplink3"}]
[24653,"Babil","Al-Mussyab","Al-Iskandaria","Hay Al-Anwar-Al Eskandariya","ناحيه الاسكندريه-حي الانوار",32.8864166295,44.3860503285,31,186,0,0,0,0,0,66,120,0,0,0,0,0,0,0,0,0,186,0,0,0,0,0,0,0,0,0,0,0,0,0,0,0,0,0,186,0,0,0,0,0,0,0,0,0,0,{"$f":"HYPERLINK(\"http://www.openstreetmap.org/?mlat=32.8864&mlon=44.3861&zoom=12#map=12/32.8864/44.3861\",\"Maplink1\")","v":"Maplink1"},{"$f":"HYPERLINK(\"https://www.google.iq/maps/search/+32.8864,44.3861/@32.8864,44.3861,14z?hl=en\",\"Maplink2\")","v":"Maplink2"},{"$f":"HYPERLINK(\"http://www.bing.com/maps/?lvl=14&sty=h&cp=32.8864~44.3861&sp=point.32.8864_44.3861\",\"Maplink3\")","v":"Maplink3"}]
[24166,"Babil","Al-Mussyab","Jurf Al-Sakhar","Al-Shoyokh","الشيوخ",32.7782243115,44.2870224791,7,42,0,0,0,0,0,0,42,0,0,0,0,0,0,0,0,0,42,0,0,0,0,0,0,0,0,0,0,0,0,0,0,0,0,0,42,0,0,0,0,0,0,0,0,0,0,{"$f":"HYPERLINK(\"http://www.openstreetmap.org/?mlat=32.7782&mlon=44.287&zoom=12#map=12/32.7782/44.287\",\"Maplink1\")","v":"Maplink1"},{"$f":"HYPERLINK(\"https://www.google.iq/maps/search/+32.7782,44.287/@32.7782,44.287,14z?hl=en\",\"Maplink2\")","v":"Maplink2"},{"$f":"HYPERLINK(\"http://www.bing.com/maps/?lvl=14&sty=h&cp=32.7782~44.287&sp=point.32.7782_44.287\",\"Maplink3\")","v":"Maplink3"}]
[24169,"Babil","Al-Mussyab","Jurf Al-Sakhar","Hay Al Ghadeer 4","الغدير 4",32.7773309423,44.2640133499,84,504,0,0,0,0,0,0,468,0,0,0,0,0,0,36,0,0,504,0,0,0,0,0,0,0,0,0,0,0,0,0,0,0,0,0,504,0,0,0,0,0,0,0,0,0,0,{"$f":"HYPERLINK(\"http://www.openstreetmap.org/?mlat=32.7773&mlon=44.264&zoom=12#map=12/32.7773/44.264\",\"Maplink1\")","v":"Maplink1"},{"$f":"HYPERLINK(\"https://www.google.iq/maps/search/+32.7773,44.264/@32.7773,44.264,14z?hl=en\",\"Maplink2\")","v":"Maplink2"},{"$f":"HYPERLINK(\"http://www.bing.com/maps/?lvl=14&sty=h&cp=32.7773~44.264&sp=point.32.7773_44.264\",\"Maplink3\")","v":"Maplink3"}]
[24569,"Babil","Al-Mussyab","Jurf Al-Sakhar","Al-Sikak 2","السكك-2",32.7836911382,44.2929972741,5,30,0,0,0,0,0,0,30,0,0,0,0,0,0,0,0,0,30,0,0,0,0,0,0,0,0,0,0,0,0,0,0,0,0,0,0,30,0,0,0,0,0,0,0,0,0,{"$f":"HYPERLINK(\"http://www.openstreetmap.org/?mlat=32.7837&mlon=44.293&zoom=12#map=12/32.7837/44.293\",\"Maplink1\")","v":"Maplink1"},{"$f":"HYPERLINK(\"https://www.google.iq/maps/search/+32.7837,44.293/@32.7837,44.293,14z?hl=en\",\"Maplink2\")","v":"Maplink2"},{"$f":"HYPERLINK(\"http://www.bing.com/maps/?lvl=14&sty=h&cp=32.7837~44.293&sp=point.32.7837_44.293\",\"Maplink3\")","v":"Maplink3"}]
[6376,"Babil","Al-Mussyab","Jurf Al-Sakhar","Awlad Kazim","اولاد كاظم",32.6996983333,44.3224316667,17,102,0,0,0,0,0,42,60,0,0,0,0,0,0,0,0,0,42,60,0,0,0,0,0,0,0,0,0,0,0,0,0,0,0,0,42,60,0,0,0,0,0,0,0,0,0,{"$f":"HYPERLINK(\"http://www.openstreetmap.org/?mlat=32.6997&mlon=44.3224&zoom=12#map=12/32.6997/44.3224\",\"Maplink1\")","v":"Maplink1"},{"$f":"HYPERLINK(\"https://www.google.iq/maps/search/+32.6997,44.3224/@32.6997,44.3224,14z?hl=en\",\"Maplink2\")","v":"Maplink2"},{"$f":"HYPERLINK(\"http://www.bing.com/maps/?lvl=14&sty=h&cp=32.6997~44.3224&sp=point.32.6997_44.3224\",\"Maplink3\")","v":"Maplink3"}]
[29582,"Babil","Al-Mussyab","Jurf Al-Sakhar","Hay Al Moatnen 1","حي المواطنين 1",32.7880307177,44.2679772812,92,552,0,0,0,0,0,18,510,0,24,0,0,0,0,0,0,0,552,0,0,0,0,0,0,0,0,0,0,0,0,0,0,0,0,0,462,90,0,0,0,0,0,0,0,0,0,{"$f":"HYPERLINK(\"http://www.openstreetmap.org/?mlat=32.788&mlon=44.268&zoom=12#map=12/32.788/44.268\",\"Maplink1\")","v":"Maplink1"},{"$f":"HYPERLINK(\"https://www.google.iq/maps/search/+32.788,44.268/@32.788,44.268,14z?hl=en\",\"Maplink2\")","v":"Maplink2"},{"$f":"HYPERLINK(\"http://www.bing.com/maps/?lvl=14&sty=h&cp=32.788~44.268&sp=point.32.788_44.268\",\"Maplink3\")","v":"Maplink3"}]
[24957,"Babil","Al-Mussyab","Jurf Al-Sakhar","Al Abtan","ال عبطان",32.8048976576,44.2690663423,27,162,0,0,0,0,0,0,162,0,0,0,0,0,0,0,0,0,162,0,0,0,0,0,0,0,0,0,0,0,0,0,0,0,0,0,120,42,0,0,0,0,0,0,0,0,0,{"$f":"HYPERLINK(\"http://www.openstreetmap.org/?mlat=32.8049&mlon=44.2691&zoom=12#map=12/32.8049/44.2691\",\"Maplink1\")","v":"Maplink1"},{"$f":"HYPERLINK(\"https://www.google.iq/maps/search/+32.8049,44.2691/@32.8049,44.2691,14z?hl=en\",\"Maplink2\")","v":"Maplink2"},{"$f":"HYPERLINK(\"http://www.bing.com/maps/?lvl=14&sty=h&cp=32.8049~44.2691&sp=point.32.8049_44.2691\",\"Maplink3\")","v":"Maplink3"}]
[26118,"Babil","Al-Mussyab","Jurf Al-Sakhar","Al Qasabah Al Kadimah","القصبه القديمه",32.7097361327,44.2686285611,3,18,0,0,0,0,0,0,18,0,0,0,0,0,0,0,0,0,18,0,0,0,0,0,0,0,0,0,0,0,0,0,0,0,0,0,18,0,0,0,0,0,0,0,0,0,0,{"$f":"HYPERLINK(\"http://www.openstreetmap.org/?mlat=32.7097&mlon=44.2686&zoom=12#map=12/32.7097/44.2686\",\"Maplink1\")","v":"Maplink1"},{"$f":"HYPERLINK(\"https://www.google.iq/maps/search/+32.7097,44.2686/@32.7097,44.2686,14z?hl=en\",\"Maplink2\")","v":"Maplink2"},{"$f":"HYPERLINK(\"http://www.bing.com/maps/?lvl=14&sty=h&cp=32.7097~44.2686&sp=point.32.7097_44.2686\",\"Maplink3\")","v":"Maplink3"}]
[24177,"Babil","Al-Mussyab","Jurf Al-Sakhar","Hay Al Amer","حي الامير",32.7808333333333,44.2788888888889,86,516,0,0,0,0,0,24,492,0,0,0,0,0,0,0,0,0,516,0,0,0,0,0,0,0,0,0,0,0,0,0,0,0,0,0,516,0,0,0,0,0,0,0,0,0,0,{"$f":"HYPERLINK(\"http://www.openstreetmap.org/?mlat=32.7808&mlon=44.2789&zoom=12#map=12/32.7808/44.2789\",\"Maplink1\")","v":"Maplink1"},{"$f":"HYPERLINK(\"https://www.google.iq/maps/search/+32.7808,44.2789/@32.7808,44.2789,14z?hl=en\",\"Maplink2\")","v":"Maplink2"},{"$f":"HYPERLINK(\"http://www.bing.com/maps/?lvl=14&sty=h&cp=32.7808~44.2789&sp=point.32.7808_44.2789\",\"Maplink3\")","v":"Maplink3"}]
[24440,"Baghdad","Al-Adhamiya","Al-Fahama","AL Shaab-335","الشعب-335",33.4230712673,44.4158744821,7,42,0,0,0,0,0,0,42,0,0,0,0,0,0,0,0,0,0,0,0,0,6,0,0,6,0,0,0,12,0,18,0,0,0,0,0,6,30,0,0,6,0,0,0,0,0,{"$f":"HYPERLINK(\"http://www.openstreetmap.org/?mlat=33.4231&mlon=44.4159&zoom=12#map=12/33.4231/44.4159\",\"Maplink1\")","v":"Maplink1"},{"$f":"HYPERLINK(\"https://www.google.iq/maps/search/+33.4231,44.4159/@33.4231,44.4159,14z?hl=en\",\"Maplink2\")","v":"Maplink2"},{"$f":"HYPERLINK(\"http://www.bing.com/maps/?lvl=14&sty=h&cp=33.4231~44.4159&sp=point.33.4231_44.4159\",\"Maplink3\")","v":"Maplink3"}]
[24449,"Baghdad","Al-Adhamiya","Al-Fahama","AL Shaab-359","الشعب-359",33.4207,44.3939,3,18,0,0,0,0,0,0,18,0,0,0,0,0,0,0,0,0,0,0,0,0,0,0,0,0,0,0,0,12,0,6,0,0,0,0,0,12,6,0,0,0,0,0,0,0,0,{"$f":"HYPERLINK(\"http://www.openstreetmap.org/?mlat=33.4207&mlon=44.3939&zoom=12#map=12/33.4207/44.3939\",\"Maplink1\")","v":"Maplink1"},{"$f":"HYPERLINK(\"https://www.google.iq/maps/search/+33.4207,44.3939/@33.4207,44.3939,14z?hl=en\",\"Maplink2\")","v":"Maplink2"},{"$f":"HYPERLINK(\"http://www.bing.com/maps/?lvl=14&sty=h&cp=33.4207~44.3939&sp=point.33.4207_44.3939\",\"Maplink3\")","v":"Maplink3"}]
[24176,"Baghdad","Al-Adhamiya","Al-Fahama","Hay Al Rabee-332","حي الربيع-332",33.3974074775,44.3547205106,8,48,0,0,0,0,0,18,30,0,0,0,0,0,0,0,0,24,0,0,0,0,0,0,0,0,0,0,0,12,0,12,0,0,0,12,12,0,12,12,0,0,0,0,0,0,0,{"$f":"HYPERLINK(\"http://www.openstreetmap.org/?mlat=33.3974&mlon=44.3547&zoom=12#map=12/33.3974/44.3547\",\"Maplink1\")","v":"Maplink1"},{"$f":"HYPERLINK(\"https://www.google.iq/maps/search/+33.3974,44.3547/@33.3974,44.3547,14z?hl=en\",\"Maplink2\")","v":"Maplink2"},{"$f":"HYPERLINK(\"http://www.bing.com/maps/?lvl=14&sty=h&cp=33.3974~44.3547&sp=point.33.3974_44.3547\",\"Maplink3\")","v":"Maplink3"}]
[24988,"Baghdad","Al-Adhamiya","Al-Fahama","Gumaira Village","قرية كميرة",33.4543223147,44.3446007585,20,120,0,0,0,12,0,0,108,0,0,0,0,0,0,0,0,36,0,0,0,0,24,0,0,0,0,0,0,24,0,36,0,0,0,0,0,72,48,0,0,0,0,0,0,0,0,{"$f":"HYPERLINK(\"http://www.openstreetmap.org/?mlat=33.4543&mlon=44.3446&zoom=12#map=12/33.4543/44.3446\",\"Maplink1\")","v":"Maplink1"},{"$f":"HYPERLINK(\"https://www.google.iq/maps/search/+33.4543,44.3446/@33.4543,44.3446,14z?hl=en\",\"Maplink2\")","v":"Maplink2"},{"$f":"HYPERLINK(\"http://www.bing.com/maps/?lvl=14&sty=h&cp=33.4543~44.3446&sp=point.33.4543_44.3446\",\"Maplink3\")","v":"Maplink3"}]
[22874,"Baghdad","Al-Adhamiya","Al-Fahama","Hay Al Rabee-342","حي الربيع-342",33.4104447663,44.3480841853,3,18,0,0,0,0,0,0,18,0,0,0,0,0,0,0,0,6,0,0,0,0,0,0,0,0,0,0,0,12,0,0,0,0,0,6,0,12,0,0,0,0,0,0,0,0,0,{"$f":"HYPERLINK(\"http://www.openstreetmap.org/?mlat=33.4104&mlon=44.3481&zoom=12#map=12/33.4104/44.3481\",\"Maplink1\")","v":"Maplink1"},{"$f":"HYPERLINK(\"https://www.google.iq/maps/search/+33.4104,44.3481/@33.4104,44.3481,14z?hl=en\",\"Maplink2\")","v":"Maplink2"},{"$f":"HYPERLINK(\"http://www.bing.com/maps/?lvl=14&sty=h&cp=33.4104~44.3481&sp=point.33.4104_44.3481\",\"Maplink3\")","v":"Maplink3"}]
[25396,"Baghdad","Al-Adhamiya","Al-Fahama","Bob Al Sham-367","بوب الشام-367",33.439334875,44.3905115327,6,36,0,0,0,0,0,0,36,0,0,0,0,0,0,0,0,0,0,0,0,0,0,0,0,0,0,0,0,0,0,36,0,0,0,0,0,0,36,0,0,0,0,0,0,0,0,{"$f":"HYPERLINK(\"http://www.openstreetmap.org/?mlat=33.4393&mlon=44.3905&zoom=12#map=12/33.4393/44.3905\",\"Maplink1\")","v":"Maplink1"},{"$f":"HYPERLINK(\"https://www.google.iq/maps/search/+33.4393,44.3905/@33.4393,44.3905,14z?hl=en\",\"Maplink2\")","v":"Maplink2"},{"$f":"HYPERLINK(\"http://www.bing.com/maps/?lvl=14&sty=h&cp=33.4393~44.3905&sp=point.33.4393_44.3905\",\"Maplink3\")","v":"Maplink3"}]
[24621,"Baghdad","Al-Adhamiya","Al-Rashdia","Al Hussiniyah-223","الحسينية-223",33.5338112771,44.3920556223,3,18,0,0,0,0,0,0,18,0,0,0,0,0,0,0,0,6,0,0,0,0,0,0,0,0,0,0,0,6,0,6,0,0,0,6,0,0,6,6,0,0,0,0,0,0,0,{"$f":"HYPERLINK(\"http://www.openstreetmap.org/?mlat=33.5338&mlon=44.3921&zoom=12#map=12/33.5338/44.3921\",\"Maplink1\")","v":"Maplink1"},{"$f":"HYPERLINK(\"https://www.google.iq/maps/search/+33.5338,44.3921/@33.5338,44.3921,14z?hl=en\",\"Maplink2\")","v":"Maplink2"},{"$f":"HYPERLINK(\"http://www.bing.com/maps/?lvl=14&sty=h&cp=33.5338~44.3921&sp=point.33.5338_44.3921\",\"Maplink3\")","v":"Maplink3"}]
[22381,"Baghdad","Al-Adhamiya","Al-Rashdia","Al Hussainiya-219","الحسينية-219",33.5499624931,44.394786722,2,12,0,0,0,0,0,0,12,0,0,0,0,0,0,0,0,0,0,0,0,0,0,0,0,0,0,0,0,6,0,6,0,0,0,0,6,0,0,6,0,0,0,0,0,0,0,{"$f":"HYPERLINK(\"http://www.openstreetmap.org/?mlat=33.55&mlon=44.3948&zoom=12#map=12/33.55/44.3948\",\"Maplink1\")","v":"Maplink1"},{"$f":"HYPERLINK(\"https://www.google.iq/maps/search/+33.55,44.3948/@33.55,44.3948,14z?hl=en\",\"Maplink2\")","v":"Maplink2"},{"$f":"HYPERLINK(\"http://www.bing.com/maps/?lvl=14&sty=h&cp=33.55~44.3948&sp=point.33.55_44.3948\",\"Maplink3\")","v":"Maplink3"}]
[22698,"Baghdad","Al-Adhamiya","Al-Rashdia","Al Hussainiya-213","الحسينية-213",33.5546,44.4063,3,18,0,0,0,0,0,0,18,0,0,0,0,0,0,0,0,6,0,0,0,0,0,0,0,0,0,0,0,6,0,6,0,0,0,0,0,0,12,6,0,0,0,0,0,0,0,{"$f":"HYPERLINK(\"http://www.openstreetmap.org/?mlat=33.5546&mlon=44.4063&zoom=12#map=12/33.5546/44.4063\",\"Maplink1\")","v":"Maplink1"},{"$f":"HYPERLINK(\"https://www.google.iq/maps/search/+33.5546,44.4063/@33.5546,44.4063,14z?hl=en\",\"Maplink2\")","v":"Maplink2"},{"$f":"HYPERLINK(\"http://www.bing.com/maps/?lvl=14&sty=h&cp=33.5546~44.4063&sp=point.33.5546_44.4063\",\"Maplink3\")","v":"Maplink3"}]
[22379,"Baghdad","Al-Adhamiya","Al-Rashdia","Al Hussainiya-215","الحسينية-215",33.5392205098,44.3969524179,2,12,0,0,0,0,0,0,12,0,0,0,0,0,0,0,0,0,0,0,0,0,0,0,0,0,0,0,0,6,0,6,0,0,0,0,0,0,12,0,0,0,0,0,0,0,0,{"$f":"HYPERLINK(\"http://www.openstreetmap.org/?mlat=33.5392&mlon=44.397&zoom=12#map=12/33.5392/44.397\",\"Maplink1\")","v":"Maplink1"},{"$f":"HYPERLINK(\"https://www.google.iq/maps/search/+33.5392,44.397/@33.5392,44.397,14z?hl=en\",\"Maplink2\")","v":"Maplink2"},{"$f":"HYPERLINK(\"http://www.bing.com/maps/?lvl=14&sty=h&cp=33.5392~44.397&sp=point.33.5392_44.397\",\"Maplink3\")","v":"Maplink3"}]
[23729,"Baghdad","Al-Adhamiya","Markaz Al-Adhamiya","Al Qahira-324","القاهرة-324",33.3856781285,44.3834557351,11,66,0,0,0,18,0,0,48,0,0,0,0,0,0,0,0,12,0,0,0,0,18,0,0,0,0,0,0,36,0,0,0,0,0,0,36,0,30,0,0,0,0,0,0,0,0,{"$f":"HYPERLINK(\"http://www.openstreetmap.org/?mlat=33.3857&mlon=44.3835&zoom=12#map=12/33.3857/44.3835\",\"Maplink1\")","v":"Maplink1"},{"$f":"HYPERLINK(\"https://www.google.iq/maps/search/+33.3857,44.3835/@33.3857,44.3835,14z?hl=en\",\"Maplink2\")","v":"Maplink2"},{"$f":"HYPERLINK(\"http://www.bing.com/maps/?lvl=14&sty=h&cp=33.3857~44.3835&sp=point.33.3857_44.3835\",\"Maplink3\")","v":"Maplink3"}]
[25456,"Baghdad","Al-Adhamiya","Markaz Al-Adhamiya","Al Qahira-322","القاهرة-322",33.3768847658,44.3834174338,5,30,0,0,0,0,0,0,30,0,0,0,0,0,0,0,0,12,0,0,0,0,0,0,0,0,0,0,0,18,0,0,0,0,0,0,0,18,12,0,0,0,0,0,0,0,0,{"$f":"HYPERLINK(\"http://www.openstreetmap.org/?mlat=33.3769&mlon=44.3834&zoom=12#map=12/33.3769/44.3834\",\"Maplink1\")","v":"Maplink1"},{"$f":"HYPERLINK(\"https://www.google.iq/maps/search/+33.3769,44.3834/@33.3769,44.3834,14z?hl=en\",\"Maplink2\")","v":"Maplink2"},{"$f":"HYPERLINK(\"http://www.bing.com/maps/?lvl=14&sty=h&cp=33.3769~44.3834&sp=point.33.3769_44.3834\",\"Maplink3\")","v":"Maplink3"}]
[27325,"Baghdad","Al-Adhamiya","Markaz Al-Adhamiya","Hay Ur-325","حي اور-325",33.397053025,44.414752524,9,54,0,0,0,0,0,0,54,0,0,0,0,0,0,0,0,18,0,0,0,0,0,0,0,0,0,0,0,36,0,0,0,0,0,0,0,36,0,18,0,0,0,0,0,0,0,{"$f":"HYPERLINK(\"http://www.openstreetmap.org/?mlat=33.3971&mlon=44.4148&zoom=12#map=12/33.3971/44.4148\",\"Maplink1\")","v":"Maplink1"},{"$f":"HYPERLINK(\"https://www.google.iq/maps/search/+33.3971,44.4148/@33.3971,44.4148,14z?hl=en\",\"Maplink2\")","v":"Maplink2"},{"$f":"HYPERLINK(\"http://www.bing.com/maps/?lvl=14&sty=h&cp=33.3971~44.4148&sp=point.33.3971_44.4148\",\"Maplink3\")","v":"Maplink3"}]
[21630,"Baghdad","Al-Adhamiya","Markaz Al-Adhamiya","Al Jumhoriyah-119","الجمهورية-119",33.3486451812,44.3880926081,2,12,0,0,0,0,0,0,12,0,0,0,0,0,0,0,0,0,0,0,0,0,6,0,0,0,0,0,0,0,0,6,0,0,0,0,0,12,0,0,0,0,0,0,0,0,0,{"$f":"HYPERLINK(\"http://www.openstreetmap.org/?mlat=33.3486&mlon=44.3881&zoom=12#map=12/33.3486/44.3881\",\"Maplink1\")","v":"Maplink1"},{"$f":"HYPERLINK(\"https://www.google.iq/maps/search/+33.3486,44.3881/@33.3486,44.3881,14z?hl=en\",\"Maplink2\")","v":"Maplink2"},{"$f":"HYPERLINK(\"http://www.bing.com/maps/?lvl=14&sty=h&cp=33.3486~44.3881&sp=point.33.3486_44.3881\",\"Maplink3\")","v":"Maplink3"}]
[23987,"Baghdad","Al-Adhamiya","Markaz Al-Adhamiya","Al Shamasiyah-318","الشماسية-318",33.3794005403,44.369992931,11,66,0,0,0,0,0,36,30,0,0,0,0,0,0,0,0,36,0,0,0,0,0,0,0,0,0,0,0,30,0,0,0,0,0,0,12,0,30,0,0,24,0,0,0,0,0,{"$f":"HYPERLINK(\"http://www.openstreetmap.org/?mlat=33.3794&mlon=44.37&zoom=12#map=12/33.3794/44.37\",\"Maplink1\")","v":"Maplink1"},{"$f":"HYPERLINK(\"https://www.google.iq/maps/search/+33.3794,44.37/@33.3794,44.37,14z?hl=en\",\"Maplink2\")","v":"Maplink2"},{"$f":"HYPERLINK(\"http://www.bing.com/maps/?lvl=14&sty=h&cp=33.3794~44.37&sp=point.33.3794_44.37\",\"Maplink3\")","v":"Maplink3"}]
[7623,"Baghdad","Al-Kadhmiyah","Abu Ghraib","Al Zaitoon","الزيتون",33.3101477,44.2010021,15,90,0,0,0,6,0,0,84,0,0,0,0,0,0,0,0,90,0,0,0,0,0,0,0,0,0,0,0,0,0,0,0,0,0,0,0,0,54,36,0,0,0,0,0,0,0,{"$f":"HYPERLINK(\"http://www.openstreetmap.org/?mlat=33.3101&mlon=44.201&zoom=12#map=12/33.3101/44.201\",\"Maplink1\")","v":"Maplink1"},{"$f":"HYPERLINK(\"https://www.google.iq/maps/search/+33.3101,44.201/@33.3101,44.201,14z?hl=en\",\"Maplink2\")","v":"Maplink2"},{"$f":"HYPERLINK(\"http://www.bing.com/maps/?lvl=14&sty=h&cp=33.3101~44.201&sp=point.33.3101_44.201\",\"Maplink3\")","v":"Maplink3"}]
[24036,"Baghdad","Al-Kadhmiyah","Abu Ghraib","Door Al hummer","دور الحمر",33.3115273,44.1748881,7,42,0,0,0,0,0,0,42,0,0,0,0,0,0,0,0,42,0,0,0,0,0,0,0,0,0,0,0,0,0,0,0,0,0,0,24,0,0,18,0,0,0,0,0,0,0,{"$f":"HYPERLINK(\"http://www.openstreetmap.org/?mlat=33.3115&mlon=44.1749&zoom=12#map=12/33.3115/44.1749\",\"Maplink1\")","v":"Maplink1"},{"$f":"HYPERLINK(\"https://www.google.iq/maps/search/+33.3115,44.1749/@33.3115,44.1749,14z?hl=en\",\"Maplink2\")","v":"Maplink2"},{"$f":"HYPERLINK(\"http://www.bing.com/maps/?lvl=14&sty=h&cp=33.3115~44.1749&sp=point.33.3115_44.1749\",\"Maplink3\")","v":"Maplink3"}]
[27319,"Baghdad","Al-Kadhmiyah","Abu Ghraib","Shoala-Al Doanam","الشعلة-الدوانم",33.3637432107,44.2522541475,4,24,0,0,0,24,0,0,0,0,0,0,0,0,0,0,0,12,0,0,0,0,0,0,0,0,0,0,0,12,0,0,0,0,0,12,0,12,0,0,0,0,0,0,0,0,0,{"$f":"HYPERLINK(\"http://www.openstreetmap.org/?mlat=33.3637&mlon=44.2523&zoom=12#map=12/33.3637/44.2523\",\"Maplink1\")","v":"Maplink1"},{"$f":"HYPERLINK(\"https://www.google.iq/maps/search/+33.3637,44.2523/@33.3637,44.2523,14z?hl=en\",\"Maplink2\")","v":"Maplink2"},{"$f":"HYPERLINK(\"http://www.bing.com/maps/?lvl=14&sty=h&cp=33.3637~44.2523&sp=point.33.3637_44.2523\",\"Maplink3\")","v":"Maplink3"}]
[25126,"Baghdad","Al-Kadhmiyah","Abu Ghraib","Khan Dhari Center","خان ضاري مركز",33.2980734,44.0603843,25,150,0,0,0,0,0,0,120,30,0,0,0,0,0,0,0,90,0,0,0,0,0,0,0,0,0,0,0,24,0,36,0,0,0,0,0,0,36,42,48,24,0,0,0,0,0,{"$f":"HYPERLINK(\"http://www.openstreetmap.org/?mlat=33.2981&mlon=44.0604&zoom=12#map=12/33.2981/44.0604\",\"Maplink1\")","v":"Maplink1"},{"$f":"HYPERLINK(\"https://www.google.iq/maps/search/+33.2981,44.0604/@33.2981,44.0604,14z?hl=en\",\"Maplink2\")","v":"Maplink2"},{"$f":"HYPERLINK(\"http://www.bing.com/maps/?lvl=14&sty=h&cp=33.2981~44.0604&sp=point.33.2981_44.0604\",\"Maplink3\")","v":"Maplink3"}]
[24032,"Baghdad","Al-Kadhmiyah","Abu Ghraib","Hay Al Sadiq","حي الصديق",33.2986548,44.1872661,13,78,0,0,0,0,0,0,78,0,0,0,0,0,0,0,0,78,0,0,0,0,0,0,0,0,0,0,0,0,0,0,0,0,0,0,78,0,0,0,0,0,0,0,0,0,0,{"$f":"HYPERLINK(\"http://www.openstreetmap.org/?mlat=33.2987&mlon=44.1873&zoom=12#map=12/33.2987/44.1873\",\"Maplink1\")","v":"Maplink1"},{"$f":"HYPERLINK(\"https://www.google.iq/maps/search/+33.2987,44.1873/@33.2987,44.1873,14z?hl=en\",\"Maplink2\")","v":"Maplink2"},{"$f":"HYPERLINK(\"http://www.bing.com/maps/?lvl=14&sty=h&cp=33.2987~44.1873&sp=point.33.2987_44.1873\",\"Maplink3\")","v":"Maplink3"}]
[23867,"Baghdad","Al-Kadhmiyah","Abu Ghraib","Al-Nasir Walsalam-1000","النصر والسلام-1000",33.3007655,44.0407996,17,102,0,0,0,36,0,0,66,0,0,0,0,0,0,0,0,102,0,0,0,0,0,0,0,0,0,0,0,0,0,0,0,0,0,72,0,0,0,30,0,0,0,0,0,0,0,{"$f":"HYPERLINK(\"http://www.openstreetmap.org/?mlat=33.3008&mlon=44.0408&zoom=12#map=12/33.3008/44.0408\",\"Maplink1\")","v":"Maplink1"},{"$f":"HYPERLINK(\"https://www.google.iq/maps/search/+33.3008,44.0408/@33.3008,44.0408,14z?hl=en\",\"Maplink2\")","v":"Maplink2"},{"$f":"HYPERLINK(\"http://www.bing.com/maps/?lvl=14&sty=h&cp=33.3008~44.0408&sp=point.33.3008_44.0408\",\"Maplink3\")","v":"Maplink3"}]
[25129,"Baghdad","Al-Kadhmiyah","Abu Ghraib","Hay-Busatan","حي البستان",33.2981988,44.1771539,12,72,0,0,0,0,0,18,54,0,0,0,0,0,0,0,0,48,0,0,0,0,0,0,0,24,0,0,0,0,0,0,0,0,0,0,12,0,0,60,0,0,0,0,0,0,0,{"$f":"HYPERLINK(\"http://www.openstreetmap.org/?mlat=33.2982&mlon=44.1772&zoom=12#map=12/33.2982/44.1772\",\"Maplink1\")","v":"Maplink1"},{"$f":"HYPERLINK(\"https://www.google.iq/maps/search/+33.2982,44.1772/@33.2982,44.1772,14z?hl=en\",\"Maplink2\")","v":"Maplink2"},{"$f":"HYPERLINK(\"http://www.bing.com/maps/?lvl=14&sty=h&cp=33.2982~44.1772&sp=point.33.2982_44.1772\",\"Maplink3\")","v":"Maplink3"}]
[25222,"Baghdad","Al-Kadhmiyah","Abu Ghraib","Suwaib-871","سويب-871",33.2311209102,44.3031758438,11,66,0,0,0,0,0,0,66,0,0,0,0,0,0,0,0,24,0,0,0,0,0,0,0,0,0,0,0,42,0,0,0,0,0,0,66,0,0,0,0,0,0,0,0,0,0,{"$f":"HYPERLINK(\"http://www.openstreetmap.org/?mlat=33.2311&mlon=44.3032&zoom=12#map=12/33.2311/44.3032\",\"Maplink1\")","v":"Maplink1"},{"$f":"HYPERLINK(\"https://www.google.iq/maps/search/+33.2311,44.3032/@33.2311,44.3032,14z?hl=en\",\"Maplink2\")","v":"Maplink2"},{"$f":"HYPERLINK(\"http://www.bing.com/maps/?lvl=14&sty=h&cp=33.2311~44.3032&sp=point.33.2311_44.3032\",\"Maplink3\")","v":"Maplink3"}]
[20784,"Baghdad","Al-Kadhmiyah","Al-Taji","Jurf Al Milah","جرف الملح",33.4918475,44.2525569,3,18,0,0,0,0,0,0,18,0,0,0,0,0,0,0,0,18,0,0,0,0,0,0,0,0,0,0,0,0,0,0,0,0,0,0,0,0,18,0,0,0,0,0,0,0,0,{"$f":"HYPERLINK(\"http://www.openstreetmap.org/?mlat=33.4918&mlon=44.2526&zoom=12#map=12/33.4918/44.2526\",\"Maplink1\")","v":"Maplink1"},{"$f":"HYPERLINK(\"https://www.google.iq/maps/search/+33.4918,44.2526/@33.4918,44.2526,14z?hl=en\",\"Maplink2\")","v":"Maplink2"},{"$f":"HYPERLINK(\"http://www.bing.com/maps/?lvl=14&sty=h&cp=33.4918~44.2526&sp=point.33.4918_44.2526\",\"Maplink3\")","v":"Maplink3"}]
[23581,"Baghdad","Al-Kadhmiyah","Al-Taji","Hay Hasan AlAskari","حي الحسن العسكري",33.4752721,44.2436845,2,12,0,0,0,0,0,0,12,0,0,0,0,0,0,0,0,12,0,0,0,0,0,0,0,0,0,0,0,0,0,0,0,0,0,0,0,12,0,0,0,0,0,0,0,0,0,{"$f":"HYPERLINK(\"http://www.openstreetmap.org/?mlat=33.4753&mlon=44.2437&zoom=12#map=12/33.4753/44.2437\",\"Maplink1\")","v":"Maplink1"},{"$f":"HYPERLINK(\"https://www.google.iq/maps/search/+33.4753,44.2437/@33.4753,44.2437,14z?hl=en\",\"Maplink2\")","v":"Maplink2"},{"$f":"HYPERLINK(\"http://www.bing.com/maps/?lvl=14&sty=h&cp=33.4753~44.2437&sp=point.33.4753_44.2437\",\"Maplink3\")","v":"Maplink3"}]
[23641,"Baghdad","Al-Kadhmiyah","Al-Taji","Hay Al Shuhada","حي الشهداء",33.4578014,44.2447808,4,24,0,0,0,0,0,0,24,0,0,0,0,0,0,0,0,24,0,0,0,0,0,0,0,0,0,0,0,0,0,0,0,0,0,0,6,18,0,0,0,0,0,0,0,0,0,{"$f":"HYPERLINK(\"http://www.openstreetmap.org/?mlat=33.4578&mlon=44.2448&zoom=12#map=12/33.4578/44.2448\",\"Maplink1\")","v":"Maplink1"},{"$f":"HYPERLINK(\"https://www.google.iq/maps/search/+33.4578,44.2448/@33.4578,44.2448,14z?hl=en\",\"Maplink2\")","v":"Maplink2"},{"$f":"HYPERLINK(\"http://www.bing.com/maps/?lvl=14&sty=h&cp=33.4578~44.2448&sp=point.33.4578_44.2448\",\"Maplink3\")","v":"Maplink3"}]
[27413,"Baghdad","Al-Kadhmiyah","Al-Taji","Al Ahnaf-Al Rakia Fadel village","الأحنف-اركية وفاضل",33.4349745642,44.2439240646,2,12,0,0,0,0,0,0,0,0,0,12,0,0,0,0,0,0,0,0,0,0,0,0,0,0,0,0,0,0,0,12,0,0,0,0,0,12,0,0,0,0,0,0,0,0,0,{"$f":"HYPERLINK(\"http://www.openstreetmap.org/?mlat=33.435&mlon=44.2439&zoom=12#map=12/33.435/44.2439\",\"Maplink1\")","v":"Maplink1"},{"$f":"HYPERLINK(\"https://www.google.iq/maps/search/+33.435,44.2439/@33.435,44.2439,14z?hl=en\",\"Maplink2\")","v":"Maplink2"},{"$f":"HYPERLINK(\"http://www.bing.com/maps/?lvl=14&sty=h&cp=33.435~44.2439&sp=point.33.435_44.2439\",\"Maplink3\")","v":"Maplink3"}]
[25174,"Baghdad","Al-Kadhmiyah","Al-Taji","Ali Al Hamad Village","قرية علي الحمد",33.4677595,44.2146024,4,24,0,0,0,24,0,0,0,0,0,0,0,0,0,0,0,24,0,0,0,0,0,0,0,0,0,0,0,0,0,0,0,0,0,0,0,0,0,24,0,0,0,0,0,0,0,{"$f":"HYPERLINK(\"http://www.openstreetmap.org/?mlat=33.4678&mlon=44.2146&zoom=12#map=12/33.4678/44.2146\",\"Maplink1\")","v":"Maplink1"},{"$f":"HYPERLINK(\"https://www.google.iq/maps/search/+33.4678,44.2146/@33.4678,44.2146,14z?hl=en\",\"Maplink2\")","v":"Maplink2"},{"$f":"HYPERLINK(\"http://www.bing.com/maps/?lvl=14&sty=h&cp=33.4678~44.2146&sp=point.33.4678_44.2146\",\"Maplink3\")","v":"Maplink3"}]
[28398,"Baghdad","Al-Kadhmiyah","Al-Taji","Abd Al Hammad village","قرية عبد الحماد",33.49,44.24,4,24,0,0,0,0,0,0,24,0,0,0,0,0,0,0,0,24,0,0,0,0,0,0,0,0,0,0,0,0,0,0,0,0,0,0,0,0,0,24,0,0,0,0,0,0,0,{"$f":"HYPERLINK(\"http://www.openstreetmap.org/?mlat=33.49&mlon=44.24&zoom=12#map=12/33.49/44.24\",\"Maplink1\")","v":"Maplink1"},{"$f":"HYPERLINK(\"https://www.google.iq/maps/search/+33.49,44.24/@33.49,44.24,14z?hl=en\",\"Maplink2\")","v":"Maplink2"},{"$f":"HYPERLINK(\"http://www.bing.com/maps/?lvl=14&sty=h&cp=33.49~44.24&sp=point.33.49_44.24\",\"Maplink3\")","v":"Maplink3"}]
[22541,"Baghdad","Al-Kadhmiyah","Al-Taji","Sabea Al Buor-12000","سبع البور-12000",33.4646892,44.1691308,5,30,0,0,0,0,0,0,30,0,0,0,0,0,0,0,0,30,0,0,0,0,0,0,0,0,0,0,0,0,0,0,0,0,0,0,0,24,6,0,0,0,0,0,0,0,0,{"$f":"HYPERLINK(\"http://www.openstreetmap.org/?mlat=33.4647&mlon=44.1691&zoom=12#map=12/33.4647/44.1691\",\"Maplink1\")","v":"Maplink1"},{"$f":"HYPERLINK(\"https://www.google.iq/maps/search/+33.4647,44.1691/@33.4647,44.1691,14z?hl=en\",\"Maplink2\")","v":"Maplink2"},{"$f":"HYPERLINK(\"http://www.bing.com/maps/?lvl=14&sty=h&cp=33.4647~44.1691&sp=point.33.4647_44.1691\",\"Maplink3\")","v":"Maplink3"}]
[25176,"Baghdad","Al-Kadhmiyah","Al-Taji","Albu Dawod Village","قرية البو داوود",33.4705827,44.21752,4,24,0,0,0,24,0,0,0,0,0,0,0,0,0,0,0,24,0,0,0,0,0,0,0,0,0,0,0,0,0,0,0,0,0,0,0,0,0,24,0,0,0,0,0,0,0,{"$f":"HYPERLINK(\"http://www.openstreetmap.org/?mlat=33.4706&mlon=44.2175&zoom=12#map=12/33.4706/44.2175\",\"Maplink1\")","v":"Maplink1"},{"$f":"HYPERLINK(\"https://www.google.iq/maps/search/+33.4706,44.2175/@33.4706,44.2175,14z?hl=en\",\"Maplink2\")","v":"Maplink2"},{"$f":"HYPERLINK(\"http://www.bing.com/maps/?lvl=14&sty=h&cp=33.4706~44.2175&sp=point.33.4706_44.2175\",\"Maplink3\")","v":"Maplink3"}]
[24061,"Baghdad","Al-Kadhmiyah","Al-Tarmiya","Al Tarmiya Center","مركز الطارمية",33.6630323807,44.3989024356,20,120,0,0,0,0,0,0,90,30,0,0,0,0,0,0,0,120,0,0,0,0,0,0,0,0,0,0,0,0,0,0,0,0,0,120,0,0,0,0,0,0,0,0,0,0,0,{"$f":"HYPERLINK(\"http://www.openstreetmap.org/?mlat=33.663&mlon=44.3989&zoom=12#map=12/33.663/44.3989\",\"Maplink1\")","v":"Maplink1"},{"$f":"HYPERLINK(\"https://www.google.iq/maps/search/+33.663,44.3989/@33.663,44.3989,14z?hl=en\",\"Maplink2\")","v":"Maplink2"},{"$f":"HYPERLINK(\"http://www.bing.com/maps/?lvl=14&sty=h&cp=33.663~44.3989&sp=point.33.663_44.3989\",\"Maplink3\")","v":"Maplink3"}]
[25022,"Baghdad","Al-Kadhmiyah","Al-Tarmiya","Al Gserin Village","قرية كصيرين",33.6920507284,44.4351627778,2,12,0,0,0,0,0,0,12,0,0,0,0,0,0,0,0,0,0,0,0,0,0,0,0,0,0,0,0,0,0,12,0,0,0,0,12,0,0,0,0,0,0,0,0,0,0,{"$f":"HYPERLINK(\"http://www.openstreetmap.org/?mlat=33.6921&mlon=44.4352&zoom=12#map=12/33.6921/44.4352\",\"Maplink1\")","v":"Maplink1"},{"$f":"HYPERLINK(\"https://www.google.iq/maps/search/+33.6921,44.4352/@33.6921,44.4352,14z?hl=en\",\"Maplink2\")","v":"Maplink2"},{"$f":"HYPERLINK(\"http://www.bing.com/maps/?lvl=14&sty=h&cp=33.6921~44.4352&sp=point.33.6921_44.4352\",\"Maplink3\")","v":"Maplink3"}]
[25427,"Baghdad","Al-Kadhmiyah","Al-Tarmiya","Abu Sreweel Village","قرية أبو سريويل",33.6962642952,44.4148884302,21,126,0,0,0,0,0,0,102,24,0,0,0,0,0,0,0,0,0,0,0,0,0,0,0,0,0,0,0,0,0,126,0,0,0,0,0,78,0,48,0,0,0,0,0,0,0,{"$f":"HYPERLINK(\"http://www.openstreetmap.org/?mlat=33.6963&mlon=44.4149&zoom=12#map=12/33.6963/44.4149\",\"Maplink1\")","v":"Maplink1"},{"$f":"HYPERLINK(\"https://www.google.iq/maps/search/+33.6963,44.4149/@33.6963,44.4149,14z?hl=en\",\"Maplink2\")","v":"Maplink2"},{"$f":"HYPERLINK(\"http://www.bing.com/maps/?lvl=14&sty=h&cp=33.6963~44.4149&sp=point.33.6963_44.4149\",\"Maplink3\")","v":"Maplink3"}]
[25417,"Baghdad","Al-Kadhmiyah","Al-Tarmiya","Al Farook Quarter-2","حي الفاروق-2",33.6616158792,44.394241967,21,126,0,0,0,0,0,18,78,30,0,0,0,0,0,0,0,126,0,0,0,0,0,0,0,0,0,0,0,0,0,0,0,0,0,48,0,48,30,0,0,0,0,0,0,0,0,{"$f":"HYPERLINK(\"http://www.openstreetmap.org/?mlat=33.6616&mlon=44.3942&zoom=12#map=12/33.6616/44.3942\",\"Maplink1\")","v":"Maplink1"},{"$f":"HYPERLINK(\"https://www.google.iq/maps/search/+33.6616,44.3942/@33.6616,44.3942,14z?hl=en\",\"Maplink2\")","v":"Maplink2"},{"$f":"HYPERLINK(\"http://www.bing.com/maps/?lvl=14&sty=h&cp=33.6616~44.3942&sp=point.33.6616_44.3942\",\"Maplink3\")","v":"Maplink3"}]
[25419,"Baghdad","Al-Kadhmiyah","Al-Tarmiya","Hai Al Hukem Al Mahali","حي الحكم المحلي",33.6638401784,44.3814264605,31,186,0,0,0,0,0,24,138,0,24,0,0,0,0,0,0,102,0,0,0,0,48,0,0,0,0,0,0,0,0,36,0,0,0,102,0,84,0,0,0,0,0,0,0,0,0,{"$f":"HYPERLINK(\"http://www.openstreetmap.org/?mlat=33.6638&mlon=44.3814&zoom=12#map=12/33.6638/44.3814\",\"Maplink1\")","v":"Maplink1"},{"$f":"HYPERLINK(\"https://www.google.iq/maps/search/+33.6638,44.3814/@33.6638,44.3814,14z?hl=en\",\"Maplink2\")","v":"Maplink2"},{"$f":"HYPERLINK(\"http://www.bing.com/maps/?lvl=14&sty=h&cp=33.6638~44.3814&sp=point.33.6638_44.3814\",\"Maplink3\")","v":"Maplink3"}]
[29501,"Baghdad","Al-Kadhmiyah","That al Salasil","Sabea Al Buor-Hamed Al Farij","سبع البور-حميد الفرج",33.4298312,44.164377,5,30,0,0,0,0,0,0,30,0,0,0,0,0,0,0,0,30,0,0,0,0,0,0,0,0,0,0,0,0,0,0,0,0,0,0,0,0,0,30,0,0,0,0,0,0,0,{"$f":"HYPERLINK(\"http://www.openstreetmap.org/?mlat=33.4298&mlon=44.1644&zoom=12#map=12/33.4298/44.1644\",\"Maplink1\")","v":"Maplink1"},{"$f":"HYPERLINK(\"https://www.google.iq/maps/search/+33.4298,44.1644/@33.4298,44.1644,14z?hl=en\",\"Maplink2\")","v":"Maplink2"},{"$f":"HYPERLINK(\"http://www.bing.com/maps/?lvl=14&sty=h&cp=33.4298~44.1644&sp=point.33.4298_44.1644\",\"Maplink3\")","v":"Maplink3"}]
[27315,"Baghdad","Al-Kadhmiyah","That al Salasil","Shoala-454","الشعلة-454",33.3758583678,44.2881956585,1,6,0,0,0,0,0,0,6,0,0,0,0,0,0,0,0,0,0,0,0,0,0,0,0,0,0,0,0,6,0,0,0,0,0,0,0,6,0,0,0,0,0,0,0,0,0,{"$f":"HYPERLINK(\"http://www.openstreetmap.org/?mlat=33.3759&mlon=44.2882&zoom=12#map=12/33.3759/44.2882\",\"Maplink1\")","v":"Maplink1"},{"$f":"HYPERLINK(\"https://www.google.iq/maps/search/+33.3759,44.2882/@33.3759,44.2882,14z?hl=en\",\"Maplink2\")","v":"Maplink2"},{"$f":"HYPERLINK(\"http://www.bing.com/maps/?lvl=14&sty=h&cp=33.3759~44.2882&sp=point.33.3759_44.2882\",\"Maplink3\")","v":"Maplink3"}]
[23985,"Baghdad","Al-Karkh","Al-Mamoon","Al Mechanic(Al Hader)-830","الميكانيك-830(الحضر)",33.2377181,44.3940443,12,72,0,0,0,0,0,0,72,0,0,0,0,0,0,0,0,30,24,0,0,0,0,0,0,0,0,0,0,18,0,0,0,0,0,30,24,0,18,0,0,0,0,0,0,0,0,{"$f":"HYPERLINK(\"http://www.openstreetmap.org/?mlat=33.2377&mlon=44.394&zoom=12#map=12/33.2377/44.394\",\"Maplink1\")","v":"Maplink1"},{"$f":"HYPERLINK(\"https://www.google.iq/maps/search/+33.2377,44.394/@33.2377,44.394,14z?hl=en\",\"Maplink2\")","v":"Maplink2"},{"$f":"HYPERLINK(\"http://www.bing.com/maps/?lvl=14&sty=h&cp=33.2377~44.394&sp=point.33.2377_44.394\",\"Maplink3\")","v":"Maplink3"}]
[24075,"Baghdad","Al-Karkh","Al-Mamoon","Shurta Al Masafi-840","شرطة المصافي 840(المصافي)",33.2516160877,44.4040855243,13,78,0,0,0,18,0,0,60,0,0,0,0,0,0,0,0,42,0,0,0,0,0,0,0,0,0,0,0,24,0,12,0,0,0,18,0,0,36,24,0,0,0,0,0,0,0,{"$f":"HYPERLINK(\"http://www.openstreetmap.org/?mlat=33.2516&mlon=44.4041&zoom=12#map=12/33.2516/44.4041\",\"Maplink1\")","v":"Maplink1"},{"$f":"HYPERLINK(\"https://www.google.iq/maps/search/+33.2516,44.4041/@33.2516,44.4041,14z?hl=en\",\"Maplink2\")","v":"Maplink2"},{"$f":"HYPERLINK(\"http://www.bing.com/maps/?lvl=14&sty=h&cp=33.2516~44.4041&sp=point.33.2516_44.4041\",\"Maplink3\")","v":"Maplink3"}]
[24074,"Baghdad","Al-Karkh","Al-Mamoon","Al Jamhoriyah(Al Masfi)-838","الجمهورية 838(المصافي)",33.2536430832,44.4091271652,11,66,0,0,0,0,0,0,66,0,0,0,0,0,0,0,0,48,0,0,0,0,0,0,0,0,0,0,0,18,0,0,0,0,0,0,0,48,18,0,0,0,0,0,0,0,0,{"$f":"HYPERLINK(\"http://www.openstreetmap.org/?mlat=33.2536&mlon=44.4091&zoom=12#map=12/33.2536/44.4091\",\"Maplink1\")","v":"Maplink1"},{"$f":"HYPERLINK(\"https://www.google.iq/maps/search/+33.2536,44.4091/@33.2536,44.4091,14z?hl=en\",\"Maplink2\")","v":"Maplink2"},{"$f":"HYPERLINK(\"http://www.bing.com/maps/?lvl=14&sty=h&cp=33.2536~44.4091&sp=point.33.2536_44.4091\",\"Maplink3\")","v":"Maplink3"}]
[23983,"Baghdad","Al-Karkh","Al-Mamoon","Al Jazera-808","الجزيرة-808",33.2644083225,44.3964497853,15,90,0,0,0,30,0,0,60,0,0,0,0,0,0,0,0,66,0,0,0,0,0,0,0,0,0,0,0,12,0,12,0,0,0,0,66,0,0,12,12,0,0,0,0,0,0,{"$f":"HYPERLINK(\"http://www.openstreetmap.org/?mlat=33.2644&mlon=44.3964&zoom=12#map=12/33.2644/44.3964\",\"Maplink1\")","v":"Maplink1"},{"$f":"HYPERLINK(\"https://www.google.iq/maps/search/+33.2644,44.3964/@33.2644,44.3964,14z?hl=en\",\"Maplink2\")","v":"Maplink2"},{"$f":"HYPERLINK(\"http://www.bing.com/maps/?lvl=14&sty=h&cp=33.2644~44.3964&sp=point.33.2644_44.3964\",\"Maplink3\")","v":"Maplink3"}]
[23984,"Baghdad","Al-Karkh","Al-Mamoon","Al Toma(Al Masfi)-826","الطعمة-826(المصافي)",33.2483973164,44.3975484982,27,162,0,0,0,0,0,24,138,0,0,0,0,0,0,0,0,108,0,0,0,0,0,0,0,0,0,0,0,30,0,24,0,0,0,30,54,24,0,24,30,0,0,0,0,0,0,{"$f":"HYPERLINK(\"http://www.openstreetmap.org/?mlat=33.2484&mlon=44.3975&zoom=12#map=12/33.2484/44.3975\",\"Maplink1\")","v":"Maplink1"},{"$f":"HYPERLINK(\"https://www.google.iq/maps/search/+33.2484,44.3975/@33.2484,44.3975,14z?hl=en\",\"Maplink2\")","v":"Maplink2"},{"$f":"HYPERLINK(\"http://www.bing.com/maps/?lvl=14&sty=h&cp=33.2484~44.3975&sp=point.33.2484_44.3975\",\"Maplink3\")","v":"Maplink3"}]
[23727,"Baghdad","Al-Karkh","Al-Mansour","Al Jameah-627","الجامعة-627",33.3101767944,44.3251078431,2,12,0,0,0,6,0,0,6,0,0,0,0,0,0,0,0,6,0,0,0,0,0,0,0,0,0,0,0,6,0,0,0,0,0,0,0,6,0,0,0,6,0,0,0,0,0,{"$f":"HYPERLINK(\"http://www.openstreetmap.org/?mlat=33.3102&mlon=44.3251&zoom=12#map=12/33.3102/44.3251\",\"Maplink1\")","v":"Maplink1"},{"$f":"HYPERLINK(\"https://www.google.iq/maps/search/+33.3102,44.3251/@33.3102,44.3251,14z?hl=en\",\"Maplink2\")","v":"Maplink2"},{"$f":"HYPERLINK(\"http://www.bing.com/maps/?lvl=14&sty=h&cp=33.3102~44.3251&sp=point.33.3102_44.3251\",\"Maplink3\")","v":"Maplink3"}]
[23506,"Baghdad","Al-Karkh","Al-Mansour","Hay Al Amel-805","حي العامل-805",33.2823742502,44.3379076669,5,30,0,0,0,0,0,0,30,0,0,0,0,0,0,0,0,12,0,0,0,0,0,0,0,0,0,0,0,18,0,0,0,0,0,6,24,0,0,0,0,0,0,0,0,0,0,{"$f":"HYPERLINK(\"http://www.openstreetmap.org/?mlat=33.2824&mlon=44.3379&zoom=12#map=12/33.2824/44.3379\",\"Maplink1\")","v":"Maplink1"},{"$f":"HYPERLINK(\"https://www.google.iq/maps/search/+33.2824,44.3379/@33.2824,44.3379,14z?hl=en\",\"Maplink2\")","v":"Maplink2"},{"$f":"HYPERLINK(\"http://www.bing.com/maps/?lvl=14&sty=h&cp=33.2824~44.3379&sp=point.33.2824_44.3379\",\"Maplink3\")","v":"Maplink3"}]
[23507,"Baghdad","Al-Karkh","Al-Mansour","Hay Al Amel-811","حي العامل-811",33.2733304,44.3234437,4,24,0,0,0,12,0,0,12,0,0,0,0,0,0,0,0,12,0,0,0,0,0,0,0,0,0,0,0,12,0,0,0,0,0,0,24,0,0,0,0,0,0,0,0,0,0,{"$f":"HYPERLINK(\"http://www.openstreetmap.org/?mlat=33.2733&mlon=44.3234&zoom=12#map=12/33.2733/44.3234\",\"Maplink1\")","v":"Maplink1"},{"$f":"HYPERLINK(\"https://www.google.iq/maps/search/+33.2733,44.3234/@33.2733,44.3234,14z?hl=en\",\"Maplink2\")","v":"Maplink2"},{"$f":"HYPERLINK(\"http://www.bing.com/maps/?lvl=14&sty=h&cp=33.2733~44.3234&sp=point.33.2733_44.3234\",\"Maplink3\")","v":"Maplink3"}]
[25932,"Baghdad","Al-Karkh","Al-Mansour","Al Mutanbi-605","المتنبي-605",33.3198152988,44.347270163,3,18,0,0,0,0,0,0,18,0,0,0,0,0,0,0,0,0,0,0,0,0,0,0,0,0,0,0,0,18,0,0,0,0,0,0,0,18,0,0,0,0,0,0,0,0,0,{"$f":"HYPERLINK(\"http://www.openstreetmap.org/?mlat=33.3198&mlon=44.3473&zoom=12#map=12/33.3198/44.3473\",\"Maplink1\")","v":"Maplink1"},{"$f":"HYPERLINK(\"https://www.google.iq/maps/search/+33.3198,44.3473/@33.3198,44.3473,14z?hl=en\",\"Maplink2\")","v":"Maplink2"},{"$f":"HYPERLINK(\"http://www.bing.com/maps/?lvl=14&sty=h&cp=33.3198~44.3473&sp=point.33.3198_44.3473\",\"Maplink3\")","v":"Maplink3"}]
[26101,"Baghdad","Al-Karkh","Al-Mansour","Hay Al Jehad-887","حي الجهاد-887",33.280283135,44.294826463,5,30,0,0,0,0,0,12,18,0,0,0,0,0,0,0,0,12,0,0,0,0,0,0,0,0,0,0,0,12,0,6,0,0,0,0,0,6,12,12,0,0,0,0,0,0,0,{"$f":"HYPERLINK(\"http://www.openstreetmap.org/?mlat=33.2803&mlon=44.2948&zoom=12#map=12/33.2803/44.2948\",\"Maplink1\")","v":"Maplink1"},{"$f":"HYPERLINK(\"https://www.google.iq/maps/search/+33.2803,44.2948/@33.2803,44.2948,14z?hl=en\",\"Maplink2\")","v":"Maplink2"},{"$f":"HYPERLINK(\"http://www.bing.com/maps/?lvl=14&sty=h&cp=33.2803~44.2948&sp=point.33.2803_44.2948\",\"Maplink3\")","v":"Maplink3"}]
[21446,"Baghdad","Al-Karkh","Al-Mansour","Al Amreya-628","العامرية-628",33.2955886966,44.3055589668,2,12,0,0,0,0,0,0,12,0,0,0,0,0,0,0,0,0,0,0,0,0,0,0,0,0,0,0,0,12,0,0,0,0,0,0,0,0,12,0,0,0,0,0,0,0,0,{"$f":"HYPERLINK(\"http://www.openstreetmap.org/?mlat=33.2956&mlon=44.3056&zoom=12#map=12/33.2956/44.3056\",\"Maplink1\")","v":"Maplink1"},{"$f":"HYPERLINK(\"https://www.google.iq/maps/search/+33.2956,44.3056/@33.2956,44.3056,14z?hl=en\",\"Maplink2\")","v":"Maplink2"},{"$f":"HYPERLINK(\"http://www.bing.com/maps/?lvl=14&sty=h&cp=33.2956~44.3056&sp=point.33.2956_44.3056\",\"Maplink3\")","v":"Maplink3"}]
[24060,"Baghdad","Al-Karkh","Al-Mansour","Al Andulus-617","الاندلس-617",33.3266568349,44.3354214025,2,12,0,0,0,12,0,0,0,0,0,0,0,0,0,0,0,0,0,0,0,0,0,0,0,0,0,0,0,12,0,0,0,0,0,0,12,0,0,0,0,0,0,0,0,0,0,{"$f":"HYPERLINK(\"http://www.openstreetmap.org/?mlat=33.3267&mlon=44.3354&zoom=12#map=12/33.3267/44.3354\",\"Maplink1\")","v":"Maplink1"},{"$f":"HYPERLINK(\"https://www.google.iq/maps/search/+33.3267,44.3354/@33.3267,44.3354,14z?hl=en\",\"Maplink2\")","v":"Maplink2"},{"$f":"HYPERLINK(\"http://www.bing.com/maps/?lvl=14&sty=h&cp=33.3267~44.3354&sp=point.33.3267_44.3354\",\"Maplink3\")","v":"Maplink3"}]
[27190,"Baghdad","Al-Karkh","Al-Mansour","Al Resala-853","الرسالة-853",33.23786728,44.32148595,4,24,0,0,0,0,0,0,24,0,0,0,0,0,0,0,0,6,0,0,0,0,0,0,0,0,0,0,0,18,0,0,0,0,0,0,6,0,0,18,0,0,0,0,0,0,0,{"$f":"HYPERLINK(\"http://www.openstreetmap.org/?mlat=33.2379&mlon=44.3215&zoom=12#map=12/33.2379/44.3215\",\"Maplink1\")","v":"Maplink1"},{"$f":"HYPERLINK(\"https://www.google.iq/maps/search/+33.2379,44.3215/@33.2379,44.3215,14z?hl=en\",\"Maplink2\")","v":"Maplink2"},{"$f":"HYPERLINK(\"http://www.bing.com/maps/?lvl=14&sty=h&cp=33.2379~44.3215&sp=point.33.2379_44.3215\",\"Maplink3\")","v":"Maplink3"}]
[25930,"Baghdad","Al-Karkh","Al-Mansour","Al-Mansour-609","حي المنصور-609",33.315591643,44.3420545354,2,12,0,0,0,0,0,0,12,0,0,0,0,0,0,0,0,6,0,0,0,0,0,0,0,0,0,0,0,6,0,0,0,0,0,0,6,6,0,0,0,0,0,0,0,0,0,{"$f":"HYPERLINK(\"http://www.openstreetmap.org/?mlat=33.3156&mlon=44.3421&zoom=12#map=12/33.3156/44.3421\",\"Maplink1\")","v":"Maplink1"},{"$f":"HYPERLINK(\"https://www.google.iq/maps/search/+33.3156,44.3421/@33.3156,44.3421,14z?hl=en\",\"Maplink2\")","v":"Maplink2"},{"$f":"HYPERLINK(\"http://www.bing.com/maps/?lvl=14&sty=h&cp=33.3156~44.3421&sp=point.33.3156_44.3421\",\"Maplink3\")","v":"Maplink3"}]
[25933,"Baghdad","Al-Karkh","Al-Mansour","Al Mutanbi-603","المتنبي-603",33.3220432206,44.3581395042,2,12,0,0,0,6,0,0,6,0,0,0,0,0,0,0,0,12,0,0,0,0,0,0,0,0,0,0,0,0,0,0,0,0,0,0,0,0,12,0,0,0,0,0,0,0,0,{"$f":"HYPERLINK(\"http://www.openstreetmap.org/?mlat=33.322&mlon=44.3581&zoom=12#map=12/33.322/44.3581\",\"Maplink1\")","v":"Maplink1"},{"$f":"HYPERLINK(\"https://www.google.iq/maps/search/+33.322,44.3581/@33.322,44.3581,14z?hl=en\",\"Maplink2\")","v":"Maplink2"},{"$f":"HYPERLINK(\"http://www.bing.com/maps/?lvl=14&sty=h&cp=33.322~44.3581&sp=point.33.322_44.3581\",\"Maplink3\")","v":"Maplink3"}]
[23086,"Baghdad","Al-Karkh","Al-Mansour","Al Shurta-875","الشرطة-875",33.248814,44.3124705,4,24,0,0,0,0,0,0,24,0,0,0,0,0,0,0,0,12,0,0,0,0,0,0,0,0,0,0,0,12,0,0,0,0,0,0,12,0,0,0,0,12,0,0,0,0,0,{"$f":"HYPERLINK(\"http://www.openstreetmap.org/?mlat=33.2488&mlon=44.3125&zoom=12#map=12/33.2488/44.3125\",\"Maplink1\")","v":"Maplink1"},{"$f":"HYPERLINK(\"https://www.google.iq/maps/search/+33.2488,44.3125/@33.2488,44.3125,14z?hl=en\",\"Maplink2\")","v":"Maplink2"},{"$f":"HYPERLINK(\"http://www.bing.com/maps/?lvl=14&sty=h&cp=33.2488~44.3125&sp=point.33.2488_44.3125\",\"Maplink3\")","v":"Maplink3"}]
[25206,"Baghdad","Al-Karkh","Al-Mansour","Al Khadraa-640","الخضراء-640",33.3234376614,44.2954521371,2,12,0,0,0,0,0,0,12,0,0,0,0,0,0,0,0,12,0,0,0,0,0,0,0,0,0,0,0,0,0,0,0,0,0,0,0,0,0,12,0,0,0,0,0,0,0,{"$f":"HYPERLINK(\"http://www.openstreetmap.org/?mlat=33.3234&mlon=44.2955&zoom=12#map=12/33.3234/44.2955\",\"Maplink1\")","v":"Maplink1"},{"$f":"HYPERLINK(\"https://www.google.iq/maps/search/+33.3234,44.2955/@33.3234,44.2955,14z?hl=en\",\"Maplink2\")","v":"Maplink2"},{"$f":"HYPERLINK(\"http://www.bing.com/maps/?lvl=14&sty=h&cp=33.3234~44.2955&sp=point.33.3234_44.2955\",\"Maplink3\")","v":"Maplink3"}]
[7732,"Baghdad","Al-Karkh","Al-Mansour","Al Mowasalat-863","المواصلات-863",33.2351564836,44.3167412287,3,18,0,0,0,0,0,0,18,0,0,0,0,0,0,0,0,0,0,0,0,0,0,0,0,0,0,0,0,18,0,0,0,0,0,0,18,0,0,0,0,0,0,0,0,0,0,{"$f":"HYPERLINK(\"http://www.openstreetmap.org/?mlat=33.2352&mlon=44.3167&zoom=12#map=12/33.2352/44.3167\",\"Maplink1\")","v":"Maplink1"},{"$f":"HYPERLINK(\"https://www.google.iq/maps/search/+33.2352,44.3167/@33.2352,44.3167,14z?hl=en\",\"Maplink2\")","v":"Maplink2"},{"$f":"HYPERLINK(\"http://www.bing.com/maps/?lvl=14&sty=h&cp=33.2352~44.3167&sp=point.33.2352_44.3167\",\"Maplink3\")","v":"Maplink3"}]
[23730,"Baghdad","Al-Karkh","Al-Mansour","Al Jameah-633","الجامعة-633",33.3184209168,44.3195435376,2,12,0,0,0,0,0,0,12,0,0,0,0,0,0,0,0,0,0,0,0,0,0,0,0,0,0,0,0,12,0,0,0,0,0,0,0,12,0,0,0,0,0,0,0,0,0,{"$f":"HYPERLINK(\"http://www.openstreetmap.org/?mlat=33.3184&mlon=44.3195&zoom=12#map=12/33.3184/44.3195\",\"Maplink1\")","v":"Maplink1"},{"$f":"HYPERLINK(\"https://www.google.iq/maps/search/+33.3184,44.3195/@33.3184,44.3195,14z?hl=en\",\"Maplink2\")","v":"Maplink2"},{"$f":"HYPERLINK(\"http://www.bing.com/maps/?lvl=14&sty=h&cp=33.3184~44.3195&sp=point.33.3184_44.3195\",\"Maplink3\")","v":"Maplink3"}]
[21448,"Baghdad","Al-Karkh","Al-Mansour","Al Amreya-630","العامرية-630",33.3016733065,44.2939972671,4,24,0,0,0,0,0,0,24,0,0,0,0,0,0,0,0,12,0,0,0,0,0,0,0,0,0,0,0,12,0,0,0,0,0,0,0,0,12,12,0,0,0,0,0,0,0,{"$f":"HYPERLINK(\"http://www.openstreetmap.org/?mlat=33.3017&mlon=44.294&zoom=12#map=12/33.3017/44.294\",\"Maplink1\")","v":"Maplink1"},{"$f":"HYPERLINK(\"https://www.google.iq/maps/search/+33.3017,44.294/@33.3017,44.294,14z?hl=en\",\"Maplink2\")","v":"Maplink2"},{"$f":"HYPERLINK(\"http://www.bing.com/maps/?lvl=14&sty=h&cp=33.3017~44.294&sp=point.33.3017_44.294\",\"Maplink3\")","v":"Maplink3"}]
[27187,"Baghdad","Al-Karkh","Al-Mansour","Al Ilam-829","الأعلام-829",33.24275965,44.3441087,4,24,0,0,0,0,0,0,24,0,0,0,0,0,0,0,0,12,0,0,0,0,12,0,0,0,0,0,0,0,0,0,0,0,0,0,12,0,12,0,0,0,0,0,0,0,0,{"$f":"HYPERLINK(\"http://www.openstreetmap.org/?mlat=33.2428&mlon=44.3441&zoom=12#map=12/33.2428/44.3441\",\"Maplink1\")","v":"Maplink1"},{"$f":"HYPERLINK(\"https://www.google.iq/maps/search/+33.2428,44.3441/@33.2428,44.3441,14z?hl=en\",\"Maplink2\")","v":"Maplink2"},{"$f":"HYPERLINK(\"http://www.bing.com/maps/?lvl=14&sty=h&cp=33.2428~44.3441&sp=point.33.2428_44.3441\",\"Maplink3\")","v":"Maplink3"}]
[25991,"Baghdad","Al-Karkh","Markaz Al-Karkh","Sheikh Maaroof-208","شيخ معروف-208",33.3381282002,44.3713889003,5,30,0,0,0,0,0,0,30,0,0,0,0,0,0,0,0,12,0,0,0,0,0,0,0,0,0,0,0,18,0,0,0,0,0,0,0,18,0,0,12,0,0,0,0,0,0,{"$f":"HYPERLINK(\"http://www.openstreetmap.org/?mlat=33.3381&mlon=44.3714&zoom=12#map=12/33.3381/44.3714\",\"Maplink1\")","v":"Maplink1"},{"$f":"HYPERLINK(\"https://www.google.iq/maps/search/+33.3381,44.3714/@33.3381,44.3714,14z?hl=en\",\"Maplink2\")","v":"Maplink2"},{"$f":"HYPERLINK(\"http://www.bing.com/maps/?lvl=14&sty=h&cp=33.3381~44.3714&sp=point.33.3381_44.3714\",\"Maplink3\")","v":"Maplink3"}]
[27248,"Baghdad","Al-Karkh","Markaz Al-Karkh","Al Karada-907","الكرادة-907",33.2962051,44.4159738,2,12,0,0,0,0,0,0,12,0,0,0,0,0,0,0,0,0,0,0,0,0,0,0,0,0,0,0,0,12,0,0,0,0,0,0,0,0,12,0,0,0,0,0,0,0,0,{"$f":"HYPERLINK(\"http://www.openstreetmap.org/?mlat=33.2962&mlon=44.416&zoom=12#map=12/33.2962/44.416\",\"Maplink1\")","v":"Maplink1"},{"$f":"HYPERLINK(\"https://www.google.iq/maps/search/+33.2962,44.416/@33.2962,44.416,14z?hl=en\",\"Maplink2\")","v":"Maplink2"},{"$f":"HYPERLINK(\"http://www.bing.com/maps/?lvl=14&sty=h&cp=33.2962~44.416&sp=point.33.2962_44.416\",\"Maplink3\")","v":"Maplink3"}]
[25005,"Baghdad","Al-Mada'in","Al-Wihda","9 Nissan","9 نيسان",33.3040041,44.6174501,5,30,0,0,0,0,0,0,30,0,0,0,0,0,0,0,0,0,0,0,0,0,0,0,0,0,0,0,0,30,0,0,0,0,0,0,30,0,0,0,0,0,0,0,0,0,0,{"$f":"HYPERLINK(\"http://www.openstreetmap.org/?mlat=33.304&mlon=44.6175&zoom=12#map=12/33.304/44.6175\",\"Maplink1\")","v":"Maplink1"},{"$f":"HYPERLINK(\"https://www.google.iq/maps/search/+33.304,44.6175/@33.304,44.6175,14z?hl=en\",\"Maplink2\")","v":"Maplink2"},{"$f":"HYPERLINK(\"http://www.bing.com/maps/?lvl=14&sty=h&cp=33.304~44.6175&sp=point.33.304_44.6175\",\"Maplink3\")","v":"Maplink3"}]
[25138,"Baghdad","Al-Mada'in","Al-Wihda","Al-Murtadha Village","قرية المرتضى",33.2435357,44.5963741,5,30,0,0,0,0,0,0,30,0,0,0,0,0,0,0,0,0,0,0,0,0,6,0,0,0,0,0,0,24,0,0,0,0,0,0,24,0,6,0,0,0,0,0,0,0,0,{"$f":"HYPERLINK(\"http://www.openstreetmap.org/?mlat=33.2435&mlon=44.5964&zoom=12#map=12/33.2435/44.5964\",\"Maplink1\")","v":"Maplink1"},{"$f":"HYPERLINK(\"https://www.google.iq/maps/search/+33.2435,44.5964/@33.2435,44.5964,14z?hl=en\",\"Maplink2\")","v":"Maplink2"},{"$f":"HYPERLINK(\"http://www.bing.com/maps/?lvl=14&sty=h&cp=33.2435~44.5964&sp=point.33.2435_44.5964\",\"Maplink3\")","v":"Maplink3"}]
[27418,"Baghdad","Al-Mada'in","Markaz Al-Mada'in","Hay al Jamaiya","حي الجمعية",33.1052714115,44.5751077523,2,12,0,0,0,12,0,0,0,0,0,0,0,0,0,0,0,0,0,0,0,0,0,0,0,0,0,0,0,12,0,0,0,0,0,0,12,0,0,0,0,0,0,0,0,0,0,{"$f":"HYPERLINK(\"http://www.openstreetmap.org/?mlat=33.1053&mlon=44.5751&zoom=12#map=12/33.1053/44.5751\",\"Maplink1\")","v":"Maplink1"},{"$f":"HYPERLINK(\"https://www.google.iq/maps/search/+33.1053,44.5751/@33.1053,44.5751,14z?hl=en\",\"Maplink2\")","v":"Maplink2"},{"$f":"HYPERLINK(\"http://www.bing.com/maps/?lvl=14&sty=h&cp=33.1053~44.5751&sp=point.33.1053_44.5751\",\"Maplink3\")","v":"Maplink3"}]
[25154,"Baghdad","Al-Mahmoudiya","Al-Latifya","Kilo 25","كيلو 25",32.9496732794,44.3734567059,7,42,0,0,0,0,0,0,42,0,0,0,0,0,0,0,0,0,42,0,0,0,0,0,0,0,0,0,0,0,0,0,0,0,0,0,0,0,42,0,0,0,0,0,0,0,0,{"$f":"HYPERLINK(\"http://www.openstreetmap.org/?mlat=32.9497&mlon=44.3735&zoom=12#map=12/32.9497/44.3735\",\"Maplink1\")","v":"Maplink1"},{"$f":"HYPERLINK(\"https://www.google.iq/maps/search/+32.9497,44.3735/@32.9497,44.3735,14z?hl=en\",\"Maplink2\")","v":"Maplink2"},{"$f":"HYPERLINK(\"http://www.bing.com/maps/?lvl=14&sty=h&cp=32.9497~44.3735&sp=point.32.9497_44.3735\",\"Maplink3\")","v":"Maplink3"}]
[21463,"Baghdad","Al-Mahmoudiya","Al-Latifya","Hay Al Mazraa","حي المزرعة ",33.0041750665,44.3673703763,18,108,0,0,0,0,0,0,60,12,36,0,0,0,0,0,0,0,108,0,0,0,0,0,0,0,0,0,0,0,0,0,0,0,0,0,0,108,0,0,0,0,0,0,0,0,0,{"$f":"HYPERLINK(\"http://www.openstreetmap.org/?mlat=33.0042&mlon=44.3674&zoom=12#map=12/33.0042/44.3674\",\"Maplink1\")","v":"Maplink1"},{"$f":"HYPERLINK(\"https://www.google.iq/maps/search/+33.0042,44.3674/@33.0042,44.3674,14z?hl=en\",\"Maplink2\")","v":"Maplink2"},{"$f":"HYPERLINK(\"http://www.bing.com/maps/?lvl=14&sty=h&cp=33.0042~44.3674&sp=point.33.0042_44.3674\",\"Maplink3\")","v":"Maplink3"}]
[27185,"Baghdad","Al-Mahmoudiya","Al-Rasheed","Al Maalef-837","المعالف-837",33.227186,44.343249,4,24,0,0,0,0,0,0,24,0,0,0,0,0,0,0,0,12,0,0,0,0,0,0,0,0,0,0,0,12,0,0,0,0,0,0,12,0,12,0,0,0,0,0,0,0,0,{"$f":"HYPERLINK(\"http://www.openstreetmap.org/?mlat=33.2272&mlon=44.3432&zoom=12#map=12/33.2272/44.3432\",\"Maplink1\")","v":"Maplink1"},{"$f":"HYPERLINK(\"https://www.google.iq/maps/search/+33.2272,44.3432/@33.2272,44.3432,14z?hl=en\",\"Maplink2\")","v":"Maplink2"},{"$f":"HYPERLINK(\"http://www.bing.com/maps/?lvl=14&sty=h&cp=33.2272~44.3432&sp=point.33.2272_44.3432\",\"Maplink3\")","v":"Maplink3"}]
[7587,"Baghdad","Al-Mahmoudiya","Al-Rasheed","Al Radwania","منطقة الرضوانية",33.1465350172,44.3000674561,42,252,0,0,0,30,0,0,222,0,0,0,0,0,0,0,0,204,0,0,0,0,0,0,0,0,0,0,0,48,0,0,0,0,0,0,204,0,48,0,0,0,0,0,0,0,0,{"$f":"HYPERLINK(\"http://www.openstreetmap.org/?mlat=33.1465&mlon=44.3001&zoom=12#map=12/33.1465/44.3001\",\"Maplink1\")","v":"Maplink1"},{"$f":"HYPERLINK(\"https://www.google.iq/maps/search/+33.1465,44.3001/@33.1465,44.3001,14z?hl=en\",\"Maplink2\")","v":"Maplink2"},{"$f":"HYPERLINK(\"http://www.bing.com/maps/?lvl=14&sty=h&cp=33.1465~44.3001&sp=point.33.1465_44.3001\",\"Maplink3\")","v":"Maplink3"}]
[25951,"Baghdad","Al-Mahmoudiya","Al-Rasheed","Al Raie 861","الري 861",33.22199554,44.33031348,4,24,0,0,0,0,0,0,24,0,0,0,0,0,0,0,0,12,0,0,0,0,0,0,0,0,0,0,0,12,0,0,0,0,0,0,24,0,0,0,0,0,0,0,0,0,0,{"$f":"HYPERLINK(\"http://www.openstreetmap.org/?mlat=33.222&mlon=44.3303&zoom=12#map=12/33.222/44.3303\",\"Maplink1\")","v":"Maplink1"},{"$f":"HYPERLINK(\"https://www.google.iq/maps/search/+33.222,44.3303/@33.222,44.3303,14z?hl=en\",\"Maplink2\")","v":"Maplink2"},{"$f":"HYPERLINK(\"http://www.bing.com/maps/?lvl=14&sty=h&cp=33.222~44.3303&sp=point.33.222_44.3303\",\"Maplink3\")","v":"Maplink3"}]
[25145,"Baghdad","Al-Mahmoudiya","Al-Yousifya","Dereia w Um Mahar","مقاطعة ديرية وأم محار",33.0886164,44.2849296,2,12,0,0,0,0,0,0,12,0,0,0,0,0,0,0,0,12,0,0,0,0,0,0,0,0,0,0,0,0,0,0,0,0,0,0,0,0,12,0,0,0,0,0,0,0,0,{"$f":"HYPERLINK(\"http://www.openstreetmap.org/?mlat=33.0886&mlon=44.2849&zoom=12#map=12/33.0886/44.2849\",\"Maplink1\")","v":"Maplink1"},{"$f":"HYPERLINK(\"https://www.google.iq/maps/search/+33.0886,44.2849/@33.0886,44.2849,14z?hl=en\",\"Maplink2\")","v":"Maplink2"},{"$f":"HYPERLINK(\"http://www.bing.com/maps/?lvl=14&sty=h&cp=33.0886~44.2849&sp=point.33.0886_44.2849\",\"Maplink3\")","v":"Maplink3"}]
[25936,"Baghdad","Al-Mahmoudiya","Al-Yousifya","Al Radhwania Al Sharkia-Obaid Al Saher Village","الرضوانية الشرقية-قرية عبيد الساهر",33.2171431,44.1731253,5,30,0,0,0,30,0,0,0,0,0,0,0,0,0,0,0,0,30,0,0,0,0,0,0,0,0,0,0,0,0,0,0,0,0,0,0,0,30,0,0,0,0,0,0,0,0,{"$f":"HYPERLINK(\"http://www.openstreetmap.org/?mlat=33.2171&mlon=44.1731&zoom=12#map=12/33.2171/44.1731\",\"Maplink1\")","v":"Maplink1"},{"$f":"HYPERLINK(\"https://www.google.iq/maps/search/+33.2171,44.1731/@33.2171,44.1731,14z?hl=en\",\"Maplink2\")","v":"Maplink2"},{"$f":"HYPERLINK(\"http://www.bing.com/maps/?lvl=14&sty=h&cp=33.2171~44.1731&sp=point.33.2171_44.1731\",\"Maplink3\")","v":"Maplink3"}]
[23977,"Baghdad","Al-Risafa","Al-Karrada Al-Sharqia","Al Zafaraniyah-957","الزعفرانية-957",33.25213206,44.47414169,2,12,0,0,0,0,0,0,12,0,0,0,0,0,0,0,0,12,0,0,0,0,0,0,0,0,0,0,0,0,0,0,0,0,0,0,12,0,0,0,0,0,0,0,0,0,0,{"$f":"HYPERLINK(\"http://www.openstreetmap.org/?mlat=33.2521&mlon=44.4741&zoom=12#map=12/33.2521/44.4741\",\"Maplink1\")","v":"Maplink1"},{"$f":"HYPERLINK(\"https://www.google.iq/maps/search/+33.2521,44.4741/@33.2521,44.4741,14z?hl=en\",\"Maplink2\")","v":"Maplink2"},{"$f":"HYPERLINK(\"http://www.bing.com/maps/?lvl=14&sty=h&cp=33.2521~44.4741&sp=point.33.2521_44.4741\",\"Maplink3\")","v":"Maplink3"}]
[21631,"Baghdad","Al-Risafa","Al-Karrada Al-Sharqia","Al Shaikh Omer-127","الشيخ عمر-127",33.34526,44.40019,3,18,0,0,0,0,0,0,18,0,0,0,0,0,0,0,0,6,0,0,0,0,0,0,0,0,0,0,0,12,0,0,0,0,0,6,12,0,0,0,0,0,0,0,0,0,0,{"$f":"HYPERLINK(\"http://www.openstreetmap.org/?mlat=33.3453&mlon=44.4002&zoom=12#map=12/33.3453/44.4002\",\"Maplink1\")","v":"Maplink1"},{"$f":"HYPERLINK(\"https://www.google.iq/maps/search/+33.3453,44.4002/@33.3453,44.4002,14z?hl=en\",\"Maplink2\")","v":"Maplink2"},{"$f":"HYPERLINK(\"http://www.bing.com/maps/?lvl=14&sty=h&cp=33.3453~44.4002&sp=point.33.3453_44.4002\",\"Maplink3\")","v":"Maplink3"}]
[21633,"Baghdad","Al-Risafa","Al-Karrada Al-Sharqia","Al Shaikh Omer-129","الشيخ عمر-129",33.3479651651,44.3952803485,8,48,0,0,0,0,0,0,48,0,0,0,0,0,0,0,0,12,0,0,0,0,0,0,0,0,0,0,0,18,0,18,0,0,0,0,18,24,0,6,0,0,0,0,0,0,0,{"$f":"HYPERLINK(\"http://www.openstreetmap.org/?mlat=33.348&mlon=44.3953&zoom=12#map=12/33.348/44.3953\",\"Maplink1\")","v":"Maplink1"},{"$f":"HYPERLINK(\"https://www.google.iq/maps/search/+33.348,44.3953/@33.348,44.3953,14z?hl=en\",\"Maplink2\")","v":"Maplink2"},{"$f":"HYPERLINK(\"http://www.bing.com/maps/?lvl=14&sty=h&cp=33.348~44.3953&sp=point.33.348_44.3953\",\"Maplink3\")","v":"Maplink3"}]
[22140,"Baghdad","Al-Risafa","Al-Karrada Al-Sharqia","Hay Diyala-952","حي ديالى-952",33.2657916,44.4975617,3,18,0,0,0,0,0,0,18,0,0,0,0,0,0,0,0,0,0,0,0,0,0,0,0,0,0,0,0,18,0,0,0,0,0,0,0,18,0,0,0,0,0,0,0,0,0,{"$f":"HYPERLINK(\"http://www.openstreetmap.org/?mlat=33.2658&mlon=44.4976&zoom=12#map=12/33.2658/44.4976\",\"Maplink1\")","v":"Maplink1"},{"$f":"HYPERLINK(\"https://www.google.iq/maps/search/+33.2658,44.4976/@33.2658,44.4976,14z?hl=en\",\"Maplink2\")","v":"Maplink2"},{"$f":"HYPERLINK(\"http://www.bing.com/maps/?lvl=14&sty=h&cp=33.2658~44.4976&sp=point.33.2658_44.4976\",\"Maplink3\")","v":"Maplink3"}]
[24010,"Baghdad","Al-Risafa","Al-Karrada Al-Sharqia","Al Zaafaranyah-965","الزعفرانية-965",33.24585935,44.48911365,3,18,0,0,0,0,0,0,18,0,0,0,0,0,0,0,0,0,0,0,0,0,0,0,0,0,0,0,0,18,0,0,0,0,0,0,18,0,0,0,0,0,0,0,0,0,0,{"$f":"HYPERLINK(\"http://www.openstreetmap.org/?mlat=33.2459&mlon=44.4891&zoom=12#map=12/33.2459/44.4891\",\"Maplink1\")","v":"Maplink1"},{"$f":"HYPERLINK(\"https://www.google.iq/maps/search/+33.2459,44.4891/@33.2459,44.4891,14z?hl=en\",\"Maplink2\")","v":"Maplink2"},{"$f":"HYPERLINK(\"http://www.bing.com/maps/?lvl=14&sty=h&cp=33.2459~44.4891&sp=point.33.2459_44.4891\",\"Maplink3\")","v":"Maplink3"}]
[24019,"Baghdad","Al-Risafa","Al-Karrada Al-Sharqia","Al Karada-905","الكرادة-905",33.2962278,44.419945,2,12,0,0,0,0,0,0,12,0,0,0,0,0,0,0,0,12,0,0,0,0,0,0,0,0,0,0,0,0,0,0,0,0,0,0,0,0,12,0,0,0,0,0,0,0,0,{"$f":"HYPERLINK(\"http://www.openstreetmap.org/?mlat=33.2962&mlon=44.4199&zoom=12#map=12/33.2962/44.4199\",\"Maplink1\")","v":"Maplink1"},{"$f":"HYPERLINK(\"https://www.google.iq/maps/search/+33.2962,44.4199/@33.2962,44.4199,14z?hl=en\",\"Maplink2\")","v":"Maplink2"},{"$f":"HYPERLINK(\"http://www.bing.com/maps/?lvl=14&sty=h&cp=33.2962~44.4199&sp=point.33.2962_44.4199\",\"Maplink3\")","v":"Maplink3"}]
[23988,"Baghdad","Al-Risafa","Al-Karrada Al-Sharqia","Al Riyadh-910","الرياض-910",33.30516683,44.45338322,4,24,0,0,0,0,0,0,24,0,0,0,0,0,0,0,0,0,0,0,0,0,0,0,0,0,0,0,0,12,0,12,0,0,0,0,0,24,0,0,0,0,0,0,0,0,0,{"$f":"HYPERLINK(\"http://www.openstreetmap.org/?mlat=33.3052&mlon=44.4534&zoom=12#map=12/33.3052/44.4534\",\"Maplink1\")","v":"Maplink1"},{"$f":"HYPERLINK(\"https://www.google.iq/maps/search/+33.3052,44.4534/@33.3052,44.4534,14z?hl=en\",\"Maplink2\")","v":"Maplink2"},{"$f":"HYPERLINK(\"http://www.bing.com/maps/?lvl=14&sty=h&cp=33.3052~44.4534&sp=point.33.3052_44.4534\",\"Maplink3\")","v":"Maplink3"}]
[23995,"Baghdad","Al-Risafa","Al-Karrada Al-Sharqia","Al Sindabad-979","السندباد-979",33.24637471,44.46246553,2,12,0,0,0,0,0,0,12,0,0,0,0,0,0,0,0,0,0,0,0,0,0,0,0,0,0,0,0,12,0,0,0,0,0,0,12,0,0,0,0,0,0,0,0,0,0,{"$f":"HYPERLINK(\"http://www.openstreetmap.org/?mlat=33.2464&mlon=44.4625&zoom=12#map=12/33.2464/44.4625\",\"Maplink1\")","v":"Maplink1"},{"$f":"HYPERLINK(\"https://www.google.iq/maps/search/+33.2464,44.4625/@33.2464,44.4625,14z?hl=en\",\"Maplink2\")","v":"Maplink2"},{"$f":"HYPERLINK(\"http://www.bing.com/maps/?lvl=14&sty=h&cp=33.2464~44.4625&sp=point.33.2464_44.4625\",\"Maplink3\")","v":"Maplink3"}]
[24342,"Baghdad","Al-Risafa","Baghdad Al-Jedeeda","Al Ubaidy 768","العبيدي 768",33.377097,44.52086029,3,18,0,0,0,0,0,0,18,0,0,0,0,0,0,0,0,0,0,0,0,0,0,0,0,0,0,0,0,18,0,0,0,0,0,0,0,0,0,0,0,18,0,0,0,0,0,{"$f":"HYPERLINK(\"http://www.openstreetmap.org/?mlat=33.3771&mlon=44.5209&zoom=12#map=12/33.3771/44.5209\",\"Maplink1\")","v":"Maplink1"},{"$f":"HYPERLINK(\"https://www.google.iq/maps/search/+33.3771,44.5209/@33.3771,44.5209,14z?hl=en\",\"Maplink2\")","v":"Maplink2"},{"$f":"HYPERLINK(\"http://www.bing.com/maps/?lvl=14&sty=h&cp=33.3771~44.5209&sp=point.33.3771_44.5209\",\"Maplink3\")","v":"Maplink3"}]
[25156,"Baghdad","Al-Risafa","Baghdad Al-Jedeeda","Baghdad Al Jadidia-727","بغداد الجديدة-727",33.31114091,44.47964695,1,6,0,0,0,0,0,0,6,0,0,0,0,0,0,0,0,0,0,0,0,0,0,0,0,0,0,0,0,6,0,0,0,0,0,0,0,6,0,0,0,0,0,0,0,0,0,{"$f":"HYPERLINK(\"http://www.openstreetmap.org/?mlat=33.3111&mlon=44.4796&zoom=12#map=12/33.3111/44.4796\",\"Maplink1\")","v":"Maplink1"},{"$f":"HYPERLINK(\"https://www.google.iq/maps/search/+33.3111,44.4796/@33.3111,44.4796,14z?hl=en\",\"Maplink2\")","v":"Maplink2"},{"$f":"HYPERLINK(\"http://www.bing.com/maps/?lvl=14&sty=h&cp=33.3111~44.4796&sp=point.33.3111_44.4796\",\"Maplink3\")","v":"Maplink3"}]
[24953,"Baghdad","Al-Risafa","Baghdad Al-Jedeeda","Al Kamaliya-765","الكمالية-765",33.3519511,44.5236588,3,18,0,0,0,0,0,0,18,0,0,0,0,0,0,0,0,0,0,0,0,0,0,0,0,0,0,0,0,18,0,0,0,0,0,0,0,0,18,0,0,0,0,0,0,0,0,{"$f":"HYPERLINK(\"http://www.openstreetmap.org/?mlat=33.352&mlon=44.5237&zoom=12#map=12/33.352/44.5237\",\"Maplink1\")","v":"Maplink1"},{"$f":"HYPERLINK(\"https://www.google.iq/maps/search/+33.352,44.5237/@33.352,44.5237,14z?hl=en\",\"Maplink2\")","v":"Maplink2"},{"$f":"HYPERLINK(\"http://www.bing.com/maps/?lvl=14&sty=h&cp=33.352~44.5237&sp=point.33.352_44.5237\",\"Maplink3\")","v":"Maplink3"}]
[21693,"Baghdad","Al-Risafa","Baghdad Al-Jedeeda","Al Maamil-774","المعامل-774",33.39495363,44.52464468,3,18,0,0,0,0,0,0,18,0,0,0,0,0,0,0,0,0,0,0,0,0,0,0,0,0,0,0,0,12,0,6,0,0,0,0,18,0,0,0,0,0,0,0,0,0,0,{"$f":"HYPERLINK(\"http://www.openstreetmap.org/?mlat=33.395&mlon=44.5246&zoom=12#map=12/33.395/44.5246\",\"Maplink1\")","v":"Maplink1"},{"$f":"HYPERLINK(\"https://www.google.iq/maps/search/+33.395,44.5246/@33.395,44.5246,14z?hl=en\",\"Maplink2\")","v":"Maplink2"},{"$f":"HYPERLINK(\"http://www.bing.com/maps/?lvl=14&sty=h&cp=33.395~44.5246&sp=point.33.395_44.5246\",\"Maplink3\")","v":"Maplink3"}]
[25401,"Baghdad","Al-Risafa","Baghdad Al-Jedeeda","Al Mashtal-731","المشتل-731",33.320602,44.4999216,4,24,0,0,0,0,0,0,24,0,0,0,0,0,0,0,0,6,0,0,0,0,0,0,0,0,0,0,0,6,0,12,0,0,0,0,18,6,0,0,0,0,0,0,0,0,0,{"$f":"HYPERLINK(\"http://www.openstreetmap.org/?mlat=33.3206&mlon=44.4999&zoom=12#map=12/33.3206/44.4999\",\"Maplink1\")","v":"Maplink1"},{"$f":"HYPERLINK(\"https://www.google.iq/maps/search/+33.3206,44.4999/@33.3206,44.4999,14z?hl=en\",\"Maplink2\")","v":"Maplink2"},{"$f":"HYPERLINK(\"http://www.bing.com/maps/?lvl=14&sty=h&cp=33.3206~44.4999&sp=point.33.3206_44.4999\",\"Maplink3\")","v":"Maplink3"}]
[24475,"Baghdad","Al-Risafa","Baghdad Al-Jedeeda","Al Maamil-771","المعامل-771",33.39013217,44.52669332,4,24,0,0,0,0,0,0,24,0,0,0,0,0,0,0,0,12,0,0,0,0,0,0,0,0,0,0,0,12,0,0,0,0,0,0,24,0,0,0,0,0,0,0,0,0,0,{"$f":"HYPERLINK(\"http://www.openstreetmap.org/?mlat=33.3901&mlon=44.5267&zoom=12#map=12/33.3901/44.5267\",\"Maplink1\")","v":"Maplink1"},{"$f":"HYPERLINK(\"https://www.google.iq/maps/search/+33.3901,44.5267/@33.3901,44.5267,14z?hl=en\",\"Maplink2\")","v":"Maplink2"},{"$f":"HYPERLINK(\"http://www.bing.com/maps/?lvl=14&sty=h&cp=33.3901~44.5267&sp=point.33.3901_44.5267\",\"Maplink3\")","v":"Maplink3"}]
[24497,"Baghdad","Al-Risafa","Baghdad Al-Jedeeda","Al baladiyat-728","البلديات-728",33.3326829,44.4743052,3,18,0,0,0,0,0,0,18,0,0,0,0,0,0,0,0,0,0,0,0,0,0,0,0,0,0,0,0,18,0,0,0,0,0,0,0,18,0,0,0,0,0,0,0,0,0,{"$f":"HYPERLINK(\"http://www.openstreetmap.org/?mlat=33.3327&mlon=44.4743&zoom=12#map=12/33.3327/44.4743\",\"Maplink1\")","v":"Maplink1"},{"$f":"HYPERLINK(\"https://www.google.iq/maps/search/+33.3327,44.4743/@33.3327,44.4743,14z?hl=en\",\"Maplink2\")","v":"Maplink2"},{"$f":"HYPERLINK(\"http://www.bing.com/maps/?lvl=14&sty=h&cp=33.3327~44.4743&sp=point.33.3327_44.4743\",\"Maplink3\")","v":"Maplink3"}]
[23004,"Baghdad","Al-Risafa","Baghdad Al-Jedeeda","Baghdad Al Jadidah-709","بغداد الجديدة-709",33.30202989,44.48850884,3,18,0,0,0,6,0,0,12,0,0,0,0,0,0,0,0,6,0,0,0,0,0,0,0,0,0,0,0,12,0,0,0,0,0,0,0,0,18,0,0,0,0,0,0,0,0,{"$f":"HYPERLINK(\"http://www.openstreetmap.org/?mlat=33.302&mlon=44.4885&zoom=12#map=12/33.302/44.4885\",\"Maplink1\")","v":"Maplink1"},{"$f":"HYPERLINK(\"https://www.google.iq/maps/search/+33.302,44.4885/@33.302,44.4885,14z?hl=en\",\"Maplink2\")","v":"Maplink2"},{"$f":"HYPERLINK(\"http://www.bing.com/maps/?lvl=14&sty=h&cp=33.302~44.4885&sp=point.33.302_44.4885\",\"Maplink3\")","v":"Maplink3"}]
[22145,"Baghdad","Al-Risafa","Baghdad Al-Jedeeda","Al Kamaliya-759","الكمالية-759",33.3502992,44.512312,3,18,0,0,0,0,0,0,18,0,0,0,0,0,0,0,0,0,0,0,0,0,0,0,0,0,0,0,0,18,0,0,0,0,0,0,0,18,0,0,0,0,0,0,0,0,0,{"$f":"HYPERLINK(\"http://www.openstreetmap.org/?mlat=33.3503&mlon=44.5123&zoom=12#map=12/33.3503/44.5123\",\"Maplink1\")","v":"Maplink1"},{"$f":"HYPERLINK(\"https://www.google.iq/maps/search/+33.3503,44.5123/@33.3503,44.5123,14z?hl=en\",\"Maplink2\")","v":"Maplink2"},{"$f":"HYPERLINK(\"http://www.bing.com/maps/?lvl=14&sty=h&cp=33.3503~44.5123&sp=point.33.3503_44.5123\",\"Maplink3\")","v":"Maplink3"}]
[24586,"Baghdad","Al-Thawra","Markaz Al-Thawra","Al Sadir5-522","الصدر-522",33.3814439162,44.4363574598,1,6,0,0,0,0,0,0,6,0,0,0,0,0,0,0,0,0,0,0,0,0,0,0,0,0,0,0,0,6,0,0,0,0,0,0,6,0,0,0,0,0,0,0,0,0,0,{"$f":"HYPERLINK(\"http://www.openstreetmap.org/?mlat=33.3814&mlon=44.4364&zoom=12#map=12/33.3814/44.4364\",\"Maplink1\")","v":"Maplink1"},{"$f":"HYPERLINK(\"https://www.google.iq/maps/search/+33.3814,44.4364/@33.3814,44.4364,14z?hl=en\",\"Maplink2\")","v":"Maplink2"},{"$f":"HYPERLINK(\"http://www.bing.com/maps/?lvl=14&sty=h&cp=33.3814~44.4364&sp=point.33.3814_44.4364\",\"Maplink3\")","v":"Maplink3"}]
[24277,"Baghdad","Al-Thawra","Markaz Al-Thawra","Al Karada-901","الكرادة-901",33.3460205,44.4674049,3,18,0,0,0,0,0,0,18,0,0,0,0,0,0,0,0,0,0,0,0,0,0,0,0,0,0,0,0,18,0,0,0,0,0,0,18,0,0,0,0,0,0,0,0,0,0,{"$f":"HYPERLINK(\"http://www.openstreetmap.org/?mlat=33.346&mlon=44.4674&zoom=12#map=12/33.346/44.4674\",\"Maplink1\")","v":"Maplink1"},{"$f":"HYPERLINK(\"https://www.google.iq/maps/search/+33.346,44.4674/@33.346,44.4674,14z?hl=en\",\"Maplink2\")","v":"Maplink2"},{"$f":"HYPERLINK(\"http://www.bing.com/maps/?lvl=14&sty=h&cp=33.346~44.4674&sp=point.33.346_44.4674\",\"Maplink3\")","v":"Maplink3"}]
[22537,"Baghdad","Al-Thawra","Markaz Al-Thawra","Al Sadir 5-528","الصدر-528",33.3885616726,44.4365776281,2,12,0,0,0,0,0,0,12,0,0,0,0,0,0,0,0,0,0,0,0,0,0,0,0,0,0,0,0,12,0,0,0,0,0,0,12,0,0,0,0,0,0,0,0,0,0,{"$f":"HYPERLINK(\"http://www.openstreetmap.org/?mlat=33.3886&mlon=44.4366&zoom=12#map=12/33.3886/44.4366\",\"Maplink1\")","v":"Maplink1"},{"$f":"HYPERLINK(\"https://www.google.iq/maps/search/+33.3886,44.4366/@33.3886,44.4366,14z?hl=en\",\"Maplink2\")","v":"Maplink2"},{"$f":"HYPERLINK(\"http://www.bing.com/maps/?lvl=14&sty=h&cp=33.3886~44.4366&sp=point.33.3886_44.4366\",\"Maplink3\")","v":"Maplink3"}]
[24932,"Baghdad","Al-Thawra","Markaz Al-Thawra","Al Sadir3-535","الصدر-535",33.363916,44.457766,1,6,0,0,0,0,0,0,6,0,0,0,0,0,0,0,0,0,0,0,0,0,0,0,0,0,0,0,0,6,0,0,0,0,0,0,6,0,0,0,0,0,0,0,0,0,0,{"$f":"HYPERLINK(\"http://www.openstreetmap.org/?mlat=33.3639&mlon=44.4578&zoom=12#map=12/33.3639/44.4578\",\"Maplink1\")","v":"Maplink1"},{"$f":"HYPERLINK(\"https://www.google.iq/maps/search/+33.3639,44.4578/@33.3639,44.4578,14z?hl=en\",\"Maplink2\")","v":"Maplink2"},{"$f":"HYPERLINK(\"http://www.bing.com/maps/?lvl=14&sty=h&cp=33.3639~44.4578&sp=point.33.3639_44.4578\",\"Maplink3\")","v":"Maplink3"}]
[23039,"Baghdad","Al-Thawra","Markaz Al-Thawra","Al Sadir6-575","الصدر-575",33.4014,44.4996,4,24,0,6,0,0,0,0,24,0,0,0,0,0,0,0,0,6,0,0,0,0,0,0,0,0,0,0,0,12,0,6,0,0,0,0,6,6,12,0,0,0,0,0,0,0,0,{"$f":"HYPERLINK(\"http://www.openstreetmap.org/?mlat=33.4014&mlon=44.4996&zoom=12#map=12/33.4014/44.4996\",\"Maplink1\")","v":"Maplink1"},{"$f":"HYPERLINK(\"https://www.google.iq/maps/search/+33.4014,44.4996/@33.4014,44.4996,14z?hl=en\",\"Maplink2\")","v":"Maplink2"},{"$f":"HYPERLINK(\"http://www.bing.com/maps/?lvl=14&sty=h&cp=33.4014~44.4996&sp=point.33.4014_44.4996\",\"Maplink3\")","v":"Maplink3"}]
[28445,"Diyala","Al-Khalis","Al-Atheem","Al Idhem Center","مركز ناحية العظيم",34.27432448,44.5389247987,20,120,0,0,0,0,0,0,120,0,0,0,0,0,0,0,0,0,0,0,0,0,120,0,0,0,0,0,0,0,0,0,0,0,0,0,0,0,0,0,0,0,0,0,0,120,0,{"$f":"HYPERLINK(\"http://www.openstreetmap.org/?mlat=34.2743&mlon=44.5389&zoom=12#map=12/34.2743/44.5389\",\"Maplink1\")","v":"Maplink1"},{"$f":"HYPERLINK(\"https://www.google.iq/maps/search/+34.2743,44.5389/@34.2743,44.5389,14z?hl=en\",\"Maplink2\")","v":"Maplink2"},{"$f":"HYPERLINK(\"http://www.bing.com/maps/?lvl=14&sty=h&cp=34.2743~44.5389&sp=point.34.2743_44.5389\",\"Maplink3\")","v":"Maplink3"}]
[25658,"Diyala","Al-Khalis","Al-Mansouriyah","Al Aqssa Village","قرية الاقصى",34.0656259775,44.8705151201,16,96,0,0,0,0,0,0,96,0,0,0,0,0,0,0,0,0,0,0,0,0,96,0,0,0,0,0,0,0,0,0,0,0,0,0,0,30,66,0,0,0,0,0,0,0,0,{"$f":"HYPERLINK(\"http://www.openstreetmap.org/?mlat=34.0656&mlon=44.8705&zoom=12#map=12/34.0656/44.8705\",\"Maplink1\")","v":"Maplink1"},{"$f":"HYPERLINK(\"https://www.google.iq/maps/search/+34.0656,44.8705/@34.0656,44.8705,14z?hl=en\",\"Maplink2\")","v":"Maplink2"},{"$f":"HYPERLINK(\"http://www.bing.com/maps/?lvl=14&sty=h&cp=34.0656~44.8705&sp=point.34.0656_44.8705\",\"Maplink3\")","v":"Maplink3"}]
[11487,"Diyala","Al-Khalis","Al-Mansouriyah","Al Askary Qtr","الحي العسكري",34.0664713836,44.8604759576,16,96,0,0,0,0,0,0,96,0,0,0,0,0,0,0,0,0,0,0,0,0,96,0,0,0,0,0,0,0,0,0,0,0,0,0,0,0,96,0,0,0,0,0,0,0,0,{"$f":"HYPERLINK(\"http://www.openstreetmap.org/?mlat=34.0665&mlon=44.8605&zoom=12#map=12/34.0665/44.8605\",\"Maplink1\")","v":"Maplink1"},{"$f":"HYPERLINK(\"https://www.google.iq/maps/search/+34.0665,44.8605/@34.0665,44.8605,14z?hl=en\",\"Maplink2\")","v":"Maplink2"},{"$f":"HYPERLINK(\"http://www.bing.com/maps/?lvl=14&sty=h&cp=34.0665~44.8605&sp=point.34.0665_44.8605\",\"Maplink3\")","v":"Maplink3"}]
[24913,"Diyala","Al-Khalis","Hibhib","Arab Tetn village","قرية عرب تتن",33.7606710399,44.5462036777,5,30,0,0,0,0,0,0,30,0,0,0,0,0,0,0,0,0,0,0,0,0,0,0,0,0,0,0,0,0,0,30,0,0,0,0,0,0,30,0,0,0,0,0,0,0,0,{"$f":"HYPERLINK(\"http://www.openstreetmap.org/?mlat=33.7607&mlon=44.5462&zoom=12#map=12/33.7607/44.5462\",\"Maplink1\")","v":"Maplink1"},{"$f":"HYPERLINK(\"https://www.google.iq/maps/search/+33.7607,44.5462/@33.7607,44.5462,14z?hl=en\",\"Maplink2\")","v":"Maplink2"},{"$f":"HYPERLINK(\"http://www.bing.com/maps/?lvl=14&sty=h&cp=33.7607~44.5462&sp=point.33.7607_44.5462\",\"Maplink3\")","v":"Maplink3"}]
[25027,"Diyala","Al-Khalis","Hibhib","Hibhib-Al Asry Qtr","الحي العصري",33.7809349054,44.5143199184,5,30,0,0,0,0,0,0,30,0,0,0,0,0,0,0,0,0,0,0,0,0,30,0,0,0,0,0,0,0,0,0,0,0,0,0,0,0,30,0,0,0,0,0,0,0,0,{"$f":"HYPERLINK(\"http://www.openstreetmap.org/?mlat=33.7809&mlon=44.5143&zoom=12#map=12/33.7809/44.5143\",\"Maplink1\")","v":"Maplink1"},{"$f":"HYPERLINK(\"https://www.google.iq/maps/search/+33.7809,44.5143/@33.7809,44.5143,14z?hl=en\",\"Maplink2\")","v":"Maplink2"},{"$f":"HYPERLINK(\"http://www.bing.com/maps/?lvl=14&sty=h&cp=33.7809~44.5143&sp=point.33.7809_44.5143\",\"Maplink3\")","v":"Maplink3"}]
[25032,"Diyala","Al-Khalis","Hibhib","Hibhib-Al Askary Qtr","الحي العسكري",33.7823945193,44.5164226749,15,90,0,0,0,0,0,0,90,0,0,0,0,0,0,0,0,0,0,0,0,0,42,0,0,0,0,0,0,0,0,48,0,0,0,0,48,0,42,0,0,0,0,0,0,0,0,{"$f":"HYPERLINK(\"http://www.openstreetmap.org/?mlat=33.7824&mlon=44.5164&zoom=12#map=12/33.7824/44.5164\",\"Maplink1\")","v":"Maplink1"},{"$f":"HYPERLINK(\"https://www.google.iq/maps/search/+33.7824,44.5164/@33.7824,44.5164,14z?hl=en\",\"Maplink2\")","v":"Maplink2"},{"$f":"HYPERLINK(\"http://www.bing.com/maps/?lvl=14&sty=h&cp=33.7824~44.5164&sp=point.33.7824_44.5164\",\"Maplink3\")","v":"Maplink3"}]
[25815,"Diyala","Al-Khalis","Hibhib","Al Hadid-Al Benook Qtr","الحديد-حي البنوك",33.7601712735,44.5501300595,20,120,0,0,0,0,0,0,120,0,0,0,0,0,0,0,0,30,0,0,0,0,78,0,0,0,0,0,0,12,0,0,0,0,0,0,0,0,78,30,0,12,0,0,0,0,0,{"$f":"HYPERLINK(\"http://www.openstreetmap.org/?mlat=33.7602&mlon=44.5501&zoom=12#map=12/33.7602/44.5501\",\"Maplink1\")","v":"Maplink1"},{"$f":"HYPERLINK(\"https://www.google.iq/maps/search/+33.7602,44.5501/@33.7602,44.5501,14z?hl=en\",\"Maplink2\")","v":"Maplink2"},{"$f":"HYPERLINK(\"http://www.bing.com/maps/?lvl=14&sty=h&cp=33.7602~44.5501&sp=point.33.7602_44.5501\",\"Maplink3\")","v":"Maplink3"}]
[24483,"Diyala","Al-Khalis","Qalaa't Ansab","Al Salam","ناحية السلام-مركز الناحية",33.9367396817,44.724589595,8,48,0,0,0,48,0,0,0,0,0,0,0,0,0,0,0,0,0,0,0,0,48,0,0,0,0,0,0,0,0,0,0,0,0,0,0,48,0,0,0,0,0,0,0,0,0,{"$f":"HYPERLINK(\"http://www.openstreetmap.org/?mlat=33.9367&mlon=44.7246&zoom=12#map=12/33.9367/44.7246\",\"Maplink1\")","v":"Maplink1"},{"$f":"HYPERLINK(\"https://www.google.iq/maps/search/+33.9367,44.7246/@33.9367,44.7246,14z?hl=en\",\"Maplink2\")","v":"Maplink2"},{"$f":"HYPERLINK(\"http://www.bing.com/maps/?lvl=14&sty=h&cp=33.9367~44.7246&sp=point.33.9367_44.7246\",\"Maplink3\")","v":"Maplink3"}]
[25624,"Diyala","Al-Muqdadiya","Markaz Al-Muqdadiya","Al Abaraa Village","قرية العبارة",34.0149357216,45.0160774079,30,180,0,0,0,0,0,0,180,0,0,0,0,0,0,0,0,0,0,0,0,0,180,0,0,0,0,0,0,0,0,0,0,0,0,0,180,0,0,0,0,0,0,0,0,0,0,{"$f":"HYPERLINK(\"http://www.openstreetmap.org/?mlat=34.0149&mlon=45.0161&zoom=12#map=12/34.0149/45.0161\",\"Maplink1\")","v":"Maplink1"},{"$f":"HYPERLINK(\"https://www.google.iq/maps/search/+34.0149,45.0161/@34.0149,45.0161,14z?hl=en\",\"Maplink2\")","v":"Maplink2"},{"$f":"HYPERLINK(\"http://www.bing.com/maps/?lvl=14&sty=h&cp=34.0149~45.0161&sp=point.34.0149_45.0161\",\"Maplink3\")","v":"Maplink3"}]
[11338,"Diyala","Baladruz","Markaz Baladruz","Al-Asri Qtr","حي العصري",33.6923492204,45.0648730184,2,12,0,0,0,0,0,0,12,0,0,0,0,0,0,0,0,0,0,0,0,0,12,0,0,0,0,0,0,0,0,0,0,0,0,0,12,0,0,0,0,0,0,0,0,0,0,{"$f":"HYPERLINK(\"http://www.openstreetmap.org/?mlat=33.6923&mlon=45.0649&zoom=12#map=12/33.6923/45.0649\",\"Maplink1\")","v":"Maplink1"},{"$f":"HYPERLINK(\"https://www.google.iq/maps/search/+33.6923,45.0649/@33.6923,45.0649,14z?hl=en\",\"Maplink2\")","v":"Maplink2"},{"$f":"HYPERLINK(\"http://www.bing.com/maps/?lvl=14&sty=h&cp=33.6923~45.0649&sp=point.33.6923_45.0649\",\"Maplink3\")","v":"Maplink3"}]
[24574,"Diyala","Baquba","Beni Saad","Bani Saad-Al Salam Qtr","بني سعد-حي السلام",33.5727865255,44.5277936251,3,18,0,0,0,0,0,0,18,0,0,0,0,0,0,0,0,0,0,0,0,0,18,0,0,0,0,0,0,0,0,0,0,0,0,0,0,18,0,0,0,0,0,0,0,0,0,{"$f":"HYPERLINK(\"http://www.openstreetmap.org/?mlat=33.5728&mlon=44.5278&zoom=12#map=12/33.5728/44.5278\",\"Maplink1\")","v":"Maplink1"},{"$f":"HYPERLINK(\"https://www.google.iq/maps/search/+33.5728,44.5278/@33.5728,44.5278,14z?hl=en\",\"Maplink2\")","v":"Maplink2"},{"$f":"HYPERLINK(\"http://www.bing.com/maps/?lvl=14&sty=h&cp=33.5728~44.5278&sp=point.33.5728_44.5278\",\"Maplink3\")","v":"Maplink3"}]
[11496,"Diyala","Baquba","Beni Saad","Ejbainat village","قرية جبينات",33.769738911,44.6442569297,15,90,0,0,0,0,0,0,90,0,0,0,0,0,0,0,0,0,0,0,0,0,90,0,0,0,0,0,0,0,0,0,0,0,0,0,90,0,0,0,0,0,0,0,0,0,0,{"$f":"HYPERLINK(\"http://www.openstreetmap.org/?mlat=33.7697&mlon=44.6443&zoom=12#map=12/33.7697/44.6443\",\"Maplink1\")","v":"Maplink1"},{"$f":"HYPERLINK(\"https://www.google.iq/maps/search/+33.7697,44.6443/@33.7697,44.6443,14z?hl=en\",\"Maplink2\")","v":"Maplink2"},{"$f":"HYPERLINK(\"http://www.bing.com/maps/?lvl=14&sty=h&cp=33.7697~44.6443&sp=point.33.7697_44.6443\",\"Maplink3\")","v":"Maplink3"}]
[11409,"Diyala","Baquba","Beni Saad","Bab Al darob Qtr ","حي باب الدرب",33.7654746,44.6566769,48,288,0,0,0,0,0,0,288,0,0,0,0,0,0,0,0,0,0,0,0,0,288,0,0,0,0,0,0,0,0,0,0,0,0,0,0,0,0,0,0,0,0,180,0,108,0,{"$f":"HYPERLINK(\"http://www.openstreetmap.org/?mlat=33.7655&mlon=44.6567&zoom=12#map=12/33.7655/44.6567\",\"Maplink1\")","v":"Maplink1"},{"$f":"HYPERLINK(\"https://www.google.iq/maps/search/+33.7655,44.6567/@33.7655,44.6567,14z?hl=en\",\"Maplink2\")","v":"Maplink2"},{"$f":"HYPERLINK(\"http://www.bing.com/maps/?lvl=14&sty=h&cp=33.7655~44.6567&sp=point.33.7655_44.6567\",\"Maplink3\")","v":"Maplink3"}]
[24805,"Diyala","Baquba","Beni Saad","Al Gatoon-Al Yarmook Qtr","الكاطون-حي اليرموك",33.7241930333,44.6079515038,690,{"v":4140,"d":"4,140"},0,0,0,0,0,0,{"v":3804,"d":"3,804"},336,0,0,0,0,0,0,0,42,0,0,0,0,{"v":4098,"d":"4,098"},0,0,0,0,0,0,0,0,0,0,0,0,0,0,0,{"v":4098,"d":"4,098"},42,0,0,0,0,0,0,0,{"$f":"HYPERLINK(\"http://www.openstreetmap.org/?mlat=33.7242&mlon=44.608&zoom=12#map=12/33.7242/44.608\",\"Maplink1\")","v":"Maplink1"},{"$f":"HYPERLINK(\"https://www.google.iq/maps/search/+33.7242,44.608/@33.7242,44.608,14z?hl=en\",\"Maplink2\")","v":"Maplink2"},{"$f":"HYPERLINK(\"http://www.bing.com/maps/?lvl=14&sty=h&cp=33.7242~44.608&sp=point.33.7242_44.608\",\"Maplink3\")","v":"Maplink3"}]
[23966,"Diyala","Baquba","Beni Saad","Al Hadid","الحديد",33.7686499926,44.5628627001,77,462,0,18,0,0,0,36,366,0,0,60,0,0,0,0,0,0,0,0,0,0,432,0,0,0,0,0,0,0,0,30,0,0,0,0,0,30,432,0,0,0,0,0,0,0,0,{"$f":"HYPERLINK(\"http://www.openstreetmap.org/?mlat=33.7686&mlon=44.5629&zoom=12#map=12/33.7686/44.5629\",\"Maplink1\")","v":"Maplink1"},{"$f":"HYPERLINK(\"https://www.google.iq/maps/search/+33.7686,44.5629/@33.7686,44.5629,14z?hl=en\",\"Maplink2\")","v":"Maplink2"},{"$f":"HYPERLINK(\"http://www.bing.com/maps/?lvl=14&sty=h&cp=33.7686~44.5629&sp=point.33.7686_44.5629\",\"Maplink3\")","v":"Maplink3"}]
[11432,"Diyala","Baquba","Beni Saad","Al-Swamra village","قرية السوامرة",33.7493369867,44.649118607,49,294,0,0,0,6,0,0,288,0,0,0,0,0,0,0,0,0,0,0,0,0,240,0,0,0,0,0,0,0,0,54,0,0,0,0,0,294,0,0,0,0,0,0,0,0,0,{"$f":"HYPERLINK(\"http://www.openstreetmap.org/?mlat=33.7493&mlon=44.6491&zoom=12#map=12/33.7493/44.6491\",\"Maplink1\")","v":"Maplink1"},{"$f":"HYPERLINK(\"https://www.google.iq/maps/search/+33.7493,44.6491/@33.7493,44.6491,14z?hl=en\",\"Maplink2\")","v":"Maplink2"},{"$f":"HYPERLINK(\"http://www.bing.com/maps/?lvl=14&sty=h&cp=33.7493~44.6491&sp=point.33.7493_44.6491\",\"Maplink3\")","v":"Maplink3"}]
[11529,"Diyala","Baquba","Beni Saad","Dor Al Zera'a Qtr","حي دور الزراعة",33.7788477553565,44.5902912947067,26,156,0,0,0,0,0,0,156,0,0,0,0,0,0,0,0,0,0,0,0,0,156,0,0,0,0,0,0,0,0,0,0,0,0,0,84,0,0,0,0,0,0,0,0,72,0,{"$f":"HYPERLINK(\"http://www.openstreetmap.org/?mlat=33.7788&mlon=44.5903&zoom=12#map=12/33.7788/44.5903\",\"Maplink1\")","v":"Maplink1"},{"$f":"HYPERLINK(\"https://www.google.iq/maps/search/+33.7788,44.5903/@33.7788,44.5903,14z?hl=en\",\"Maplink2\")","v":"Maplink2"},{"$f":"HYPERLINK(\"http://www.bing.com/maps/?lvl=14&sty=h&cp=33.7788~44.5903&sp=point.33.7788_44.5903\",\"Maplink3\")","v":"Maplink3"}]
[11250,"Diyala","Baquba","Buhriz","Al Dawasir Qtr","حي الدواسر",33.7012486997,44.658034447,30,180,0,0,0,120,0,12,48,0,0,0,0,0,0,0,0,0,0,0,0,0,180,0,0,0,0,0,0,0,0,0,0,0,0,0,30,0,150,0,0,0,0,0,0,0,0,{"$f":"HYPERLINK(\"http://www.openstreetmap.org/?mlat=33.7012&mlon=44.658&zoom=12#map=12/33.7012/44.658\",\"Maplink1\")","v":"Maplink1"},{"$f":"HYPERLINK(\"https://www.google.iq/maps/search/+33.7012,44.658/@33.7012,44.658,14z?hl=en\",\"Maplink2\")","v":"Maplink2"},{"$f":"HYPERLINK(\"http://www.bing.com/maps/?lvl=14&sty=h&cp=33.7012~44.658&sp=point.33.7012_44.658\",\"Maplink3\")","v":"Maplink3"}]
[11178,"Diyala","Baquba","Buhriz","Al Tahreer","التحرير",33.736686743,44.6711119598,321,{"v":1926,"d":"1,926"},0,0,0,0,0,0,{"v":1926,"d":"1,926"},0,0,0,0,0,0,0,0,0,0,0,0,0,{"v":1926,"d":"1,926"},0,0,0,0,0,0,0,0,0,0,0,0,0,180,894,750,0,0,0,0,0,0,102,0,{"$f":"HYPERLINK(\"http://www.openstreetmap.org/?mlat=33.7367&mlon=44.6711&zoom=12#map=12/33.7367/44.6711\",\"Maplink1\")","v":"Maplink1"},{"$f":"HYPERLINK(\"https://www.google.iq/maps/search/+33.7367,44.6711/@33.7367,44.6711,14z?hl=en\",\"Maplink2\")","v":"Maplink2"},{"$f":"HYPERLINK(\"http://www.bing.com/maps/?lvl=14&sty=h&cp=33.7367~44.6711&sp=point.33.7367_44.6711\",\"Maplink3\")","v":"Maplink3"}]
[24918,"Diyala","Baquba","Buhriz","Buhriz-Al-Asri Qtr","بهرز-الحي العصري",33.706500026,44.6472570439,15,90,0,0,0,60,0,0,30,0,0,0,0,0,0,0,0,0,0,0,0,0,90,0,0,0,0,0,0,0,0,0,0,0,0,0,0,0,90,0,0,0,0,0,0,0,0,{"$f":"HYPERLINK(\"http://www.openstreetmap.org/?mlat=33.7065&mlon=44.6473&zoom=12#map=12/33.7065/44.6473\",\"Maplink1\")","v":"Maplink1"},{"$f":"HYPERLINK(\"https://www.google.iq/maps/search/+33.7065,44.6473/@33.7065,44.6473,14z?hl=en\",\"Maplink2\")","v":"Maplink2"},{"$f":"HYPERLINK(\"http://www.bing.com/maps/?lvl=14&sty=h&cp=33.7065~44.6473&sp=point.33.7065_44.6473\",\"Maplink3\")","v":"Maplink3"}]
[33520,"Diyala","Baquba","Kanan","Al Homerat Vellage","قرية الحميرات",33.6878849297,44.8062886194,42,252,0,0,0,120,0,0,132,0,0,0,0,0,0,0,0,0,0,0,0,0,252,0,0,0,0,0,0,0,0,0,0,0,0,0,0,0,0,0,0,0,252,0,0,0,0,{"$f":"HYPERLINK(\"http://www.openstreetmap.org/?mlat=33.6879&mlon=44.8063&zoom=12#map=12/33.6879/44.8063\",\"Maplink1\")","v":"Maplink1"},{"$f":"HYPERLINK(\"https://www.google.iq/maps/search/+33.6879,44.8063/@33.6879,44.8063,14z?hl=en\",\"Maplink2\")","v":"Maplink2"},{"$f":"HYPERLINK(\"http://www.bing.com/maps/?lvl=14&sty=h&cp=33.6879~44.8063&sp=point.33.6879_44.8063\",\"Maplink3\")","v":"Maplink3"}]
[11363,"Diyala","Baquba","Kanan","Markaz Kanaan","مركز ناحية كنعان ",33.6909072794,44.7984165527,35,210,0,0,0,60,0,0,150,0,0,0,0,0,0,0,0,0,0,0,0,0,210,0,0,0,0,0,0,0,0,0,0,0,0,0,0,168,0,0,0,0,42,0,0,0,0,{"$f":"HYPERLINK(\"http://www.openstreetmap.org/?mlat=33.6909&mlon=44.7984&zoom=12#map=12/33.6909/44.7984\",\"Maplink1\")","v":"Maplink1"},{"$f":"HYPERLINK(\"https://www.google.iq/maps/search/+33.6909,44.7984/@33.6909,44.7984,14z?hl=en\",\"Maplink2\")","v":"Maplink2"},{"$f":"HYPERLINK(\"http://www.bing.com/maps/?lvl=14&sty=h&cp=33.6909~44.7984&sp=point.33.6909_44.7984\",\"Maplink3\")","v":"Maplink3"}]
[25047,"Diyala","Baquba","Kanan","Al Khadra Qtr","حي الخضراء",33.6945491053,44.8016870836,35,210,0,0,0,0,0,30,180,0,0,0,0,0,0,0,0,0,0,0,0,0,210,0,0,0,0,0,0,0,0,0,0,0,0,0,0,0,204,0,0,0,0,6,0,0,0,{"$f":"HYPERLINK(\"http://www.openstreetmap.org/?mlat=33.6945&mlon=44.8017&zoom=12#map=12/33.6945/44.8017\",\"Maplink1\")","v":"Maplink1"},{"$f":"HYPERLINK(\"https://www.google.iq/maps/search/+33.6945,44.8017/@33.6945,44.8017,14z?hl=en\",\"Maplink2\")","v":"Maplink2"},{"$f":"HYPERLINK(\"http://www.bing.com/maps/?lvl=14&sty=h&cp=33.6945~44.8017&sp=point.33.6945_44.8017\",\"Maplink3\")","v":"Maplink3"}]
[29569,"Diyala","Khanaqin","Jalawla","Al Jamahir Qtr Sector 1","حي الجماهير قطاع 1",34.27112,45.16604,2,12,0,0,0,0,0,0,12,0,0,0,0,0,0,0,0,0,0,0,0,0,12,0,0,0,0,0,0,0,0,0,0,0,0,0,12,0,0,0,0,0,0,0,0,0,0,{"$f":"HYPERLINK(\"http://www.openstreetmap.org/?mlat=34.2711&mlon=45.166&zoom=12#map=12/34.2711/45.166\",\"Maplink1\")","v":"Maplink1"},{"$f":"HYPERLINK(\"https://www.google.iq/maps/search/+34.2711,45.166/@34.2711,45.166,14z?hl=en\",\"Maplink2\")","v":"Maplink2"},{"$f":"HYPERLINK(\"http://www.bing.com/maps/?lvl=14&sty=h&cp=34.2711~45.166&sp=point.34.2711_45.166\",\"Maplink3\")","v":"Maplink3"}]
[31755,"Diyala","Khanaqin","Jalawla","Al Jamahir Qtr Sector 4","حي الجماهير قطاع 4",34.268611,45.1730338777,5,30,0,12,0,0,0,0,30,0,0,0,0,0,0,0,0,0,0,0,0,0,30,0,0,0,0,0,0,0,0,0,0,0,0,0,30,0,0,0,0,0,0,0,0,0,0,{"$f":"HYPERLINK(\"http://www.openstreetmap.org/?mlat=34.2686&mlon=45.173&zoom=12#map=12/34.2686/45.173\",\"Maplink1\")","v":"Maplink1"},{"$f":"HYPERLINK(\"https://www.google.iq/maps/search/+34.2686,45.173/@34.2686,45.173,14z?hl=en\",\"Maplink2\")","v":"Maplink2"},{"$f":"HYPERLINK(\"http://www.bing.com/maps/?lvl=14&sty=h&cp=34.2686~45.173&sp=point.34.2686_45.173\",\"Maplink3\")","v":"Maplink3"}]
[3903,"Diyala","Khanaqin","Jalawla","Kulajo","كلجو",34.4647333,45.1645526,227,{"v":1362,"d":"1,362"},0,42,0,0,0,60,{"v":1302,"d":"1,302"},0,0,0,0,0,0,0,0,0,6,12,0,0,{"v":1284,"d":"1,284"},0,0,0,0,0,0,0,0,60,0,0,0,246,414,168,180,48,54,72,102,36,0,42,0,{"$f":"HYPERLINK(\"http://www.openstreetmap.org/?mlat=34.4647&mlon=45.1646&zoom=12#map=12/34.4647/45.1646\",\"Maplink1\")","v":"Maplink1"},{"$f":"HYPERLINK(\"https://www.google.iq/maps/search/+34.4647,45.1646/@34.4647,45.1646,14z?hl=en\",\"Maplink2\")","v":"Maplink2"},{"$f":"HYPERLINK(\"http://www.bing.com/maps/?lvl=14&sty=h&cp=34.4647~45.1646&sp=point.34.4647_45.1646\",\"Maplink3\")","v":"Maplink3"}]
[31761,"Diyala","Khanaqin","Jalawla","Al Shuhada Qtr Sector 5","حي الشهداء قطاع 5",34.275,45.1707783699,14,84,0,0,0,0,0,0,84,0,0,0,0,0,0,0,0,0,0,0,0,0,84,0,0,0,0,0,0,0,0,0,0,0,0,0,84,0,0,0,0,0,0,0,0,0,0,{"$f":"HYPERLINK(\"http://www.openstreetmap.org/?mlat=34.275&mlon=45.1708&zoom=12#map=12/34.275/45.1708\",\"Maplink1\")","v":"Maplink1"},{"$f":"HYPERLINK(\"https://www.google.iq/maps/search/+34.275,45.1708/@34.275,45.1708,14z?hl=en\",\"Maplink2\")","v":"Maplink2"},{"$f":"HYPERLINK(\"http://www.bing.com/maps/?lvl=14&sty=h&cp=34.275~45.1708&sp=point.34.275_45.1708\",\"Maplink3\")","v":"Maplink3"}]
[11047,"Diyala","Khanaqin","Markaz Khanaqin","Tula Frosh Qtr","حي تولا فروش",34.3578876346,45.3763183352,234,{"v":1404,"d":"1,404"},0,0,0,0,0,60,{"v":1224,"d":"1,224"},120,0,0,0,0,0,0,0,0,0,0,0,0,{"v":1404,"d":"1,404"},0,0,0,0,0,0,0,0,0,0,0,0,0,894,0,30,0,0,0,90,390,0,0,0,{"$f":"HYPERLINK(\"http://www.openstreetmap.org/?mlat=34.3579&mlon=45.3763&zoom=12#map=12/34.3579/45.3763\",\"Maplink1\")","v":"Maplink1"},{"$f":"HYPERLINK(\"https://www.google.iq/maps/search/+34.3579,45.3763/@34.3579,45.3763,14z?hl=en\",\"Maplink2\")","v":"Maplink2"},{"$f":"HYPERLINK(\"http://www.bing.com/maps/?lvl=14&sty=h&cp=34.3579~45.3763&sp=point.34.3579_45.3763\",\"Maplink3\")","v":"Maplink3"}]
[10528,"Diyala","Khanaqin","Markaz Khanaqin","Mekhas Village","قرية ميخاس(ملا رحمن)",34.3945094757,45.3563535013,3,18,0,0,0,0,0,0,0,18,0,0,0,0,0,0,0,0,0,0,0,0,18,0,0,0,0,0,0,0,0,0,0,0,0,0,18,0,0,0,0,0,0,0,0,0,0,{"$f":"HYPERLINK(\"http://www.openstreetmap.org/?mlat=34.3945&mlon=45.3564&zoom=12#map=12/34.3945/45.3564\",\"Maplink1\")","v":"Maplink1"},{"$f":"HYPERLINK(\"https://www.google.iq/maps/search/+34.3945,45.3564/@34.3945,45.3564,14z?hl=en\",\"Maplink2\")","v":"Maplink2"},{"$f":"HYPERLINK(\"http://www.bing.com/maps/?lvl=14&sty=h&cp=34.3945~45.3564&sp=point.34.3945_45.3564\",\"Maplink3\")","v":"Maplink3"}]
[25625,"Diyala","Khanaqin","Markaz Khanaqin","Yosif Algaeed Village","قرية يوسف الجايد",34.387723026,45.2566978977,1,6,0,0,0,6,0,0,0,0,0,0,0,0,0,0,0,0,0,0,0,0,6,0,0,0,0,0,0,0,0,0,0,0,0,0,0,6,0,0,0,0,0,0,0,0,0,{"$f":"HYPERLINK(\"http://www.openstreetmap.org/?mlat=34.3877&mlon=45.2567&zoom=12#map=12/34.3877/45.2567\",\"Maplink1\")","v":"Maplink1"},{"$f":"HYPERLINK(\"https://www.google.iq/maps/search/+34.3877,45.2567/@34.3877,45.2567,14z?hl=en\",\"Maplink2\")","v":"Maplink2"},{"$f":"HYPERLINK(\"http://www.bing.com/maps/?lvl=14&sty=h&cp=34.3877~45.2567&sp=point.34.3877_45.2567\",\"Maplink3\")","v":"Maplink3"}]
[24312,"Diyala","Khanaqin","Markaz Khanaqin","Imam Abass Qtr","حي إمام عباس",34.3423005061,45.3606339171,200,{"v":1200,"d":"1,200"},0,0,0,180,0,0,906,114,0,0,0,0,0,0,0,12,12,0,0,0,{"v":1152,"d":"1,152"},0,0,0,0,0,0,12,0,12,0,0,0,12,978,156,0,0,0,0,0,54,0,0,0,{"$f":"HYPERLINK(\"http://www.openstreetmap.org/?mlat=34.3423&mlon=45.3606&zoom=12#map=12/34.3423/45.3606\",\"Maplink1\")","v":"Maplink1"},{"$f":"HYPERLINK(\"https://www.google.iq/maps/search/+34.3423,45.3606/@34.3423,45.3606,14z?hl=en\",\"Maplink2\")","v":"Maplink2"},{"$f":"HYPERLINK(\"http://www.bing.com/maps/?lvl=14&sty=h&cp=34.3423~45.3606&sp=point.34.3423_45.3606\",\"Maplink3\")","v":"Maplink3"}]
[24387,"Diyala","Khanaqin","Markaz Khanaqin","Clay Hussein village","قرية كلاي حسين",34.3761951065,45.2754965549,5,30,0,6,0,24,0,0,6,0,0,0,0,0,0,0,0,0,0,0,0,0,30,0,0,0,0,0,0,0,0,0,0,0,0,0,6,24,0,0,0,0,0,0,0,0,0,{"$f":"HYPERLINK(\"http://www.openstreetmap.org/?mlat=34.3762&mlon=45.2755&zoom=12#map=12/34.3762/45.2755\",\"Maplink1\")","v":"Maplink1"},{"$f":"HYPERLINK(\"https://www.google.iq/maps/search/+34.3762,45.2755/@34.3762,45.2755,14z?hl=en\",\"Maplink2\")","v":"Maplink2"},{"$f":"HYPERLINK(\"http://www.bing.com/maps/?lvl=14&sty=h&cp=34.3762~45.2755&sp=point.34.3762_45.2755\",\"Maplink3\")","v":"Maplink3"}]
[24395,"Diyala","Khanaqin","Markaz Khanaqin","Alshortah Qtr","حي الشرطة",34.3472971524,45.4071636959,40,240,0,0,0,0,0,0,240,0,0,0,0,0,0,0,0,0,0,0,0,0,240,0,0,0,0,0,0,0,0,0,0,0,0,0,96,0,0,0,0,0,0,144,0,0,0,{"$f":"HYPERLINK(\"http://www.openstreetmap.org/?mlat=34.3473&mlon=45.4072&zoom=12#map=12/34.3473/45.4072\",\"Maplink1\")","v":"Maplink1"},{"$f":"HYPERLINK(\"https://www.google.iq/maps/search/+34.3473,45.4072/@34.3473,45.4072,14z?hl=en\",\"Maplink2\")","v":"Maplink2"},{"$f":"HYPERLINK(\"http://www.bing.com/maps/?lvl=14&sty=h&cp=34.3473~45.4072&sp=point.34.3473_45.4072\",\"Maplink3\")","v":"Maplink3"}]
[24393,"Diyala","Khanaqin","Markaz Khanaqin","Zurab village","قرية زوراب",34.3520512314,45.3472971066,49,294,0,0,0,108,0,0,150,36,0,0,0,0,0,0,0,0,0,0,0,0,294,0,0,0,0,0,0,0,0,0,0,0,0,0,294,0,0,0,0,0,0,0,0,0,0,{"$f":"HYPERLINK(\"http://www.openstreetmap.org/?mlat=34.3521&mlon=45.3473&zoom=12#map=12/34.3521/45.3473\",\"Maplink1\")","v":"Maplink1"},{"$f":"HYPERLINK(\"https://www.google.iq/maps/search/+34.3521,45.3473/@34.3521,45.3473,14z?hl=en\",\"Maplink2\")","v":"Maplink2"},{"$f":"HYPERLINK(\"http://www.bing.com/maps/?lvl=14&sty=h&cp=34.3521~45.3473&sp=point.34.3521_45.3473\",\"Maplink3\")","v":"Maplink3"}]
[24388,"Diyala","Khanaqin","Markaz Khanaqin","Ahmed Taher Village","قرية احمد طاهر",34.3166626664,45.3211390283,5,30,0,0,0,0,0,0,30,0,0,0,0,0,0,0,0,0,0,0,0,0,30,0,0,0,0,0,0,0,0,0,0,0,0,0,30,0,0,0,0,0,0,0,0,0,0,{"$f":"HYPERLINK(\"http://www.openstreetmap.org/?mlat=34.3167&mlon=45.3211&zoom=12#map=12/34.3167/45.3211\",\"Maplink1\")","v":"Maplink1"},{"$f":"HYPERLINK(\"https://www.google.iq/maps/search/+34.3167,45.3211/@34.3167,45.3211,14z?hl=en\",\"Maplink2\")","v":"Maplink2"},{"$f":"HYPERLINK(\"http://www.bing.com/maps/?lvl=14&sty=h&cp=34.3167~45.3211&sp=point.34.3167_45.3211\",\"Maplink3\")","v":"Maplink3"}]
[24394,"Diyala","Khanaqin","Markaz Khanaqin","habib Abdullah village","قرية حبيب عبد الله",34.3128827995,45.3242915,3,18,0,0,0,18,0,0,0,0,0,0,0,0,0,0,0,0,0,0,0,0,18,0,0,0,0,0,0,0,0,0,0,0,0,0,18,0,0,0,0,0,0,0,0,0,0,{"$f":"HYPERLINK(\"http://www.openstreetmap.org/?mlat=34.3129&mlon=45.3243&zoom=12#map=12/34.3129/45.3243\",\"Maplink1\")","v":"Maplink1"},{"$f":"HYPERLINK(\"https://www.google.iq/maps/search/+34.3129,45.3243/@34.3129,45.3243,14z?hl=en\",\"Maplink2\")","v":"Maplink2"},{"$f":"HYPERLINK(\"http://www.bing.com/maps/?lvl=14&sty=h&cp=34.3129~45.3243&sp=point.34.3129_45.3243\",\"Maplink3\")","v":"Maplink3"}]
[25343,"Diyala","Khanaqin","Markaz Khanaqin","Kahriaz Sofla Area","منطقة كهريز السفلى",34.3313364583,45.3782597868,19,114,0,0,0,0,0,0,114,0,0,0,0,0,0,0,0,0,0,0,0,0,114,0,0,0,0,0,0,0,0,0,0,0,0,0,114,0,0,0,0,0,0,0,0,0,0,{"$f":"HYPERLINK(\"http://www.openstreetmap.org/?mlat=34.3313&mlon=45.3783&zoom=12#map=12/34.3313/45.3783\",\"Maplink1\")","v":"Maplink1"},{"$f":"HYPERLINK(\"https://www.google.iq/maps/search/+34.3313,45.3783/@34.3313,45.3783,14z?hl=en\",\"Maplink2\")","v":"Maplink2"},{"$f":"HYPERLINK(\"http://www.bing.com/maps/?lvl=14&sty=h&cp=34.3313~45.3783&sp=point.34.3313_45.3783\",\"Maplink3\")","v":"Maplink3"}]
[10403,"Diyala","Khanaqin","Qaratu","Salih Agha village","قرية صالح اغا",34.5738116,45.3406743,103,618,6,0,0,0,0,0,618,0,0,0,0,0,0,0,0,24,0,42,0,0,546,0,0,6,0,0,0,0,0,0,0,0,0,0,144,30,132,24,48,0,138,48,24,24,6,{"$f":"HYPERLINK(\"http://www.openstreetmap.org/?mlat=34.5738&mlon=45.3407&zoom=12#map=12/34.5738/45.3407\",\"Maplink1\")","v":"Maplink1"},{"$f":"HYPERLINK(\"https://www.google.iq/maps/search/+34.5738,45.3407/@34.5738,45.3407,14z?hl=en\",\"Maplink2\")","v":"Maplink2"},{"$f":"HYPERLINK(\"http://www.bing.com/maps/?lvl=14&sty=h&cp=34.5738~45.3407&sp=point.34.5738_45.3407\",\"Maplink3\")","v":"Maplink3"}]
[33359,"Diyala","Khanaqin","Qaratu","Kagol","كاقول",34.5140112,45.3399617,8,48,12,0,0,0,0,0,48,0,0,0,0,0,0,0,0,0,0,6,0,0,42,0,0,0,0,0,0,0,0,0,0,0,0,0,12,6,0,0,0,18,0,0,0,0,12,{"$f":"HYPERLINK(\"http://www.openstreetmap.org/?mlat=34.514&mlon=45.34&zoom=12#map=12/34.514/45.34\",\"Maplink1\")","v":"Maplink1"},{"$f":"HYPERLINK(\"https://www.google.iq/maps/search/+34.514,45.34/@34.514,45.34,14z?hl=en\",\"Maplink2\")","v":"Maplink2"},{"$f":"HYPERLINK(\"http://www.bing.com/maps/?lvl=14&sty=h&cp=34.514~45.34&sp=point.34.514_45.34\",\"Maplink3\")","v":"Maplink3"}]
[10394,"Diyala","Kifri","Jabarra","12 Imam","12 امام",34.6369529,45.0112073,20,120,0,0,0,0,0,0,120,0,0,0,0,0,0,0,0,6,18,0,0,0,66,0,0,0,0,0,0,0,0,30,0,0,0,0,96,0,0,0,0,0,12,0,0,12,0,{"$f":"HYPERLINK(\"http://www.openstreetmap.org/?mlat=34.637&mlon=45.0112&zoom=12#map=12/34.637/45.0112\",\"Maplink1\")","v":"Maplink1"},{"$f":"HYPERLINK(\"https://www.google.iq/maps/search/+34.637,45.0112/@34.637,45.0112,14z?hl=en\",\"Maplink2\")","v":"Maplink2"},{"$f":"HYPERLINK(\"http://www.bing.com/maps/?lvl=14&sty=h&cp=34.637~45.0112&sp=point.34.637_45.0112\",\"Maplink3\")","v":"Maplink3"}]
[29689,"Diyala","Kifri","Jabarra","Ali Khalaf","علي خلف",34.5371328,45.0451062,13,78,0,0,0,0,0,0,78,0,0,0,0,0,0,0,0,0,0,0,0,0,78,0,0,0,0,0,0,0,0,0,0,0,0,0,66,0,6,0,0,0,6,0,0,0,0,{"$f":"HYPERLINK(\"http://www.openstreetmap.org/?mlat=34.5371&mlon=45.0451&zoom=12#map=12/34.5371/45.0451\",\"Maplink1\")","v":"Maplink1"},{"$f":"HYPERLINK(\"https://www.google.iq/maps/search/+34.5371,45.0451/@34.5371,45.0451,14z?hl=en\",\"Maplink2\")","v":"Maplink2"},{"$f":"HYPERLINK(\"http://www.bing.com/maps/?lvl=14&sty=h&cp=34.5371~45.0451&sp=point.34.5371_45.0451\",\"Maplink3\")","v":"Maplink3"}]
[28430,"Diyala","Kifri","Jabarra","raparin","رابرين",34.6796171,44.9546746,68,408,0,0,0,0,0,0,408,0,0,0,0,0,0,0,0,30,54,48,0,0,138,0,0,0,0,0,0,0,0,138,0,0,0,0,60,0,108,102,0,48,60,6,12,12,0,{"$f":"HYPERLINK(\"http://www.openstreetmap.org/?mlat=34.6796&mlon=44.9547&zoom=12#map=12/34.6796/44.9547\",\"Maplink1\")","v":"Maplink1"},{"$f":"HYPERLINK(\"https://www.google.iq/maps/search/+34.6796,44.9547/@34.6796,44.9547,14z?hl=en\",\"Maplink2\")","v":"Maplink2"},{"$f":"HYPERLINK(\"http://www.bing.com/maps/?lvl=14&sty=h&cp=34.6796~44.9547&sp=point.34.6796_44.9547\",\"Maplink3\")","v":"Maplink3"}]
[28424,"Diyala","Kifri","Markaz Kifri","mamostayan","ماموستايان",34.689081,44.9561703,32,192,0,0,0,0,0,0,192,0,0,0,0,0,0,0,0,12,48,18,0,0,60,0,0,0,0,0,0,0,0,54,0,0,0,12,60,0,72,18,0,0,30,0,0,0,0,{"$f":"HYPERLINK(\"http://www.openstreetmap.org/?mlat=34.6891&mlon=44.9562&zoom=12#map=12/34.6891/44.9562\",\"Maplink1\")","v":"Maplink1"},{"$f":"HYPERLINK(\"https://www.google.iq/maps/search/+34.6891,44.9562/@34.6891,44.9562,14z?hl=en\",\"Maplink2\")","v":"Maplink2"},{"$f":"HYPERLINK(\"http://www.bing.com/maps/?lvl=14&sty=h&cp=34.6891~44.9562&sp=point.34.6891_44.9562\",\"Maplink3\")","v":"Maplink3"}]
[11023,"Diyala","Kifri","Markaz Kifri","sar qala","سةرقةلا",34.742783,45.0653156,105,630,0,0,0,0,0,0,630,0,0,0,0,0,0,0,0,12,36,30,0,0,342,0,0,0,0,0,0,30,0,180,0,0,0,12,132,96,120,66,48,66,60,12,0,18,0,{"$f":"HYPERLINK(\"http://www.openstreetmap.org/?mlat=34.7428&mlon=45.0653&zoom=12#map=12/34.7428/45.0653\",\"Maplink1\")","v":"Maplink1"},{"$f":"HYPERLINK(\"https://www.google.iq/maps/search/+34.7428,45.0653/@34.7428,45.0653,14z?hl=en\",\"Maplink2\")","v":"Maplink2"},{"$f":"HYPERLINK(\"http://www.bing.com/maps/?lvl=14&sty=h&cp=34.7428~45.0653&sp=point.34.7428_45.0653\",\"Maplink3\")","v":"Maplink3"}]
[25254,"Diyala","Kifri","Qara Tabe","Dora village","قرية دورة",34.4432797546,45.0584311968,2,12,0,0,0,12,0,0,0,0,0,0,0,0,0,0,0,0,0,0,0,0,6,0,0,0,0,0,0,0,0,6,0,0,0,0,12,0,0,0,0,0,0,0,0,0,0,{"$f":"HYPERLINK(\"http://www.openstreetmap.org/?mlat=34.4433&mlon=45.0584&zoom=12#map=12/34.4433/45.0584\",\"Maplink1\")","v":"Maplink1"},{"$f":"HYPERLINK(\"https://www.google.iq/maps/search/+34.4433,45.0584/@34.4433,45.0584,14z?hl=en\",\"Maplink2\")","v":"Maplink2"},{"$f":"HYPERLINK(\"http://www.bing.com/maps/?lvl=14&sty=h&cp=34.4433~45.0584&sp=point.34.4433_45.0584\",\"Maplink3\")","v":"Maplink3"}]
[25252,"Diyala","Kifri","Qara Tabe","Khozifah village","قرية خزيفة",34.4367796318,45.0599580894,15,90,0,0,0,90,0,0,0,0,0,0,0,0,0,0,0,0,0,0,0,0,90,0,0,0,0,0,0,0,0,0,0,0,0,0,90,0,0,0,0,0,0,0,0,0,0,{"$f":"HYPERLINK(\"http://www.openstreetmap.org/?mlat=34.4368&mlon=45.06&zoom=12#map=12/34.4368/45.06\",\"Maplink1\")","v":"Maplink1"},{"$f":"HYPERLINK(\"https://www.google.iq/maps/search/+34.4368,45.06/@34.4368,45.06,14z?hl=en\",\"Maplink2\")","v":"Maplink2"},{"$f":"HYPERLINK(\"http://www.bing.com/maps/?lvl=14&sty=h&cp=34.4368~45.06&sp=point.34.4368_45.06\",\"Maplink3\")","v":"Maplink3"}]
[8418,"Duhok","Al-Amadiya","Markaz Al-Amadiya","Blijanke","بليجانكي",37.0902817,43.4412073,7,42,0,0,0,0,0,0,42,0,0,0,0,0,0,0,0,0,0,0,0,0,0,0,0,0,0,0,0,42,0,0,0,0,0,0,0,42,0,0,0,0,0,0,0,0,0,{"$f":"HYPERLINK(\"http://www.openstreetmap.org/?mlat=37.0903&mlon=43.4412&zoom=12#map=12/37.0903/43.4412\",\"Maplink1\")","v":"Maplink1"},{"$f":"HYPERLINK(\"https://www.google.iq/maps/search/+37.0903,43.4412/@37.0903,43.4412,14z?hl=en\",\"Maplink2\")","v":"Maplink2"},{"$f":"HYPERLINK(\"http://www.bing.com/maps/?lvl=14&sty=h&cp=37.0903~43.4412&sp=point.37.0903_43.4412\",\"Maplink3\")","v":"Maplink3"}]
[7861,"Duhok","Al-Amadiya","Markaz Al-Amadiya","Amedi","عمادية",37.0923922,43.4878404,13,78,0,0,0,0,0,0,78,0,0,0,0,0,0,0,0,0,0,0,0,0,0,0,0,0,0,0,0,78,0,0,0,0,0,0,18,60,0,0,0,0,0,0,0,0,0,{"$f":"HYPERLINK(\"http://www.openstreetmap.org/?mlat=37.0924&mlon=43.4878&zoom=12#map=12/37.0924/43.4878\",\"Maplink1\")","v":"Maplink1"},{"$f":"HYPERLINK(\"https://www.google.iq/maps/search/+37.0924,43.4878/@37.0924,43.4878,14z?hl=en\",\"Maplink2\")","v":"Maplink2"},{"$f":"HYPERLINK(\"http://www.bing.com/maps/?lvl=14&sty=h&cp=37.0924~43.4878&sp=point.37.0924_43.4878\",\"Maplink3\")","v":"Maplink3"}]
[8224,"Duhok","Al-Amadiya","Sarsank","Dawodia Village","قرية داودية",37.08944,43.2206516,3,18,0,0,0,0,0,0,18,0,0,0,0,0,0,0,0,0,0,12,0,0,0,0,0,0,0,0,0,6,0,0,0,0,0,0,12,6,0,0,0,0,0,0,0,0,0,{"$f":"HYPERLINK(\"http://www.openstreetmap.org/?mlat=37.0894&mlon=43.2207&zoom=12#map=12/37.0894/43.2207\",\"Maplink1\")","v":"Maplink1"},{"$f":"HYPERLINK(\"https://www.google.iq/maps/search/+37.0894,43.2207/@37.0894,43.2207,14z?hl=en\",\"Maplink2\")","v":"Maplink2"},{"$f":"HYPERLINK(\"http://www.bing.com/maps/?lvl=14&sty=h&cp=37.0894~43.2207&sp=point.37.0894_43.2207\",\"Maplink3\")","v":"Maplink3"}]
[22613,"Duhok","Al-Amadiya","Sarsank","Azadi","آزادي",37.0461208,43.3620126,6,36,0,0,0,0,0,12,24,0,0,0,0,0,0,0,0,0,0,0,0,0,0,0,0,0,0,0,0,36,0,0,0,0,0,0,24,12,0,0,0,0,0,0,0,0,0,{"$f":"HYPERLINK(\"http://www.openstreetmap.org/?mlat=37.0461&mlon=43.362&zoom=12#map=12/37.0461/43.362\",\"Maplink1\")","v":"Maplink1"},{"$f":"HYPERLINK(\"https://www.google.iq/maps/search/+37.0461,43.362/@37.0461,43.362,14z?hl=en\",\"Maplink2\")","v":"Maplink2"},{"$f":"HYPERLINK(\"http://www.bing.com/maps/?lvl=14&sty=h&cp=37.0461~43.362&sp=point.37.0461_43.362\",\"Maplink3\")","v":"Maplink3"}]
[7770,"Duhok","Al-Amadiya","Sarsank","Chamanke","جمانكي",36.9379778,43.4125866,94,564,0,0,0,0,0,6,558,0,0,0,0,0,0,0,0,0,0,0,0,0,0,0,0,0,0,0,0,564,0,0,0,0,0,0,312,252,0,0,0,0,0,0,0,0,0,{"$f":"HYPERLINK(\"http://www.openstreetmap.org/?mlat=36.938&mlon=43.4126&zoom=12#map=12/36.938/43.4126\",\"Maplink1\")","v":"Maplink1"},{"$f":"HYPERLINK(\"https://www.google.iq/maps/search/+36.938,43.4126/@36.938,43.4126,14z?hl=en\",\"Maplink2\")","v":"Maplink2"},{"$f":"HYPERLINK(\"http://www.bing.com/maps/?lvl=14&sty=h&cp=36.938~43.4126&sp=point.36.938_43.4126\",\"Maplink3\")","v":"Maplink3"}]
[8419,"Duhok","Al-Amadiya","Sarsank","Shekh Mama","شيخ مما",37.0805725,43.26021066,2,12,0,0,0,0,0,0,0,0,0,12,0,0,0,0,0,0,0,0,0,0,0,0,0,0,0,0,0,12,0,0,0,0,0,0,0,12,0,0,0,0,0,0,0,0,0,{"$f":"HYPERLINK(\"http://www.openstreetmap.org/?mlat=37.0806&mlon=43.2602&zoom=12#map=12/37.0806/43.2602\",\"Maplink1\")","v":"Maplink1"},{"$f":"HYPERLINK(\"https://www.google.iq/maps/search/+37.0806,43.2602/@37.0806,43.2602,14z?hl=en\",\"Maplink2\")","v":"Maplink2"},{"$f":"HYPERLINK(\"http://www.bing.com/maps/?lvl=14&sty=h&cp=37.0806~43.2602&sp=point.37.0806_43.2602\",\"Maplink3\")","v":"Maplink3"}]
[8615,"Duhok","Al-Amadiya","Sarsank","Sayidava","سيدافا",37.0399333,43.2497692,9,54,0,0,0,0,0,42,12,0,0,0,0,0,0,0,0,0,0,0,0,0,0,0,0,0,0,0,0,54,0,0,0,0,0,0,54,0,0,0,0,0,0,0,0,0,0,{"$f":"HYPERLINK(\"http://www.openstreetmap.org/?mlat=37.0399&mlon=43.2498&zoom=12#map=12/37.0399/43.2498\",\"Maplink1\")","v":"Maplink1"},{"$f":"HYPERLINK(\"https://www.google.iq/maps/search/+37.0399,43.2498/@37.0399,43.2498,14z?hl=en\",\"Maplink2\")","v":"Maplink2"},{"$f":"HYPERLINK(\"http://www.bing.com/maps/?lvl=14&sty=h&cp=37.0399~43.2498&sp=point.37.0399_43.2498\",\"Maplink3\")","v":"Maplink3"}]
[8822,"Duhok","Duhok","Al-Duski","Banasora","بانصورا",37.0155729,43.0163375,46,276,0,0,0,0,0,0,276,0,0,0,0,0,0,0,0,0,0,0,0,0,0,0,0,0,0,0,0,264,0,12,0,0,0,0,36,240,0,0,0,0,0,0,0,0,0,{"$f":"HYPERLINK(\"http://www.openstreetmap.org/?mlat=37.0156&mlon=43.0163&zoom=12#map=12/37.0156/43.0163\",\"Maplink1\")","v":"Maplink1"},{"$f":"HYPERLINK(\"https://www.google.iq/maps/search/+37.0156,43.0163/@37.0156,43.0163,14z?hl=en\",\"Maplink2\")","v":"Maplink2"},{"$f":"HYPERLINK(\"http://www.bing.com/maps/?lvl=14&sty=h&cp=37.0156~43.0163&sp=point.37.0156_43.0163\",\"Maplink3\")","v":"Maplink3"}]
[26052,"Duhok","Duhok","Markaz Duhok","Bintika","بنتيكا",36.8455205414,43.0088280572,29,174,0,0,0,0,0,0,174,0,0,0,0,0,0,0,0,0,0,0,0,0,0,0,0,0,0,0,0,174,0,0,0,0,0,0,78,96,0,0,0,0,0,0,0,0,0,{"$f":"HYPERLINK(\"http://www.openstreetmap.org/?mlat=36.8455&mlon=43.0088&zoom=12#map=12/36.8455/43.0088\",\"Maplink1\")","v":"Maplink1"},{"$f":"HYPERLINK(\"https://www.google.iq/maps/search/+36.8455,43.0088/@36.8455,43.0088,14z?hl=en\",\"Maplink2\")","v":"Maplink2"},{"$f":"HYPERLINK(\"http://www.bing.com/maps/?lvl=14&sty=h&cp=36.8455~43.0088&sp=point.36.8455_43.0088\",\"Maplink3\")","v":"Maplink3"}]
[8371,"Duhok","Duhok","Markaz Duhok","Gavarrke","كفركي",36.8473216,42.938986,9,54,0,0,0,0,0,0,54,0,0,0,0,0,0,0,0,0,0,0,0,0,0,0,0,0,0,0,0,54,0,0,0,0,0,0,30,24,0,0,0,0,0,0,0,0,0,{"$f":"HYPERLINK(\"http://www.openstreetmap.org/?mlat=36.8473&mlon=42.939&zoom=12#map=12/36.8473/42.939\",\"Maplink1\")","v":"Maplink1"},{"$f":"HYPERLINK(\"https://www.google.iq/maps/search/+36.8473,42.939/@36.8473,42.939,14z?hl=en\",\"Maplink2\")","v":"Maplink2"},{"$f":"HYPERLINK(\"http://www.bing.com/maps/?lvl=14&sty=h&cp=36.8473~42.939&sp=point.36.8473_42.939\",\"Maplink3\")","v":"Maplink3"}]
[21509,"Duhok","Duhok","Markaz Duhok","Kari Basi","كري باصي",36.8671317,42.9924614,123,738,0,0,0,0,6,0,732,0,0,0,0,0,0,0,0,0,0,0,0,0,0,0,0,0,0,0,0,738,0,0,0,0,0,0,318,420,0,0,0,0,0,0,0,0,0,{"$f":"HYPERLINK(\"http://www.openstreetmap.org/?mlat=36.8671&mlon=42.9925&zoom=12#map=12/36.8671/42.9925\",\"Maplink1\")","v":"Maplink1"},{"$f":"HYPERLINK(\"https://www.google.iq/maps/search/+36.8671,42.9925/@36.8671,42.9925,14z?hl=en\",\"Maplink2\")","v":"Maplink2"},{"$f":"HYPERLINK(\"http://www.bing.com/maps/?lvl=14&sty=h&cp=36.8671~42.9925&sp=point.36.8671_42.9925\",\"Maplink3\")","v":"Maplink3"}]
[7945,"Duhok","Duhok","Markaz Duhok","Baroshke","بروشكي",36.8564015,43.0231606,239,{"v":1434,"d":"1,434"},0,12,0,0,0,0,{"v":1434,"d":"1,434"},0,0,0,0,0,0,0,0,0,0,0,0,0,0,0,0,0,0,0,0,{"v":1434,"d":"1,434"},0,0,0,0,0,0,996,414,0,0,0,0,24,0,0,0,0,{"$f":"HYPERLINK(\"http://www.openstreetmap.org/?mlat=36.8564&mlon=43.0232&zoom=12#map=12/36.8564/43.0232\",\"Maplink1\")","v":"Maplink1"},{"$f":"HYPERLINK(\"https://www.google.iq/maps/search/+36.8564,43.0232/@36.8564,43.0232,14z?hl=en\",\"Maplink2\")","v":"Maplink2"},{"$f":"HYPERLINK(\"http://www.bing.com/maps/?lvl=14&sty=h&cp=36.8564~43.0232&sp=point.36.8564_43.0232\",\"Maplink3\")","v":"Maplink3"}]
[29698,"Duhok","Duhok","Markaz Duhok","Nawroz","نوروز",36.8662578,42.9905526,35,210,0,0,0,0,0,0,210,0,0,0,0,0,0,0,0,0,0,0,0,0,0,0,0,0,0,0,0,210,0,0,0,0,0,0,60,150,0,0,0,0,0,0,0,0,0,{"$f":"HYPERLINK(\"http://www.openstreetmap.org/?mlat=36.8663&mlon=42.9906&zoom=12#map=12/36.8663/42.9906\",\"Maplink1\")","v":"Maplink1"},{"$f":"HYPERLINK(\"https://www.google.iq/maps/search/+36.8663,42.9906/@36.8663,42.9906,14z?hl=en\",\"Maplink2\")","v":"Maplink2"},{"$f":"HYPERLINK(\"http://www.bing.com/maps/?lvl=14&sty=h&cp=36.8663~42.9906&sp=point.36.8663_42.9906\",\"Maplink3\")","v":"Maplink3"}]
[26054,"Duhok","Duhok","Markaz Duhok","Ashti","آشتي",36.869496,42.9827088,13,78,0,0,0,0,0,0,78,0,0,0,0,0,0,0,0,0,0,0,0,0,0,0,0,0,0,0,0,78,0,0,0,0,0,0,42,36,0,0,0,0,0,0,0,0,0,{"$f":"HYPERLINK(\"http://www.openstreetmap.org/?mlat=36.8695&mlon=42.9827&zoom=12#map=12/36.8695/42.9827\",\"Maplink1\")","v":"Maplink1"},{"$f":"HYPERLINK(\"https://www.google.iq/maps/search/+36.8695,42.9827/@36.8695,42.9827,14z?hl=en\",\"Maplink2\")","v":"Maplink2"},{"$f":"HYPERLINK(\"http://www.bing.com/maps/?lvl=14&sty=h&cp=36.8695~42.9827&sp=point.36.8695_42.9827\",\"Maplink3\")","v":"Maplink3"}]
[24302,"Duhok","Duhok","Markaz Duhok","Dabin 2","دابين 2",36.8827505,42.9415292,340,{"v":2040,"d":"2,040"},0,12,0,0,0,24,{"v":2016,"d":"2,016"},0,0,0,0,0,0,0,0,12,0,0,0,0,0,0,0,0,0,0,0,{"v":2028,"d":"2,028"},0,0,0,0,0,12,{"v":1452,"d":"1,452"},534,0,0,0,0,42,0,0,0,0,{"$f":"HYPERLINK(\"http://www.openstreetmap.org/?mlat=36.8828&mlon=42.9415&zoom=12#map=12/36.8828/42.9415\",\"Maplink1\")","v":"Maplink1"},{"$f":"HYPERLINK(\"https://www.google.iq/maps/search/+36.8828,42.9415/@36.8828,42.9415,14z?hl=en\",\"Maplink2\")","v":"Maplink2"},{"$f":"HYPERLINK(\"http://www.bing.com/maps/?lvl=14&sty=h&cp=36.8828~42.9415&sp=point.36.8828_42.9415\",\"Maplink3\")","v":"Maplink3"}]
[8373,"Duhok","Duhok","Markaz Duhok","Shakhke","شاخكي",36.8756509,42.9787793,150,900,0,0,0,0,0,0,900,0,0,0,0,0,0,0,0,18,0,0,0,0,0,0,0,0,0,0,0,864,0,18,0,0,0,18,384,498,0,0,0,0,0,0,0,0,0,{"$f":"HYPERLINK(\"http://www.openstreetmap.org/?mlat=36.8757&mlon=42.9788&zoom=12#map=12/36.8757/42.9788\",\"Maplink1\")","v":"Maplink1"},{"$f":"HYPERLINK(\"https://www.google.iq/maps/search/+36.8757,42.9788/@36.8757,42.9788,14z?hl=en\",\"Maplink2\")","v":"Maplink2"},{"$f":"HYPERLINK(\"http://www.bing.com/maps/?lvl=14&sty=h&cp=36.8757~42.9788&sp=point.36.8757_42.9788\",\"Maplink3\")","v":"Maplink3"}]
[25898,"Duhok","Duhok","Zawita","Avrike","افريكي",36.831657,43.1188347,209,{"v":1254,"d":"1,254"},0,0,0,0,0,0,{"v":1194,"d":"1,194"},0,12,48,0,0,0,0,0,0,0,0,0,0,0,0,0,0,0,0,0,{"v":1254,"d":"1,254"},0,0,0,0,0,0,696,558,0,0,0,0,0,0,0,0,0,{"$f":"HYPERLINK(\"http://www.openstreetmap.org/?mlat=36.8317&mlon=43.1188&zoom=12#map=12/36.8317/43.1188\",\"Maplink1\")","v":"Maplink1"},{"$f":"HYPERLINK(\"https://www.google.iq/maps/search/+36.8317,43.1188/@36.8317,43.1188,14z?hl=en\",\"Maplink2\")","v":"Maplink2"},{"$f":"HYPERLINK(\"http://www.bing.com/maps/?lvl=14&sty=h&cp=36.8317~43.1188&sp=point.36.8317_43.1188\",\"Maplink3\")","v":"Maplink3"}]
[7946,"Duhok","Duhok","Zawita","Nazarke","نزاركي",36.842476,43.0587682,176,{"v":1056,"d":"1,056"},0,0,0,0,0,222,780,0,0,54,0,0,0,0,0,0,0,0,0,0,0,0,0,0,0,0,0,{"v":1008,"d":"1,008"},0,48,0,0,0,0,342,714,0,0,0,0,0,0,0,0,0,{"$f":"HYPERLINK(\"http://www.openstreetmap.org/?mlat=36.8425&mlon=43.0588&zoom=12#map=12/36.8425/43.0588\",\"Maplink1\")","v":"Maplink1"},{"$f":"HYPERLINK(\"https://www.google.iq/maps/search/+36.8425,43.0588/@36.8425,43.0588,14z?hl=en\",\"Maplink2\")","v":"Maplink2"},{"$f":"HYPERLINK(\"http://www.bing.com/maps/?lvl=14&sty=h&cp=36.8425~43.0588&sp=point.36.8425_43.0588\",\"Maplink3\")","v":"Maplink3"}]
[8871,"Duhok","Duhok","Zawita","Kora","كورا",36.9342014,43.1478887,65,390,0,12,0,0,0,0,384,0,0,6,0,0,0,0,0,0,0,6,0,0,0,0,0,6,0,0,0,378,0,0,0,0,0,0,30,354,0,0,0,0,0,0,6,0,0,{"$f":"HYPERLINK(\"http://www.openstreetmap.org/?mlat=36.9342&mlon=43.1479&zoom=12#map=12/36.9342/43.1479\",\"Maplink1\")","v":"Maplink1"},{"$f":"HYPERLINK(\"https://www.google.iq/maps/search/+36.9342,43.1479/@36.9342,43.1479,14z?hl=en\",\"Maplink2\")","v":"Maplink2"},{"$f":"HYPERLINK(\"http://www.bing.com/maps/?lvl=14&sty=h&cp=36.9342~43.1479&sp=point.36.9342_43.1479\",\"Maplink3\")","v":"Maplink3"}]
[8196,"Duhok","Sumail","Bateel","Batel","باتيل",36.961097,42.6809076,58,348,0,12,0,0,0,0,324,0,0,24,0,0,0,0,0,0,0,0,0,0,0,0,0,0,0,0,0,348,0,0,0,0,0,0,156,186,0,0,0,0,6,0,0,0,0,{"$f":"HYPERLINK(\"http://www.openstreetmap.org/?mlat=36.9611&mlon=42.6809&zoom=12#map=12/36.9611/42.6809\",\"Maplink1\")","v":"Maplink1"},{"$f":"HYPERLINK(\"https://www.google.iq/maps/search/+36.9611,42.6809/@36.9611,42.6809,14z?hl=en\",\"Maplink2\")","v":"Maplink2"},{"$f":"HYPERLINK(\"http://www.bing.com/maps/?lvl=14&sty=h&cp=36.9611~42.6809&sp=point.36.9611_42.6809\",\"Maplink3\")","v":"Maplink3"}]
[8239,"Duhok","Sumail","Fayde","Fayda","فايدة",36.7573849,42.9255902,273,{"v":1638,"d":"1,638"},0,0,0,0,0,342,{"v":1266,"d":"1,266"},0,0,30,0,0,0,0,0,6,0,0,0,0,0,0,0,0,0,0,0,{"v":1632,"d":"1,632"},0,0,0,0,0,6,{"v":1500,"d":"1,500"},102,0,0,0,0,30,0,0,0,0,{"$f":"HYPERLINK(\"http://www.openstreetmap.org/?mlat=36.7574&mlon=42.9256&zoom=12#map=12/36.7574/42.9256\",\"Maplink1\")","v":"Maplink1"},{"$f":"HYPERLINK(\"https://www.google.iq/maps/search/+36.7574,42.9256/@36.7574,42.9256,14z?hl=en\",\"Maplink2\")","v":"Maplink2"},{"$f":"HYPERLINK(\"http://www.bing.com/maps/?lvl=14&sty=h&cp=36.7574~42.9256&sp=point.36.7574_42.9256\",\"Maplink3\")","v":"Maplink3"}]
[27130,"Duhok","Sumail","Markaz Sumail","Old Sorka","صوركا قديمة",36.8084732,42.8244493,31,186,0,0,0,0,0,0,156,0,0,30,0,0,0,0,0,0,0,0,0,0,0,0,0,0,0,0,0,186,0,0,0,0,0,0,0,186,0,0,0,0,0,0,0,0,0,{"$f":"HYPERLINK(\"http://www.openstreetmap.org/?mlat=36.8085&mlon=42.8244&zoom=12#map=12/36.8085/42.8244\",\"Maplink1\")","v":"Maplink1"},{"$f":"HYPERLINK(\"https://www.google.iq/maps/search/+36.8085,42.8244/@36.8085,42.8244,14z?hl=en\",\"Maplink2\")","v":"Maplink2"},{"$f":"HYPERLINK(\"http://www.bing.com/maps/?lvl=14&sty=h&cp=36.8085~42.8244&sp=point.36.8085_42.8244\",\"Maplink3\")","v":"Maplink3"}]
[7989,"Duhok","Sumail","Markaz Sumail","Seje","سيجي",36.9125197,42.8864319,245,{"v":1470,"d":"1,470"},0,0,0,0,0,90,192,0,0,{"v":1188,"d":"1,188"},0,0,0,0,0,0,0,0,0,0,0,0,0,0,0,0,0,{"v":1470,"d":"1,470"},0,0,0,0,0,0,120,{"v":1350,"d":"1,350"},0,0,0,0,0,0,0,0,0,{"$f":"HYPERLINK(\"http://www.openstreetmap.org/?mlat=36.9125&mlon=42.8864&zoom=12#map=12/36.9125/42.8864\",\"Maplink1\")","v":"Maplink1"},{"$f":"HYPERLINK(\"https://www.google.iq/maps/search/+36.9125,42.8864/@36.9125,42.8864,14z?hl=en\",\"Maplink2\")","v":"Maplink2"},{"$f":"HYPERLINK(\"http://www.bing.com/maps/?lvl=14&sty=h&cp=36.9125~42.8864&sp=point.36.9125_42.8864\",\"Maplink3\")","v":"Maplink3"}]
[29597,"Duhok","Sumail","Markaz Sumail","Nawro City","نورو ستي",36.8695474,42.8913136,9,54,0,0,0,0,0,0,54,0,0,0,0,0,0,0,0,0,0,0,0,0,0,0,0,0,0,0,0,54,0,0,0,0,0,0,42,12,0,0,0,0,0,0,0,0,0,{"$f":"HYPERLINK(\"http://www.openstreetmap.org/?mlat=36.8695&mlon=42.8913&zoom=12#map=12/36.8695/42.8913\",\"Maplink1\")","v":"Maplink1"},{"$f":"HYPERLINK(\"https://www.google.iq/maps/search/+36.8695,42.8913/@36.8695,42.8913,14z?hl=en\",\"Maplink2\")","v":"Maplink2"},{"$f":"HYPERLINK(\"http://www.bing.com/maps/?lvl=14&sty=h&cp=36.8695~42.8913&sp=point.36.8695_42.8913\",\"Maplink3\")","v":"Maplink3"}]
[7990,"Duhok","Sumail","Sindi","Namrike","نمريكي",36.7385104,42.8824497,11,66,0,0,0,0,0,0,48,0,0,18,0,0,0,0,0,0,0,0,0,0,0,0,0,0,0,0,0,66,0,0,0,0,0,0,48,0,0,0,0,0,18,0,0,0,0,{"$f":"HYPERLINK(\"http://www.openstreetmap.org/?mlat=36.7385&mlon=42.8824&zoom=12#map=12/36.7385/42.8824\",\"Maplink1\")","v":"Maplink1"},{"$f":"HYPERLINK(\"https://www.google.iq/maps/search/+36.7385,42.8824/@36.7385,42.8824,14z?hl=en\",\"Maplink2\")","v":"Maplink2"},{"$f":"HYPERLINK(\"http://www.bing.com/maps/?lvl=14&sty=h&cp=36.7385~42.8824&sp=point.36.7385_42.8824\",\"Maplink3\")","v":"Maplink3"}]
[27121,"Duhok","Sumail","Sindi","Khanke Qadima","خانكي قديمة",36.7693257,42.7757866,215,{"v":1290,"d":"1,290"},0,0,0,0,0,0,774,0,252,264,0,0,0,0,0,0,0,0,0,0,0,0,0,0,0,0,0,{"v":1290,"d":"1,290"},0,0,0,0,0,0,0,{"v":1290,"d":"1,290"},0,0,0,0,0,0,0,0,0,{"$f":"HYPERLINK(\"http://www.openstreetmap.org/?mlat=36.7693&mlon=42.7758&zoom=12#map=12/36.7693/42.7758\",\"Maplink1\")","v":"Maplink1"},{"$f":"HYPERLINK(\"https://www.google.iq/maps/search/+36.7693,42.7758/@36.7693,42.7758,14z?hl=en\",\"Maplink2\")","v":"Maplink2"},{"$f":"HYPERLINK(\"http://www.bing.com/maps/?lvl=14&sty=h&cp=36.7693~42.7758&sp=point.36.7693_42.7758\",\"Maplink3\")","v":"Maplink3"}]
[27124,"Duhok","Sumail","Sindi","New Zinya","زينيا جديدة",36.7837616,42.7815327,360,{"v":2160,"d":"2,160"},0,0,0,0,0,0,0,0,{"v":2088,"d":"2,088"},72,0,0,0,0,0,0,0,0,0,0,0,0,0,0,0,0,0,{"v":2160,"d":"2,160"},0,0,0,0,0,0,0,{"v":2160,"d":"2,160"},0,0,0,0,0,0,0,0,0,{"$f":"HYPERLINK(\"http://www.openstreetmap.org/?mlat=36.7838&mlon=42.7815&zoom=12#map=12/36.7838/42.7815\",\"Maplink1\")","v":"Maplink1"},{"$f":"HYPERLINK(\"https://www.google.iq/maps/search/+36.7838,42.7815/@36.7838,42.7815,14z?hl=en\",\"Maplink2\")","v":"Maplink2"},{"$f":"HYPERLINK(\"http://www.bing.com/maps/?lvl=14&sty=h&cp=36.7838~42.7815&sp=point.36.7838_42.7815\",\"Maplink3\")","v":"Maplink3"}]
[8019,"Duhok","Sumail","Sindi","Bakhitme","باختمي",36.8066357,42.860121,17,102,0,0,0,0,0,0,60,0,0,42,0,0,0,0,0,0,0,0,0,0,0,0,0,0,0,0,0,102,0,0,0,0,0,0,0,102,0,0,0,0,0,0,0,0,0,{"$f":"HYPERLINK(\"http://www.openstreetmap.org/?mlat=36.8066&mlon=42.8601&zoom=12#map=12/36.8066/42.8601\",\"Maplink1\")","v":"Maplink1"},{"$f":"HYPERLINK(\"https://www.google.iq/maps/search/+36.8066,42.8601/@36.8066,42.8601,14z?hl=en\",\"Maplink2\")","v":"Maplink2"},{"$f":"HYPERLINK(\"http://www.bing.com/maps/?lvl=14&sty=h&cp=36.8066~42.8601&sp=point.36.8066_42.8601\",\"Maplink3\")","v":"Maplink3"}]
[8800,"Duhok","Sumail","Sindi","Kherava","خيرافا",36.7754476,42.7834787,188,{"v":1128,"d":"1,128"},0,0,0,0,0,0,936,0,60,132,0,0,0,0,0,0,0,0,0,0,0,0,0,0,0,0,0,{"v":1128,"d":"1,128"},0,0,0,0,0,0,0,{"v":1128,"d":"1,128"},0,0,0,0,0,0,0,0,0,{"$f":"HYPERLINK(\"http://www.openstreetmap.org/?mlat=36.7754&mlon=42.7835&zoom=12#map=12/36.7754/42.7835\",\"Maplink1\")","v":"Maplink1"},{"$f":"HYPERLINK(\"https://www.google.iq/maps/search/+36.7754,42.7835/@36.7754,42.7835,14z?hl=en\",\"Maplink2\")","v":"Maplink2"},{"$f":"HYPERLINK(\"http://www.bing.com/maps/?lvl=14&sty=h&cp=36.7754~42.7835&sp=point.36.7754_42.7835\",\"Maplink3\")","v":"Maplink3"}]
[27128,"Duhok","Sumail","Sindi","Kamona","كمونا",36.7653376,42.7638293,38,228,0,0,0,0,0,0,228,0,0,0,0,0,0,0,0,0,0,0,0,0,0,0,0,0,0,0,0,228,0,0,0,0,0,0,0,228,0,0,0,0,0,0,0,0,0,{"$f":"HYPERLINK(\"http://www.openstreetmap.org/?mlat=36.7653&mlon=42.7638&zoom=12#map=12/36.7653/42.7638\",\"Maplink1\")","v":"Maplink1"},{"$f":"HYPERLINK(\"https://www.google.iq/maps/search/+36.7653,42.7638/@36.7653,42.7638,14z?hl=en\",\"Maplink2\")","v":"Maplink2"},{"$f":"HYPERLINK(\"http://www.bing.com/maps/?lvl=14&sty=h&cp=36.7653~42.7638&sp=point.36.7653_42.7638\",\"Maplink3\")","v":"Maplink3"}]
[8849,"Duhok","Zakho","Batifa","Batifa","باتيفا",37.1768181,43.0130961,154,924,0,0,0,0,0,0,924,0,0,0,0,0,0,0,0,6,0,0,0,0,0,0,0,0,0,0,0,918,0,0,0,0,0,6,120,786,0,0,0,0,12,0,0,0,0,{"$f":"HYPERLINK(\"http://www.openstreetmap.org/?mlat=37.1768&mlon=43.0131&zoom=12#map=12/37.1768/43.0131\",\"Maplink1\")","v":"Maplink1"},{"$f":"HYPERLINK(\"https://www.google.iq/maps/search/+37.1768,43.0131/@37.1768,43.0131,14z?hl=en\",\"Maplink2\")","v":"Maplink2"},{"$f":"HYPERLINK(\"http://www.bing.com/maps/?lvl=14&sty=h&cp=37.1768~43.0131&sp=point.37.1768_43.0131\",\"Maplink3\")","v":"Maplink3"}]
[8084,"Duhok","Zakho","Dercar","Darkar","دركار",37.1976206,42.8208393,286,{"v":1716,"d":"1,716"},0,12,0,0,0,0,{"v":1602,"d":"1,602"},0,0,114,0,0,0,0,0,0,0,0,0,0,0,0,0,0,0,0,0,{"v":1716,"d":"1,716"},0,0,0,0,0,0,180,{"v":1536,"d":"1,536"},0,0,0,0,0,0,0,0,0,{"$f":"HYPERLINK(\"http://www.openstreetmap.org/?mlat=37.1976&mlon=42.8208&zoom=12#map=12/37.1976/42.8208\",\"Maplink1\")","v":"Maplink1"},{"$f":"HYPERLINK(\"https://www.google.iq/maps/search/+37.1976,42.8208/@37.1976,42.8208,14z?hl=en\",\"Maplink2\")","v":"Maplink2"},{"$f":"HYPERLINK(\"http://www.bing.com/maps/?lvl=14&sty=h&cp=37.1976~42.8208&sp=point.37.1976_42.8208\",\"Maplink3\")","v":"Maplink3"}]
[24792,"Duhok","Zakho","Dercar","Berseve 2","مخيم بيرسفي2",37.1810285,42.862627,{"v":1424,"d":"1,424"},{"v":7120,"d":"7,120"},0,45,{"v":7120,"d":"7,120"},0,0,0,0,0,0,0,0,0,0,0,0,0,0,0,0,0,0,0,0,0,0,0,0,{"v":7120,"d":"7,120"},0,0,0,0,0,0,0,{"v":7120,"d":"7,120"},0,0,0,0,0,0,0,0,0,{"$f":"HYPERLINK(\"http://www.openstreetmap.org/?mlat=37.181&mlon=42.8626&zoom=12#map=12/37.181/42.8626\",\"Maplink1\")","v":"Maplink1"},{"$f":"HYPERLINK(\"https://www.google.iq/maps/search/+37.181,42.8626/@37.181,42.8626,14z?hl=en\",\"Maplink2\")","v":"Maplink2"},{"$f":"HYPERLINK(\"http://www.bing.com/maps/?lvl=14&sty=h&cp=37.181~42.8626&sp=point.37.181_42.8626\",\"Maplink3\")","v":"Maplink3"}]
[24789,"Duhok","Zakho","Dercar","Berseve 1","مخيم بيرسفي1",37.1807615,42.8569984,{"v":1008,"d":"1,008"},{"v":5040,"d":"5,040"},0,0,{"v":5040,"d":"5,040"},0,0,0,0,0,0,0,0,0,0,0,0,0,0,0,0,0,0,0,0,0,0,0,0,{"v":5040,"d":"5,040"},0,0,0,0,0,0,10,{"v":5030,"d":"5,030"},0,0,0,0,0,0,0,0,0,{"$f":"HYPERLINK(\"http://www.openstreetmap.org/?mlat=37.1808&mlon=42.857&zoom=12#map=12/37.1808/42.857\",\"Maplink1\")","v":"Maplink1"},{"$f":"HYPERLINK(\"https://www.google.iq/maps/search/+37.1808,42.857/@37.1808,42.857,14z?hl=en\",\"Maplink2\")","v":"Maplink2"},{"$f":"HYPERLINK(\"http://www.bing.com/maps/?lvl=14&sty=h&cp=37.1808~42.857&sp=point.37.1808_42.857\",\"Maplink3\")","v":"Maplink3"}]
[32028,"Duhok","Zakho","Markaz Zakho","Khrababka Sector","قطاع خرابابكا",37.1479761,42.7470562,672,{"v":4032,"d":"4,032"},0,0,0,0,0,138,{"v":3324,"d":"3,324"},0,126,444,0,0,0,0,0,0,0,0,0,0,0,0,0,0,0,0,0,{"v":4020,"d":"4,020"},0,12,0,0,0,0,294,{"v":2502,"d":"2,502"},0,24,0,0,{"v":1212,"d":"1,212"},0,0,0,0,{"$f":"HYPERLINK(\"http://www.openstreetmap.org/?mlat=37.148&mlon=42.7471&zoom=12#map=12/37.148/42.7471\",\"Maplink1\")","v":"Maplink1"},{"$f":"HYPERLINK(\"https://www.google.iq/maps/search/+37.148,42.7471/@37.148,42.7471,14z?hl=en\",\"Maplink2\")","v":"Maplink2"},{"$f":"HYPERLINK(\"http://www.bing.com/maps/?lvl=14&sty=h&cp=37.148~42.7471&sp=point.37.148_42.7471\",\"Maplink3\")","v":"Maplink3"}]
[8220,"Duhok","Zakho","Markaz Zakho","Darhozan","دارهوزان",37.1713861,42.7504082,10,60,0,0,0,0,0,0,60,0,0,0,0,0,0,0,0,0,0,0,0,0,0,0,0,0,0,0,0,60,0,0,0,0,0,0,0,60,0,0,0,0,0,0,0,0,0,{"$f":"HYPERLINK(\"http://www.openstreetmap.org/?mlat=37.1714&mlon=42.7504&zoom=12#map=12/37.1714/42.7504\",\"Maplink1\")","v":"Maplink1"},{"$f":"HYPERLINK(\"https://www.google.iq/maps/search/+37.1714,42.7504/@37.1714,42.7504,14z?hl=en\",\"Maplink2\")","v":"Maplink2"},{"$f":"HYPERLINK(\"http://www.bing.com/maps/?lvl=14&sty=h&cp=37.1714~42.7504&sp=point.37.1714_42.7504\",\"Maplink3\")","v":"Maplink3"}]
[32031,"Duhok","Zakho","Markaz Zakho","Abasiya Sector","قطاع عباسية",37.139161,42.702048,801,{"v":4806,"d":"4,806"},0,0,0,0,0,246,{"v":4530,"d":"4,530"},0,12,18,0,0,0,0,0,12,0,0,0,0,0,0,0,6,0,0,0,{"v":4788,"d":"4,788"},0,0,0,0,0,12,{"v":1632,"d":"1,632"},{"v":2688,"d":"2,688"},0,42,0,0,432,0,0,0,0,{"$f":"HYPERLINK(\"http://www.openstreetmap.org/?mlat=37.1392&mlon=42.702&zoom=12#map=12/37.1392/42.702\",\"Maplink1\")","v":"Maplink1"},{"$f":"HYPERLINK(\"https://www.google.iq/maps/search/+37.1392,42.702/@37.1392,42.702,14z?hl=en\",\"Maplink2\")","v":"Maplink2"},{"$f":"HYPERLINK(\"http://www.bing.com/maps/?lvl=14&sty=h&cp=37.1392~42.702&sp=point.37.1392_42.702\",\"Maplink3\")","v":"Maplink3"}]
[33582,"Duhok","Zakho","Markaz Zakho","Tiyan","تيان",37.11623732,42.47189944,3,18,0,0,0,0,0,0,18,0,0,0,0,0,0,0,0,0,0,0,0,0,0,0,0,0,0,0,0,18,0,0,0,0,0,0,0,12,0,0,0,0,0,0,6,0,0,{"$f":"HYPERLINK(\"http://www.openstreetmap.org/?mlat=37.1162&mlon=42.4719&zoom=12#map=12/37.1162/42.4719\",\"Maplink1\")","v":"Maplink1"},{"$f":"HYPERLINK(\"https://www.google.iq/maps/search/+37.1162,42.4719/@37.1162,42.4719,14z?hl=en\",\"Maplink2\")","v":"Maplink2"},{"$f":"HYPERLINK(\"http://www.bing.com/maps/?lvl=14&sty=h&cp=37.1162~42.4719&sp=point.37.1162_42.4719\",\"Maplink3\")","v":"Maplink3"}]
[8711,"Duhok","Zakho","Markaz Zakho","Rizgari","رزكاري",37.1378129881,42.5702569524,9,54,0,0,0,0,0,0,54,0,0,0,0,0,0,0,0,0,0,0,0,0,0,0,0,0,0,0,0,54,0,0,0,0,0,0,0,18,0,0,0,0,36,0,0,0,0,{"$f":"HYPERLINK(\"http://www.openstreetmap.org/?mlat=37.1378&mlon=42.5703&zoom=12#map=12/37.1378/42.5703\",\"Maplink1\")","v":"Maplink1"},{"$f":"HYPERLINK(\"https://www.google.iq/maps/search/+37.1378,42.5703/@37.1378,42.5703,14z?hl=en\",\"Maplink2\")","v":"Maplink2"},{"$f":"HYPERLINK(\"http://www.bing.com/maps/?lvl=14&sty=h&cp=37.1378~42.5703&sp=point.37.1378_42.5703\",\"Maplink3\")","v":"Maplink3"}]
[29556,"Erbil","Erbil","Markaz Erbil","Atlantic","اتلانتك",36.2148742,44.1549244,260,{"v":1560,"d":"1,560"},0,0,0,0,0,30,{"v":1530,"d":"1,530"},0,0,0,0,0,0,0,0,690,0,0,0,0,0,0,0,0,0,0,0,408,0,462,0,0,0,696,606,132,0,30,0,96,0,0,0,0,0,{"$f":"HYPERLINK(\"http://www.openstreetmap.org/?mlat=36.2149&mlon=44.1549&zoom=12#map=12/36.2149/44.1549\",\"Maplink1\")","v":"Maplink1"},{"$f":"HYPERLINK(\"https://www.google.iq/maps/search/+36.2149,44.1549/@36.2149,44.1549,14z?hl=en\",\"Maplink2\")","v":"Maplink2"},{"$f":"HYPERLINK(\"http://www.bing.com/maps/?lvl=14&sty=h&cp=36.2149~44.1549&sp=point.36.2149_44.1549\",\"Maplink3\")","v":"Maplink3"}]
[25470,"Erbil","Erbil","Markaz Erbil","Heran City","هيران ستي",36.1691321,44.1246584,164,984,0,0,0,0,0,0,984,0,0,0,0,0,0,0,0,282,0,0,0,0,0,0,0,0,0,0,0,600,0,102,0,0,0,180,162,120,0,72,0,420,30,0,0,0,0,{"$f":"HYPERLINK(\"http://www.openstreetmap.org/?mlat=36.1691&mlon=44.1247&zoom=12#map=12/36.1691/44.1247\",\"Maplink1\")","v":"Maplink1"},{"$f":"HYPERLINK(\"https://www.google.iq/maps/search/+36.1691,44.1247/@36.1691,44.1247,14z?hl=en\",\"Maplink2\")","v":"Maplink2"},{"$f":"HYPERLINK(\"http://www.bing.com/maps/?lvl=14&sty=h&cp=36.1691~44.1247&sp=point.36.1691_44.1247\",\"Maplink3\")","v":"Maplink3"}]
[25473,"Erbil","Erbil","Markaz Erbil","Hawler city","هولير ستي",36.1840284,44.1229225,87,522,0,0,0,0,0,0,522,0,0,0,0,0,0,0,0,210,0,0,0,0,0,0,0,0,0,0,0,300,0,12,0,0,0,72,192,60,0,168,0,30,0,0,0,0,0,{"$f":"HYPERLINK(\"http://www.openstreetmap.org/?mlat=36.184&mlon=44.1229&zoom=12#map=12/36.184/44.1229\",\"Maplink1\")","v":"Maplink1"},{"$f":"HYPERLINK(\"https://www.google.iq/maps/search/+36.184,44.1229/@36.184,44.1229,14z?hl=en\",\"Maplink2\")","v":"Maplink2"},{"$f":"HYPERLINK(\"http://www.bing.com/maps/?lvl=14&sty=h&cp=36.184~44.1229&sp=point.36.184_44.1229\",\"Maplink3\")","v":"Maplink3"}]
[27226,"Erbil","Erbil","Markaz Erbil","Rzgari","رزكاري",36.1713606,43.9952744,115,690,0,0,0,0,0,0,690,0,0,0,0,0,0,0,0,60,0,18,0,0,0,0,0,0,0,0,0,612,0,0,0,0,0,54,492,120,0,0,0,0,0,18,6,0,0,{"$f":"HYPERLINK(\"http://www.openstreetmap.org/?mlat=36.1714&mlon=43.9953&zoom=12#map=12/36.1714/43.9953\",\"Maplink1\")","v":"Maplink1"},{"$f":"HYPERLINK(\"https://www.google.iq/maps/search/+36.1714,43.9953/@36.1714,43.9953,14z?hl=en\",\"Maplink2\")","v":"Maplink2"},{"$f":"HYPERLINK(\"http://www.bing.com/maps/?lvl=14&sty=h&cp=36.1714~43.9953&sp=point.36.1714_43.9953\",\"Maplink3\")","v":"Maplink3"}]
[34231,"Erbil","Erbil","Markaz Erbil","Unfinished site-Divan hotel","مبنى غير مكتمل-فدق ديفان",36.19417446901,43.97452712059,18,108,0,0,0,0,0,0,0,0,0,108,0,0,0,0,0,0,0,0,0,0,0,0,0,0,0,0,0,108,0,0,0,0,0,0,0,108,0,0,0,0,0,0,0,0,0,{"$f":"HYPERLINK(\"http://www.openstreetmap.org/?mlat=36.1942&mlon=43.9745&zoom=12#map=12/36.1942/43.9745\",\"Maplink1\")","v":"Maplink1"},{"$f":"HYPERLINK(\"https://www.google.iq/maps/search/+36.1942,43.9745/@36.1942,43.9745,14z?hl=en\",\"Maplink2\")","v":"Maplink2"},{"$f":"HYPERLINK(\"http://www.bing.com/maps/?lvl=14&sty=h&cp=36.1942~43.9745&sp=point.36.1942_43.9745\",\"Maplink3\")","v":"Maplink3"}]
[13230,"Erbil","Erbil","Markaz Erbil","Baharka","مخيم بحركه",36.2947009,43.9901153,959,{"v":4795,"d":"4,795"},0,75,{"v":4795,"d":"4,795"},0,0,0,0,0,0,0,0,0,0,0,0,80,35,10,0,0,0,0,0,10,0,0,0,{"v":4260,"d":"4,260"},0,400,0,0,0,50,400,{"v":3445,"d":"3,445"},10,5,0,765,70,0,50,0,0,{"$f":"HYPERLINK(\"http://www.openstreetmap.org/?mlat=36.2947&mlon=43.9901&zoom=12#map=12/36.2947/43.9901\",\"Maplink1\")","v":"Maplink1"},{"$f":"HYPERLINK(\"https://www.google.iq/maps/search/+36.2947,43.9901/@36.2947,43.9901,14z?hl=en\",\"Maplink2\")","v":"Maplink2"},{"$f":"HYPERLINK(\"http://www.bing.com/maps/?lvl=14&sty=h&cp=36.2947~43.9901&sp=point.36.2947_43.9901\",\"Maplink3\")","v":"Maplink3"}]
[27139,"Erbil","Erbil","Markaz Erbil","Zen city","زين ستي",36.2521921,44.0609744,235,{"v":1410,"d":"1,410"},0,18,0,0,0,0,{"v":1410,"d":"1,410"},0,0,0,0,0,0,0,0,246,0,0,0,0,0,0,0,0,0,0,0,732,0,432,0,0,0,60,852,90,0,186,0,222,0,0,0,0,0,{"$f":"HYPERLINK(\"http://www.openstreetmap.org/?mlat=36.2522&mlon=44.061&zoom=12#map=12/36.2522/44.061\",\"Maplink1\")","v":"Maplink1"},{"$f":"HYPERLINK(\"https://www.google.iq/maps/search/+36.2522,44.061/@36.2522,44.061,14z?hl=en\",\"Maplink2\")","v":"Maplink2"},{"$f":"HYPERLINK(\"http://www.bing.com/maps/?lvl=14&sty=h&cp=36.2522~44.061&sp=point.36.2522_44.061\",\"Maplink3\")","v":"Maplink3"}]
[25471,"Erbil","Erbil","Markaz Erbil","Byaban","بيابان",36.209834,44.115016,180,{"v":1080,"d":"1,080"},0,0,0,0,0,0,{"v":1080,"d":"1,080"},0,0,0,0,0,0,0,0,360,0,0,0,0,0,0,0,210,0,0,0,420,0,90,0,0,0,300,258,120,0,60,0,132,210,0,0,0,0,{"$f":"HYPERLINK(\"http://www.openstreetmap.org/?mlat=36.2098&mlon=44.115&zoom=12#map=12/36.2098/44.115\",\"Maplink1\")","v":"Maplink1"},{"$f":"HYPERLINK(\"https://www.google.iq/maps/search/+36.2098,44.115/@36.2098,44.115,14z?hl=en\",\"Maplink2\")","v":"Maplink2"},{"$f":"HYPERLINK(\"http://www.bing.com/maps/?lvl=14&sty=h&cp=36.2098~44.115&sp=point.36.2098_44.115\",\"Maplink3\")","v":"Maplink3"}]
[27331,"Erbil","Erbil","Markaz Erbil","Shiraton","شيراتون",36.1942674,44.1346996,19,114,0,0,0,0,0,0,114,0,0,0,0,0,0,0,0,60,0,0,0,0,0,0,0,0,0,0,0,54,0,0,0,0,0,54,42,18,0,0,0,0,0,0,0,0,0,{"$f":"HYPERLINK(\"http://www.openstreetmap.org/?mlat=36.1943&mlon=44.1347&zoom=12#map=12/36.1943/44.1347\",\"Maplink1\")","v":"Maplink1"},{"$f":"HYPERLINK(\"https://www.google.iq/maps/search/+36.1943,44.1347/@36.1943,44.1347,14z?hl=en\",\"Maplink2\")","v":"Maplink2"},{"$f":"HYPERLINK(\"http://www.bing.com/maps/?lvl=14&sty=h&cp=36.1943~44.1347&sp=point.36.1943_44.1347\",\"Maplink3\")","v":"Maplink3"}]
[23911,"Erbil","Erbil","Markaz Erbil","Saydawa","سيداوه",36.18265039,44.0183669,175,{"v":1050,"d":"1,050"},0,0,0,0,0,0,{"v":1050,"d":"1,050"},0,0,0,0,0,0,0,0,0,0,120,0,0,0,0,0,24,0,0,0,756,0,150,0,0,0,0,498,0,120,0,0,408,24,0,0,0,0,{"$f":"HYPERLINK(\"http://www.openstreetmap.org/?mlat=36.1827&mlon=44.0184&zoom=12#map=12/36.1827/44.0184\",\"Maplink1\")","v":"Maplink1"},{"$f":"HYPERLINK(\"https://www.google.iq/maps/search/+36.1827,44.0184/@36.1827,44.0184,14z?hl=en\",\"Maplink2\")","v":"Maplink2"},{"$f":"HYPERLINK(\"http://www.bing.com/maps/?lvl=14&sty=h&cp=36.1827~44.0184&sp=point.36.1827_44.0184\",\"Maplink3\")","v":"Maplink3"}]
[32052,"Erbil","Erbil","Markaz Erbil","Lana City ","لانا ستي ",36.2183096,44.1437789,280,{"v":1680,"d":"1,680"},0,0,0,0,0,54,{"v":1626,"d":"1,626"},0,0,0,0,0,0,0,0,450,0,0,0,0,0,0,0,864,0,0,0,318,0,48,0,0,0,60,180,18,0,330,0,168,924,0,0,0,0,{"$f":"HYPERLINK(\"http://www.openstreetmap.org/?mlat=36.2183&mlon=44.1438&zoom=12#map=12/36.2183/44.1438\",\"Maplink1\")","v":"Maplink1"},{"$f":"HYPERLINK(\"https://www.google.iq/maps/search/+36.2183,44.1438/@36.2183,44.1438,14z?hl=en\",\"Maplink2\")","v":"Maplink2"},{"$f":"HYPERLINK(\"http://www.bing.com/maps/?lvl=14&sty=h&cp=36.2183~44.1438&sp=point.36.2183_44.1438\",\"Maplink3\")","v":"Maplink3"}]
[24418,"Erbil","Erbil","Markaz Erbil","Harsham 3","هرشم 3",36.2936859,44.0203819,197,{"v":1182,"d":"1,182"},0,42,0,0,0,0,{"v":1182,"d":"1,182"},0,0,0,0,0,0,0,0,30,0,330,0,0,0,0,0,60,0,0,0,702,0,60,0,0,0,0,60,0,150,30,0,702,60,0,180,0,0,{"$f":"HYPERLINK(\"http://www.openstreetmap.org/?mlat=36.2937&mlon=44.0204&zoom=12#map=12/36.2937/44.0204\",\"Maplink1\")","v":"Maplink1"},{"$f":"HYPERLINK(\"https://www.google.iq/maps/search/+36.2937,44.0204/@36.2937,44.0204,14z?hl=en\",\"Maplink2\")","v":"Maplink2"},{"$f":"HYPERLINK(\"http://www.bing.com/maps/?lvl=14&sty=h&cp=36.2937~44.0204&sp=point.36.2937_44.0204\",\"Maplink3\")","v":"Maplink3"}]
[27332,"Erbil","Erbil","Markaz Erbil","Qarabu","قربو",36.1933122,44.1237256,167,{"v":1002,"d":"1,002"},0,0,0,0,0,0,{"v":1002,"d":"1,002"},0,0,0,0,0,0,0,0,294,0,0,0,0,0,0,0,300,0,0,0,300,0,108,0,0,0,132,138,60,0,102,0,180,360,30,0,0,0,{"$f":"HYPERLINK(\"http://www.openstreetmap.org/?mlat=36.1933&mlon=44.1237&zoom=12#map=12/36.1933/44.1237\",\"Maplink1\")","v":"Maplink1"},{"$f":"HYPERLINK(\"https://www.google.iq/maps/search/+36.1933,44.1237/@36.1933,44.1237,14z?hl=en\",\"Maplink2\")","v":"Maplink2"},{"$f":"HYPERLINK(\"http://www.bing.com/maps/?lvl=14&sty=h&cp=36.1933~44.1237&sp=point.36.1933_44.1237\",\"Maplink3\")","v":"Maplink3"}]
[27214,"Erbil","Erbil","Markaz Erbil","Shorsh(Malayan)","شورش(ملايان)",36.213827,44.0208864848,192,{"v":1152,"d":"1,152"},0,0,0,0,0,60,{"v":1092,"d":"1,092"},0,0,0,0,0,0,0,0,96,0,348,0,0,12,0,0,72,0,0,0,546,0,78,0,0,0,36,528,60,318,72,0,54,72,0,12,0,0,{"$f":"HYPERLINK(\"http://www.openstreetmap.org/?mlat=36.2138&mlon=44.0209&zoom=12#map=12/36.2138/44.0209\",\"Maplink1\")","v":"Maplink1"},{"$f":"HYPERLINK(\"https://www.google.iq/maps/search/+36.2138,44.0209/@36.2138,44.0209,14z?hl=en\",\"Maplink2\")","v":"Maplink2"},{"$f":"HYPERLINK(\"http://www.bing.com/maps/?lvl=14&sty=h&cp=36.2138~44.0209&sp=point.36.2138_44.0209\",\"Maplink3\")","v":"Maplink3"}]
[13677,"Erbil","Erbil","Markaz Erbil","Hadiab","حدياب",36.23147802,43.98783327,81,486,0,0,0,0,0,0,486,0,0,0,0,0,0,0,0,0,0,36,0,0,0,0,0,0,0,0,0,450,0,0,0,0,0,0,444,0,12,0,0,0,0,0,30,0,0,{"$f":"HYPERLINK(\"http://www.openstreetmap.org/?mlat=36.2315&mlon=43.9878&zoom=12#map=12/36.2315/43.9878\",\"Maplink1\")","v":"Maplink1"},{"$f":"HYPERLINK(\"https://www.google.iq/maps/search/+36.2315,43.9878/@36.2315,43.9878,14z?hl=en\",\"Maplink2\")","v":"Maplink2"},{"$f":"HYPERLINK(\"http://www.bing.com/maps/?lvl=14&sty=h&cp=36.2315~43.9878&sp=point.36.2315_43.9878\",\"Maplink3\")","v":"Maplink3"}]
[21669,"Erbil","Erbil","Markaz Erbil","Dartu Nwee","داره تو نوي",36.1151091,44.0799536641,370,{"v":2220,"d":"2,220"},0,30,0,0,0,0,{"v":2220,"d":"2,220"},0,0,0,0,0,0,0,0,690,0,0,0,0,0,0,0,180,0,0,0,696,0,654,0,0,0,114,840,90,0,576,0,420,180,0,0,0,0,{"$f":"HYPERLINK(\"http://www.openstreetmap.org/?mlat=36.1151&mlon=44.08&zoom=12#map=12/36.1151/44.08\",\"Maplink1\")","v":"Maplink1"},{"$f":"HYPERLINK(\"https://www.google.iq/maps/search/+36.1151,44.08/@36.1151,44.08,14z?hl=en\",\"Maplink2\")","v":"Maplink2"},{"$f":"HYPERLINK(\"http://www.bing.com/maps/?lvl=14&sty=h&cp=36.1151~44.08&sp=point.36.1151_44.08\",\"Maplink3\")","v":"Maplink3"}]
[33152,"Erbil","Erbil","Markaz Erbil","Dashti bahasht","دشتي بهشت",36.2188962,44.1396503,45,270,0,0,0,0,0,0,0,0,0,270,0,0,0,0,0,0,0,0,0,0,0,0,0,270,0,0,0,0,0,0,0,0,0,0,0,0,0,0,0,0,270,0,0,0,0,{"$f":"HYPERLINK(\"http://www.openstreetmap.org/?mlat=36.2189&mlon=44.1397&zoom=12#map=12/36.2189/44.1397\",\"Maplink1\")","v":"Maplink1"},{"$f":"HYPERLINK(\"https://www.google.iq/maps/search/+36.2189,44.1397/@36.2189,44.1397,14z?hl=en\",\"Maplink2\")","v":"Maplink2"},{"$f":"HYPERLINK(\"http://www.bing.com/maps/?lvl=14&sty=h&cp=36.2189~44.1397&sp=point.36.2189_44.1397\",\"Maplink3\")","v":"Maplink3"}]
[27153,"Erbil","Erbil","Markaz Erbil","Byaban Village","قريه بيابان ",36.2627743,43.99421678,40,240,0,0,0,0,0,0,240,0,0,0,0,0,0,0,0,0,0,0,0,0,0,0,0,0,0,0,0,240,0,0,0,0,0,0,240,0,0,0,0,0,0,0,0,0,0,{"$f":"HYPERLINK(\"http://www.openstreetmap.org/?mlat=36.2628&mlon=43.9942&zoom=12#map=12/36.2628/43.9942\",\"Maplink1\")","v":"Maplink1"},{"$f":"HYPERLINK(\"https://www.google.iq/maps/search/+36.2628,43.9942/@36.2628,43.9942,14z?hl=en\",\"Maplink2\")","v":"Maplink2"},{"$f":"HYPERLINK(\"http://www.bing.com/maps/?lvl=14&sty=h&cp=36.2628~43.9942&sp=point.36.2628_43.9942\",\"Maplink3\")","v":"Maplink3"}]
[23908,"Erbil","Erbil","Markaz Erbil","Al Qala(Hay khanaqa)","القلعه(حي خانقا)",36.192393,44.0154977,46,276,0,0,0,0,84,0,192,0,0,0,0,0,0,0,0,114,0,0,0,0,0,0,0,0,0,0,0,138,0,24,0,0,0,30,78,0,0,84,0,84,0,0,0,0,0,{"$f":"HYPERLINK(\"http://www.openstreetmap.org/?mlat=36.1924&mlon=44.0155&zoom=12#map=12/36.1924/44.0155\",\"Maplink1\")","v":"Maplink1"},{"$f":"HYPERLINK(\"https://www.google.iq/maps/search/+36.1924,44.0155/@36.1924,44.0155,14z?hl=en\",\"Maplink2\")","v":"Maplink2"},{"$f":"HYPERLINK(\"http://www.bing.com/maps/?lvl=14&sty=h&cp=36.1924~44.0155&sp=point.36.1924_44.0155\",\"Maplink3\")","v":"Maplink3"}]
[21671,"Erbil","Erbil","Markaz Erbil","Kurd Stan","كوردستان",36.1235817,44.0512551,109,654,0,0,0,0,0,0,654,0,0,0,0,0,0,0,0,360,0,0,0,0,0,0,0,90,0,0,0,204,0,0,0,0,0,282,78,102,0,78,0,24,90,0,0,0,0,{"$f":"HYPERLINK(\"http://www.openstreetmap.org/?mlat=36.1236&mlon=44.0513&zoom=12#map=12/36.1236/44.0513\",\"Maplink1\")","v":"Maplink1"},{"$f":"HYPERLINK(\"https://www.google.iq/maps/search/+36.1236,44.0513/@36.1236,44.0513,14z?hl=en\",\"Maplink2\")","v":"Maplink2"},{"$f":"HYPERLINK(\"http://www.bing.com/maps/?lvl=14&sty=h&cp=36.1236~44.0513&sp=point.36.1236_44.0513\",\"Maplink3\")","v":"Maplink3"}]
[25973,"Erbil","Erbil","Markaz Erbil","Harem","هريم",36.119372256,44.0630427,89,534,0,0,0,0,0,0,534,0,0,0,0,0,0,0,0,252,0,0,0,0,0,0,0,60,0,0,0,192,0,30,0,0,0,54,180,0,0,198,0,42,60,0,0,0,0,{"$f":"HYPERLINK(\"http://www.openstreetmap.org/?mlat=36.1194&mlon=44.063&zoom=12#map=12/36.1194/44.063\",\"Maplink1\")","v":"Maplink1"},{"$f":"HYPERLINK(\"https://www.google.iq/maps/search/+36.1194,44.063/@36.1194,44.063,14z?hl=en\",\"Maplink2\")","v":"Maplink2"},{"$f":"HYPERLINK(\"http://www.bing.com/maps/?lvl=14&sty=h&cp=36.1194~44.063&sp=point.36.1194_44.063\",\"Maplink3\")","v":"Maplink3"}]
[24159,"Erbil","Erbil","Markaz Erbil","Tayrawa","تيراوه",36.2002871,44.009707,250,{"v":1500,"d":"1,500"},0,0,0,0,0,0,{"v":1500,"d":"1,500"},0,0,0,0,0,0,0,0,270,0,198,0,0,72,0,0,18,0,0,0,744,0,198,0,0,0,162,624,0,174,180,0,318,18,0,24,0,0,{"$f":"HYPERLINK(\"http://www.openstreetmap.org/?mlat=36.2003&mlon=44.0097&zoom=12#map=12/36.2003/44.0097\",\"Maplink1\")","v":"Maplink1"},{"$f":"HYPERLINK(\"https://www.google.iq/maps/search/+36.2003,44.0097/@36.2003,44.0097,14z?hl=en\",\"Maplink2\")","v":"Maplink2"},{"$f":"HYPERLINK(\"http://www.bing.com/maps/?lvl=14&sty=h&cp=36.2003~44.0097&sp=point.36.2003_44.0097\",\"Maplink3\")","v":"Maplink3"}]
[27145,"Erbil","Erbil","Markaz Erbil","Daratu-Brayati","داره تو-برايتي",36.1246725273,44.047756016,98,588,0,12,0,0,0,0,588,0,0,0,0,0,0,0,0,84,0,0,0,0,0,0,0,0,0,0,0,504,0,0,0,0,0,18,84,0,0,66,0,420,0,0,0,0,0,{"$f":"HYPERLINK(\"http://www.openstreetmap.org/?mlat=36.1247&mlon=44.0478&zoom=12#map=12/36.1247/44.0478\",\"Maplink1\")","v":"Maplink1"},{"$f":"HYPERLINK(\"https://www.google.iq/maps/search/+36.1247,44.0478/@36.1247,44.0478,14z?hl=en\",\"Maplink2\")","v":"Maplink2"},{"$f":"HYPERLINK(\"http://www.bing.com/maps/?lvl=14&sty=h&cp=36.1247~44.0478&sp=point.36.1247_44.0478\",\"Maplink3\")","v":"Maplink3"}]
[21899,"Erbil","Erbil","Markaz Erbil","Rizgari","رزكاري",36.2797368,43.7341817,650,{"v":3900,"d":"3,900"},0,0,0,0,0,0,{"v":3900,"d":"3,900"},0,0,0,0,0,0,0,0,{"v":1176,"d":"1,176"},0,0,0,0,0,0,0,0,0,0,0,{"v":2016,"d":"2,016"},0,708,0,0,0,504,{"v":1320,"d":"1,320"},48,0,552,0,{"v":1476,"d":"1,476"},0,0,0,0,0,{"$f":"HYPERLINK(\"http://www.openstreetmap.org/?mlat=36.2797&mlon=43.7342&zoom=12#map=12/36.2797/43.7342\",\"Maplink1\")","v":"Maplink1"},{"$f":"HYPERLINK(\"https://www.google.iq/maps/search/+36.2797,43.7342/@36.2797,43.7342,14z?hl=en\",\"Maplink2\")","v":"Maplink2"},{"$f":"HYPERLINK(\"http://www.bing.com/maps/?lvl=14&sty=h&cp=36.2797~43.7342&sp=point.36.2797_43.7342\",\"Maplink3\")","v":"Maplink3"}]
[27216,"Erbil","Erbil","Markaz Erbil","Saidawa(Ashti)","سيداوه(اشتي)",36.180798,44.020309,24,144,0,0,0,0,0,0,144,0,0,0,0,0,0,0,0,0,0,0,0,0,0,0,0,0,0,0,0,60,0,84,0,0,0,0,84,60,0,0,0,0,0,0,0,0,0,{"$f":"HYPERLINK(\"http://www.openstreetmap.org/?mlat=36.1808&mlon=44.0203&zoom=12#map=12/36.1808/44.0203\",\"Maplink1\")","v":"Maplink1"},{"$f":"HYPERLINK(\"https://www.google.iq/maps/search/+36.1808,44.0203/@36.1808,44.0203,14z?hl=en\",\"Maplink2\")","v":"Maplink2"},{"$f":"HYPERLINK(\"http://www.bing.com/maps/?lvl=14&sty=h&cp=36.1808~44.0203&sp=point.36.1808_44.0203\",\"Maplink3\")","v":"Maplink3"}]
[33879,"Erbil","Erbil","Markaz Erbil","Grd Muhammed","كرد محمد",36.120848,43.970794,176,{"v":1056,"d":"1,056"},0,444,0,0,0,0,876,0,0,0,180,0,0,0,0,96,0,30,0,0,48,0,0,6,0,0,0,702,0,174,0,0,0,84,168,0,30,66,0,702,6,0,0,0,0,{"$f":"HYPERLINK(\"http://www.openstreetmap.org/?mlat=36.1208&mlon=43.9708&zoom=12#map=12/36.1208/43.9708\",\"Maplink1\")","v":"Maplink1"},{"$f":"HYPERLINK(\"https://www.google.iq/maps/search/+36.1208,43.9708/@36.1208,43.9708,14z?hl=en\",\"Maplink2\")","v":"Maplink2"},{"$f":"HYPERLINK(\"http://www.bing.com/maps/?lvl=14&sty=h&cp=36.1208~43.9708&sp=point.36.1208_43.9708\",\"Maplink3\")","v":"Maplink3"}]
[33878,"Erbil","Erbil","Qushtappa","Mizori","مزوري",35.9961654,44.0386959,245,{"v":1470,"d":"1,470"},0,18,0,0,0,0,{"v":1470,"d":"1,470"},0,0,0,0,0,0,0,0,924,0,78,0,0,36,0,0,6,0,0,0,306,0,120,0,0,0,636,120,0,78,324,0,306,6,0,0,0,0,{"$f":"HYPERLINK(\"http://www.openstreetmap.org/?mlat=35.9962&mlon=44.0387&zoom=12#map=12/35.9962/44.0387\",\"Maplink1\")","v":"Maplink1"},{"$f":"HYPERLINK(\"https://www.google.iq/maps/search/+35.9962,44.0387/@35.9962,44.0387,14z?hl=en\",\"Maplink2\")","v":"Maplink2"},{"$f":"HYPERLINK(\"http://www.bing.com/maps/?lvl=14&sty=h&cp=35.9962~44.0387&sp=point.35.9962_44.0387\",\"Maplink3\")","v":"Maplink3"}]
[27222,"Erbil","Koysinjaq","Markaz Koysinjaq","Nawdaran","ناوداران",36.0572663,44.6371874,10,60,0,0,0,0,0,0,60,0,0,0,0,0,0,0,0,0,0,60,0,0,0,0,0,0,0,0,0,0,0,0,0,0,0,0,0,0,60,0,0,0,0,0,0,0,0,{"$f":"HYPERLINK(\"http://www.openstreetmap.org/?mlat=36.0573&mlon=44.6372&zoom=12#map=12/36.0573/44.6372\",\"Maplink1\")","v":"Maplink1"},{"$f":"HYPERLINK(\"https://www.google.iq/maps/search/+36.0573,44.6372/@36.0573,44.6372,14z?hl=en\",\"Maplink2\")","v":"Maplink2"},{"$f":"HYPERLINK(\"http://www.bing.com/maps/?lvl=14&sty=h&cp=36.0573~44.6372&sp=point.36.0573_44.6372\",\"Maplink3\")","v":"Maplink3"}]
[23279,"Erbil","Koysinjaq","Markaz Koysinjaq","Hamoon","هامون ",36.073985,44.6326177,15,90,0,0,0,0,0,0,90,0,0,0,0,0,0,0,0,0,0,0,0,0,0,0,0,0,0,0,0,90,0,0,0,0,0,0,90,0,0,0,0,0,0,0,0,0,0,{"$f":"HYPERLINK(\"http://www.openstreetmap.org/?mlat=36.074&mlon=44.6326&zoom=12#map=12/36.074/44.6326\",\"Maplink1\")","v":"Maplink1"},{"$f":"HYPERLINK(\"https://www.google.iq/maps/search/+36.074,44.6326/@36.074,44.6326,14z?hl=en\",\"Maplink2\")","v":"Maplink2"},{"$f":"HYPERLINK(\"http://www.bing.com/maps/?lvl=14&sty=h&cp=36.074~44.6326&sp=point.36.074_44.6326\",\"Maplink3\")","v":"Maplink3"}]
[11887,"Erbil","Koysinjaq","Taq Taq","Taqtaq","طقطق",35.8872085,44.5837756,80,480,0,0,0,0,0,0,480,0,0,0,0,0,0,0,0,18,0,72,0,0,72,0,0,0,0,0,0,270,0,48,0,0,0,72,222,30,72,18,0,66,0,0,0,0,0,{"$f":"HYPERLINK(\"http://www.openstreetmap.org/?mlat=35.8872&mlon=44.5838&zoom=12#map=12/35.8872/44.5838\",\"Maplink1\")","v":"Maplink1"},{"$f":"HYPERLINK(\"https://www.google.iq/maps/search/+35.8872,44.5838/@35.8872,44.5838,14z?hl=en\",\"Maplink2\")","v":"Maplink2"},{"$f":"HYPERLINK(\"http://www.bing.com/maps/?lvl=14&sty=h&cp=35.8872~44.5838&sp=point.35.8872_44.5838\",\"Maplink3\")","v":"Maplink3"}]
[27203,"Erbil","Rawanduz","Diana","Soran(26 Gulan)","سوران(26 كولان)",36.6576405,44.5439851,5,30,0,0,0,0,0,0,30,0,0,0,0,0,0,0,0,18,0,0,0,0,0,0,0,0,0,0,0,0,0,12,0,0,0,18,12,0,0,0,0,0,0,0,0,0,0,{"$f":"HYPERLINK(\"http://www.openstreetmap.org/?mlat=36.6576&mlon=44.544&zoom=12#map=12/36.6576/44.544\",\"Maplink1\")","v":"Maplink1"},{"$f":"HYPERLINK(\"https://www.google.iq/maps/search/+36.6576,44.544/@36.6576,44.544,14z?hl=en\",\"Maplink2\")","v":"Maplink2"},{"$f":"HYPERLINK(\"http://www.bing.com/maps/?lvl=14&sty=h&cp=36.6576~44.544&sp=point.36.6576_44.544\",\"Maplink3\")","v":"Maplink3"}]
[27202,"Erbil","Rawanduz","Diana","Soran(Hay al matar)","سوران(حي المطار)",36.6605379,44.5424547,7,42,0,0,0,0,0,0,42,0,0,0,0,0,0,0,0,30,0,0,0,0,0,0,0,0,0,0,0,0,0,12,0,0,0,30,12,0,0,0,0,0,0,0,0,0,0,{"$f":"HYPERLINK(\"http://www.openstreetmap.org/?mlat=36.6605&mlon=44.5425&zoom=12#map=12/36.6605/44.5425\",\"Maplink1\")","v":"Maplink1"},{"$f":"HYPERLINK(\"https://www.google.iq/maps/search/+36.6605,44.5425/@36.6605,44.5425,14z?hl=en\",\"Maplink2\")","v":"Maplink2"},{"$f":"HYPERLINK(\"http://www.bing.com/maps/?lvl=14&sty=h&cp=36.6605~44.5425&sp=point.36.6605_44.5425\",\"Maplink3\")","v":"Maplink3"}]
[27198,"Erbil","Rawanduz","Khailfan","Hay mameel al qeer","حي معمل القير",36.5919395,44.3860076,10,60,0,0,0,0,0,0,60,0,0,0,0,0,0,0,0,12,0,0,0,0,0,0,0,0,0,0,0,48,0,0,0,0,0,12,18,0,0,0,0,30,0,0,0,0,0,{"$f":"HYPERLINK(\"http://www.openstreetmap.org/?mlat=36.5919&mlon=44.386&zoom=12#map=12/36.5919/44.386\",\"Maplink1\")","v":"Maplink1"},{"$f":"HYPERLINK(\"https://www.google.iq/maps/search/+36.5919,44.386/@36.5919,44.386,14z?hl=en\",\"Maplink2\")","v":"Maplink2"},{"$f":"HYPERLINK(\"http://www.bing.com/maps/?lvl=14&sty=h&cp=36.5919~44.386&sp=point.36.5919_44.386\",\"Maplink3\")","v":"Maplink3"}]
[13372,"Erbil","Shaqlawa","Harir","Harir-Batas","حرير-باتاس",36.5603397,44.334274731,25,150,0,0,0,0,0,0,150,0,0,0,0,0,0,0,0,72,0,0,0,0,0,0,0,0,0,0,0,18,0,60,0,0,0,24,78,0,0,48,0,0,0,0,0,0,0,{"$f":"HYPERLINK(\"http://www.openstreetmap.org/?mlat=36.5603&mlon=44.3343&zoom=12#map=12/36.5603/44.3343\",\"Maplink1\")","v":"Maplink1"},{"$f":"HYPERLINK(\"https://www.google.iq/maps/search/+36.5603,44.3343/@36.5603,44.3343,14z?hl=en\",\"Maplink2\")","v":"Maplink2"},{"$f":"HYPERLINK(\"http://www.bing.com/maps/?lvl=14&sty=h&cp=36.5603~44.3343&sp=point.36.5603_44.3343\",\"Maplink3\")","v":"Maplink3"}]
[12079,"Erbil","Shaqlawa","Khoshnaw","Hiran","هيران ",36.2772151,44.4931456859,58,348,0,0,0,0,0,0,348,0,0,0,0,0,0,0,0,318,0,0,0,0,0,0,0,0,0,0,0,30,0,0,0,0,0,264,0,0,0,54,0,30,0,0,0,0,0,{"$f":"HYPERLINK(\"http://www.openstreetmap.org/?mlat=36.2772&mlon=44.4931&zoom=12#map=12/36.2772/44.4931\",\"Maplink1\")","v":"Maplink1"},{"$f":"HYPERLINK(\"https://www.google.iq/maps/search/+36.2772,44.4931/@36.2772,44.4931,14z?hl=en\",\"Maplink2\")","v":"Maplink2"},{"$f":"HYPERLINK(\"http://www.bing.com/maps/?lvl=14&sty=h&cp=36.2772~44.4931&sp=point.36.2772_44.4931\",\"Maplink3\")","v":"Maplink3"}]
[23784,"Erbil","Shaqlawa","Khoshnaw","Sarmidan-3(Ashti)","سر ميدان 3(اشتي)",36.4121108,44.3102413473,44,264,0,0,0,0,0,0,264,0,0,0,0,0,0,0,0,156,0,18,0,0,0,0,0,0,0,0,0,30,0,60,0,0,0,60,30,54,18,96,6,0,0,0,0,0,0,{"$f":"HYPERLINK(\"http://www.openstreetmap.org/?mlat=36.4121&mlon=44.3102&zoom=12#map=12/36.4121/44.3102\",\"Maplink1\")","v":"Maplink1"},{"$f":"HYPERLINK(\"https://www.google.iq/maps/search/+36.4121,44.3102/@36.4121,44.3102,14z?hl=en\",\"Maplink2\")","v":"Maplink2"},{"$f":"HYPERLINK(\"http://www.bing.com/maps/?lvl=14&sty=h&cp=36.4121~44.3102&sp=point.36.4121_44.3102\",\"Maplink3\")","v":"Maplink3"}]
[23713,"Erbil","Shaqlawa","Khoshnaw","Betrma","بيترما",36.3946488,44.3424598,107,642,0,18,0,0,0,0,642,0,0,0,0,0,0,0,0,258,0,42,0,0,42,0,0,0,0,0,0,174,0,126,0,0,0,138,90,42,42,132,30,108,0,0,60,0,0,{"$f":"HYPERLINK(\"http://www.openstreetmap.org/?mlat=36.3946&mlon=44.3425&zoom=12#map=12/36.3946/44.3425\",\"Maplink1\")","v":"Maplink1"},{"$f":"HYPERLINK(\"https://www.google.iq/maps/search/+36.3946,44.3425/@36.3946,44.3425,14z?hl=en\",\"Maplink2\")","v":"Maplink2"},{"$f":"HYPERLINK(\"http://www.bing.com/maps/?lvl=14&sty=h&cp=36.3946~44.3425&sp=point.36.3946_44.3425\",\"Maplink3\")","v":"Maplink3"}]
[26009,"Kerbala","Al-Hindiya","Markaz Al-Hindiya","Al-Khayrat","الخيرات",32.3552491419,44.237780299,25,150,0,0,0,0,0,150,0,0,0,0,0,0,0,0,0,0,0,0,0,0,0,0,0,0,0,0,0,150,0,0,0,0,0,0,150,0,0,0,0,0,0,0,0,0,0,{"$f":"HYPERLINK(\"http://www.openstreetmap.org/?mlat=32.3552&mlon=44.2378&zoom=12#map=12/32.3552/44.2378\",\"Maplink1\")","v":"Maplink1"},{"$f":"HYPERLINK(\"https://www.google.iq/maps/search/+32.3552,44.2378/@32.3552,44.2378,14z?hl=en\",\"Maplink2\")","v":"Maplink2"},{"$f":"HYPERLINK(\"http://www.bing.com/maps/?lvl=14&sty=h&cp=32.3552~44.2378&sp=point.32.3552_44.2378\",\"Maplink3\")","v":"Maplink3"}]
[25486,"Kerbala","Al-Hindiya","Markaz Al-Hindiya","emlbege(hay al salam)","املبيج(حي السلام)",32.5514777423,44.2072976451,4,24,0,0,0,0,0,0,24,0,0,0,0,0,0,0,0,0,0,0,0,0,0,0,0,0,0,0,0,24,0,0,0,0,0,0,24,0,0,0,0,0,0,0,0,0,0,{"$f":"HYPERLINK(\"http://www.openstreetmap.org/?mlat=32.5515&mlon=44.2073&zoom=12#map=12/32.5515/44.2073\",\"Maplink1\")","v":"Maplink1"},{"$f":"HYPERLINK(\"https://www.google.iq/maps/search/+32.5515,44.2073/@32.5515,44.2073,14z?hl=en\",\"Maplink2\")","v":"Maplink2"},{"$f":"HYPERLINK(\"http://www.bing.com/maps/?lvl=14&sty=h&cp=32.5515~44.2073&sp=point.32.5515_44.2073\",\"Maplink3\")","v":"Maplink3"}]
[25852,"Kerbala","Kerbela","Al-Hassainya","Al Asafeat Al Sharqy","العسافيات الشرقي",32.6678307331,44.1600507753,3,18,0,0,0,0,0,0,18,0,0,0,0,0,0,0,0,0,18,0,0,0,0,0,0,0,0,0,0,0,0,0,0,0,0,18,0,0,0,0,0,0,0,0,0,0,0,{"$f":"HYPERLINK(\"http://www.openstreetmap.org/?mlat=32.6678&mlon=44.1601&zoom=12#map=12/32.6678/44.1601\",\"Maplink1\")","v":"Maplink1"},{"$f":"HYPERLINK(\"https://www.google.iq/maps/search/+32.6678,44.1601/@32.6678,44.1601,14z?hl=en\",\"Maplink2\")","v":"Maplink2"},{"$f":"HYPERLINK(\"http://www.bing.com/maps/?lvl=14&sty=h&cp=32.6678~44.1601&sp=point.32.6678_44.1601\",\"Maplink3\")","v":"Maplink3"}]
[25887,"Kerbala","Kerbela","Al-Hassainya","Al Fadha","الفيضة",32.684453467,44.0880112692,30,180,0,0,0,0,0,0,180,0,0,0,0,0,0,0,0,0,96,0,0,0,0,0,0,0,0,0,0,84,0,0,0,0,0,96,84,0,0,0,0,0,0,0,0,0,0,{"$f":"HYPERLINK(\"http://www.openstreetmap.org/?mlat=32.6845&mlon=44.088&zoom=12#map=12/32.6845/44.088\",\"Maplink1\")","v":"Maplink1"},{"$f":"HYPERLINK(\"https://www.google.iq/maps/search/+32.6845,44.088/@32.6845,44.088,14z?hl=en\",\"Maplink2\")","v":"Maplink2"},{"$f":"HYPERLINK(\"http://www.bing.com/maps/?lvl=14&sty=h&cp=32.6845~44.088&sp=point.32.6845_44.088\",\"Maplink3\")","v":"Maplink3"}]
[25903,"Kerbala","Kerbela","Al-Hassainya","Abo Zarnt Al Shamaly","ابو زرنت الشمالية",32.7094523076,44.178395414,4,24,0,0,0,0,0,0,24,0,0,0,0,0,0,0,0,0,24,0,0,0,0,0,0,0,0,0,0,0,0,0,0,0,0,24,0,0,0,0,0,0,0,0,0,0,0,{"$f":"HYPERLINK(\"http://www.openstreetmap.org/?mlat=32.7095&mlon=44.1784&zoom=12#map=12/32.7095/44.1784\",\"Maplink1\")","v":"Maplink1"},{"$f":"HYPERLINK(\"https://www.google.iq/maps/search/+32.7095,44.1784/@32.7095,44.1784,14z?hl=en\",\"Maplink2\")","v":"Maplink2"},{"$f":"HYPERLINK(\"http://www.bing.com/maps/?lvl=14&sty=h&cp=32.7095~44.1784&sp=point.32.7095_44.1784\",\"Maplink3\")","v":"Maplink3"}]
[14167,"Kerbala","Kerbela","Al-Hassainya","Al-Abrahmeiah (Al hafed)","الابراهيمية (الحافظ)",32.6116343383,44.0972605899,63,378,0,0,0,0,0,348,30,0,0,0,0,0,0,0,0,0,0,0,0,0,0,0,0,0,0,0,0,378,0,0,0,0,0,0,378,0,0,0,0,0,0,0,0,0,0,{"$f":"HYPERLINK(\"http://www.openstreetmap.org/?mlat=32.6116&mlon=44.0973&zoom=12#map=12/32.6116/44.0973\",\"Maplink1\")","v":"Maplink1"},{"$f":"HYPERLINK(\"https://www.google.iq/maps/search/+32.6116,44.0973/@32.6116,44.0973,14z?hl=en\",\"Maplink2\")","v":"Maplink2"},{"$f":"HYPERLINK(\"http://www.bing.com/maps/?lvl=14&sty=h&cp=32.6116~44.0973&sp=point.32.6116_44.0973\",\"Maplink3\")","v":"Maplink3"}]
[14161,"Kerbala","Kerbela","Al-Hassainya","Al safeea1","الصافية1",32.6560831,44.0555586,42,252,0,0,0,0,0,0,252,0,0,0,0,0,0,0,0,0,0,0,0,0,0,0,0,0,0,0,0,252,0,0,0,0,0,0,252,0,0,0,0,0,0,0,0,0,0,{"$f":"HYPERLINK(\"http://www.openstreetmap.org/?mlat=32.6561&mlon=44.0556&zoom=12#map=12/32.6561/44.0556\",\"Maplink1\")","v":"Maplink1"},{"$f":"HYPERLINK(\"https://www.google.iq/maps/search/+32.6561,44.0556/@32.6561,44.0556,14z?hl=en\",\"Maplink2\")","v":"Maplink2"},{"$f":"HYPERLINK(\"http://www.bing.com/maps/?lvl=14&sty=h&cp=32.6561~44.0556&sp=point.32.6561_44.0556\",\"Maplink3\")","v":"Maplink3"}]
[14120,"Kerbala","Kerbela","Al-Hassainya","Al-hussainyh-Hay Al-Abas","الحسينية-حي العباس",32.6835507369,44.169423123,5,30,0,0,0,0,0,0,30,0,0,0,0,0,0,0,0,0,30,0,0,0,0,0,0,0,0,0,0,0,0,0,0,0,0,30,0,0,0,0,0,0,0,0,0,0,0,{"$f":"HYPERLINK(\"http://www.openstreetmap.org/?mlat=32.6836&mlon=44.1694&zoom=12#map=12/32.6836/44.1694\",\"Maplink1\")","v":"Maplink1"},{"$f":"HYPERLINK(\"https://www.google.iq/maps/search/+32.6836,44.1694/@32.6836,44.1694,14z?hl=en\",\"Maplink2\")","v":"Maplink2"},{"$f":"HYPERLINK(\"http://www.bing.com/maps/?lvl=14&sty=h&cp=32.6836~44.1694&sp=point.32.6836_44.1694\",\"Maplink3\")","v":"Maplink3"}]
[25259,"Kerbala","Kerbela","Markaz Kerbela","Sumer 2","حي سومر 2",32.6480943,43.9887134,5,30,0,0,0,0,0,0,30,0,0,0,0,0,0,0,0,0,0,0,0,0,0,0,0,0,0,0,0,30,0,0,0,0,0,0,30,0,0,0,0,0,0,0,0,0,0,{"$f":"HYPERLINK(\"http://www.openstreetmap.org/?mlat=32.6481&mlon=43.9887&zoom=12#map=12/32.6481/43.9887\",\"Maplink1\")","v":"Maplink1"},{"$f":"HYPERLINK(\"https://www.google.iq/maps/search/+32.6481,43.9887/@32.6481,43.9887,14z?hl=en\",\"Maplink2\")","v":"Maplink2"},{"$f":"HYPERLINK(\"http://www.bing.com/maps/?lvl=14&sty=h&cp=32.6481~43.9887&sp=point.32.6481_43.9887\",\"Maplink3\")","v":"Maplink3"}]
[32057,"Kerbala","Kerbela","Markaz Kerbela","Abu Tharr complex","مجمع ابا ذر",32.5462,44.08923,25,150,0,0,0,0,0,0,0,0,150,0,0,0,0,0,0,0,0,0,0,0,0,0,0,0,0,0,0,150,0,0,0,0,0,0,150,0,0,0,0,0,0,0,0,0,0,{"$f":"HYPERLINK(\"http://www.openstreetmap.org/?mlat=32.5462&mlon=44.0892&zoom=12#map=12/32.5462/44.0892\",\"Maplink1\")","v":"Maplink1"},{"$f":"HYPERLINK(\"https://www.google.iq/maps/search/+32.5462,44.0892/@32.5462,44.0892,14z?hl=en\",\"Maplink2\")","v":"Maplink2"},{"$f":"HYPERLINK(\"http://www.bing.com/maps/?lvl=14&sty=h&cp=32.5462~44.0892&sp=point.32.5462_44.0892\",\"Maplink3\")","v":"Maplink3"}]
[25476,"Kerbala","Kerbela","Markaz Kerbela","Al askary 12","العسكري12(العابد)",32.6192227,43.9750721,10,60,0,0,0,0,0,0,60,0,0,0,0,0,0,0,0,0,0,0,0,0,0,0,0,0,0,0,0,60,0,0,0,0,0,0,60,0,0,0,0,0,0,0,0,0,0,{"$f":"HYPERLINK(\"http://www.openstreetmap.org/?mlat=32.6192&mlon=43.9751&zoom=12#map=12/32.6192/43.9751\",\"Maplink1\")","v":"Maplink1"},{"$f":"HYPERLINK(\"https://www.google.iq/maps/search/+32.6192,43.9751/@32.6192,43.9751,14z?hl=en\",\"Maplink2\")","v":"Maplink2"},{"$f":"HYPERLINK(\"http://www.bing.com/maps/?lvl=14&sty=h&cp=32.6192~43.9751&sp=point.32.6192_43.9751\",\"Maplink3\")","v":"Maplink3"}]
[24630,"Kerbala","Kerbela","Markaz Kerbela","Sumer 1","حي سومر1",32.6464054,43.9889411,8,48,0,0,0,0,0,0,48,0,0,0,0,0,0,0,0,0,0,0,0,0,0,0,0,0,0,0,0,48,0,0,0,0,0,0,48,0,0,0,0,0,0,0,0,0,0,{"$f":"HYPERLINK(\"http://www.openstreetmap.org/?mlat=32.6464&mlon=43.9889&zoom=12#map=12/32.6464/43.9889\",\"Maplink1\")","v":"Maplink1"},{"$f":"HYPERLINK(\"https://www.google.iq/maps/search/+32.6464,43.9889/@32.6464,43.9889,14z?hl=en\",\"Maplink2\")","v":"Maplink2"},{"$f":"HYPERLINK(\"http://www.bing.com/maps/?lvl=14&sty=h&cp=32.6464~43.9889&sp=point.32.6464_43.9889\",\"Maplink3\")","v":"Maplink3"}]
[14067,"Kerbala","Kerbela","Markaz Kerbela","Hay al-tahady","حي التحدي",32.5952231,44.0069923,7,42,0,0,0,0,0,0,42,0,0,0,0,0,0,0,0,0,0,0,0,0,0,0,0,0,0,0,0,42,0,0,0,0,0,0,42,0,0,0,0,0,0,0,0,0,0,{"$f":"HYPERLINK(\"http://www.openstreetmap.org/?mlat=32.5952&mlon=44.007&zoom=12#map=12/32.5952/44.007\",\"Maplink1\")","v":"Maplink1"},{"$f":"HYPERLINK(\"https://www.google.iq/maps/search/+32.5952,44.007/@32.5952,44.007,14z?hl=en\",\"Maplink2\")","v":"Maplink2"},{"$f":"HYPERLINK(\"http://www.bing.com/maps/?lvl=14&sty=h&cp=32.5952~44.007&sp=point.32.5952_44.007\",\"Maplink3\")","v":"Maplink3"}]
[25264,"Kerbala","Kerbela","Markaz Kerbela","Al Fadaein","الفدين",32.6056607101,44.0638754736,8,48,0,0,0,0,0,0,48,0,0,0,0,0,0,0,0,0,0,0,0,0,0,0,0,0,0,0,0,48,0,0,0,0,0,0,48,0,0,0,0,0,0,0,0,0,0,{"$f":"HYPERLINK(\"http://www.openstreetmap.org/?mlat=32.6057&mlon=44.0639&zoom=12#map=12/32.6057/44.0639\",\"Maplink1\")","v":"Maplink1"},{"$f":"HYPERLINK(\"https://www.google.iq/maps/search/+32.6057,44.0639/@32.6057,44.0639,14z?hl=en\",\"Maplink2\")","v":"Maplink2"},{"$f":"HYPERLINK(\"http://www.bing.com/maps/?lvl=14&sty=h&cp=32.6057~44.0639&sp=point.32.6057_44.0639\",\"Maplink3\")","v":"Maplink3"}]
[14133,"Kerbala","Kerbela","Markaz Kerbela","Basatein Bab Al-Slalmah","بساتين باب السلامة",32.6231779,44.0325487,12,72,0,0,0,0,0,0,72,0,0,0,0,0,0,0,0,0,0,0,0,0,0,0,0,0,0,0,0,72,0,0,0,0,0,0,72,0,0,0,0,0,0,0,0,0,0,{"$f":"HYPERLINK(\"http://www.openstreetmap.org/?mlat=32.6232&mlon=44.0325&zoom=12#map=12/32.6232/44.0325\",\"Maplink1\")","v":"Maplink1"},{"$f":"HYPERLINK(\"https://www.google.iq/maps/search/+32.6232,44.0325/@32.6232,44.0325,14z?hl=en\",\"Maplink2\")","v":"Maplink2"},{"$f":"HYPERLINK(\"http://www.bing.com/maps/?lvl=14&sty=h&cp=32.6232~44.0325&sp=point.32.6232_44.0325\",\"Maplink3\")","v":"Maplink3"}]
[25265,"Kerbala","Kerbela","Markaz Kerbela","Abo Akab","ابو عكب",32.6060007706,44.0540416934,16,96,0,0,0,0,0,0,96,0,0,0,0,0,0,0,0,0,0,0,0,0,0,0,0,0,0,0,0,96,0,0,0,0,0,0,96,0,0,0,0,0,0,0,0,0,0,{"$f":"HYPERLINK(\"http://www.openstreetmap.org/?mlat=32.606&mlon=44.054&zoom=12#map=12/32.606/44.054\",\"Maplink1\")","v":"Maplink1"},{"$f":"HYPERLINK(\"https://www.google.iq/maps/search/+32.606,44.054/@32.606,44.054,14z?hl=en\",\"Maplink2\")","v":"Maplink2"},{"$f":"HYPERLINK(\"http://www.bing.com/maps/?lvl=14&sty=h&cp=32.606~44.054&sp=point.32.606_44.054\",\"Maplink3\")","v":"Maplink3"}]
[25359,"Kerbala","Kerbela","Markaz Kerbela","Al Salam-2","السلام 2",32.5859744,43.9894069076,1,6,0,0,0,0,0,0,6,0,0,0,0,0,0,0,0,0,0,0,0,0,0,0,0,0,0,0,0,6,0,0,0,0,0,0,6,0,0,0,0,0,0,0,0,0,0,{"$f":"HYPERLINK(\"http://www.openstreetmap.org/?mlat=32.586&mlon=43.9894&zoom=12#map=12/32.586/43.9894\",\"Maplink1\")","v":"Maplink1"},{"$f":"HYPERLINK(\"https://www.google.iq/maps/search/+32.586,43.9894/@32.586,43.9894,14z?hl=en\",\"Maplink2\")","v":"Maplink2"},{"$f":"HYPERLINK(\"http://www.bing.com/maps/?lvl=14&sty=h&cp=32.586~43.9894&sp=point.32.586_43.9894\",\"Maplink3\")","v":"Maplink3"}]
[25888,"Kerbala","Kerbela","Markaz Kerbela","Hay Al Nidhal 1","حي النضال1",32.60316,43.980155,2,12,0,0,0,0,0,0,12,0,0,0,0,0,0,0,0,6,0,0,0,0,0,0,0,6,0,0,0,0,0,0,0,0,0,12,0,0,0,0,0,0,0,0,0,0,0,{"$f":"HYPERLINK(\"http://www.openstreetmap.org/?mlat=32.6032&mlon=43.9802&zoom=12#map=12/32.6032/43.9802\",\"Maplink1\")","v":"Maplink1"},{"$f":"HYPERLINK(\"https://www.google.iq/maps/search/+32.6032,43.9802/@32.6032,43.9802,14z?hl=en\",\"Maplink2\")","v":"Maplink2"},{"$f":"HYPERLINK(\"http://www.bing.com/maps/?lvl=14&sty=h&cp=32.6032~43.9802&sp=point.32.6032_43.9802\",\"Maplink3\")","v":"Maplink3"}]
[25363,"Kerbala","Kerbela","Markaz Kerbela","Molahak Al Atbaa","ملحق الاطباء",32.5806383376,43.9931721882,7,42,0,0,0,0,0,0,42,0,0,0,0,0,0,0,0,0,0,0,0,0,6,0,0,0,0,0,0,36,0,0,0,0,0,0,42,0,0,0,0,0,0,0,0,0,0,{"$f":"HYPERLINK(\"http://www.openstreetmap.org/?mlat=32.5806&mlon=43.9932&zoom=12#map=12/32.5806/43.9932\",\"Maplink1\")","v":"Maplink1"},{"$f":"HYPERLINK(\"https://www.google.iq/maps/search/+32.5806,43.9932/@32.5806,43.9932,14z?hl=en\",\"Maplink2\")","v":"Maplink2"},{"$f":"HYPERLINK(\"http://www.bing.com/maps/?lvl=14&sty=h&cp=32.5806~43.9932&sp=point.32.5806_43.9932\",\"Maplink3\")","v":"Maplink3"}]
[25735,"Kerbala","Kerbela","Markaz Kerbela","Al-hadi","الهادي",32.599996825,44.04015103,9,54,0,0,0,0,0,0,54,0,0,0,0,0,0,0,0,0,0,0,0,0,0,0,0,0,0,0,0,54,0,0,0,0,0,0,54,0,0,0,0,0,0,0,0,0,0,{"$f":"HYPERLINK(\"http://www.openstreetmap.org/?mlat=32.6&mlon=44.0402&zoom=12#map=12/32.6/44.0402\",\"Maplink1\")","v":"Maplink1"},{"$f":"HYPERLINK(\"https://www.google.iq/maps/search/+32.6,44.0402/@32.6,44.0402,14z?hl=en\",\"Maplink2\")","v":"Maplink2"},{"$f":"HYPERLINK(\"http://www.bing.com/maps/?lvl=14&sty=h&cp=32.6~44.0402&sp=point.32.6_44.0402\",\"Maplink3\")","v":"Maplink3"}]
[27265,"Kerbala","Kerbela","Markaz Kerbela","Shuihadaa Al Amam Ali","شهداء الامام علي 2",32.570530153,44.0180352261,4,24,0,0,0,0,0,0,24,0,0,0,0,0,0,0,0,0,0,0,0,0,0,0,0,0,0,0,0,24,0,0,0,0,0,0,24,0,0,0,0,0,0,0,0,0,0,{"$f":"HYPERLINK(\"http://www.openstreetmap.org/?mlat=32.5705&mlon=44.018&zoom=12#map=12/32.5705/44.018\",\"Maplink1\")","v":"Maplink1"},{"$f":"HYPERLINK(\"https://www.google.iq/maps/search/+32.5705,44.018/@32.5705,44.018,14z?hl=en\",\"Maplink2\")","v":"Maplink2"},{"$f":"HYPERLINK(\"http://www.bing.com/maps/?lvl=14&sty=h&cp=32.5705~44.018&sp=point.32.5705_44.018\",\"Maplink3\")","v":"Maplink3"}]
[25555,"Kerbala","Kerbela","Markaz Kerbela","Hay Al Rafdean 2","الرافدين 2",32.6081123,43.9645157,7,42,0,0,0,0,0,0,42,0,0,0,0,0,0,0,0,0,0,0,0,0,0,0,0,42,0,0,0,0,0,0,0,0,0,0,42,0,0,0,0,0,0,0,0,0,0,{"$f":"HYPERLINK(\"http://www.openstreetmap.org/?mlat=32.6081&mlon=43.9645&zoom=12#map=12/32.6081/43.9645\",\"Maplink1\")","v":"Maplink1"},{"$f":"HYPERLINK(\"https://www.google.iq/maps/search/+32.6081,43.9645/@32.6081,43.9645,14z?hl=en\",\"Maplink2\")","v":"Maplink2"},{"$f":"HYPERLINK(\"http://www.bing.com/maps/?lvl=14&sty=h&cp=32.6081~43.9645&sp=point.32.6081_43.9645\",\"Maplink3\")","v":"Maplink3"}]
[23660,"Kirkuk","Al-Hawiga","Markaz Al-Hawiga","Hay Al Salam","حي دور البستنة-حي السلام-",35.3148088,43.7708852,2,12,0,0,0,0,0,0,12,0,0,0,0,0,0,0,0,0,0,0,0,0,0,0,0,12,0,0,0,0,0,0,0,0,0,0,0,0,0,0,0,12,0,0,0,0,0,{"$f":"HYPERLINK(\"http://www.openstreetmap.org/?mlat=35.3148&mlon=43.7709&zoom=12#map=12/35.3148/43.7709\",\"Maplink1\")","v":"Maplink1"},{"$f":"HYPERLINK(\"https://www.google.iq/maps/search/+35.3148,43.7709/@35.3148,43.7709,14z?hl=en\",\"Maplink2\")","v":"Maplink2"},{"$f":"HYPERLINK(\"http://www.bing.com/maps/?lvl=14&sty=h&cp=35.3148~43.7709&sp=point.35.3148_43.7709\",\"Maplink3\")","v":"Maplink3"}]
[14836,"Kirkuk","Al-Hawiga","Markaz Al-Hawiga","Abu-Al-Jaise","قرية أبو الجيس",35.2968793793,43.8448801126,13,78,0,0,0,0,0,0,78,0,0,0,0,0,0,0,0,0,0,0,0,0,0,0,0,78,0,0,0,0,0,0,0,0,0,0,0,0,0,0,0,48,30,0,0,0,0,{"$f":"HYPERLINK(\"http://www.openstreetmap.org/?mlat=35.2969&mlon=43.8449&zoom=12#map=12/35.2969/43.8449\",\"Maplink1\")","v":"Maplink1"},{"$f":"HYPERLINK(\"https://www.google.iq/maps/search/+35.2969,43.8449/@35.2969,43.8449,14z?hl=en\",\"Maplink2\")","v":"Maplink2"},{"$f":"HYPERLINK(\"http://www.bing.com/maps/?lvl=14&sty=h&cp=35.2969~43.8449&sp=point.35.2969_43.8449\",\"Maplink3\")","v":"Maplink3"}]
[33476,"Kirkuk","Daquq","Markaz Daquq","Hay Al-Salam ( Daquq )","حي السلام ( داقوق )",35.152929173,44.443524382,150,900,0,0,0,0,0,660,240,0,0,0,0,0,0,0,0,0,0,0,0,0,0,0,0,804,0,0,0,0,0,96,0,0,0,0,0,90,264,180,180,126,60,0,0,0,0,{"$f":"HYPERLINK(\"http://www.openstreetmap.org/?mlat=35.1529&mlon=44.4435&zoom=12#map=12/35.1529/44.4435\",\"Maplink1\")","v":"Maplink1"},{"$f":"HYPERLINK(\"https://www.google.iq/maps/search/+35.1529,44.4435/@35.1529,44.4435,14z?hl=en\",\"Maplink2\")","v":"Maplink2"},{"$f":"HYPERLINK(\"http://www.bing.com/maps/?lvl=14&sty=h&cp=35.1529~44.4435&sp=point.35.1529_44.4435\",\"Maplink3\")","v":"Maplink3"}]
[21483,"Kirkuk","Daquq","Markaz Daquq","Hay Nawroz ( Daquq)","حي نوروز ( داقوق )",35.1399506,44.4374087,84,504,0,0,0,0,0,0,504,0,0,0,0,0,0,0,0,0,0,0,0,0,0,0,0,408,0,0,0,0,0,96,0,0,0,0,0,0,120,114,30,120,120,0,0,0,0,{"$f":"HYPERLINK(\"http://www.openstreetmap.org/?mlat=35.14&mlon=44.4374&zoom=12#map=12/35.14/44.4374\",\"Maplink1\")","v":"Maplink1"},{"$f":"HYPERLINK(\"https://www.google.iq/maps/search/+35.14,44.4374/@35.14,44.4374,14z?hl=en\",\"Maplink2\")","v":"Maplink2"},{"$f":"HYPERLINK(\"http://www.bing.com/maps/?lvl=14&sty=h&cp=35.14~44.4374&sp=point.35.14_44.4374\",\"Maplink3\")","v":"Maplink3"}]
[15449,"Kirkuk","Dibis","Altun Qupri","Bajwan","قرية باجوان",35.5411046451,44.2814741156,92,552,0,0,0,0,0,0,552,0,0,0,0,0,0,0,0,0,0,0,0,0,0,0,0,540,0,0,0,12,0,0,0,0,0,0,0,0,54,108,150,90,150,0,0,0,0,{"$f":"HYPERLINK(\"http://www.openstreetmap.org/?mlat=35.5411&mlon=44.2815&zoom=12#map=12/35.5411/44.2815\",\"Maplink1\")","v":"Maplink1"},{"$f":"HYPERLINK(\"https://www.google.iq/maps/search/+35.5411,44.2815/@35.5411,44.2815,14z?hl=en\",\"Maplink2\")","v":"Maplink2"},{"$f":"HYPERLINK(\"http://www.bing.com/maps/?lvl=14&sty=h&cp=35.5411~44.2815&sp=point.35.5411_44.2815\",\"Maplink3\")","v":"Maplink3"}]
[24632,"Kirkuk","Dibis","Markaz Dibis","Hay Al Muaasker","حي المعسكر",35.6638526,44.0751366,55,330,0,0,0,0,0,0,330,0,0,0,0,0,0,0,0,12,0,0,0,0,0,0,0,288,0,0,0,12,0,18,0,0,0,12,0,0,84,54,48,72,60,0,0,0,0,{"$f":"HYPERLINK(\"http://www.openstreetmap.org/?mlat=35.6639&mlon=44.0751&zoom=12#map=12/35.6639/44.0751\",\"Maplink1\")","v":"Maplink1"},{"$f":"HYPERLINK(\"https://www.google.iq/maps/search/+35.6639,44.0751/@35.6639,44.0751,14z?hl=en\",\"Maplink2\")","v":"Maplink2"},{"$f":"HYPERLINK(\"http://www.bing.com/maps/?lvl=14&sty=h&cp=35.6639~44.0751&sp=point.35.6639_44.0751\",\"Maplink3\")","v":"Maplink3"}]
[25557,"Kirkuk","Kirkuk","Lilan","Khala Bazyani","خاله بازياني",35.4180713406,44.6294771468,78,468,0,0,0,0,0,0,468,0,0,0,0,0,0,0,0,0,0,0,0,0,0,0,0,0,0,0,0,0,0,468,0,0,0,0,18,120,90,30,0,0,210,0,0,0,0,{"$f":"HYPERLINK(\"http://www.openstreetmap.org/?mlat=35.4181&mlon=44.6295&zoom=12#map=12/35.4181/44.6295\",\"Maplink1\")","v":"Maplink1"},{"$f":"HYPERLINK(\"https://www.google.iq/maps/search/+35.4181,44.6295/@35.4181,44.6295,14z?hl=en\",\"Maplink2\")","v":"Maplink2"},{"$f":"HYPERLINK(\"http://www.bing.com/maps/?lvl=14&sty=h&cp=35.4181~44.6295&sp=point.35.4181_44.6295\",\"Maplink3\")","v":"Maplink3"}]
[24779,"Kirkuk","Kirkuk","Markaz Kirkuk","Hay Al Hamzali","حي الحمزلي",35.4550989037,44.3668239389,57,342,0,0,0,0,0,0,342,0,0,0,0,0,0,0,0,0,0,0,0,0,0,0,0,168,0,0,0,0,0,174,0,0,0,0,30,60,30,42,60,90,30,0,0,0,0,{"$f":"HYPERLINK(\"http://www.openstreetmap.org/?mlat=35.4551&mlon=44.3668&zoom=12#map=12/35.4551/44.3668\",\"Maplink1\")","v":"Maplink1"},{"$f":"HYPERLINK(\"https://www.google.iq/maps/search/+35.4551,44.3668/@35.4551,44.3668,14z?hl=en\",\"Maplink2\")","v":"Maplink2"},{"$f":"HYPERLINK(\"http://www.bing.com/maps/?lvl=14&sty=h&cp=35.4551~44.3668&sp=point.35.4551_44.3668\",\"Maplink3\")","v":"Maplink3"}]
[14907,"Kirkuk","Kirkuk","Markaz Kirkuk","Hay Al Ertiqaa","حي الارتقاء",35.4927499,44.3534487,85,510,0,0,0,0,0,0,420,48,42,0,0,0,0,0,0,0,0,0,0,0,0,0,0,510,0,0,0,0,0,0,0,0,0,0,0,0,36,102,120,240,12,0,0,0,0,{"$f":"HYPERLINK(\"http://www.openstreetmap.org/?mlat=35.4927&mlon=44.3534&zoom=12#map=12/35.4927/44.3534\",\"Maplink1\")","v":"Maplink1"},{"$f":"HYPERLINK(\"https://www.google.iq/maps/search/+35.4927,44.3534/@35.4927,44.3534,14z?hl=en\",\"Maplink2\")","v":"Maplink2"},{"$f":"HYPERLINK(\"http://www.bing.com/maps/?lvl=14&sty=h&cp=35.4927~44.3534&sp=point.35.4927_44.3534\",\"Maplink3\")","v":"Maplink3"}]
[15578,"Kirkuk","Kirkuk","Markaz Kirkuk","Hay Al-Khadraa","حي الخضراء",35.4343247685,44.353204455,155,930,0,30,0,0,0,0,924,0,6,0,0,0,0,0,0,0,0,0,0,0,18,0,0,390,0,0,0,120,0,402,0,0,0,0,60,120,150,90,150,210,150,0,0,0,0,{"$f":"HYPERLINK(\"http://www.openstreetmap.org/?mlat=35.4343&mlon=44.3532&zoom=12#map=12/35.4343/44.3532\",\"Maplink1\")","v":"Maplink1"},{"$f":"HYPERLINK(\"https://www.google.iq/maps/search/+35.4343,44.3532/@35.4343,44.3532,14z?hl=en\",\"Maplink2\")","v":"Maplink2"},{"$f":"HYPERLINK(\"http://www.bing.com/maps/?lvl=14&sty=h&cp=35.4343~44.3532&sp=point.35.4343_44.3532\",\"Maplink3\")","v":"Maplink3"}]
[15639,"Kirkuk","Kirkuk","Markaz Kirkuk","Hay Al-Nedaa","حي النداء",35.3930794,44.3743156,280,{"v":1680,"d":"1,680"},0,0,0,0,0,0,{"v":1206,"d":"1,206"},90,384,0,0,0,0,0,0,0,0,48,0,0,132,0,0,798,0,0,0,42,0,660,0,0,0,0,90,180,270,390,360,180,210,0,0,0,0,{"$f":"HYPERLINK(\"http://www.openstreetmap.org/?mlat=35.3931&mlon=44.3743&zoom=12#map=12/35.3931/44.3743\",\"Maplink1\")","v":"Maplink1"},{"$f":"HYPERLINK(\"https://www.google.iq/maps/search/+35.3931,44.3743/@35.3931,44.3743,14z?hl=en\",\"Maplink2\")","v":"Maplink2"},{"$f":"HYPERLINK(\"http://www.bing.com/maps/?lvl=14&sty=h&cp=35.3931~44.3743&sp=point.35.3931_44.3743\",\"Maplink3\")","v":"Maplink3"}]
[24806,"Kirkuk","Kirkuk","Markaz Kirkuk","Sary Kahya","حي صاري كهيه",35.4662918306,44.3772091904,175,{"v":1050,"d":"1,050"},0,0,0,0,0,0,{"v":1050,"d":"1,050"},0,0,0,0,0,0,0,0,0,0,0,0,0,0,0,0,420,0,0,0,60,0,570,0,0,0,0,0,138,138,258,150,264,102,0,0,0,0,{"$f":"HYPERLINK(\"http://www.openstreetmap.org/?mlat=35.4663&mlon=44.3772&zoom=12#map=12/35.4663/44.3772\",\"Maplink1\")","v":"Maplink1"},{"$f":"HYPERLINK(\"https://www.google.iq/maps/search/+35.4663,44.3772/@35.4663,44.3772,14z?hl=en\",\"Maplink2\")","v":"Maplink2"},{"$f":"HYPERLINK(\"http://www.bing.com/maps/?lvl=14&sty=h&cp=35.4663~44.3772&sp=point.35.4663_44.3772\",\"Maplink3\")","v":"Maplink3"}]
[15679,"Kirkuk","Kirkuk","Markaz Kirkuk","Hay Rasheed(Domiz)","حي الرشيد-دوميز-",35.3911136,44.3786656,60,360,0,0,0,0,0,0,330,12,0,0,0,0,18,0,0,0,0,0,0,0,108,0,0,120,0,0,0,30,0,102,0,0,0,0,30,0,60,90,60,72,48,0,0,0,0,{"$f":"HYPERLINK(\"http://www.openstreetmap.org/?mlat=35.3911&mlon=44.3787&zoom=12#map=12/35.3911/44.3787\",\"Maplink1\")","v":"Maplink1"},{"$f":"HYPERLINK(\"https://www.google.iq/maps/search/+35.3911,44.3787/@35.3911,44.3787,14z?hl=en\",\"Maplink2\")","v":"Maplink2"},{"$f":"HYPERLINK(\"http://www.bing.com/maps/?lvl=14&sty=h&cp=35.3911~44.3787&sp=point.35.3911_44.3787\",\"Maplink3\")","v":"Maplink3"}]
[15603,"Kirkuk","Kirkuk","Markaz Kirkuk","Hay 1 Athar","حي 1 اذار",35.3979694296,44.3643386341,147,882,0,0,0,0,0,0,762,0,120,0,0,0,0,0,0,48,0,0,0,0,30,0,0,420,0,0,0,144,0,240,0,0,0,30,30,0,60,168,144,210,240,0,0,0,0,{"$f":"HYPERLINK(\"http://www.openstreetmap.org/?mlat=35.398&mlon=44.3643&zoom=12#map=12/35.398/44.3643\",\"Maplink1\")","v":"Maplink1"},{"$f":"HYPERLINK(\"https://www.google.iq/maps/search/+35.398,44.3643/@35.398,44.3643,14z?hl=en\",\"Maplink2\")","v":"Maplink2"},{"$f":"HYPERLINK(\"http://www.bing.com/maps/?lvl=14&sty=h&cp=35.398~44.3643&sp=point.35.398_44.3643\",\"Maplink3\")","v":"Maplink3"}]
[15584,"Kirkuk","Kirkuk","Markaz Kirkuk","Hay Ghurnata","حي غرناطة",35.435250627,44.3814867022,260,{"v":1560,"d":"1,560"},0,30,0,0,0,0,{"v":1560,"d":"1,560"},0,0,0,0,0,0,0,0,90,0,36,0,0,0,0,0,810,0,0,0,150,0,474,0,0,0,60,120,252,168,276,240,234,210,0,0,0,0,{"$f":"HYPERLINK(\"http://www.openstreetmap.org/?mlat=35.4353&mlon=44.3815&zoom=12#map=12/35.4353/44.3815\",\"Maplink1\")","v":"Maplink1"},{"$f":"HYPERLINK(\"https://www.google.iq/maps/search/+35.4353,44.3815/@35.4353,44.3815,14z?hl=en\",\"Maplink2\")","v":"Maplink2"},{"$f":"HYPERLINK(\"http://www.bing.com/maps/?lvl=14&sty=h&cp=35.4353~44.3815&sp=point.35.4353_44.3815\",\"Maplink3\")","v":"Maplink3"}]
[15648,"Kirkuk","Kirkuk","Taza Khormato","Al-Sayada Complex","مجمع الصيادة",35.3806586999,44.3324449665,252,{"v":1512,"d":"1,512"},0,48,0,0,0,0,{"v":1512,"d":"1,512"},0,0,0,0,0,0,0,0,0,12,30,0,0,18,0,0,{"v":1416,"d":"1,416"},0,0,0,18,0,18,0,0,0,0,90,0,150,240,450,462,120,0,0,0,0,{"$f":"HYPERLINK(\"http://www.openstreetmap.org/?mlat=35.3807&mlon=44.3324&zoom=12#map=12/35.3807/44.3324\",\"Maplink1\")","v":"Maplink1"},{"$f":"HYPERLINK(\"https://www.google.iq/maps/search/+35.3807,44.3324/@35.3807,44.3324,14z?hl=en\",\"Maplink2\")","v":"Maplink2"},{"$f":"HYPERLINK(\"http://www.bing.com/maps/?lvl=14&sty=h&cp=35.3807~44.3324&sp=point.35.3807_44.3324\",\"Maplink3\")","v":"Maplink3"}]
[22296,"Kirkuk","Kirkuk","Taza Khormato","Hay Al Jamia-Mahalla 622","حي الجامعة-622",35.4079381819,44.3267362641,{"v":2350,"d":"2,350"},{"v":14100,"d":"14,100"},0,0,0,252,0,0,{"v":10188,"d":"10,188"},420,{"v":3240,"d":"3,240"},0,0,0,0,0,0,300,30,240,0,0,{"v":1170,"d":"1,170"},0,0,{"v":9420,"d":"9,420"},0,0,0,{"v":1140,"d":"1,140"},0,{"v":1800,"d":"1,800"},0,0,0,150,{"v":3270,"d":"3,270"},{"v":1860,"d":"1,860"},{"v":2730,"d":"2,730"},{"v":2700,"d":"2,700"},{"v":1020,"d":"1,020"},{"v":1230,"d":"1,230"},{"v":1140,"d":"1,140"},0,0,0,0,{"$f":"HYPERLINK(\"http://www.openstreetmap.org/?mlat=35.4079&mlon=44.3267&zoom=12#map=12/35.4079/44.3267\",\"Maplink1\")","v":"Maplink1"},{"$f":"HYPERLINK(\"https://www.google.iq/maps/search/+35.4079,44.3267/@35.4079,44.3267,14z?hl=en\",\"Maplink2\")","v":"Maplink2"},{"$f":"HYPERLINK(\"http://www.bing.com/maps/?lvl=14&sty=h&cp=35.4079~44.3267&sp=point.35.4079_44.3267\",\"Maplink3\")","v":"Maplink3"}]
[23900,"Kirkuk","Kirkuk","Yaijy","Yaychi-Qaryat Turklan","قرية تركلان",35.3881488299,44.2759519887,113,678,0,0,0,0,0,0,678,0,0,0,0,0,0,0,0,0,0,0,0,0,0,0,0,636,0,0,0,0,0,42,0,0,0,0,0,0,90,60,120,108,300,0,0,0,0,{"$f":"HYPERLINK(\"http://www.openstreetmap.org/?mlat=35.3881&mlon=44.276&zoom=12#map=12/35.3881/44.276\",\"Maplink1\")","v":"Maplink1"},{"$f":"HYPERLINK(\"https://www.google.iq/maps/search/+35.3881,44.276/@35.3881,44.276,14z?hl=en\",\"Maplink2\")","v":"Maplink2"},{"$f":"HYPERLINK(\"http://www.bing.com/maps/?lvl=14&sty=h&cp=35.3881~44.276&sp=point.35.3881_44.276\",\"Maplink3\")","v":"Maplink3"}]
[28411,"Maysan","Al-Amara","Kumait","Hay Al-Sadiq","حي الصادق",32.0377307954,46.872166067,1,6,0,0,0,0,0,0,6,0,0,0,0,0,0,0,0,6,0,0,0,0,0,0,0,0,0,0,0,0,0,0,0,0,0,0,0,0,0,6,0,0,0,0,0,0,0,{"$f":"HYPERLINK(\"http://www.openstreetmap.org/?mlat=32.0377&mlon=46.8722&zoom=12#map=12/32.0377/46.8722\",\"Maplink1\")","v":"Maplink1"},{"$f":"HYPERLINK(\"https://www.google.iq/maps/search/+32.0377,46.8722/@32.0377,46.8722,14z?hl=en\",\"Maplink2\")","v":"Maplink2"},{"$f":"HYPERLINK(\"http://www.bing.com/maps/?lvl=14&sty=h&cp=32.0377~46.8722&sp=point.32.0377_46.8722\",\"Maplink3\")","v":"Maplink3"}]
[16881,"Maysan","Ali Al-Gharbi","Ali Al-Sharki","Hay Al Batool","حي البتول",32.472411,46.6948714,2,12,0,0,0,0,0,0,12,0,0,0,0,0,0,0,0,0,0,0,0,0,0,0,0,0,0,0,0,12,0,0,0,0,0,0,0,6,6,0,0,0,0,0,0,0,0,{"$f":"HYPERLINK(\"http://www.openstreetmap.org/?mlat=32.4724&mlon=46.6949&zoom=12#map=12/32.4724/46.6949\",\"Maplink1\")","v":"Maplink1"},{"$f":"HYPERLINK(\"https://www.google.iq/maps/search/+32.4724,46.6949/@32.4724,46.6949,14z?hl=en\",\"Maplink2\")","v":"Maplink2"},{"$f":"HYPERLINK(\"http://www.bing.com/maps/?lvl=14&sty=h&cp=32.4724~46.6949&sp=point.32.4724_46.6949\",\"Maplink3\")","v":"Maplink3"}]
[16859,"Maysan","Al-Kahla","Al-Msharah","Hay Al Urooba","حي العروبه",31.8494464,47.1660381,2,12,0,0,0,0,0,0,12,0,0,0,0,0,0,0,0,0,0,0,0,0,0,0,0,0,0,0,0,12,0,0,0,0,0,0,0,6,6,0,0,0,0,0,0,0,0,{"$f":"HYPERLINK(\"http://www.openstreetmap.org/?mlat=31.8494&mlon=47.166&zoom=12#map=12/31.8494/47.166\",\"Maplink1\")","v":"Maplink1"},{"$f":"HYPERLINK(\"https://www.google.iq/maps/search/+31.8494,47.166/@31.8494,47.166,14z?hl=en\",\"Maplink2\")","v":"Maplink2"},{"$f":"HYPERLINK(\"http://www.bing.com/maps/?lvl=14&sty=h&cp=31.8494~47.166&sp=point.31.8494_47.166\",\"Maplink3\")","v":"Maplink3"}]
[34210,"Maysan","Al-Kahla","Al-Msharah","1000 Dar","1000 دار",31.853957,47.089814,1,6,0,0,0,0,0,0,6,0,0,0,0,0,0,0,0,0,6,0,0,0,0,0,0,0,0,0,0,0,0,0,0,0,0,0,6,0,0,0,0,0,0,0,0,0,0,{"$f":"HYPERLINK(\"http://www.openstreetmap.org/?mlat=31.854&mlon=47.0898&zoom=12#map=12/31.854/47.0898\",\"Maplink1\")","v":"Maplink1"},{"$f":"HYPERLINK(\"https://www.google.iq/maps/search/+31.854,47.0898/@31.854,47.0898,14z?hl=en\",\"Maplink2\")","v":"Maplink2"},{"$f":"HYPERLINK(\"http://www.bing.com/maps/?lvl=14&sty=h&cp=31.854~47.0898&sp=point.31.854_47.0898\",\"Maplink3\")","v":"Maplink3"}]
[16532,"Maysan","Al-Kahla","Al-Msharah","Hay Al-hussan Al-qadem","حي الحسين القديم",31.836854741,47.1609145682,1,6,0,0,0,0,0,0,6,0,0,0,0,0,0,0,0,0,0,0,0,0,0,0,0,6,0,0,0,0,0,0,0,0,0,0,6,0,0,0,0,0,0,0,0,0,0,{"$f":"HYPERLINK(\"http://www.openstreetmap.org/?mlat=31.8369&mlon=47.1609&zoom=12#map=12/31.8369/47.1609\",\"Maplink1\")","v":"Maplink1"},{"$f":"HYPERLINK(\"https://www.google.iq/maps/search/+31.8369,47.1609/@31.8369,47.1609,14z?hl=en\",\"Maplink2\")","v":"Maplink2"},{"$f":"HYPERLINK(\"http://www.bing.com/maps/?lvl=14&sty=h&cp=31.8369~47.1609&sp=point.31.8369_47.1609\",\"Maplink3\")","v":"Maplink3"}]
[16851,"Maysan","Al-Kahla","Al-Msharah","Hay Al-Rafidain","حي الرافدين",31.8527225638,47.152801808,2,12,0,0,0,0,0,0,12,0,0,0,0,0,0,0,0,0,0,0,0,0,0,0,0,6,0,0,0,0,0,6,0,0,0,0,0,6,6,0,0,0,0,0,0,0,0,{"$f":"HYPERLINK(\"http://www.openstreetmap.org/?mlat=31.8527&mlon=47.1528&zoom=12#map=12/31.8527/47.1528\",\"Maplink1\")","v":"Maplink1"},{"$f":"HYPERLINK(\"https://www.google.iq/maps/search/+31.8527,47.1528/@31.8527,47.1528,14z?hl=en\",\"Maplink2\")","v":"Maplink2"},{"$f":"HYPERLINK(\"http://www.bing.com/maps/?lvl=14&sty=h&cp=31.8527~47.1528&sp=point.31.8527_47.1528\",\"Maplink3\")","v":"Maplink3"}]
[24532,"Maysan","Al-Kahla","Al-Msharah","Al Hay Al JameI","الحي الجامعي",31.8060835,47.1798063,86,516,0,0,0,30,0,0,486,0,0,0,0,0,0,0,0,36,6,0,0,0,0,0,0,42,0,0,0,336,0,96,0,0,0,18,180,132,96,18,0,72,0,0,0,0,0,{"$f":"HYPERLINK(\"http://www.openstreetmap.org/?mlat=31.8061&mlon=47.1798&zoom=12#map=12/31.8061/47.1798\",\"Maplink1\")","v":"Maplink1"},{"$f":"HYPERLINK(\"https://www.google.iq/maps/search/+31.8061,47.1798/@31.8061,47.1798,14z?hl=en\",\"Maplink2\")","v":"Maplink2"},{"$f":"HYPERLINK(\"http://www.bing.com/maps/?lvl=14&sty=h&cp=31.8061~47.1798&sp=point.31.8061_47.1798\",\"Maplink3\")","v":"Maplink3"}]
[16844,"Maysan","Al-Kahla","Al-Msharah","Hay Awasha","حي عواشه",31.827997,47.1547537,7,42,0,0,0,0,0,0,42,0,0,0,0,0,0,0,0,18,0,0,0,0,0,0,0,0,0,0,0,6,0,18,0,0,0,0,6,6,30,0,0,0,0,0,0,0,0,{"$f":"HYPERLINK(\"http://www.openstreetmap.org/?mlat=31.828&mlon=47.1548&zoom=12#map=12/31.828/47.1548\",\"Maplink1\")","v":"Maplink1"},{"$f":"HYPERLINK(\"https://www.google.iq/maps/search/+31.828,47.1548/@31.828,47.1548,14z?hl=en\",\"Maplink2\")","v":"Maplink2"},{"$f":"HYPERLINK(\"http://www.bing.com/maps/?lvl=14&sty=h&cp=31.828~47.1548&sp=point.31.828_47.1548\",\"Maplink3\")","v":"Maplink3"}]
[16852,"Maysan","Al-Kahla","Al-Msharah","Hay Al-Kafat","حي الكفاءات",31.8482735,47.1415156,3,18,0,0,0,0,0,0,18,0,0,0,0,0,0,0,0,0,0,0,0,0,0,0,0,0,0,0,0,12,0,6,0,0,0,6,12,0,0,0,0,0,0,0,0,0,0,{"$f":"HYPERLINK(\"http://www.openstreetmap.org/?mlat=31.8483&mlon=47.1415&zoom=12#map=12/31.8483/47.1415\",\"Maplink1\")","v":"Maplink1"},{"$f":"HYPERLINK(\"https://www.google.iq/maps/search/+31.8483,47.1415/@31.8483,47.1415,14z?hl=en\",\"Maplink2\")","v":"Maplink2"},{"$f":"HYPERLINK(\"http://www.bing.com/maps/?lvl=14&sty=h&cp=31.8483~47.1415&sp=point.31.8483_47.1415\",\"Maplink3\")","v":"Maplink3"}]
[16835,"Maysan","Al-Kahla","Al-Msharah","Hay 15 Sahaban","حي 15 شعبان",31.8449049303,47.1328791225,8,48,0,0,0,0,0,6,42,0,0,0,0,0,0,0,0,0,0,0,0,0,0,0,0,0,0,0,0,24,0,24,0,0,0,0,30,18,0,0,0,0,0,0,0,0,0,{"$f":"HYPERLINK(\"http://www.openstreetmap.org/?mlat=31.8449&mlon=47.1329&zoom=12#map=12/31.8449/47.1329\",\"Maplink1\")","v":"Maplink1"},{"$f":"HYPERLINK(\"https://www.google.iq/maps/search/+31.8449,47.1329/@31.8449,47.1329,14z?hl=en\",\"Maplink2\")","v":"Maplink2"},{"$f":"HYPERLINK(\"http://www.bing.com/maps/?lvl=14&sty=h&cp=31.8449~47.1329&sp=point.31.8449_47.1329\",\"Maplink3\")","v":"Maplink3"}]
[16848,"Maysan","Al-Kahla","Al-Msharah","Hay Al-Shahedain","حي الشهيدين",31.8448671,47.1224026,5,30,0,0,0,0,0,0,30,0,0,0,0,0,0,0,0,12,0,6,0,0,0,0,0,6,0,0,0,6,0,0,0,0,0,0,24,6,0,0,0,0,0,0,0,0,0,{"$f":"HYPERLINK(\"http://www.openstreetmap.org/?mlat=31.8449&mlon=47.1224&zoom=12#map=12/31.8449/47.1224\",\"Maplink1\")","v":"Maplink1"},{"$f":"HYPERLINK(\"https://www.google.iq/maps/search/+31.8449,47.1224/@31.8449,47.1224,14z?hl=en\",\"Maplink2\")","v":"Maplink2"},{"$f":"HYPERLINK(\"http://www.bing.com/maps/?lvl=14&sty=h&cp=31.8449~47.1224&sp=point.31.8449_47.1224\",\"Maplink3\")","v":"Maplink3"}]
[24808,"Maysan","Al-Kahla","Al-Msharah","Eye of Missan","عيون ميسان",31.884478787,47.1678702906,6,36,0,0,0,0,0,0,0,0,36,0,0,0,0,0,0,0,0,0,0,0,6,0,0,6,0,0,0,24,0,0,0,0,0,0,6,30,0,0,0,0,0,0,0,0,0,{"$f":"HYPERLINK(\"http://www.openstreetmap.org/?mlat=31.8845&mlon=47.1679&zoom=12#map=12/31.8845/47.1679\",\"Maplink1\")","v":"Maplink1"},{"$f":"HYPERLINK(\"https://www.google.iq/maps/search/+31.8845,47.1679/@31.8845,47.1679,14z?hl=en\",\"Maplink2\")","v":"Maplink2"},{"$f":"HYPERLINK(\"http://www.bing.com/maps/?lvl=14&sty=h&cp=31.8845~47.1679&sp=point.31.8845_47.1679\",\"Maplink3\")","v":"Maplink3"}]
[29505,"Maysan","Al-Kahla","Markaz Al-Kahla","Hay 15 Sahaban","حي 15 شعبان",31.6755965,47.2836188,1,6,0,0,0,0,0,0,6,0,0,0,0,0,0,0,0,0,0,0,0,0,0,0,0,0,0,0,0,6,0,0,0,0,0,0,6,0,0,0,0,0,0,0,0,0,0,{"$f":"HYPERLINK(\"http://www.openstreetmap.org/?mlat=31.6756&mlon=47.2836&zoom=12#map=12/31.6756/47.2836\",\"Maplink1\")","v":"Maplink1"},{"$f":"HYPERLINK(\"https://www.google.iq/maps/search/+31.6756,47.2836/@31.6756,47.2836,14z?hl=en\",\"Maplink2\")","v":"Maplink2"},{"$f":"HYPERLINK(\"http://www.bing.com/maps/?lvl=14&sty=h&cp=31.6756~47.2836&sp=point.31.6756_47.2836\",\"Maplink3\")","v":"Maplink3"}]
[16870,"Maysan","Al-Mejar Al-Kabir","Al-Adel","Hay Al Qudis","حي القدس",31.5773269,47.1811149,1,6,0,0,0,0,0,0,6,0,0,0,0,0,0,0,0,0,0,0,0,0,0,0,0,6,0,0,0,0,0,0,0,0,0,0,0,6,0,0,0,0,0,0,0,0,0,{"$f":"HYPERLINK(\"http://www.openstreetmap.org/?mlat=31.5773&mlon=47.1811&zoom=12#map=12/31.5773/47.1811\",\"Maplink1\")","v":"Maplink1"},{"$f":"HYPERLINK(\"https://www.google.iq/maps/search/+31.5773,47.1811/@31.5773,47.1811,14z?hl=en\",\"Maplink2\")","v":"Maplink2"},{"$f":"HYPERLINK(\"http://www.bing.com/maps/?lvl=14&sty=h&cp=31.5773~47.1811&sp=point.31.5773_47.1811\",\"Maplink3\")","v":"Maplink3"}]
[16210,"Maysan","Al-Mejar Al-Kabir","Al-Adel","Hay al-sinaah","حي الصناعه",31.5758556732,47.1591282974,2,12,0,0,0,0,0,0,0,0,12,0,0,0,0,0,0,0,0,0,0,0,0,0,0,12,0,0,0,0,0,0,0,0,0,0,0,6,6,0,0,0,0,0,0,0,0,{"$f":"HYPERLINK(\"http://www.openstreetmap.org/?mlat=31.5759&mlon=47.1591&zoom=12#map=12/31.5759/47.1591\",\"Maplink1\")","v":"Maplink1"},{"$f":"HYPERLINK(\"https://www.google.iq/maps/search/+31.5759,47.1591/@31.5759,47.1591,14z?hl=en\",\"Maplink2\")","v":"Maplink2"},{"$f":"HYPERLINK(\"http://www.bing.com/maps/?lvl=14&sty=h&cp=31.5759~47.1591&sp=point.31.5759_47.1591\",\"Maplink3\")","v":"Maplink3"}]
[15997,"Maysan","Al-Mejar Al-Kabir","Al-Adel","Hay Al-Hussain","حي الحسين",31.5834689,47.174249,1,6,0,0,0,6,0,0,0,0,0,0,0,0,0,0,0,0,0,0,0,0,0,0,0,6,0,0,0,0,0,0,0,0,0,0,0,6,0,0,0,0,0,0,0,0,0,{"$f":"HYPERLINK(\"http://www.openstreetmap.org/?mlat=31.5835&mlon=47.1742&zoom=12#map=12/31.5835/47.1742\",\"Maplink1\")","v":"Maplink1"},{"$f":"HYPERLINK(\"https://www.google.iq/maps/search/+31.5835,47.1742/@31.5835,47.1742,14z?hl=en\",\"Maplink2\")","v":"Maplink2"},{"$f":"HYPERLINK(\"http://www.bing.com/maps/?lvl=14&sty=h&cp=31.5835~47.1742&sp=point.31.5835_47.1742\",\"Maplink3\")","v":"Maplink3"}]
[21369,"Maysan","Qalat Saleh","Markaz Qalat Saleh","Hay Al Hurria","حي الحريه",31.5186842532,47.2894357249,1,6,0,0,0,0,0,0,6,0,0,0,0,0,0,0,0,0,0,0,0,0,0,0,0,0,0,0,0,6,0,0,0,0,0,0,0,0,0,0,0,6,0,0,0,0,0,{"$f":"HYPERLINK(\"http://www.openstreetmap.org/?mlat=31.5187&mlon=47.2894&zoom=12#map=12/31.5187/47.2894\",\"Maplink1\")","v":"Maplink1"},{"$f":"HYPERLINK(\"https://www.google.iq/maps/search/+31.5187,47.2894/@31.5187,47.2894,14z?hl=en\",\"Maplink2\")","v":"Maplink2"},{"$f":"HYPERLINK(\"http://www.bing.com/maps/?lvl=14&sty=h&cp=31.5187~47.2894&sp=point.31.5187_47.2894\",\"Maplink3\")","v":"Maplink3"}]
[34010,"Ninewa","Al-Baaj","Markaz Al-Baaj","Al-Dubaat","حي الضباط",36.04082,41.71068,96,576,0,0,0,366,0,0,150,24,36,0,0,0,0,0,0,0,0,0,0,0,0,0,0,0,0,0,0,576,0,0,0,0,0,0,0,0,0,0,0,576,0,0,0,0,0,{"$f":"HYPERLINK(\"http://www.openstreetmap.org/?mlat=36.0408&mlon=41.7107&zoom=12#map=12/36.0408/41.7107\",\"Maplink1\")","v":"Maplink1"},{"$f":"HYPERLINK(\"https://www.google.iq/maps/search/+36.0408,41.7107/@36.0408,41.7107,14z?hl=en\",\"Maplink2\")","v":"Maplink2"},{"$f":"HYPERLINK(\"http://www.bing.com/maps/?lvl=14&sty=h&cp=36.0408~41.7107&sp=point.36.0408_41.7107\",\"Maplink3\")","v":"Maplink3"}]
[23049,"Ninewa","Al-Baaj","Markaz Al-Baaj","Alshuhadaa","حي الشهداء",36.039892,41.721847,61,366,0,0,0,270,0,0,96,0,0,0,0,0,0,0,0,0,0,0,0,0,0,0,0,0,0,0,0,366,0,0,0,0,0,0,0,0,0,0,0,366,0,0,0,0,0,{"$f":"HYPERLINK(\"http://www.openstreetmap.org/?mlat=36.0399&mlon=41.7218&zoom=12#map=12/36.0399/41.7218\",\"Maplink1\")","v":"Maplink1"},{"$f":"HYPERLINK(\"https://www.google.iq/maps/search/+36.0399,41.7218/@36.0399,41.7218,14z?hl=en\",\"Maplink2\")","v":"Maplink2"},{"$f":"HYPERLINK(\"http://www.bing.com/maps/?lvl=14&sty=h&cp=36.0399~41.7218&sp=point.36.0399_41.7218\",\"Maplink3\")","v":"Maplink3"}]
[34008,"Ninewa","Al-Baaj","Markaz Al-Baaj","Al-Risalah","حي الرساله",36.044509,41.714508,189,{"v":1134,"d":"1,134"},0,0,0,822,0,0,258,54,0,0,0,0,0,0,0,0,0,0,0,0,0,0,0,0,0,0,0,{"v":1134,"d":"1,134"},0,0,0,0,0,0,0,0,0,0,0,{"v":1134,"d":"1,134"},0,0,0,0,0,{"$f":"HYPERLINK(\"http://www.openstreetmap.org/?mlat=36.0445&mlon=41.7145&zoom=12#map=12/36.0445/41.7145\",\"Maplink1\")","v":"Maplink1"},{"$f":"HYPERLINK(\"https://www.google.iq/maps/search/+36.0445,41.7145/@36.0445,41.7145,14z?hl=en\",\"Maplink2\")","v":"Maplink2"},{"$f":"HYPERLINK(\"http://www.bing.com/maps/?lvl=14&sty=h&cp=36.0445~41.7145&sp=point.36.0445_41.7145\",\"Maplink3\")","v":"Maplink3"}]
[29647,"Ninewa","Al-Hamdaniya","Markaz Al-Hamdaniya","Hasansham U3","مخيم حسن شامي U3",36.3238291,43.5398114,{"v":1264,"d":"1,264"},{"v":6320,"d":"6,320"},0,180,{"v":6320,"d":"6,320"},0,0,0,0,0,0,0,0,0,0,0,0,50,10,0,0,0,5,125,0,425,0,0,0,{"v":5395,"d":"5,395"},0,310,0,0,0,0,60,{"v":1840,"d":"1,840"},300,50,270,{"v":3165,"d":"3,165"},205,100,265,65,0,{"$f":"HYPERLINK(\"http://www.openstreetmap.org/?mlat=36.3238&mlon=43.5398&zoom=12#map=12/36.3238/43.5398\",\"Maplink1\")","v":"Maplink1"},{"$f":"HYPERLINK(\"https://www.google.iq/maps/search/+36.3238,43.5398/@36.3238,43.5398,14z?hl=en\",\"Maplink2\")","v":"Maplink2"},{"$f":"HYPERLINK(\"http://www.bing.com/maps/?lvl=14&sty=h&cp=36.3238~43.5398&sp=point.36.3238_43.5398\",\"Maplink3\")","v":"Maplink3"}]
[25816,"Ninewa","Al-Hamdaniya","Markaz Al-Hamdaniya","Bishryan","بشريان",36.3067083,43.6736672,35,210,0,0,0,0,0,0,210,0,0,0,0,0,0,0,0,0,0,0,0,0,0,0,0,0,0,0,0,210,0,0,0,0,0,0,102,108,0,0,0,0,0,0,0,0,0,{"$f":"HYPERLINK(\"http://www.openstreetmap.org/?mlat=36.3067&mlon=43.6737&zoom=12#map=12/36.3067/43.6737\",\"Maplink1\")","v":"Maplink1"},{"$f":"HYPERLINK(\"https://www.google.iq/maps/search/+36.3067,43.6737/@36.3067,43.6737,14z?hl=en\",\"Maplink2\")","v":"Maplink2"},{"$f":"HYPERLINK(\"http://www.bing.com/maps/?lvl=14&sty=h&cp=36.3067~43.6737&sp=point.36.3067_43.6737\",\"Maplink3\")","v":"Maplink3"}]
[17903,"Ninewa","Al-Hamdaniya","Namroud","Al-Salamiyah Village","قرية السلامية",36.1446720243,43.3109665914,26,156,0,0,0,0,0,0,156,0,0,0,0,0,0,0,0,0,0,0,0,0,0,0,0,0,0,0,0,156,0,0,0,0,0,0,0,0,0,0,0,156,0,0,0,0,0,{"$f":"HYPERLINK(\"http://www.openstreetmap.org/?mlat=36.1447&mlon=43.311&zoom=12#map=12/36.1447/43.311\",\"Maplink1\")","v":"Maplink1"},{"$f":"HYPERLINK(\"https://www.google.iq/maps/search/+36.1447,43.311/@36.1447,43.311,14z?hl=en\",\"Maplink2\")","v":"Maplink2"},{"$f":"HYPERLINK(\"http://www.bing.com/maps/?lvl=14&sty=h&cp=36.1447~43.311&sp=point.36.1447_43.311\",\"Maplink3\")","v":"Maplink3"}]
[33115,"Ninewa","Al-Hatra","Markaz Hatra","Zaaziaa Village","قرية زعيزيعة",35.8103632,43.0231819,3,18,0,0,0,0,0,0,18,0,0,0,0,0,0,0,0,0,0,0,0,0,0,0,0,0,0,0,0,18,0,0,0,0,0,0,0,0,0,0,0,18,0,0,0,0,0,{"$f":"HYPERLINK(\"http://www.openstreetmap.org/?mlat=35.8104&mlon=43.0232&zoom=12#map=12/35.8104/43.0232\",\"Maplink1\")","v":"Maplink1"},{"$f":"HYPERLINK(\"https://www.google.iq/maps/search/+35.8104,43.0232/@35.8104,43.0232,14z?hl=en\",\"Maplink2\")","v":"Maplink2"},{"$f":"HYPERLINK(\"http://www.bing.com/maps/?lvl=14&sty=h&cp=35.8104~43.0232&sp=point.35.8104_43.0232\",\"Maplink3\")","v":"Maplink3"}]
[18337,"Ninewa","Al-Mosul","Al-Muhamadath","Al-Bareed","حي البريد",36.386359622,43.1781717746,35,210,0,0,0,0,0,0,210,0,0,0,0,0,0,0,0,0,0,0,0,0,0,0,0,0,0,0,0,210,0,0,0,0,0,0,0,0,0,0,0,210,0,0,0,0,0,{"$f":"HYPERLINK(\"http://www.openstreetmap.org/?mlat=36.3864&mlon=43.1782&zoom=12#map=12/36.3864/43.1782\",\"Maplink1\")","v":"Maplink1"},{"$f":"HYPERLINK(\"https://www.google.iq/maps/search/+36.3864,43.1782/@36.3864,43.1782,14z?hl=en\",\"Maplink2\")","v":"Maplink2"},{"$f":"HYPERLINK(\"http://www.bing.com/maps/?lvl=14&sty=h&cp=36.3864~43.1782&sp=point.36.3864_43.1782\",\"Maplink3\")","v":"Maplink3"}]
[33257,"Ninewa","Al-Mosul","Al-Muhamadath","Msherfa 2","مشيرفة 2",36.3781685509,43.0740161324,74,444,0,0,0,0,0,0,396,30,0,18,0,0,0,0,0,0,0,0,0,0,0,0,0,0,0,0,0,444,0,0,0,0,0,0,0,0,0,126,0,318,0,0,0,0,0,{"$f":"HYPERLINK(\"http://www.openstreetmap.org/?mlat=36.3782&mlon=43.074&zoom=12#map=12/36.3782/43.074\",\"Maplink1\")","v":"Maplink1"},{"$f":"HYPERLINK(\"https://www.google.iq/maps/search/+36.3782,43.074/@36.3782,43.074,14z?hl=en\",\"Maplink2\")","v":"Maplink2"},{"$f":"HYPERLINK(\"http://www.bing.com/maps/?lvl=14&sty=h&cp=36.3782~43.074&sp=point.36.3782_43.074\",\"Maplink3\")","v":"Maplink3"}]
[18372,"Ninewa","Al-Mosul","Al-Muhamadath","Al-Wahda","الوحدة",36.3249804896,43.1898108107,208,{"v":1248,"d":"1,248"},0,0,0,0,0,0,{"v":1230,"d":"1,230"},0,0,18,0,0,0,0,0,0,0,0,0,0,0,0,0,0,0,0,0,{"v":1248,"d":"1,248"},0,0,0,0,0,0,0,0,0,0,0,{"v":1248,"d":"1,248"},0,0,0,0,0,{"$f":"HYPERLINK(\"http://www.openstreetmap.org/?mlat=36.325&mlon=43.1898&zoom=12#map=12/36.325/43.1898\",\"Maplink1\")","v":"Maplink1"},{"$f":"HYPERLINK(\"https://www.google.iq/maps/search/+36.325,43.1898/@36.325,43.1898,14z?hl=en\",\"Maplink2\")","v":"Maplink2"},{"$f":"HYPERLINK(\"http://www.bing.com/maps/?lvl=14&sty=h&cp=36.325~43.1898&sp=point.36.325_43.1898\",\"Maplink3\")","v":"Maplink3"}]
[18247,"Ninewa","Al-Mosul","Al-Muhamadath","Hay 17 July","حي 17 تموز",36.3686258604,43.0838309931,12,72,0,0,0,0,0,0,60,12,0,0,0,0,0,0,0,0,0,0,0,0,0,0,0,0,0,0,0,72,0,0,0,0,0,0,0,0,0,18,0,54,0,0,0,0,0,{"$f":"HYPERLINK(\"http://www.openstreetmap.org/?mlat=36.3686&mlon=43.0838&zoom=12#map=12/36.3686/43.0838\",\"Maplink1\")","v":"Maplink1"},{"$f":"HYPERLINK(\"https://www.google.iq/maps/search/+36.3686,43.0838/@36.3686,43.0838,14z?hl=en\",\"Maplink2\")","v":"Maplink2"},{"$f":"HYPERLINK(\"http://www.bing.com/maps/?lvl=14&sty=h&cp=36.3686~43.0838&sp=point.36.3686_43.0838\",\"Maplink3\")","v":"Maplink3"}]
[33256,"Ninewa","Al-Mosul","Al-Muhamadath","Al-Oraybi","حي العريبي",36.3561410986,43.0876423608,1,6,0,0,0,0,0,0,6,0,0,0,0,0,0,0,0,0,0,0,0,0,0,0,0,0,0,0,0,6,0,0,0,0,0,0,0,0,0,0,0,6,0,0,0,0,0,{"$f":"HYPERLINK(\"http://www.openstreetmap.org/?mlat=36.3561&mlon=43.0876&zoom=12#map=12/36.3561/43.0876\",\"Maplink1\")","v":"Maplink1"},{"$f":"HYPERLINK(\"https://www.google.iq/maps/search/+36.3561,43.0876/@36.3561,43.0876,14z?hl=en\",\"Maplink2\")","v":"Maplink2"},{"$f":"HYPERLINK(\"http://www.bing.com/maps/?lvl=14&sty=h&cp=36.3561~43.0876&sp=point.36.3561_43.0876\",\"Maplink3\")","v":"Maplink3"}]
[18388,"Ninewa","Al-Mosul","Al-Muhamadath","Alqadisiya Al-thaniya","القادسية الثانية",36.3759955304,43.1990935021,82,492,0,0,0,0,0,0,468,0,0,0,0,0,24,0,0,0,0,0,0,0,0,0,0,0,0,0,0,492,0,0,0,0,0,0,0,30,0,0,0,462,0,0,0,0,0,{"$f":"HYPERLINK(\"http://www.openstreetmap.org/?mlat=36.376&mlon=43.1991&zoom=12#map=12/36.376/43.1991\",\"Maplink1\")","v":"Maplink1"},{"$f":"HYPERLINK(\"https://www.google.iq/maps/search/+36.376,43.1991/@36.376,43.1991,14z?hl=en\",\"Maplink2\")","v":"Maplink2"},{"$f":"HYPERLINK(\"http://www.bing.com/maps/?lvl=14&sty=h&cp=36.376~43.1991&sp=point.36.376_43.1991\",\"Maplink3\")","v":"Maplink3"}]
[18383,"Ninewa","Al-Mosul","Al-Muhamadath","Hay Adan","حي عدن",36.353585,43.213329,81,486,0,0,0,0,0,0,486,0,0,0,0,0,0,0,0,0,0,0,0,0,0,0,0,0,0,0,0,486,0,0,0,0,0,0,0,84,0,0,0,402,0,0,0,0,0,{"$f":"HYPERLINK(\"http://www.openstreetmap.org/?mlat=36.3536&mlon=43.2133&zoom=12#map=12/36.3536/43.2133\",\"Maplink1\")","v":"Maplink1"},{"$f":"HYPERLINK(\"https://www.google.iq/maps/search/+36.3536,43.2133/@36.3536,43.2133,14z?hl=en\",\"Maplink2\")","v":"Maplink2"},{"$f":"HYPERLINK(\"http://www.bing.com/maps/?lvl=14&sty=h&cp=36.3536~43.2133&sp=point.36.3536_43.2133\",\"Maplink3\")","v":"Maplink3"}]
[18344,"Ninewa","Al-Mosul","Al-Muhamadath","Al-Risalah","الرسالة",36.3302823388,43.0897934832,7,42,0,0,0,0,0,0,36,0,0,6,0,0,0,0,0,0,0,0,0,0,0,0,0,0,0,0,0,42,0,0,0,0,0,0,0,0,0,24,0,18,0,0,0,0,0,{"$f":"HYPERLINK(\"http://www.openstreetmap.org/?mlat=36.3303&mlon=43.0898&zoom=12#map=12/36.3303/43.0898\",\"Maplink1\")","v":"Maplink1"},{"$f":"HYPERLINK(\"https://www.google.iq/maps/search/+36.3303,43.0898/@36.3303,43.0898,14z?hl=en\",\"Maplink2\")","v":"Maplink2"},{"$f":"HYPERLINK(\"http://www.bing.com/maps/?lvl=14&sty=h&cp=36.3303~43.0898&sp=point.36.3303_43.0898\",\"Maplink3\")","v":"Maplink3"}]
[31919,"Ninewa","Al-Mosul","Al-Muhamadath","Bab Nergal","باب نركال",36.372232,43.144892,3,18,0,0,0,6,0,0,0,0,0,12,0,0,0,0,0,0,0,0,0,0,0,0,0,0,0,0,0,18,0,0,0,0,0,0,0,6,0,0,0,12,0,0,0,0,0,{"$f":"HYPERLINK(\"http://www.openstreetmap.org/?mlat=36.3722&mlon=43.1449&zoom=12#map=12/36.3722/43.1449\",\"Maplink1\")","v":"Maplink1"},{"$f":"HYPERLINK(\"https://www.google.iq/maps/search/+36.3722,43.1449/@36.3722,43.1449,14z?hl=en\",\"Maplink2\")","v":"Maplink2"},{"$f":"HYPERLINK(\"http://www.bing.com/maps/?lvl=14&sty=h&cp=36.3722~43.1449&sp=point.36.3722_43.1449\",\"Maplink3\")","v":"Maplink3"}]
[31917,"Ninewa","Al-Mosul","Al-Muhamadath","Yarmjah Al-sharqiya","يارمجة الشرقية",36.2945654,43.2105997,477,{"v":2862,"d":"2,862"},0,0,0,150,0,0,{"v":2454,"d":"2,454"},0,66,192,0,0,0,0,0,0,0,0,0,0,0,0,0,0,0,0,0,{"v":2862,"d":"2,862"},0,0,0,0,0,0,0,{"v":1446,"d":"1,446"},0,0,0,{"v":1416,"d":"1,416"},0,0,0,0,0,{"$f":"HYPERLINK(\"http://www.openstreetmap.org/?mlat=36.2946&mlon=43.2106&zoom=12#map=12/36.2946/43.2106\",\"Maplink1\")","v":"Maplink1"},{"$f":"HYPERLINK(\"https://www.google.iq/maps/search/+36.2946,43.2106/@36.2946,43.2106,14z?hl=en\",\"Maplink2\")","v":"Maplink2"},{"$f":"HYPERLINK(\"http://www.bing.com/maps/?lvl=14&sty=h&cp=36.2946~43.2106&sp=point.36.2946_43.2106\",\"Maplink3\")","v":"Maplink3"}]
[21335,"Ninewa","Al-Mosul","Al-Muhamadath","Al-Sihha","حي الصحة",36.3482788036,43.1022400141,20,120,0,0,0,0,0,0,66,54,0,0,0,0,0,0,0,0,0,0,0,0,0,0,0,0,0,0,0,120,0,0,0,0,0,0,0,0,0,120,0,0,0,0,0,0,0,{"$f":"HYPERLINK(\"http://www.openstreetmap.org/?mlat=36.3483&mlon=43.1022&zoom=12#map=12/36.3483/43.1022\",\"Maplink1\")","v":"Maplink1"},{"$f":"HYPERLINK(\"https://www.google.iq/maps/search/+36.3483,43.1022/@36.3483,43.1022,14z?hl=en\",\"Maplink2\")","v":"Maplink2"},{"$f":"HYPERLINK(\"http://www.bing.com/maps/?lvl=14&sty=h&cp=36.3483~43.1022&sp=point.36.3483_43.1022\",\"Maplink3\")","v":"Maplink3"}]
[24635,"Ninewa","Al-Mosul","Al-Muhamadath","Hay Nablus","حي نابلس",36.3272161705,43.0854606371,34,204,0,0,0,0,0,0,72,72,0,60,0,0,0,0,0,0,0,0,0,0,0,0,0,0,0,0,0,204,0,0,0,0,0,0,0,0,0,180,0,24,0,0,0,0,0,{"$f":"HYPERLINK(\"http://www.openstreetmap.org/?mlat=36.3272&mlon=43.0855&zoom=12#map=12/36.3272/43.0855\",\"Maplink1\")","v":"Maplink1"},{"$f":"HYPERLINK(\"https://www.google.iq/maps/search/+36.3272,43.0855/@36.3272,43.0855,14z?hl=en\",\"Maplink2\")","v":"Maplink2"},{"$f":"HYPERLINK(\"http://www.bing.com/maps/?lvl=14&sty=h&cp=36.3272~43.0855&sp=point.36.3272_43.0855\",\"Maplink3\")","v":"Maplink3"}]
[18356,"Ninewa","Al-Mosul","Al-Muhamadath","Al tahreer","التحرير",36.3909444123,43.2044680959,262,{"v":1572,"d":"1,572"},0,0,0,90,0,0,{"v":1470,"d":"1,470"},0,0,12,0,0,0,0,0,0,0,0,0,0,0,0,0,0,0,0,0,{"v":1572,"d":"1,572"},0,0,0,0,0,0,0,414,0,0,0,{"v":1158,"d":"1,158"},0,0,0,0,0,{"$f":"HYPERLINK(\"http://www.openstreetmap.org/?mlat=36.3909&mlon=43.2045&zoom=12#map=12/36.3909/43.2045\",\"Maplink1\")","v":"Maplink1"},{"$f":"HYPERLINK(\"https://www.google.iq/maps/search/+36.3909,43.2045/@36.3909,43.2045,14z?hl=en\",\"Maplink2\")","v":"Maplink2"},{"$f":"HYPERLINK(\"http://www.bing.com/maps/?lvl=14&sty=h&cp=36.3909~43.2045&sp=point.36.3909_43.2045\",\"Maplink3\")","v":"Maplink3"}]
[24636,"Ninewa","Al-Mosul","Al-Muhamadath","Hay 30 July","حي 30 تموز",36.3734986944,43.0809636289,26,156,0,0,0,0,0,0,156,0,0,0,0,0,0,0,0,0,0,0,0,0,0,0,0,0,0,0,0,156,0,0,0,0,0,0,0,0,0,90,0,66,0,0,0,0,0,{"$f":"HYPERLINK(\"http://www.openstreetmap.org/?mlat=36.3735&mlon=43.081&zoom=12#map=12/36.3735/43.081\",\"Maplink1\")","v":"Maplink1"},{"$f":"HYPERLINK(\"https://www.google.iq/maps/search/+36.3735,43.081/@36.3735,43.081,14z?hl=en\",\"Maplink2\")","v":"Maplink2"},{"$f":"HYPERLINK(\"http://www.bing.com/maps/?lvl=14&sty=h&cp=36.3735~43.081&sp=point.36.3735_43.081\",\"Maplink3\")","v":"Maplink3"}]
[21332,"Ninewa","Al-Mosul","Al-Muhamadath","HAY-FALISTINE","حي فلسطين",36.3075092256,43.1910329019,96,576,0,0,0,42,0,0,528,0,0,6,0,0,0,0,0,0,0,0,0,0,0,0,0,0,0,0,0,576,0,0,0,0,0,0,0,72,0,0,0,504,0,0,0,0,0,{"$f":"HYPERLINK(\"http://www.openstreetmap.org/?mlat=36.3075&mlon=43.191&zoom=12#map=12/36.3075/43.191\",\"Maplink1\")","v":"Maplink1"},{"$f":"HYPERLINK(\"https://www.google.iq/maps/search/+36.3075,43.191/@36.3075,43.191,14z?hl=en\",\"Maplink2\")","v":"Maplink2"},{"$f":"HYPERLINK(\"http://www.bing.com/maps/?lvl=14&sty=h&cp=36.3075~43.191&sp=point.36.3075_43.191\",\"Maplink3\")","v":"Maplink3"}]
[21647,"Ninewa","Al-Mosul","Al-Muhamadath","Hay Al Zahraa","حي الزهراء",36.383555315,43.2083959115,523,{"v":3138,"d":"3,138"},0,0,0,696,0,60,{"v":2310,"d":"2,310"},0,0,72,0,0,0,0,0,0,0,0,0,0,0,12,0,0,0,0,0,{"v":3126,"d":"3,126"},0,0,0,0,0,0,0,{"v":1056,"d":"1,056"},0,0,12,{"v":2070,"d":"2,070"},0,0,0,0,0,{"$f":"HYPERLINK(\"http://www.openstreetmap.org/?mlat=36.3836&mlon=43.2084&zoom=12#map=12/36.3836/43.2084\",\"Maplink1\")","v":"Maplink1"},{"$f":"HYPERLINK(\"https://www.google.iq/maps/search/+36.3836,43.2084/@36.3836,43.2084,14z?hl=en\",\"Maplink2\")","v":"Maplink2"},{"$f":"HYPERLINK(\"http://www.bing.com/maps/?lvl=14&sty=h&cp=36.3836~43.2084&sp=point.36.3836_43.2084\",\"Maplink3\")","v":"Maplink3"}]
[18370,"Ninewa","Al-Mosul","Al-Muhamadath","Hay Al Tammem","التاميم",36.3532024734,43.1896026094,287,{"v":1722,"d":"1,722"},0,0,0,0,0,0,{"v":1566,"d":"1,566"},0,0,156,0,0,0,0,0,0,0,0,0,0,0,0,0,0,0,0,0,{"v":1722,"d":"1,722"},0,0,0,0,0,0,0,780,0,0,0,942,0,0,0,0,0,{"$f":"HYPERLINK(\"http://www.openstreetmap.org/?mlat=36.3532&mlon=43.1896&zoom=12#map=12/36.3532/43.1896\",\"Maplink1\")","v":"Maplink1"},{"$f":"HYPERLINK(\"https://www.google.iq/maps/search/+36.3532,43.1896/@36.3532,43.1896,14z?hl=en\",\"Maplink2\")","v":"Maplink2"},{"$f":"HYPERLINK(\"http://www.bing.com/maps/?lvl=14&sty=h&cp=36.3532~43.1896&sp=point.36.3532_43.1896\",\"Maplink3\")","v":"Maplink3"}]
[18393,"Ninewa","Al-Mosul","Al-Muhamadath","Al-Muhandiseen","المهندسين",36.3685749149,43.1372377867,5,30,0,0,0,0,0,0,30,0,0,0,0,0,0,0,0,0,0,0,0,0,0,0,0,0,0,0,0,30,0,0,0,0,0,0,0,0,0,0,0,30,0,0,0,0,0,{"$f":"HYPERLINK(\"http://www.openstreetmap.org/?mlat=36.3686&mlon=43.1372&zoom=12#map=12/36.3686/43.1372\",\"Maplink1\")","v":"Maplink1"},{"$f":"HYPERLINK(\"https://www.google.iq/maps/search/+36.3686,43.1372/@36.3686,43.1372,14z?hl=en\",\"Maplink2\")","v":"Maplink2"},{"$f":"HYPERLINK(\"http://www.bing.com/maps/?lvl=14&sty=h&cp=36.3686~43.1372&sp=point.36.3686_43.1372\",\"Maplink3\")","v":"Maplink3"}]
[18348,"Ninewa","Al-Mosul","Al-Muhamadath","Al-Numaniyah","النعمانية",36.35292,43.15684,146,876,0,0,0,42,0,0,834,0,0,0,0,0,0,0,0,0,0,0,0,0,0,0,0,0,0,0,0,876,0,0,0,0,0,0,0,300,0,0,0,576,0,0,0,0,0,{"$f":"HYPERLINK(\"http://www.openstreetmap.org/?mlat=36.3529&mlon=43.1568&zoom=12#map=12/36.3529/43.1568\",\"Maplink1\")","v":"Maplink1"},{"$f":"HYPERLINK(\"https://www.google.iq/maps/search/+36.3529,43.1568/@36.3529,43.1568,14z?hl=en\",\"Maplink2\")","v":"Maplink2"},{"$f":"HYPERLINK(\"http://www.bing.com/maps/?lvl=14&sty=h&cp=36.3529~43.1568&sp=point.36.3529_43.1568\",\"Maplink3\")","v":"Maplink3"}]
[33374,"Ninewa","Al-Mosul","Al-Muhamadath","Hay-Karkukli","حي كركوكلي",36.36553,43.2083730476,80,480,0,0,0,0,0,0,480,0,0,0,0,0,0,0,0,0,0,0,0,0,0,0,0,0,0,0,0,480,0,0,0,0,0,0,0,120,0,0,0,360,0,0,0,0,0,{"$f":"HYPERLINK(\"http://www.openstreetmap.org/?mlat=36.3655&mlon=43.2084&zoom=12#map=12/36.3655/43.2084\",\"Maplink1\")","v":"Maplink1"},{"$f":"HYPERLINK(\"https://www.google.iq/maps/search/+36.3655,43.2084/@36.3655,43.2084,14z?hl=en\",\"Maplink2\")","v":"Maplink2"},{"$f":"HYPERLINK(\"http://www.bing.com/maps/?lvl=14&sty=h&cp=36.3655~43.2084&sp=point.36.3655_43.2084\",\"Maplink3\")","v":"Maplink3"}]
[31914,"Ninewa","Al-Mosul","Al-Muhamadath","Arbajiyah","اربجية",36.3735967563,43.2020608063,520,{"v":3120,"d":"3,120"},0,0,0,690,0,0,{"v":2388,"d":"2,388"},0,6,36,0,0,0,0,0,0,0,0,0,0,0,0,0,0,0,0,0,{"v":3120,"d":"3,120"},0,0,0,0,0,0,0,{"v":1680,"d":"1,680"},0,0,0,{"v":1440,"d":"1,440"},0,0,0,0,0,{"$f":"HYPERLINK(\"http://www.openstreetmap.org/?mlat=36.3736&mlon=43.2021&zoom=12#map=12/36.3736/43.2021\",\"Maplink1\")","v":"Maplink1"},{"$f":"HYPERLINK(\"https://www.google.iq/maps/search/+36.3736,43.2021/@36.3736,43.2021,14z?hl=en\",\"Maplink2\")","v":"Maplink2"},{"$f":"HYPERLINK(\"http://www.bing.com/maps/?lvl=14&sty=h&cp=36.3736~43.2021&sp=point.36.3736_43.2021\",\"Maplink3\")","v":"Maplink3"}]
[18357,"Ninewa","Al-Mosul","Al-Muhamadath","Al-sukar","حي السكر",36.3899616544,43.1695556418,46,276,0,0,0,0,0,0,252,0,24,0,0,0,0,0,0,0,0,0,0,0,0,0,0,0,0,0,0,276,0,0,0,0,0,0,0,120,0,0,0,156,0,0,0,0,0,{"$f":"HYPERLINK(\"http://www.openstreetmap.org/?mlat=36.39&mlon=43.1696&zoom=12#map=12/36.39/43.1696\",\"Maplink1\")","v":"Maplink1"},{"$f":"HYPERLINK(\"https://www.google.iq/maps/search/+36.39,43.1696/@36.39,43.1696,14z?hl=en\",\"Maplink2\")","v":"Maplink2"},{"$f":"HYPERLINK(\"http://www.bing.com/maps/?lvl=14&sty=h&cp=36.39~43.1696&sp=point.36.39_43.1696\",\"Maplink3\")","v":"Maplink3"}]
[17678,"Ninewa","Al-Mosul","Al-Qayarra","Al-ndas Village","قرية النداس",35.9703411,42.9546102,2,12,0,0,0,12,0,0,0,0,0,0,0,0,0,0,0,0,0,0,0,0,0,0,0,0,0,0,0,12,0,0,0,0,0,0,0,0,0,0,0,12,0,0,0,0,0,{"$f":"HYPERLINK(\"http://www.openstreetmap.org/?mlat=35.9703&mlon=42.9546&zoom=12#map=12/35.9703/42.9546\",\"Maplink1\")","v":"Maplink1"},{"$f":"HYPERLINK(\"https://www.google.iq/maps/search/+35.9703,42.9546/@35.9703,42.9546,14z?hl=en\",\"Maplink2\")","v":"Maplink2"},{"$f":"HYPERLINK(\"http://www.bing.com/maps/?lvl=14&sty=h&cp=35.9703~42.9546&sp=point.35.9703_42.9546\",\"Maplink3\")","v":"Maplink3"}]
[34187,"Ninewa","Al-Mosul","Al-Qayarra","Madraj gharbee","قرية مدرج غربي",35.909901,42.9862107,6,36,0,0,0,0,0,0,36,0,0,0,0,0,0,0,0,0,0,0,0,0,0,0,0,0,0,0,0,36,0,0,0,0,0,0,0,0,0,0,36,0,0,0,0,0,0,{"$f":"HYPERLINK(\"http://www.openstreetmap.org/?mlat=35.9099&mlon=42.9862&zoom=12#map=12/35.9099/42.9862\",\"Maplink1\")","v":"Maplink1"},{"$f":"HYPERLINK(\"https://www.google.iq/maps/search/+35.9099,42.9862/@35.9099,42.9862,14z?hl=en\",\"Maplink2\")","v":"Maplink2"},{"$f":"HYPERLINK(\"http://www.bing.com/maps/?lvl=14&sty=h&cp=35.9099~42.9862&sp=point.35.9099_42.9862\",\"Maplink3\")","v":"Maplink3"}]
[32085,"Ninewa","Al-Mosul","Al-Qayarra","Imam Village","قرية الامام",35.697671,43.2778739,7,42,0,0,0,0,0,0,42,0,0,0,0,0,0,0,0,0,0,0,0,0,0,0,0,0,0,0,0,42,0,0,0,0,0,0,0,0,0,0,0,0,42,0,0,0,0,{"$f":"HYPERLINK(\"http://www.openstreetmap.org/?mlat=35.6977&mlon=43.2779&zoom=12#map=12/35.6977/43.2779\",\"Maplink1\")","v":"Maplink1"},{"$f":"HYPERLINK(\"https://www.google.iq/maps/search/+35.6977,43.2779/@35.6977,43.2779,14z?hl=en\",\"Maplink2\")","v":"Maplink2"},{"$f":"HYPERLINK(\"http://www.bing.com/maps/?lvl=14&sty=h&cp=35.6977~43.2779&sp=point.35.6977_43.2779\",\"Maplink3\")","v":"Maplink3"}]
[31703,"Ninewa","Al-Mosul","Al-Qayarra","AL-Mahattah Al-ghaziyah Village","قرية المحطة الغازية",35.7760257,43.2533408,130,780,0,54,0,0,0,0,564,0,36,180,0,0,0,0,0,0,0,0,0,0,0,60,0,0,0,0,0,690,0,30,0,0,0,0,0,0,12,0,180,588,0,0,0,0,0,{"$f":"HYPERLINK(\"http://www.openstreetmap.org/?mlat=35.776&mlon=43.2533&zoom=12#map=12/35.776/43.2533\",\"Maplink1\")","v":"Maplink1"},{"$f":"HYPERLINK(\"https://www.google.iq/maps/search/+35.776,43.2533/@35.776,43.2533,14z?hl=en\",\"Maplink2\")","v":"Maplink2"},{"$f":"HYPERLINK(\"http://www.bing.com/maps/?lvl=14&sty=h&cp=35.776~43.2533&sp=point.35.776_43.2533\",\"Maplink3\")","v":"Maplink3"}]
[18376,"Ninewa","Al-Mosul","Bashiqa","Kokjali","كوكجلي",36.3589135798,43.2531553039,270,{"v":1620,"d":"1,620"},0,0,0,0,0,0,{"v":1620,"d":"1,620"},0,0,0,0,0,0,0,0,0,0,0,0,0,0,0,0,0,0,0,0,{"v":1620,"d":"1,620"},0,0,0,0,0,0,0,0,0,0,0,{"v":1620,"d":"1,620"},0,0,0,0,0,{"$f":"HYPERLINK(\"http://www.openstreetmap.org/?mlat=36.3589&mlon=43.2532&zoom=12#map=12/36.3589/43.2532\",\"Maplink1\")","v":"Maplink1"},{"$f":"HYPERLINK(\"https://www.google.iq/maps/search/+36.3589,43.2532/@36.3589,43.2532,14z?hl=en\",\"Maplink2\")","v":"Maplink2"},{"$f":"HYPERLINK(\"http://www.bing.com/maps/?lvl=14&sty=h&cp=36.3589~43.2532&sp=point.36.3589_43.2532\",\"Maplink3\")","v":"Maplink3"}]
[25278,"Ninewa","Al-Shikhan","Markaz Al-Shikhan","Kabara","قرية كابارة",36.6978394865,43.2225241158,7,42,0,0,0,0,0,0,42,0,0,0,0,0,0,0,0,0,0,0,0,0,0,0,0,0,0,0,0,42,0,0,0,0,0,0,0,42,0,0,0,0,0,0,0,0,0,{"$f":"HYPERLINK(\"http://www.openstreetmap.org/?mlat=36.6978&mlon=43.2225&zoom=12#map=12/36.6978/43.2225\",\"Maplink1\")","v":"Maplink1"},{"$f":"HYPERLINK(\"https://www.google.iq/maps/search/+36.6978,43.2225/@36.6978,43.2225,14z?hl=en\",\"Maplink2\")","v":"Maplink2"},{"$f":"HYPERLINK(\"http://www.bing.com/maps/?lvl=14&sty=h&cp=36.6978~43.2225&sp=point.36.6978_43.2225\",\"Maplink3\")","v":"Maplink3"}]
[17752,"Ninewa","Al-Shikhan","Markaz Al-Shikhan","Baadre","باعدري",36.7236004,43.2519622,457,{"v":2742,"d":"2,742"},0,30,0,0,0,96,{"v":2034,"d":"2,034"},0,0,612,0,0,0,0,0,0,0,0,0,0,0,0,0,0,0,0,0,{"v":2742,"d":"2,742"},0,0,0,0,0,0,84,{"v":2622,"d":"2,622"},0,0,0,0,36,0,0,0,0,{"$f":"HYPERLINK(\"http://www.openstreetmap.org/?mlat=36.7236&mlon=43.252&zoom=12#map=12/36.7236/43.252\",\"Maplink1\")","v":"Maplink1"},{"$f":"HYPERLINK(\"https://www.google.iq/maps/search/+36.7236,43.252/@36.7236,43.252,14z?hl=en\",\"Maplink2\")","v":"Maplink2"},{"$f":"HYPERLINK(\"http://www.bing.com/maps/?lvl=14&sty=h&cp=36.7236~43.252&sp=point.36.7236_43.252\",\"Maplink3\")","v":"Maplink3"}]
[29672,"Ninewa","Al-Shikhan","Markaz Al-Shikhan","Pirbob","بيربوب",36.6437024,43.4705081,8,48,0,0,0,0,0,0,36,0,0,12,0,0,0,0,0,0,0,0,0,0,0,0,0,0,0,0,0,48,0,0,0,0,0,0,0,48,0,0,0,0,0,0,0,0,0,{"$f":"HYPERLINK(\"http://www.openstreetmap.org/?mlat=36.6437&mlon=43.4705&zoom=12#map=12/36.6437/43.4705\",\"Maplink1\")","v":"Maplink1"},{"$f":"HYPERLINK(\"https://www.google.iq/maps/search/+36.6437,43.4705/@36.6437,43.4705,14z?hl=en\",\"Maplink2\")","v":"Maplink2"},{"$f":"HYPERLINK(\"http://www.bing.com/maps/?lvl=14&sty=h&cp=36.6437~43.4705&sp=point.36.6437_43.4705\",\"Maplink3\")","v":"Maplink3"}]
[17535,"Ninewa","Al-Shikhan","Markaz Al-Shikhan","Mahad","مهد",36.6454908,43.4165439,183,{"v":1098,"d":"1,098"},0,18,0,0,0,0,828,0,0,270,0,0,0,0,0,0,0,0,0,0,0,0,0,0,0,0,0,{"v":1098,"d":"1,098"},0,0,0,0,0,0,0,{"v":1098,"d":"1,098"},0,0,0,0,0,0,0,0,0,{"$f":"HYPERLINK(\"http://www.openstreetmap.org/?mlat=36.6455&mlon=43.4165&zoom=12#map=12/36.6455/43.4165\",\"Maplink1\")","v":"Maplink1"},{"$f":"HYPERLINK(\"https://www.google.iq/maps/search/+36.6455,43.4165/@36.6455,43.4165,14z?hl=en\",\"Maplink2\")","v":"Maplink2"},{"$f":"HYPERLINK(\"http://www.bing.com/maps/?lvl=14&sty=h&cp=36.6455~43.4165&sp=point.36.6455_43.4165\",\"Maplink3\")","v":"Maplink3"}]
[21008,"Ninewa","Al-Shikhan","Qasruk","Chira","جرة",36.6393583,43.5244375,171,{"v":1026,"d":"1,026"},0,0,0,0,0,48,978,0,0,0,0,0,0,0,0,0,0,0,0,0,0,0,0,0,0,0,0,{"v":1026,"d":"1,026"},0,0,0,0,0,0,696,330,0,0,0,0,0,0,0,0,0,{"$f":"HYPERLINK(\"http://www.openstreetmap.org/?mlat=36.6394&mlon=43.5244&zoom=12#map=12/36.6394/43.5244\",\"Maplink1\")","v":"Maplink1"},{"$f":"HYPERLINK(\"https://www.google.iq/maps/search/+36.6394,43.5244/@36.6394,43.5244,14z?hl=en\",\"Maplink2\")","v":"Maplink2"},{"$f":"HYPERLINK(\"http://www.bing.com/maps/?lvl=14&sty=h&cp=36.6394~43.5244&sp=point.36.6394_43.5244\",\"Maplink3\")","v":"Maplink3"}]
[18205,"Ninewa","Al-Shikhan","Qasruk","New Zinava","زينافا جديدة",36.6033712,43.5022991,1,6,0,0,0,0,0,0,0,0,0,6,0,0,0,0,0,0,0,0,0,0,0,0,0,0,0,0,0,6,0,0,0,0,0,0,0,6,0,0,0,0,0,0,0,0,0,{"$f":"HYPERLINK(\"http://www.openstreetmap.org/?mlat=36.6034&mlon=43.5023&zoom=12#map=12/36.6034/43.5023\",\"Maplink1\")","v":"Maplink1"},{"$f":"HYPERLINK(\"https://www.google.iq/maps/search/+36.6034,43.5023/@36.6034,43.5023,14z?hl=en\",\"Maplink2\")","v":"Maplink2"},{"$f":"HYPERLINK(\"http://www.bing.com/maps/?lvl=14&sty=h&cp=36.6034~43.5023&sp=point.36.6034_43.5023\",\"Maplink3\")","v":"Maplink3"}]
[24580,"Ninewa","Aqra","Bardarash","Roviya","روفيا",36.6181997,43.7016648,595,{"v":3570,"d":"3,570"},0,0,0,0,0,{"v":1368,"d":"1,368"},{"v":2202,"d":"2,202"},0,0,0,0,0,0,0,0,0,0,0,0,0,0,0,0,0,0,0,0,{"v":3570,"d":"3,570"},0,0,0,0,0,0,918,{"v":2538,"d":"2,538"},0,0,0,0,114,0,0,0,0,{"$f":"HYPERLINK(\"http://www.openstreetmap.org/?mlat=36.6182&mlon=43.7017&zoom=12#map=12/36.6182/43.7017\",\"Maplink1\")","v":"Maplink1"},{"$f":"HYPERLINK(\"https://www.google.iq/maps/search/+36.6182,43.7017/@36.6182,43.7017,14z?hl=en\",\"Maplink2\")","v":"Maplink2"},{"$f":"HYPERLINK(\"http://www.bing.com/maps/?lvl=14&sty=h&cp=36.6182~43.7017&sp=point.36.6182_43.7017\",\"Maplink3\")","v":"Maplink3"}]
[8783,"Ninewa","Aqra","Bardarash","Bardarash","بردرش",36.5050522,43.5956519,906,{"v":5436,"d":"5,436"},0,0,0,0,0,72,{"v":5364,"d":"5,364"},0,0,0,0,0,0,0,0,0,0,0,0,0,0,0,0,0,0,0,0,{"v":5436,"d":"5,436"},0,0,0,0,0,0,{"v":2466,"d":"2,466"},{"v":2790,"d":"2,790"},0,0,0,0,180,0,0,0,0,{"$f":"HYPERLINK(\"http://www.openstreetmap.org/?mlat=36.5051&mlon=43.5957&zoom=12#map=12/36.5051/43.5957\",\"Maplink1\")","v":"Maplink1"},{"$f":"HYPERLINK(\"https://www.google.iq/maps/search/+36.5051,43.5957/@36.5051,43.5957,14z?hl=en\",\"Maplink2\")","v":"Maplink2"},{"$f":"HYPERLINK(\"http://www.bing.com/maps/?lvl=14&sty=h&cp=36.5051~43.5957&sp=point.36.5051_43.5957\",\"Maplink3\")","v":"Maplink3"}]
[17295,"Ninewa","Aqra","Bardarash","Amiyanook","آميانوك",36.53680141,43.60407831,1,6,0,0,0,0,0,0,6,0,0,0,0,0,0,0,0,0,0,0,0,0,0,0,0,0,0,0,0,6,0,0,0,0,0,0,0,6,0,0,0,0,0,0,0,0,0,{"$f":"HYPERLINK(\"http://www.openstreetmap.org/?mlat=36.5368&mlon=43.6041&zoom=12#map=12/36.5368/43.6041\",\"Maplink1\")","v":"Maplink1"},{"$f":"HYPERLINK(\"https://www.google.iq/maps/search/+36.5368,43.6041/@36.5368,43.6041,14z?hl=en\",\"Maplink2\")","v":"Maplink2"},{"$f":"HYPERLINK(\"http://www.bing.com/maps/?lvl=14&sty=h&cp=36.5368~43.6041&sp=point.36.5368_43.6041\",\"Maplink3\")","v":"Maplink3"}]
[16953,"Ninewa","Aqra","Dinarta","Dinarta","دينارته",36.7973763,43.9862791,61,366,0,0,0,0,0,24,324,0,0,18,0,0,0,0,0,0,0,0,0,0,0,0,0,0,0,0,0,366,0,0,0,0,0,0,180,186,0,0,0,0,0,0,0,0,0,{"$f":"HYPERLINK(\"http://www.openstreetmap.org/?mlat=36.7974&mlon=43.9863&zoom=12#map=12/36.7974/43.9863\",\"Maplink1\")","v":"Maplink1"},{"$f":"HYPERLINK(\"https://www.google.iq/maps/search/+36.7974,43.9863/@36.7974,43.9863,14z?hl=en\",\"Maplink2\")","v":"Maplink2"},{"$f":"HYPERLINK(\"http://www.bing.com/maps/?lvl=14&sty=h&cp=36.7974~43.9863&sp=point.36.7974_43.9863\",\"Maplink3\")","v":"Maplink3"}]
[18256,"Ninewa","Aqra","Kurdsein","Banasur","بانسور",36.7093306,43.9727341,30,180,0,0,0,0,0,0,180,0,0,0,0,0,0,0,0,0,0,0,0,0,0,0,0,0,0,0,0,180,0,0,0,0,0,0,78,102,0,0,0,0,0,0,0,0,0,{"$f":"HYPERLINK(\"http://www.openstreetmap.org/?mlat=36.7093&mlon=43.9727&zoom=12#map=12/36.7093/43.9727\",\"Maplink1\")","v":"Maplink1"},{"$f":"HYPERLINK(\"https://www.google.iq/maps/search/+36.7093,43.9727/@36.7093,43.9727,14z?hl=en\",\"Maplink2\")","v":"Maplink2"},{"$f":"HYPERLINK(\"http://www.bing.com/maps/?lvl=14&sty=h&cp=36.7093~43.9727&sp=point.36.7093_43.9727\",\"Maplink3\")","v":"Maplink3"}]
[34035,"Ninewa","Sinjar","Al-Qairawan","Hay Al Taawn","حي التعاون",36.153917,42.030102,13,78,0,0,0,60,0,18,0,0,0,0,0,0,0,0,0,0,0,0,0,0,0,0,0,0,0,0,0,78,0,0,0,0,0,0,0,0,0,0,0,78,0,0,0,0,0,{"$f":"HYPERLINK(\"http://www.openstreetmap.org/?mlat=36.1539&mlon=42.0301&zoom=12#map=12/36.1539/42.0301\",\"Maplink1\")","v":"Maplink1"},{"$f":"HYPERLINK(\"https://www.google.iq/maps/search/+36.1539,42.0301/@36.1539,42.0301,14z?hl=en\",\"Maplink2\")","v":"Maplink2"},{"$f":"HYPERLINK(\"http://www.bing.com/maps/?lvl=14&sty=h&cp=36.1539~42.0301&sp=point.36.1539_42.0301\",\"Maplink3\")","v":"Maplink3"}]
[17928,"Ninewa","Sinjar","Al-Shamal","Sinuni center","مركز سنوني",36.4691174,41.7087075,{"v":1039,"d":"1,039"},{"v":6234,"d":"6,234"},0,12,0,0,0,0,{"v":6234,"d":"6,234"},0,0,0,0,0,0,0,0,0,0,0,0,0,0,0,0,0,0,0,0,{"v":6234,"d":"6,234"},0,0,0,0,0,0,0,{"v":6234,"d":"6,234"},0,0,0,0,0,0,0,0,0,{"$f":"HYPERLINK(\"http://www.openstreetmap.org/?mlat=36.4691&mlon=41.7087&zoom=12#map=12/36.4691/41.7087\",\"Maplink1\")","v":"Maplink1"},{"$f":"HYPERLINK(\"https://www.google.iq/maps/search/+36.4691,41.7087/@36.4691,41.7087,14z?hl=en\",\"Maplink2\")","v":"Maplink2"},{"$f":"HYPERLINK(\"http://www.bing.com/maps/?lvl=14&sty=h&cp=36.4691~41.7087&sp=point.36.4691_41.7087\",\"Maplink3\")","v":"Maplink3"}]
[29481,"Ninewa","Sinjar","Al-Shamal","Trbeka","تربكة",36.5298862669,41.6719591348,6,36,0,0,0,0,0,0,36,0,0,0,0,0,0,0,0,0,0,0,0,0,0,0,0,0,0,0,0,36,0,0,0,0,0,0,0,36,0,0,0,0,0,0,0,0,0,{"$f":"HYPERLINK(\"http://www.openstreetmap.org/?mlat=36.5299&mlon=41.672&zoom=12#map=12/36.5299/41.672\",\"Maplink1\")","v":"Maplink1"},{"$f":"HYPERLINK(\"https://www.google.iq/maps/search/+36.5299,41.672/@36.5299,41.672,14z?hl=en\",\"Maplink2\")","v":"Maplink2"},{"$f":"HYPERLINK(\"http://www.bing.com/maps/?lvl=14&sty=h&cp=36.5299~41.672&sp=point.36.5299_41.672\",\"Maplink3\")","v":"Maplink3"}]
[27361,"Ninewa","Sinjar","Al-Shamal","Wary Bahdo","واري بهدو",36.3781943,41.7880183,112,672,0,0,0,0,0,36,0,0,636,0,0,0,0,0,0,0,0,0,0,0,0,0,0,0,0,0,0,672,0,0,0,0,0,0,0,672,0,0,0,0,0,0,0,0,0,{"$f":"HYPERLINK(\"http://www.openstreetmap.org/?mlat=36.3782&mlon=41.788&zoom=12#map=12/36.3782/41.788\",\"Maplink1\")","v":"Maplink1"},{"$f":"HYPERLINK(\"https://www.google.iq/maps/search/+36.3782,41.788/@36.3782,41.788,14z?hl=en\",\"Maplink2\")","v":"Maplink2"},{"$f":"HYPERLINK(\"http://www.bing.com/maps/?lvl=14&sty=h&cp=36.3782~41.788&sp=point.36.3782_41.788\",\"Maplink3\")","v":"Maplink3"}]
[27360,"Ninewa","Sinjar","Al-Shamal","Barah","باره",36.3712,41.4907,11,66,"NA","NA",0,66,0,0,0,0,0,0,0,0,0,0,0,0,0,0,0,0,0,0,0,0,0,0,0,66,0,0,0,0,0,0,0,66,0,0,0,0,0,0,0,0,0,{"$f":"HYPERLINK(\"http://www.openstreetmap.org/?mlat=36.3712&mlon=41.4907&zoom=12#map=12/36.3712/41.4907\",\"Maplink1\")","v":"Maplink1"},{"$f":"HYPERLINK(\"https://www.google.iq/maps/search/+36.3712,41.4907/@36.3712,41.4907,14z?hl=en\",\"Maplink2\")","v":"Maplink2"},{"$f":"HYPERLINK(\"http://www.bing.com/maps/?lvl=14&sty=h&cp=36.3712~41.4907&sp=point.36.3712_41.4907\",\"Maplink3\")","v":"Maplink3"}]
[32090,"Ninewa","Sinjar","Markaz Sinjar","Hay Alzeraee","حي الزراعي",36.3220637,41.8648171,152,912,0,0,0,0,0,0,912,0,0,0,0,0,0,0,0,0,0,0,0,0,0,0,0,0,0,0,0,912,0,0,0,0,0,0,0,912,0,0,0,0,0,0,0,0,0,"NULL","NULL","NULL"]
[22490,"Ninewa","Sinjar","Markaz Sinjar","Hay Al Naser","حي النصر",36.3210784,41.8471054,332,{"v":1992,"d":"1,992"},0,0,0,0,0,0,{"v":1872,"d":"1,872"},120,0,0,0,0,0,0,0,0,0,0,0,0,0,0,0,0,0,0,0,{"v":1992,"d":"1,992"},0,0,0,0,0,0,0,{"v":1992,"d":"1,992"},0,0,0,0,0,0,0,0,0,{"$f":"HYPERLINK(\"http://www.openstreetmap.org/?mlat=36.3211&mlon=41.8471&zoom=12#map=12/36.3211/41.8471\",\"Maplink1\")","v":"Maplink1"},{"$f":"HYPERLINK(\"https://www.google.iq/maps/search/+36.3211,41.8471/@36.3211,41.8471,14z?hl=en\",\"Maplink2\")","v":"Maplink2"},{"$f":"HYPERLINK(\"http://www.bing.com/maps/?lvl=14&sty=h&cp=36.3211~41.8471&sp=point.36.3211_41.8471\",\"Maplink3\")","v":"Maplink3"}]
[34270,"Ninewa","Sinjar","Markaz Sinjar","Hay Per Zakar","حي بيرزكر",36.3188735,41.859785,37,222,0,0,0,0,0,0,222,0,0,0,0,0,0,0,0,0,0,0,0,0,0,0,0,0,0,0,0,222,0,0,0,0,0,0,0,222,0,0,0,0,0,0,0,0,0,{"$f":"HYPERLINK(\"http://www.openstreetmap.org/?mlat=36.3189&mlon=41.8598&zoom=12#map=12/36.3189/41.8598\",\"Maplink1\")","v":"Maplink1"},{"$f":"HYPERLINK(\"https://www.google.iq/maps/search/+36.3189,41.8598/@36.3189,41.8598,14z?hl=en\",\"Maplink2\")","v":"Maplink2"},{"$f":"HYPERLINK(\"http://www.bing.com/maps/?lvl=14&sty=h&cp=36.3189~41.8598&sp=point.36.3189_41.8598\",\"Maplink3\")","v":"Maplink3"}]
[17655,"Ninewa","Telafar","Al-Ayadiya","Khrmer","قرية خرمر",36.6223952,42.3781483,5,30,0,0,0,0,0,0,0,30,0,0,0,0,0,0,0,0,0,0,0,0,0,0,0,0,0,0,0,30,0,0,0,0,0,0,0,0,30,0,0,0,0,0,0,0,0,{"$f":"HYPERLINK(\"http://www.openstreetmap.org/?mlat=36.6224&mlon=42.3781&zoom=12#map=12/36.6224/42.3781\",\"Maplink1\")","v":"Maplink1"},{"$f":"HYPERLINK(\"https://www.google.iq/maps/search/+36.6224,42.3781/@36.6224,42.3781,14z?hl=en\",\"Maplink2\")","v":"Maplink2"},{"$f":"HYPERLINK(\"http://www.bing.com/maps/?lvl=14&sty=h&cp=36.6224~42.3781&sp=point.36.6224_42.3781\",\"Maplink3\")","v":"Maplink3"}]
[34046,"Ninewa","Telafar","Markaz Telafar","Hay Al Qalaa Al Thania","حي القلعة الثانية",36.374855,42.446658,17,102,0,0,0,0,0,102,0,0,0,0,0,0,0,0,0,0,0,0,0,0,0,0,0,0,0,0,0,102,0,0,0,0,0,0,102,0,0,0,0,0,0,0,0,0,0,{"$f":"HYPERLINK(\"http://www.openstreetmap.org/?mlat=36.3749&mlon=42.4467&zoom=12#map=12/36.3749/42.4467\",\"Maplink1\")","v":"Maplink1"},{"$f":"HYPERLINK(\"https://www.google.iq/maps/search/+36.3749,42.4467/@36.3749,42.4467,14z?hl=en\",\"Maplink2\")","v":"Maplink2"},{"$f":"HYPERLINK(\"http://www.bing.com/maps/?lvl=14&sty=h&cp=36.3749~42.4467&sp=point.36.3749_42.4467\",\"Maplink3\")","v":"Maplink3"}]
[28450,"Ninewa","Telafar","Rabia","Ewaynat vilage","قرية عوينات",36.6809312231,42.4021966735,59,354,0,0,0,0,0,18,312,24,0,0,0,0,0,0,0,0,0,0,0,0,0,0,0,0,0,0,0,354,0,0,0,0,0,0,0,0,132,0,0,0,222,0,0,0,0,{"$f":"HYPERLINK(\"http://www.openstreetmap.org/?mlat=36.6809&mlon=42.4022&zoom=12#map=12/36.6809/42.4022\",\"Maplink1\")","v":"Maplink1"},{"$f":"HYPERLINK(\"https://www.google.iq/maps/search/+36.6809,42.4022/@36.6809,42.4022,14z?hl=en\",\"Maplink2\")","v":"Maplink2"},{"$f":"HYPERLINK(\"http://www.bing.com/maps/?lvl=14&sty=h&cp=36.6809~42.4022&sp=point.36.6809_42.4022\",\"Maplink3\")","v":"Maplink3"}]
[18308,"Ninewa","Telafar","Rabia","Hay Al Askari","حي العسكري",36.8024619147,42.0971544774,598,{"v":3588,"d":"3,588"},0,6,0,0,0,900,{"v":2418,"d":"2,418"},270,0,0,0,0,0,0,0,0,0,0,0,0,0,0,0,0,0,0,0,{"v":3588,"d":"3,588"},0,0,0,0,0,0,0,0,0,{"v":2640,"d":"2,640"},0,0,630,318,0,0,0,{"$f":"HYPERLINK(\"http://www.openstreetmap.org/?mlat=36.8025&mlon=42.0972&zoom=12#map=12/36.8025/42.0972\",\"Maplink1\")","v":"Maplink1"},{"$f":"HYPERLINK(\"https://www.google.iq/maps/search/+36.8025,42.0972/@36.8025,42.0972,14z?hl=en\",\"Maplink2\")","v":"Maplink2"},{"$f":"HYPERLINK(\"http://www.bing.com/maps/?lvl=14&sty=h&cp=36.8025~42.0972&sp=point.36.8025_42.0972\",\"Maplink3\")","v":"Maplink3"}]
[28442,"Ninewa","Telafar","Rabia","Mushah vilage","قرية موشة",36.7158319957,42.326310595,10,60,0,0,0,0,0,0,60,0,0,0,0,0,0,0,0,0,0,0,0,0,0,0,0,0,0,0,0,60,0,0,0,0,0,0,0,0,60,0,0,0,0,0,0,0,0,{"$f":"HYPERLINK(\"http://www.openstreetmap.org/?mlat=36.7158&mlon=42.3263&zoom=12#map=12/36.7158/42.3263\",\"Maplink1\")","v":"Maplink1"},{"$f":"HYPERLINK(\"https://www.google.iq/maps/search/+36.7158,42.3263/@36.7158,42.3263,14z?hl=en\",\"Maplink2\")","v":"Maplink2"},{"$f":"HYPERLINK(\"http://www.bing.com/maps/?lvl=14&sty=h&cp=36.7158~42.3263&sp=point.36.7158_42.3263\",\"Maplink3\")","v":"Maplink3"}]
[28437,"Ninewa","Telafar","Rabia","Almawmi vilage","قرية المومي",36.6268624861,42.047201629,8,48,0,0,0,0,0,18,30,0,0,0,0,0,0,0,0,0,0,0,0,0,0,0,0,0,0,0,0,48,0,0,0,0,0,0,0,0,18,0,0,0,30,0,0,0,0,{"$f":"HYPERLINK(\"http://www.openstreetmap.org/?mlat=36.6269&mlon=42.0472&zoom=12#map=12/36.6269/42.0472\",\"Maplink1\")","v":"Maplink1"},{"$f":"HYPERLINK(\"https://www.google.iq/maps/search/+36.6269,42.0472/@36.6269,42.0472,14z?hl=en\",\"Maplink2\")","v":"Maplink2"},{"$f":"HYPERLINK(\"http://www.bing.com/maps/?lvl=14&sty=h&cp=36.6269~42.0472&sp=point.36.6269_42.0472\",\"Maplink3\")","v":"Maplink3"}]
[33243,"Ninewa","Telafar","Zummar","Ry Al-Jazera","مشروع ري الجزيره",36.8010670662,42.5199187997,50,300,0,0,0,0,0,0,0,0,300,0,0,0,0,0,0,0,0,0,0,0,0,0,0,0,0,0,0,300,0,0,0,0,0,0,0,300,0,0,0,0,0,0,0,0,0,{"$f":"HYPERLINK(\"http://www.openstreetmap.org/?mlat=36.8011&mlon=42.5199&zoom=12#map=12/36.8011/42.5199\",\"Maplink1\")","v":"Maplink1"},{"$f":"HYPERLINK(\"https://www.google.iq/maps/search/+36.8011,42.5199/@36.8011,42.5199,14z?hl=en\",\"Maplink2\")","v":"Maplink2"},{"$f":"HYPERLINK(\"http://www.bing.com/maps/?lvl=14&sty=h&cp=36.8011~42.5199&sp=point.36.8011_42.5199\",\"Maplink3\")","v":"Maplink3"}]
[25695,"Ninewa","Telafar","Zummar","kirver village","قرية كرفر",36.6880791,42.5956772,5,30,0,0,0,0,0,0,30,0,0,0,0,0,0,0,0,0,0,0,0,0,0,0,0,0,0,0,0,30,0,0,0,0,0,0,0,0,30,0,0,0,0,0,0,0,0,{"$f":"HYPERLINK(\"http://www.openstreetmap.org/?mlat=36.6881&mlon=42.5957&zoom=12#map=12/36.6881/42.5957\",\"Maplink1\")","v":"Maplink1"},{"$f":"HYPERLINK(\"https://www.google.iq/maps/search/+36.6881,42.5957/@36.6881,42.5957,14z?hl=en\",\"Maplink2\")","v":"Maplink2"},{"$f":"HYPERLINK(\"http://www.bing.com/maps/?lvl=14&sty=h&cp=36.6881~42.5957&sp=point.36.6881_42.5957\",\"Maplink3\")","v":"Maplink3"}]
[17590,"Ninewa","Tilkaef","Al-Qosh","Ain Baqara","عين بقرة",36.6754750738,43.1946144544,12,72,0,0,0,0,0,0,72,0,0,0,0,0,0,0,0,0,0,0,0,0,0,0,0,0,0,0,0,72,0,0,0,0,0,0,0,72,0,0,0,0,0,0,0,0,0,{"$f":"HYPERLINK(\"http://www.openstreetmap.org/?mlat=36.6755&mlon=43.1946&zoom=12#map=12/36.6755/43.1946\",\"Maplink1\")","v":"Maplink1"},{"$f":"HYPERLINK(\"https://www.google.iq/maps/search/+36.6755,43.1946/@36.6755,43.1946,14z?hl=en\",\"Maplink2\")","v":"Maplink2"},{"$f":"HYPERLINK(\"http://www.bing.com/maps/?lvl=14&sty=h&cp=36.6755~43.1946&sp=point.36.6755_43.1946\",\"Maplink3\")","v":"Maplink3"}]
[25368,"Ninewa","Tilkaef","Al-Qosh","Pabera Complex","مجمع بابيرة",36.6289203,42.9867106,11,66,0,0,0,0,0,0,66,0,0,0,0,0,0,0,0,0,0,0,0,0,0,0,0,0,0,0,0,66,0,0,0,0,0,0,0,0,0,0,0,0,66,0,0,0,0,{"$f":"HYPERLINK(\"http://www.openstreetmap.org/?mlat=36.6289&mlon=42.9867&zoom=12#map=12/36.6289/42.9867\",\"Maplink1\")","v":"Maplink1"},{"$f":"HYPERLINK(\"https://www.google.iq/maps/search/+36.6289,42.9867/@36.6289,42.9867,14z?hl=en\",\"Maplink2\")","v":"Maplink2"},{"$f":"HYPERLINK(\"http://www.bing.com/maps/?lvl=14&sty=h&cp=36.6289~42.9867&sp=point.36.6289_42.9867\",\"Maplink3\")","v":"Maplink3"}]
[18055,"Ninewa","Tilkaef","Al-Qosh","Hatara","حتارة",36.6597502928,43.0487589401,40,240,0,0,0,0,0,0,240,0,0,0,0,0,0,0,0,0,0,0,0,0,0,0,0,0,0,0,0,240,0,0,0,0,0,0,0,240,0,0,0,0,0,0,0,0,0,{"$f":"HYPERLINK(\"http://www.openstreetmap.org/?mlat=36.6598&mlon=43.0488&zoom=12#map=12/36.6598/43.0488\",\"Maplink1\")","v":"Maplink1"},{"$f":"HYPERLINK(\"https://www.google.iq/maps/search/+36.6598,43.0488/@36.6598,43.0488,14z?hl=en\",\"Maplink2\")","v":"Maplink2"},{"$f":"HYPERLINK(\"http://www.bing.com/maps/?lvl=14&sty=h&cp=36.6598~43.0488&sp=point.36.6598_43.0488\",\"Maplink3\")","v":"Maplink3"}]
[24685,"Ninewa","Tilkaef","Al-Qosh","Karmawa","كرماوة",36.6428513327,43.2340965343,1,6,0,0,0,6,0,0,0,0,0,0,0,0,0,0,0,0,0,0,0,0,0,0,0,0,0,0,0,6,0,0,0,0,0,0,0,6,0,0,0,0,0,0,0,0,0,{"$f":"HYPERLINK(\"http://www.openstreetmap.org/?mlat=36.6429&mlon=43.2341&zoom=12#map=12/36.6429/43.2341\",\"Maplink1\")","v":"Maplink1"},{"$f":"HYPERLINK(\"https://www.google.iq/maps/search/+36.6429,43.2341/@36.6429,43.2341,14z?hl=en\",\"Maplink2\")","v":"Maplink2"},{"$f":"HYPERLINK(\"http://www.bing.com/maps/?lvl=14&sty=h&cp=36.6429~43.2341&sp=point.36.6429_43.2341\",\"Maplink3\")","v":"Maplink3"}]
[24703,"Ninewa","Tilkaef","Al-Qosh","Jambour Village","قرية جمبور",36.712698,42.952601,52,312,0,0,0,0,0,0,312,0,0,0,0,0,0,0,0,0,0,0,0,0,0,0,0,0,0,0,0,312,0,0,0,0,0,0,0,312,0,0,0,0,0,0,0,0,0,{"$f":"HYPERLINK(\"http://www.openstreetmap.org/?mlat=36.7127&mlon=42.9526&zoom=12#map=12/36.7127/42.9526\",\"Maplink1\")","v":"Maplink1"},{"$f":"HYPERLINK(\"https://www.google.iq/maps/search/+36.7127,42.9526/@36.7127,42.9526,14z?hl=en\",\"Maplink2\")","v":"Maplink2"},{"$f":"HYPERLINK(\"http://www.bing.com/maps/?lvl=14&sty=h&cp=36.7127~42.9526&sp=point.36.7127_42.9526\",\"Maplink3\")","v":"Maplink3"}]
[33769,"Ninewa","Tilkaef","Markaz Tilkaef","Ahlila village","قرية احليلة",36.38716,43.034866,2,12,0,0,0,0,0,0,12,0,0,0,0,0,0,0,0,0,0,0,0,0,0,0,0,0,0,0,0,12,0,0,0,0,0,0,0,0,12,0,0,0,0,0,0,0,0,{"$f":"HYPERLINK(\"http://www.openstreetmap.org/?mlat=36.3872&mlon=43.0349&zoom=12#map=12/36.3872/43.0349\",\"Maplink1\")","v":"Maplink1"},{"$f":"HYPERLINK(\"https://www.google.iq/maps/search/+36.3872,43.0349/@36.3872,43.0349,14z?hl=en\",\"Maplink2\")","v":"Maplink2"},{"$f":"HYPERLINK(\"http://www.bing.com/maps/?lvl=14&sty=h&cp=36.3872~43.0349&sp=point.36.3872_43.0349\",\"Maplink3\")","v":"Maplink3"}]
[21603,"Ninewa","Tilkaef","Markaz Tilkaef","Baawiza","بعويزة",36.4335603196,43.1557870291,5,30,0,0,0,0,0,0,30,0,0,0,0,0,0,0,0,0,0,0,0,0,0,0,0,0,0,0,0,30,0,0,0,0,0,0,0,0,0,0,0,30,0,0,0,0,0,{"$f":"HYPERLINK(\"http://www.openstreetmap.org/?mlat=36.4336&mlon=43.1558&zoom=12#map=12/36.4336/43.1558\",\"Maplink1\")","v":"Maplink1"},{"$f":"HYPERLINK(\"https://www.google.iq/maps/search/+36.4336,43.1558/@36.4336,43.1558,14z?hl=en\",\"Maplink2\")","v":"Maplink2"},{"$f":"HYPERLINK(\"http://www.bing.com/maps/?lvl=14&sty=h&cp=36.4336~43.1558&sp=point.36.4336_43.1558\",\"Maplink3\")","v":"Maplink3"}]
[21005,"Salah al-Din","Al-Shirqat","Markaz Al-Shirqat","Hay Al Jumiala","حي الجميلة",35.5021075,43.2398375,3,18,0,0,0,0,0,0,18,0,0,0,0,0,0,0,0,0,0,0,0,0,0,0,0,0,0,0,0,0,0,18,0,0,0,0,0,0,0,0,0,18,0,0,0,0,0,{"$f":"HYPERLINK(\"http://www.openstreetmap.org/?mlat=35.5021&mlon=43.2398&zoom=12#map=12/35.5021/43.2398\",\"Maplink1\")","v":"Maplink1"},{"$f":"HYPERLINK(\"https://www.google.iq/maps/search/+35.5021,43.2398/@35.5021,43.2398,14z?hl=en\",\"Maplink2\")","v":"Maplink2"},{"$f":"HYPERLINK(\"http://www.bing.com/maps/?lvl=14&sty=h&cp=35.5021~43.2398&sp=point.35.5021_43.2398\",\"Maplink3\")","v":"Maplink3"}]
[21002,"Salah al-Din","Al-Shirqat","Markaz Al-Shirqat","Al Khanuga village","قرية الخانوكة",35.394071457,43.2562212044,3,18,0,0,0,0,0,0,18,0,0,0,0,0,0,0,0,0,0,0,0,0,0,0,0,0,0,0,0,0,0,18,0,0,0,0,0,0,0,0,0,18,0,0,0,0,0,{"$f":"HYPERLINK(\"http://www.openstreetmap.org/?mlat=35.3941&mlon=43.2562&zoom=12#map=12/35.3941/43.2562\",\"Maplink1\")","v":"Maplink1"},{"$f":"HYPERLINK(\"https://www.google.iq/maps/search/+35.3941,43.2562/@35.3941,43.2562,14z?hl=en\",\"Maplink2\")","v":"Maplink2"},{"$f":"HYPERLINK(\"http://www.bing.com/maps/?lvl=14&sty=h&cp=35.3941~43.2562&sp=point.35.3941_43.2562\",\"Maplink3\")","v":"Maplink3"}]
[21006,"Salah al-Din","Al-Shirqat","Markaz Al-Shirqat","Tal Al Jumiala area","تل بعاجة 1 وتل اجميلة ",35.5109178275,43.2337180374,2,12,0,0,0,0,0,0,12,0,0,0,0,0,0,0,0,0,0,0,0,0,0,0,0,0,0,0,0,0,0,12,0,0,0,0,0,0,0,0,0,12,0,0,0,0,0,{"$f":"HYPERLINK(\"http://www.openstreetmap.org/?mlat=35.5109&mlon=43.2337&zoom=12#map=12/35.5109/43.2337\",\"Maplink1\")","v":"Maplink1"},{"$f":"HYPERLINK(\"https://www.google.iq/maps/search/+35.5109,43.2337/@35.5109,43.2337,14z?hl=en\",\"Maplink2\")","v":"Maplink2"},{"$f":"HYPERLINK(\"http://www.bing.com/maps/?lvl=14&sty=h&cp=35.5109~43.2337&sp=point.35.5109_43.2337\",\"Maplink3\")","v":"Maplink3"}]
[25916,"Salah al-Din","Balad","Al-Dujeel","Al Sejla village","قرية السجلة",33.886472,44.2224333,60,360,0,0,0,0,0,0,360,0,0,0,0,0,0,0,0,0,0,0,0,0,0,0,0,0,0,0,0,0,0,360,0,0,0,0,0,36,324,0,0,0,0,0,0,0,0,{"$f":"HYPERLINK(\"http://www.openstreetmap.org/?mlat=33.8865&mlon=44.2224&zoom=12#map=12/33.8865/44.2224\",\"Maplink1\")","v":"Maplink1"},{"$f":"HYPERLINK(\"https://www.google.iq/maps/search/+33.8865,44.2224/@33.8865,44.2224,14z?hl=en\",\"Maplink2\")","v":"Maplink2"},{"$f":"HYPERLINK(\"http://www.bing.com/maps/?lvl=14&sty=h&cp=33.8865~44.2224&sp=point.33.8865_44.2224\",\"Maplink3\")","v":"Maplink3"}]
[25747,"Salah al-Din","Balad","Al-Dujeel","Markaz Al-Dujeel-Al Shabab village","قرية الشباب",33.7734745,44.3034381,34,204,0,0,0,0,0,0,204,0,0,0,0,0,0,0,0,0,0,0,0,0,0,0,0,0,0,0,0,0,0,204,0,0,0,0,0,0,204,0,0,0,0,0,0,0,0,{"$f":"HYPERLINK(\"http://www.openstreetmap.org/?mlat=33.7735&mlon=44.3034&zoom=12#map=12/33.7735/44.3034\",\"Maplink1\")","v":"Maplink1"},{"$f":"HYPERLINK(\"https://www.google.iq/maps/search/+33.7735,44.3034/@33.7735,44.3034,14z?hl=en\",\"Maplink2\")","v":"Maplink2"},{"$f":"HYPERLINK(\"http://www.bing.com/maps/?lvl=14&sty=h&cp=33.7735~44.3034&sp=point.33.7735_44.3034\",\"Maplink3\")","v":"Maplink3"}]
[20771,"Salah al-Din","Balad","Al-Duloeyah","Albu Farraj Village","قرية البو فراج",34.0852846,44.1936264,66,396,0,0,0,0,0,0,396,0,0,0,0,0,0,0,0,0,0,0,0,0,36,0,0,0,0,0,0,0,0,360,0,0,0,0,0,360,24,12,0,0,0,0,0,0,0,{"$f":"HYPERLINK(\"http://www.openstreetmap.org/?mlat=34.0853&mlon=44.1936&zoom=12#map=12/34.0853/44.1936\",\"Maplink1\")","v":"Maplink1"},{"$f":"HYPERLINK(\"https://www.google.iq/maps/search/+34.0853,44.1936/@34.0853,44.1936,14z?hl=en\",\"Maplink2\")","v":"Maplink2"},{"$f":"HYPERLINK(\"http://www.bing.com/maps/?lvl=14&sty=h&cp=34.0853~44.1936&sp=point.34.0853_44.1936\",\"Maplink3\")","v":"Maplink3"}]
[25742,"Salah al-Din","Balad","Al-Duloeyah","Al-Duloeyah-Hay Al Jubor","محلة الجبور الاولى",34.0325647,44.231004,63,378,0,0,0,0,0,0,282,0,0,96,0,0,0,0,0,0,0,0,0,0,0,0,0,0,0,0,0,0,0,378,0,0,0,0,0,168,174,0,36,0,0,0,0,0,0,{"$f":"HYPERLINK(\"http://www.openstreetmap.org/?mlat=34.0326&mlon=44.231&zoom=12#map=12/34.0326/44.231\",\"Maplink1\")","v":"Maplink1"},{"$f":"HYPERLINK(\"https://www.google.iq/maps/search/+34.0326,44.231/@34.0326,44.231,14z?hl=en\",\"Maplink2\")","v":"Maplink2"},{"$f":"HYPERLINK(\"http://www.bing.com/maps/?lvl=14&sty=h&cp=34.0326~44.231&sp=point.34.0326_44.231\",\"Maplink3\")","v":"Maplink3"}]
[33714,"Salah al-Din","Beygee","Al-Synia","AL-Khalfa","الخلفاء",34.9288565,43.4638371,22,132,0,0,0,0,0,0,0,0,0,132,0,0,0,0,0,0,0,0,0,0,0,0,0,0,0,0,0,0,0,132,0,0,0,0,0,0,0,0,0,0,0,0,132,0,0,{"$f":"HYPERLINK(\"http://www.openstreetmap.org/?mlat=34.9289&mlon=43.4638&zoom=12#map=12/34.9289/43.4638\",\"Maplink1\")","v":"Maplink1"},{"$f":"HYPERLINK(\"https://www.google.iq/maps/search/+34.9289,43.4638/@34.9289,43.4638,14z?hl=en\",\"Maplink2\")","v":"Maplink2"},{"$f":"HYPERLINK(\"http://www.bing.com/maps/?lvl=14&sty=h&cp=34.9289~43.4638&sp=point.34.9289_43.4638\",\"Maplink3\")","v":"Maplink3"}]
[20643,"Salah al-Din","Samarra","Markaz Samarra","Al-Jamiaa Area","حي الجامعة",34.2102291,43.8988789,102,612,0,0,0,0,0,0,612,0,0,0,0,0,0,0,0,0,0,0,0,0,0,0,0,0,0,0,0,0,0,612,0,0,0,0,390,0,30,192,0,0,0,0,0,0,0,{"$f":"HYPERLINK(\"http://www.openstreetmap.org/?mlat=34.2102&mlon=43.8989&zoom=12#map=12/34.2102/43.8989\",\"Maplink1\")","v":"Maplink1"},{"$f":"HYPERLINK(\"https://www.google.iq/maps/search/+34.2102,43.8989/@34.2102,43.8989,14z?hl=en\",\"Maplink2\")","v":"Maplink2"},{"$f":"HYPERLINK(\"http://www.bing.com/maps/?lvl=14&sty=h&cp=34.2102~43.8989&sp=point.34.2102_43.8989\",\"Maplink3\")","v":"Maplink3"}]
[23693,"Salah al-Din","Samarra","Markaz Samarra","Hay Alqadisiya-320","حي القادسية م(25-عرموشية)محلة 320",34.2077957,43.8973336,13,78,0,0,0,0,0,0,78,0,0,0,0,0,0,0,0,0,0,0,0,0,0,0,0,0,0,0,0,0,0,78,0,0,0,0,78,0,0,0,0,0,0,0,0,0,0,{"$f":"HYPERLINK(\"http://www.openstreetmap.org/?mlat=34.2078&mlon=43.8973&zoom=12#map=12/34.2078/43.8973\",\"Maplink1\")","v":"Maplink1"},{"$f":"HYPERLINK(\"https://www.google.iq/maps/search/+34.2078,43.8973/@34.2078,43.8973,14z?hl=en\",\"Maplink2\")","v":"Maplink2"},{"$f":"HYPERLINK(\"http://www.bing.com/maps/?lvl=14&sty=h&cp=34.2078~43.8973&sp=point.34.2078_43.8973\",\"Maplink3\")","v":"Maplink3"}]
[22903,"Salah al-Din","Samarra","Markaz Samarra","Hay Al imam-103","حي الامام محلة 103",34.1957056,43.8734025,6,36,0,0,0,0,0,0,0,36,0,0,0,0,0,0,0,0,0,0,0,0,0,0,0,0,0,0,0,0,0,36,0,0,0,0,0,36,0,0,0,0,0,0,0,0,0,{"$f":"HYPERLINK(\"http://www.openstreetmap.org/?mlat=34.1957&mlon=43.8734&zoom=12#map=12/34.1957/43.8734\",\"Maplink1\")","v":"Maplink1"},{"$f":"HYPERLINK(\"https://www.google.iq/maps/search/+34.1957,43.8734/@34.1957,43.8734,14z?hl=en\",\"Maplink2\")","v":"Maplink2"},{"$f":"HYPERLINK(\"http://www.bing.com/maps/?lvl=14&sty=h&cp=34.1957~43.8734&sp=point.34.1957_43.8734\",\"Maplink3\")","v":"Maplink3"}]
[22474,"Salah al-Din","Samarra","Markaz Samarra","Hay Al Dhubbat-Mahalla 334","حي الضباط م(25-عرموشية)محلة 334",34.1953555,43.8961431,56,336,0,0,0,0,0,0,0,0,0,0,0,0,336,0,0,0,0,0,0,0,0,0,0,0,0,0,0,0,0,336,0,0,0,0,186,42,108,0,0,0,0,0,0,0,0,{"$f":"HYPERLINK(\"http://www.openstreetmap.org/?mlat=34.1954&mlon=43.8961&zoom=12#map=12/34.1954/43.8961\",\"Maplink1\")","v":"Maplink1"},{"$f":"HYPERLINK(\"https://www.google.iq/maps/search/+34.1954,43.8961/@34.1954,43.8961,14z?hl=en\",\"Maplink2\")","v":"Maplink2"},{"$f":"HYPERLINK(\"http://www.bing.com/maps/?lvl=14&sty=h&cp=34.1954~43.8961&sp=point.34.1954_43.8961\",\"Maplink3\")","v":"Maplink3"}]
[22810,"Salah al-Din","Samarra","Markaz Samarra","Hay Al Rasheed-Mahalla 326","حي الرشيد م(22-جبيرية)محلة 326",34.1853803,43.9032069,41,246,0,0,0,0,0,0,246,0,0,0,0,0,0,0,0,0,0,0,0,0,0,0,0,0,0,0,0,0,0,246,0,0,0,0,0,96,150,0,0,0,0,0,0,0,0,{"$f":"HYPERLINK(\"http://www.openstreetmap.org/?mlat=34.1854&mlon=43.9032&zoom=12#map=12/34.1854/43.9032\",\"Maplink1\")","v":"Maplink1"},{"$f":"HYPERLINK(\"https://www.google.iq/maps/search/+34.1854,43.9032/@34.1854,43.9032,14z?hl=en\",\"Maplink2\")","v":"Maplink2"},{"$f":"HYPERLINK(\"http://www.bing.com/maps/?lvl=14&sty=h&cp=34.1854~43.9032&sp=point.34.1854_43.9032\",\"Maplink3\")","v":"Maplink3"}]
[23877,"Salah al-Din","Samarra","Markaz Samarra","Hay Al-Ziraa(Sharqiyah)113","حي الزراعة(شرقية)محلة 113",34.1872331,43.8746768,14,84,0,0,0,0,0,0,84,0,0,0,0,0,0,0,0,0,0,0,0,0,0,0,0,0,0,0,0,0,0,84,0,0,0,0,0,0,30,54,0,0,0,0,0,0,0,{"$f":"HYPERLINK(\"http://www.openstreetmap.org/?mlat=34.1872&mlon=43.8747&zoom=12#map=12/34.1872/43.8747\",\"Maplink1\")","v":"Maplink1"},{"$f":"HYPERLINK(\"https://www.google.iq/maps/search/+34.1872,43.8747/@34.1872,43.8747,14z?hl=en\",\"Maplink2\")","v":"Maplink2"},{"$f":"HYPERLINK(\"http://www.bing.com/maps/?lvl=14&sty=h&cp=34.1872~43.8747&sp=point.34.1872_43.8747\",\"Maplink3\")","v":"Maplink3"}]
[21590,"Salah al-Din","Samarra","Markaz Samarra","Hay Salah Al-Din(Mahala 302)","حي صلاح الدين محلة 302",34.2028323,43.9099506,204,{"v":1224,"d":"1,224"},0,48,0,0,0,0,666,300,258,0,0,0,0,0,0,0,0,0,0,0,0,0,0,0,0,0,0,0,0,{"v":1224,"d":"1,224"},0,0,0,0,204,0,630,390,0,0,0,0,0,0,0,{"$f":"HYPERLINK(\"http://www.openstreetmap.org/?mlat=34.2028&mlon=43.91&zoom=12#map=12/34.2028/43.91\",\"Maplink1\")","v":"Maplink1"},{"$f":"HYPERLINK(\"https://www.google.iq/maps/search/+34.2028,43.91/@34.2028,43.91,14z?hl=en\",\"Maplink2\")","v":"Maplink2"},{"$f":"HYPERLINK(\"http://www.bing.com/maps/?lvl=14&sty=h&cp=34.2028~43.91&sp=point.34.2028_43.91\",\"Maplink3\")","v":"Maplink3"}]
[24211,"Salah al-Din","Tikrit","Al-Alam","Al Namah Al ShamaliyahVillage","قرية الناعمة الشمالية",34.6350957,43.7672569,71,426,0,0,0,306,0,0,0,120,0,0,0,0,0,0,0,0,0,0,0,0,0,0,0,210,0,0,0,0,0,216,0,0,0,0,0,120,306,0,0,0,0,0,0,0,0,{"$f":"HYPERLINK(\"http://www.openstreetmap.org/?mlat=34.6351&mlon=43.7673&zoom=12#map=12/34.6351/43.7673\",\"Maplink1\")","v":"Maplink1"},{"$f":"HYPERLINK(\"https://www.google.iq/maps/search/+34.6351,43.7673/@34.6351,43.7673,14z?hl=en\",\"Maplink2\")","v":"Maplink2"},{"$f":"HYPERLINK(\"http://www.bing.com/maps/?lvl=14&sty=h&cp=34.6351~43.7673&sp=point.34.6351_43.7673\",\"Maplink3\")","v":"Maplink3"}]
[28449,"Salah al-Din","Tikrit","Al-Alam","Mahalla Al Aed","حي العائد(27-الخرجة والعالي)محلة العائد",34.7001576,43.7132521,127,762,0,0,0,0,0,0,330,432,0,0,0,0,0,0,0,0,0,0,0,0,0,0,0,762,0,0,0,0,0,0,0,0,0,0,0,0,0,0,0,762,0,0,0,0,0,{"$f":"HYPERLINK(\"http://www.openstreetmap.org/?mlat=34.7002&mlon=43.7133&zoom=12#map=12/34.7002/43.7133\",\"Maplink1\")","v":"Maplink1"},{"$f":"HYPERLINK(\"https://www.google.iq/maps/search/+34.7002,43.7133/@34.7002,43.7133,14z?hl=en\",\"Maplink2\")","v":"Maplink2"},{"$f":"HYPERLINK(\"http://www.bing.com/maps/?lvl=14&sty=h&cp=34.7002~43.7133&sp=point.34.7002_43.7133\",\"Maplink3\")","v":"Maplink3"}]
[23145,"Salah al-Din","Tikrit","Al-Alam","Al Ahad Al Jadid village","قرية العهد الجديد",34.7307565,43.6988208,5,30,0,0,0,0,0,0,30,0,0,0,0,0,0,0,0,0,0,0,0,0,0,0,0,30,0,0,0,0,0,0,0,0,0,0,0,0,0,30,0,0,0,0,0,0,0,{"$f":"HYPERLINK(\"http://www.openstreetmap.org/?mlat=34.7308&mlon=43.6988&zoom=12#map=12/34.7308/43.6988\",\"Maplink1\")","v":"Maplink1"},{"$f":"HYPERLINK(\"https://www.google.iq/maps/search/+34.7308,43.6988/@34.7308,43.6988,14z?hl=en\",\"Maplink2\")","v":"Maplink2"},{"$f":"HYPERLINK(\"http://www.bing.com/maps/?lvl=14&sty=h&cp=34.7308~43.6988&sp=point.34.7308_43.6988\",\"Maplink3\")","v":"Maplink3"}]
[25923,"Salah al-Din","Tikrit","Um Al-Qura","Qadisya 2 Mahala 216","حي المطاردة(قادسية2)مقاطعة 7-محله 216",34.6490426651,43.6629112169,102,612,0,0,0,0,0,0,576,36,0,0,0,0,0,0,0,0,0,0,0,0,0,0,0,0,0,0,0,0,0,612,0,0,0,0,0,0,0,228,384,0,0,0,0,0,0,{"$f":"HYPERLINK(\"http://www.openstreetmap.org/?mlat=34.649&mlon=43.6629&zoom=12#map=12/34.649/43.6629\",\"Maplink1\")","v":"Maplink1"},{"$f":"HYPERLINK(\"https://www.google.iq/maps/search/+34.649,43.6629/@34.649,43.6629,14z?hl=en\",\"Maplink2\")","v":"Maplink2"},{"$f":"HYPERLINK(\"http://www.bing.com/maps/?lvl=14&sty=h&cp=34.649~43.6629&sp=point.34.649_43.6629\",\"Maplink3\")","v":"Maplink3"}]
[23918,"Salah al-Din","Tikrit","Um Al-Qura","Al-Mutaradah 204","حي الشهداء مقاطعة 7-المطاردة محلة 204",34.6224336,43.6737458,30,180,0,0,0,0,0,0,0,0,0,174,0,0,6,0,0,0,0,0,0,0,0,0,0,12,0,0,0,0,0,168,0,0,0,0,0,0,180,0,0,0,0,0,0,0,0,{"$f":"HYPERLINK(\"http://www.openstreetmap.org/?mlat=34.6224&mlon=43.6737&zoom=12#map=12/34.6224/43.6737\",\"Maplink1\")","v":"Maplink1"},{"$f":"HYPERLINK(\"https://www.google.iq/maps/search/+34.6224,43.6737/@34.6224,43.6737,14z?hl=en\",\"Maplink2\")","v":"Maplink2"},{"$f":"HYPERLINK(\"http://www.bing.com/maps/?lvl=14&sty=h&cp=34.6224~43.6737&sp=point.34.6224_43.6737\",\"Maplink3\")","v":"Maplink3"}]
[20642,"Salah al-Din","Tikrit","Um Al-Qura","Al Karama Village","قرية الكرامة",34.6913143,43.6256849,15,90,0,0,0,0,0,0,78,0,0,12,0,0,0,0,0,0,0,0,0,0,0,0,0,0,0,0,0,0,0,90,0,0,0,0,0,0,0,90,0,0,0,0,0,0,0,{"$f":"HYPERLINK(\"http://www.openstreetmap.org/?mlat=34.6913&mlon=43.6257&zoom=12#map=12/34.6913/43.6257\",\"Maplink1\")","v":"Maplink1"},{"$f":"HYPERLINK(\"https://www.google.iq/maps/search/+34.6913,43.6257/@34.6913,43.6257,14z?hl=en\",\"Maplink2\")","v":"Maplink2"},{"$f":"HYPERLINK(\"http://www.bing.com/maps/?lvl=14&sty=h&cp=34.6913~43.6257&sp=point.34.6913_43.6257\",\"Maplink3\")","v":"Maplink3"}]
[22331,"Salah al-Din","Tikrit","Um Al-Qura","Al Baladiyat-402","البلديات-402",34.611417,43.6766473,14,84,0,0,0,0,0,0,84,0,0,0,0,0,0,0,0,0,0,0,0,0,0,0,0,0,0,0,0,0,0,84,0,0,0,0,0,0,0,84,0,0,0,0,0,0,0,{"$f":"HYPERLINK(\"http://www.openstreetmap.org/?mlat=34.6114&mlon=43.6766&zoom=12#map=12/34.6114/43.6766\",\"Maplink1\")","v":"Maplink1"},{"$f":"HYPERLINK(\"https://www.google.iq/maps/search/+34.6114,43.6766/@34.6114,43.6766,14z?hl=en\",\"Maplink2\")","v":"Maplink2"},{"$f":"HYPERLINK(\"http://www.bing.com/maps/?lvl=14&sty=h&cp=34.6114~43.6766&sp=point.34.6114_43.6766\",\"Maplink3\")","v":"Maplink3"}]
[20622,"Salah al-Din","Tikrit","Um Al-Qura","Hay AL Suqour","حي الصقور",34.701161,43.6092194,48,288,0,0,0,0,0,0,216,72,0,0,0,0,0,0,0,0,0,0,0,0,0,0,0,0,0,0,0,0,0,288,0,0,0,0,0,0,0,222,66,0,0,0,0,0,0,{"$f":"HYPERLINK(\"http://www.openstreetmap.org/?mlat=34.7012&mlon=43.6092&zoom=12#map=12/34.7012/43.6092\",\"Maplink1\")","v":"Maplink1"},{"$f":"HYPERLINK(\"https://www.google.iq/maps/search/+34.7012,43.6092/@34.7012,43.6092,14z?hl=en\",\"Maplink2\")","v":"Maplink2"},{"$f":"HYPERLINK(\"http://www.bing.com/maps/?lvl=14&sty=h&cp=34.7012~43.6092&sp=point.34.7012_43.6092\",\"Maplink3\")","v":"Maplink3"}]
[20430,"Salah al-Din","Tooz Khurmato","Markaz Tooz Khurmato","Nawjool area","منطقة نوجول",34.9761853,44.7626756,5,30,0,0,0,30,0,0,0,0,0,0,0,0,0,0,0,0,0,0,0,0,18,0,0,0,0,0,0,0,0,12,0,0,0,0,12,12,0,0,0,0,6,0,0,0,0,{"$f":"HYPERLINK(\"http://www.openstreetmap.org/?mlat=34.9762&mlon=44.7627&zoom=12#map=12/34.9762/44.7627\",\"Maplink1\")","v":"Maplink1"},{"$f":"HYPERLINK(\"https://www.google.iq/maps/search/+34.9762,44.7627/@34.9762,44.7627,14z?hl=en\",\"Maplink2\")","v":"Maplink2"},{"$f":"HYPERLINK(\"http://www.bing.com/maps/?lvl=14&sty=h&cp=34.9762~44.7627&sp=point.34.9762_44.7627\",\"Maplink3\")","v":"Maplink3"}]
[25748,"Salah al-Din","Tooz Khurmato","Markaz Tooz Khurmato","Markaz Tooz-Jesir Dara","جسر دارا",34.9381114,44.5951083,223,{"v":1338,"d":"1,338"},0,186,0,72,0,150,894,132,90,0,0,0,0,0,0,0,0,0,0,0,0,0,0,0,0,0,0,0,0,{"v":1338,"d":"1,338"},0,0,0,0,108,{"v":1008,"d":"1,008"},162,0,0,0,60,0,0,0,0,{"$f":"HYPERLINK(\"http://www.openstreetmap.org/?mlat=34.9381&mlon=44.5951&zoom=12#map=12/34.9381/44.5951\",\"Maplink1\")","v":"Maplink1"},{"$f":"HYPERLINK(\"https://www.google.iq/maps/search/+34.9381,44.5951/@34.9381,44.5951,14z?hl=en\",\"Maplink2\")","v":"Maplink2"},{"$f":"HYPERLINK(\"http://www.bing.com/maps/?lvl=14&sty=h&cp=34.9381~44.5951&sp=point.34.9381_44.5951\",\"Maplink3\")","v":"Maplink3"}]
[33143,"Salah al-Din","Tooz Khurmato","Markaz Tooz Khurmato","Qumpalk Village","قرية قومبلك",34.9511921,44.7124018,5,30,0,0,0,30,0,0,0,0,0,0,0,0,0,0,0,0,0,0,0,0,0,0,0,0,0,0,0,0,0,30,0,0,0,0,0,6,0,0,0,0,24,0,0,0,0,{"$f":"HYPERLINK(\"http://www.openstreetmap.org/?mlat=34.9512&mlon=44.7124&zoom=12#map=12/34.9512/44.7124\",\"Maplink1\")","v":"Maplink1"},{"$f":"HYPERLINK(\"https://www.google.iq/maps/search/+34.9512,44.7124/@34.9512,44.7124,14z?hl=en\",\"Maplink2\")","v":"Maplink2"},{"$f":"HYPERLINK(\"http://www.bing.com/maps/?lvl=14&sty=h&cp=34.9512~44.7124&sp=point.34.9512_44.7124\",\"Maplink3\")","v":"Maplink3"}]
[25754,"Salah al-Din","Tooz Khurmato","Markaz Tooz Khurmato","Markaz Tooz-Hay Al Askari","حي العسكري",34.8796816,44.614913,635,{"v":3810,"d":"3,810"},0,0,0,426,0,108,{"v":3102,"d":"3,102"},174,0,0,0,0,0,0,0,0,0,0,0,0,24,0,0,72,0,0,0,0,0,{"v":3714,"d":"3,714"},0,0,0,0,708,{"v":3072,"d":"3,072"},0,30,0,0,0,0,0,0,0,{"$f":"HYPERLINK(\"http://www.openstreetmap.org/?mlat=34.8797&mlon=44.6149&zoom=12#map=12/34.8797/44.6149\",\"Maplink1\")","v":"Maplink1"},{"$f":"HYPERLINK(\"https://www.google.iq/maps/search/+34.8797,44.6149/@34.8797,44.6149,14z?hl=en\",\"Maplink2\")","v":"Maplink2"},{"$f":"HYPERLINK(\"http://www.bing.com/maps/?lvl=14&sty=h&cp=34.8797~44.6149&sp=point.34.8797_44.6149\",\"Maplink3\")","v":"Maplink3"}]
[20561,"Salah al-Din","Tooz Khurmato","Markaz Tooz Khurmato","Namiq Village","قرية نامق",34.9223598,44.7583267,3,18,0,0,0,18,0,0,0,0,0,0,0,0,0,0,0,0,0,0,0,0,0,0,0,0,0,0,0,0,0,18,0,0,0,0,0,0,0,0,0,0,18,0,0,0,0,{"$f":"HYPERLINK(\"http://www.openstreetmap.org/?mlat=34.9224&mlon=44.7583&zoom=12#map=12/34.9224/44.7583\",\"Maplink1\")","v":"Maplink1"},{"$f":"HYPERLINK(\"https://www.google.iq/maps/search/+34.9224,44.7583/@34.9224,44.7583,14z?hl=en\",\"Maplink2\")","v":"Maplink2"},{"$f":"HYPERLINK(\"http://www.bing.com/maps/?lvl=14&sty=h&cp=34.9224~44.7583&sp=point.34.9224_44.7583\",\"Maplink3\")","v":"Maplink3"}]
[25870,"Salah al-Din","Tooz Khurmato","Sulaiman Baig","Tal Al Naqqar","تل النقار",34.732738,44.800704,380,{"v":2280,"d":"2,280"},"NA","NA",0,960,0,0,0,0,{"v":1320,"d":"1,320"},0,0,0,0,0,0,0,0,0,0,0,180,0,0,0,0,0,0,0,0,{"v":2100,"d":"2,100"},0,0,0,0,210,{"v":2070,"d":"2,070"},0,0,0,0,0,0,0,0,0,{"$f":"HYPERLINK(\"http://www.openstreetmap.org/?mlat=34.7327&mlon=44.8007&zoom=12#map=12/34.7327/44.8007\",\"Maplink1\")","v":"Maplink1"},{"$f":"HYPERLINK(\"https://www.google.iq/maps/search/+34.7327,44.8007/@34.7327,44.8007,14z?hl=en\",\"Maplink2\")","v":"Maplink2"},{"$f":"HYPERLINK(\"http://www.bing.com/maps/?lvl=14&sty=h&cp=34.7327~44.8007&sp=point.34.7327_44.8007\",\"Maplink3\")","v":"Maplink3"}]
[24415,"Thi Qar","Al-Nasiriya","Markaz Al-Nasiriya","Al Asrriyah Village","القرية العصرية",31.1226731178,46.2340620451,1,6,0,0,0,0,0,0,6,0,0,0,0,0,0,0,0,0,0,0,0,0,0,0,0,0,0,0,0,6,0,0,0,0,0,0,0,6,0,0,0,0,0,0,0,0,0,{"$f":"HYPERLINK(\"http://www.openstreetmap.org/?mlat=31.1227&mlon=46.2341&zoom=12#map=12/31.1227/46.2341\",\"Maplink1\")","v":"Maplink1"},{"$f":"HYPERLINK(\"https://www.google.iq/maps/search/+31.1227,46.2341/@31.1227,46.2341,14z?hl=en\",\"Maplink2\")","v":"Maplink2"},{"$f":"HYPERLINK(\"http://www.bing.com/maps/?lvl=14&sty=h&cp=31.1227~46.2341&sp=point.31.1227_46.2341\",\"Maplink3\")","v":"Maplink3"}]
[10301,"Thi Qar","Al-Nasiriya","Markaz Al-Nasiriya","Hay Al Fidaa","حي الفداء",31.069166239,46.283791056,9,54,0,0,0,6,0,36,12,0,0,0,0,0,0,0,0,0,0,0,0,0,0,0,0,0,0,0,0,54,0,0,0,0,0,18,0,0,36,0,0,0,0,0,0,0,0,{"$f":"HYPERLINK(\"http://www.openstreetmap.org/?mlat=31.0692&mlon=46.2838&zoom=12#map=12/31.0692/46.2838\",\"Maplink1\")","v":"Maplink1"},{"$f":"HYPERLINK(\"https://www.google.iq/maps/search/+31.0692,46.2838/@31.0692,46.2838,14z?hl=en\",\"Maplink2\")","v":"Maplink2"},{"$f":"HYPERLINK(\"http://www.bing.com/maps/?lvl=14&sty=h&cp=31.0692~46.2838&sp=point.31.0692_46.2838\",\"Maplink3\")","v":"Maplink3"}]
[25527,"Thi Qar","Al-Nasiriya","Markaz Al-Nasiriya","Sharaa Al-hklas","شارع الاخلاص",31.0587778038,46.257208607,3,18,0,0,0,18,0,0,0,0,0,0,0,0,0,0,0,0,0,0,0,0,0,0,0,0,0,0,0,18,0,0,0,0,0,0,0,18,0,0,0,0,0,0,0,0,0,{"$f":"HYPERLINK(\"http://www.openstreetmap.org/?mlat=31.0588&mlon=46.2572&zoom=12#map=12/31.0588/46.2572\",\"Maplink1\")","v":"Maplink1"},{"$f":"HYPERLINK(\"https://www.google.iq/maps/search/+31.0588,46.2572/@31.0588,46.2572,14z?hl=en\",\"Maplink2\")","v":"Maplink2"},{"$f":"HYPERLINK(\"http://www.bing.com/maps/?lvl=14&sty=h&cp=31.0588~46.2572&sp=point.31.0588_46.2572\",\"Maplink3\")","v":"Maplink3"}]
[10269,"Thi Qar","Al-Nasiriya","Markaz Al-Nasiriya","Sindaliyah-Sidenaweyah","حي السديناويه",31.0419012842,46.3069539022,8,48,0,0,0,12,0,24,12,0,0,0,0,0,0,0,0,0,0,0,0,0,0,0,0,0,0,0,0,48,0,0,0,0,0,0,0,48,0,0,0,0,0,0,0,0,0,{"$f":"HYPERLINK(\"http://www.openstreetmap.org/?mlat=31.0419&mlon=46.307&zoom=12#map=12/31.0419/46.307\",\"Maplink1\")","v":"Maplink1"},{"$f":"HYPERLINK(\"https://www.google.iq/maps/search/+31.0419,46.307/@31.0419,46.307,14z?hl=en\",\"Maplink2\")","v":"Maplink2"},{"$f":"HYPERLINK(\"http://www.bing.com/maps/?lvl=14&sty=h&cp=31.0419~46.307&sp=point.31.0419_46.307\",\"Maplink3\")","v":"Maplink3"}]
[10259,"Thi Qar","Al-Nasiriya","Markaz Al-Nasiriya","Hay Al Tadhihiya","حي التضحية",31.0454113122,46.277832423,13,78,0,0,0,0,0,30,30,0,18,0,0,0,0,0,0,0,0,0,0,0,0,0,0,42,0,0,0,12,0,24,0,0,0,0,0,78,0,0,0,0,0,0,0,0,0,{"$f":"HYPERLINK(\"http://www.openstreetmap.org/?mlat=31.0454&mlon=46.2778&zoom=12#map=12/31.0454/46.2778\",\"Maplink1\")","v":"Maplink1"},{"$f":"HYPERLINK(\"https://www.google.iq/maps/search/+31.0454,46.2778/@31.0454,46.2778,14z?hl=en\",\"Maplink2\")","v":"Maplink2"},{"$f":"HYPERLINK(\"http://www.bing.com/maps/?lvl=14&sty=h&cp=31.0454~46.2778&sp=point.31.0454_46.2778\",\"Maplink3\")","v":"Maplink3"}]
[24740,"Thi Qar","Al-Nasiriya","Markaz Al-Nasiriya","Al Iskan","الاسكان",31.0385050049,46.242960423,3,18,0,0,0,0,0,0,18,0,0,0,0,0,0,0,0,6,0,0,0,0,0,0,0,0,0,0,0,12,0,0,0,0,0,0,0,0,18,0,0,0,0,0,0,0,0,{"$f":"HYPERLINK(\"http://www.openstreetmap.org/?mlat=31.0385&mlon=46.243&zoom=12#map=12/31.0385/46.243\",\"Maplink1\")","v":"Maplink1"},{"$f":"HYPERLINK(\"https://www.google.iq/maps/search/+31.0385,46.243/@31.0385,46.243,14z?hl=en\",\"Maplink2\")","v":"Maplink2"},{"$f":"HYPERLINK(\"http://www.bing.com/maps/?lvl=14&sty=h&cp=31.0385~46.243&sp=point.31.0385_46.243\",\"Maplink3\")","v":"Maplink3"}]
[25528,"Thi Qar","Al-Nasiriya","Markaz Al-Nasiriya","Hey Al-Ariml","حي الارامل",31.0532810551,46.253512804,3,18,0,0,0,18,0,0,0,0,0,0,0,0,0,0,0,12,0,0,0,0,0,0,0,0,0,0,0,6,0,0,0,0,0,0,18,0,0,0,0,0,0,0,0,0,0,{"$f":"HYPERLINK(\"http://www.openstreetmap.org/?mlat=31.0533&mlon=46.2535&zoom=12#map=12/31.0533/46.2535\",\"Maplink1\")","v":"Maplink1"},{"$f":"HYPERLINK(\"https://www.google.iq/maps/search/+31.0533,46.2535/@31.0533,46.2535,14z?hl=en\",\"Maplink2\")","v":"Maplink2"},{"$f":"HYPERLINK(\"http://www.bing.com/maps/?lvl=14&sty=h&cp=31.0533~46.2535&sp=point.31.0533_46.2535\",\"Maplink3\")","v":"Maplink3"}]
[24885,"Thi Qar","Al-Nasiriya","Markaz Al-Nasiriya","Hay Al Al Ghadeer","حي الغدير",31.0614678991,46.2781575836,2,12,0,0,0,0,0,0,12,0,0,0,0,0,0,0,0,0,0,0,0,0,0,0,0,12,0,0,0,0,0,0,0,0,0,0,12,0,0,0,0,0,0,0,0,0,0,{"$f":"HYPERLINK(\"http://www.openstreetmap.org/?mlat=31.0615&mlon=46.2782&zoom=12#map=12/31.0615/46.2782\",\"Maplink1\")","v":"Maplink1"},{"$f":"HYPERLINK(\"https://www.google.iq/maps/search/+31.0615,46.2782/@31.0615,46.2782,14z?hl=en\",\"Maplink2\")","v":"Maplink2"},{"$f":"HYPERLINK(\"http://www.bing.com/maps/?lvl=14&sty=h&cp=31.0615~46.2782&sp=point.31.0615_46.2782\",\"Maplink3\")","v":"Maplink3"}]
[9470,"Thi Qar","Al-Nasiriya","Markaz Al-Nasiriya","Al-hay al-askary","الحي العسكري ",31.0569626851,46.2661438049,5,30,0,0,0,0,0,18,12,0,0,0,0,0,0,0,0,12,0,0,0,0,0,0,0,0,0,0,0,18,0,0,0,0,0,0,12,18,0,0,0,0,0,0,0,0,0,{"$f":"HYPERLINK(\"http://www.openstreetmap.org/?mlat=31.057&mlon=46.2661&zoom=12#map=12/31.057/46.2661\",\"Maplink1\")","v":"Maplink1"},{"$f":"HYPERLINK(\"https://www.google.iq/maps/search/+31.057,46.2661/@31.057,46.2661,14z?hl=en\",\"Maplink2\")","v":"Maplink2"},{"$f":"HYPERLINK(\"http://www.bing.com/maps/?lvl=14&sty=h&cp=31.057~46.2661&sp=point.31.057_46.2661\",\"Maplink3\")","v":"Maplink3"}]
[9561,"Thi Qar","Al-Nasiriya","Markaz Al-Nasiriya","Hay AL-Hussain","حي الحسين ",31.0671272145,46.264360511,4,24,0,0,0,0,0,0,24,0,0,0,0,0,0,0,0,18,0,0,0,0,0,0,0,6,0,0,0,0,0,0,0,0,0,24,0,0,0,0,0,0,0,0,0,0,0,{"$f":"HYPERLINK(\"http://www.openstreetmap.org/?mlat=31.0671&mlon=46.2644&zoom=12#map=12/31.0671/46.2644\",\"Maplink1\")","v":"Maplink1"},{"$f":"HYPERLINK(\"https://www.google.iq/maps/search/+31.0671,46.2644/@31.0671,46.2644,14z?hl=en\",\"Maplink2\")","v":"Maplink2"},{"$f":"HYPERLINK(\"http://www.bing.com/maps/?lvl=14&sty=h&cp=31.0671~46.2644&sp=point.31.0671_46.2644\",\"Maplink3\")","v":"Maplink3"}]
[24494,"Thi Qar","Al-Nasiriya","Markaz Al-Nasiriya","Al Aker","العكر",31.0277108805,46.2182147412,7,42,0,0,0,0,0,0,42,0,0,0,0,0,0,0,0,0,0,0,0,0,0,0,0,0,0,0,0,42,0,0,0,0,0,0,24,0,18,0,0,0,0,0,0,0,0,{"$f":"HYPERLINK(\"http://www.openstreetmap.org/?mlat=31.0277&mlon=46.2182&zoom=12#map=12/31.0277/46.2182\",\"Maplink1\")","v":"Maplink1"},{"$f":"HYPERLINK(\"https://www.google.iq/maps/search/+31.0277,46.2182/@31.0277,46.2182,14z?hl=en\",\"Maplink2\")","v":"Maplink2"},{"$f":"HYPERLINK(\"http://www.bing.com/maps/?lvl=14&sty=h&cp=31.0277~46.2182&sp=point.31.0277_46.2182\",\"Maplink3\")","v":"Maplink3"}]
[25525,"Thi Qar","Al-Nasiriya","Markaz Al-Nasiriya","Al Emarat","العمارات",31.0270240043,46.2416766755,5,30,0,0,0,0,0,0,30,0,0,0,0,0,0,0,0,12,0,0,0,0,0,0,0,0,0,0,0,18,0,0,0,0,0,0,18,0,12,0,0,0,0,0,0,0,0,{"$f":"HYPERLINK(\"http://www.openstreetmap.org/?mlat=31.027&mlon=46.2417&zoom=12#map=12/31.027/46.2417\",\"Maplink1\")","v":"Maplink1"},{"$f":"HYPERLINK(\"https://www.google.iq/maps/search/+31.027,46.2417/@31.027,46.2417,14z?hl=en\",\"Maplink2\")","v":"Maplink2"},{"$f":"HYPERLINK(\"http://www.bing.com/maps/?lvl=14&sty=h&cp=31.027~46.2417&sp=point.31.027_46.2417\",\"Maplink3\")","v":"Maplink3"}]
[9113,"Thi Qar","Al-Nasiriya","Markaz Al-Nasiriya","Ur","حي اور",31.060153968,46.2433255553,4,24,0,0,0,12,0,0,12,0,0,0,0,0,0,0,0,6,0,0,0,0,0,0,0,18,0,0,0,0,0,0,0,0,0,0,0,24,0,0,0,0,0,0,0,0,0,{"$f":"HYPERLINK(\"http://www.openstreetmap.org/?mlat=31.0602&mlon=46.2433&zoom=12#map=12/31.0602/46.2433\",\"Maplink1\")","v":"Maplink1"},{"$f":"HYPERLINK(\"https://www.google.iq/maps/search/+31.0602,46.2433/@31.0602,46.2433,14z?hl=en\",\"Maplink2\")","v":"Maplink2"},{"$f":"HYPERLINK(\"http://www.bing.com/maps/?lvl=14&sty=h&cp=31.0602~46.2433&sp=point.31.0602_46.2433\",\"Maplink3\")","v":"Maplink3"}]
[9576,"Thi Qar","Al-Nasiriya","Markaz Al-Nasiriya","Al-shofah","قرية الشوفة",31.1327918405,46.2356646856,3,18,0,0,0,12,0,0,6,0,0,0,0,0,0,0,0,0,0,0,0,0,0,0,0,0,0,0,0,18,0,0,0,0,0,0,0,0,0,18,0,0,0,0,0,0,0,{"$f":"HYPERLINK(\"http://www.openstreetmap.org/?mlat=31.1328&mlon=46.2357&zoom=12#map=12/31.1328/46.2357\",\"Maplink1\")","v":"Maplink1"},{"$f":"HYPERLINK(\"https://www.google.iq/maps/search/+31.1328,46.2357/@31.1328,46.2357,14z?hl=en\",\"Maplink2\")","v":"Maplink2"},{"$f":"HYPERLINK(\"http://www.bing.com/maps/?lvl=14&sty=h&cp=31.1328~46.2357&sp=point.31.1328_46.2357\",\"Maplink3\")","v":"Maplink3"}]
[9398,"Thi Qar","Al-Nasiriya","Markaz Al-Nasiriya","Hay al-shohadaa","حي الشهداء",31.069961183,46.2700244459,3,18,0,0,0,0,0,0,18,0,0,0,0,0,0,0,0,18,0,0,0,0,0,0,0,0,0,0,0,0,0,0,0,0,0,0,0,18,0,0,0,0,0,0,0,0,0,{"$f":"HYPERLINK(\"http://www.openstreetmap.org/?mlat=31.07&mlon=46.27&zoom=12#map=12/31.07/46.27\",\"Maplink1\")","v":"Maplink1"},{"$f":"HYPERLINK(\"https://www.google.iq/maps/search/+31.07,46.27/@31.07,46.27,14z?hl=en\",\"Maplink2\")","v":"Maplink2"},{"$f":"HYPERLINK(\"http://www.bing.com/maps/?lvl=14&sty=h&cp=31.07~46.27&sp=point.31.07_46.27\",\"Maplink3\")","v":"Maplink3"}]
[25531,"Thi Qar","Al-Nasiriya","Markaz Al-Nasiriya","Hey Al-Mtanzh","حي المتنزة",31.0464861661,46.2332439666,1,6,0,0,0,0,0,0,6,0,0,0,0,0,0,0,0,0,0,0,0,0,0,0,0,0,0,0,0,6,0,0,0,0,0,0,6,0,0,0,0,0,0,0,0,0,0,{"$f":"HYPERLINK(\"http://www.openstreetmap.org/?mlat=31.0465&mlon=46.2332&zoom=12#map=12/31.0465/46.2332\",\"Maplink1\")","v":"Maplink1"},{"$f":"HYPERLINK(\"https://www.google.iq/maps/search/+31.0465,46.2332/@31.0465,46.2332,14z?hl=en\",\"Maplink2\")","v":"Maplink2"},{"$f":"HYPERLINK(\"http://www.bing.com/maps/?lvl=14&sty=h&cp=31.0465~46.2332&sp=point.31.0465_46.2332\",\"Maplink3\")","v":"Maplink3"}]
[22344,"Thi Qar","Al-Nasiriya","Markaz Al-Nasiriya","Share Eshreen","شارع عشرين",31.0485190005,46.2572829301,3,18,0,0,0,18,0,0,0,0,0,0,0,0,0,0,0,0,0,0,0,0,0,0,0,0,0,0,0,18,0,0,0,0,0,18,0,0,0,0,0,0,0,0,0,0,0,{"$f":"HYPERLINK(\"http://www.openstreetmap.org/?mlat=31.0485&mlon=46.2573&zoom=12#map=12/31.0485/46.2573\",\"Maplink1\")","v":"Maplink1"},{"$f":"HYPERLINK(\"https://www.google.iq/maps/search/+31.0485,46.2573/@31.0485,46.2573,14z?hl=en\",\"Maplink2\")","v":"Maplink2"},{"$f":"HYPERLINK(\"http://www.bing.com/maps/?lvl=14&sty=h&cp=31.0485~46.2573&sp=point.31.0485_46.2573\",\"Maplink3\")","v":"Maplink3"}]
[24821,"Thi Qar","Al-Nasiriya","Said Dekhil","Al-hay al-askary","حي العسكري",31.132321332,46.4336437932,2,12,0,0,0,12,0,0,0,0,0,0,0,0,0,0,0,0,0,0,0,0,0,0,0,12,0,0,0,0,0,0,0,0,0,0,0,0,12,0,0,0,0,0,0,0,0,{"$f":"HYPERLINK(\"http://www.openstreetmap.org/?mlat=31.1323&mlon=46.4336&zoom=12#map=12/31.1323/46.4336\",\"Maplink1\")","v":"Maplink1"},{"$f":"HYPERLINK(\"https://www.google.iq/maps/search/+31.1323,46.4336/@31.1323,46.4336,14z?hl=en\",\"Maplink2\")","v":"Maplink2"},{"$f":"HYPERLINK(\"http://www.bing.com/maps/?lvl=14&sty=h&cp=31.1323~46.4336&sp=point.31.1323_46.4336\",\"Maplink3\")","v":"Maplink3"}]
[33806,"Thi Qar","Al-Nasiriya","Said Dekhil","Hay Al-Zahraa","حي الزهراء",31.134141,46.437802,4,24,0,0,0,0,0,0,24,0,0,0,0,0,0,0,0,0,0,0,0,0,0,0,0,0,0,0,0,24,0,0,0,0,0,0,0,24,0,0,0,0,0,0,0,0,0,{"$f":"HYPERLINK(\"http://www.openstreetmap.org/?mlat=31.1341&mlon=46.4378&zoom=12#map=12/31.1341/46.4378\",\"Maplink1\")","v":"Maplink1"},{"$f":"HYPERLINK(\"https://www.google.iq/maps/search/+31.1341,46.4378/@31.1341,46.4378,14z?hl=en\",\"Maplink2\")","v":"Maplink2"},{"$f":"HYPERLINK(\"http://www.bing.com/maps/?lvl=14&sty=h&cp=31.1341~46.4378&sp=point.31.1341_46.4378\",\"Maplink3\")","v":"Maplink3"}]
[24820,"Thi Qar","Al-Nasiriya","Said Dekhil","Al-bjara","قرية البجاري",31.1162691012,46.4162073831,3,18,0,0,0,0,0,0,18,0,0,0,0,0,0,0,0,18,0,0,0,0,0,0,0,0,0,0,0,0,0,0,0,0,0,0,0,0,18,0,0,0,0,0,0,0,0,{"$f":"HYPERLINK(\"http://www.openstreetmap.org/?mlat=31.1163&mlon=46.4162&zoom=12#map=12/31.1163/46.4162\",\"Maplink1\")","v":"Maplink1"},{"$f":"HYPERLINK(\"https://www.google.iq/maps/search/+31.1163,46.4162/@31.1163,46.4162,14z?hl=en\",\"Maplink2\")","v":"Maplink2"},{"$f":"HYPERLINK(\"http://www.bing.com/maps/?lvl=14&sty=h&cp=31.1163~46.4162&sp=point.31.1163_46.4162\",\"Maplink3\")","v":"Maplink3"}]
[33802,"Thi Qar","Al-Rifai","Al-Nasr","15 Sha'aban","15 شعبان",31.530291,46.116779,8,48,0,0,0,6,0,30,12,0,0,0,0,0,0,0,0,0,0,0,0,0,0,0,0,0,0,0,0,48,0,0,0,0,0,0,42,6,0,0,0,0,0,0,0,0,0,{"$f":"HYPERLINK(\"http://www.openstreetmap.org/?mlat=31.5303&mlon=46.1168&zoom=12#map=12/31.5303/46.1168\",\"Maplink1\")","v":"Maplink1"},{"$f":"HYPERLINK(\"https://www.google.iq/maps/search/+31.5303,46.1168/@31.5303,46.1168,14z?hl=en\",\"Maplink2\")","v":"Maplink2"},{"$f":"HYPERLINK(\"http://www.bing.com/maps/?lvl=14&sty=h&cp=31.5303~46.1168&sp=point.31.5303_46.1168\",\"Maplink3\")","v":"Maplink3"}]
[33803,"Thi Qar","Al-Rifai","Al-Nasr","Al Amam Al Ridhah","الامام الرضا",31.543367,46.119889,10,60,0,0,0,0,0,18,42,0,0,0,0,0,0,0,0,0,0,12,0,0,0,0,0,0,0,0,0,48,0,0,0,0,0,0,36,24,0,0,0,0,0,0,0,0,0,{"$f":"HYPERLINK(\"http://www.openstreetmap.org/?mlat=31.5434&mlon=46.1199&zoom=12#map=12/31.5434/46.1199\",\"Maplink1\")","v":"Maplink1"},{"$f":"HYPERLINK(\"https://www.google.iq/maps/search/+31.5434,46.1199/@31.5434,46.1199,14z?hl=en\",\"Maplink2\")","v":"Maplink2"},{"$f":"HYPERLINK(\"http://www.bing.com/maps/?lvl=14&sty=h&cp=31.5434~46.1199&sp=point.31.5434_46.1199\",\"Maplink3\")","v":"Maplink3"}]
[33800,"Thi Qar","Al-Rifai","Al-Nasr","Al-Mustshfah","حي المستشفى",31.541273,46.125218,7,42,0,0,0,0,0,0,42,0,0,0,0,0,0,0,0,6,0,0,0,0,0,0,0,0,0,0,0,24,0,12,0,0,0,0,24,18,0,0,0,0,0,0,0,0,0,{"$f":"HYPERLINK(\"http://www.openstreetmap.org/?mlat=31.5413&mlon=46.1252&zoom=12#map=12/31.5413/46.1252\",\"Maplink1\")","v":"Maplink1"},{"$f":"HYPERLINK(\"https://www.google.iq/maps/search/+31.5413,46.1252/@31.5413,46.1252,14z?hl=en\",\"Maplink2\")","v":"Maplink2"},{"$f":"HYPERLINK(\"http://www.bing.com/maps/?lvl=14&sty=h&cp=31.5413~46.1252&sp=point.31.5413_46.1252\",\"Maplink3\")","v":"Maplink3"}]
[33801,"Thi Qar","Al-Rifai","Al-Nasr","Al-Sadrein","حي الصدرين",31.53961,46.119105,6,36,0,0,0,6,0,18,12,0,0,0,0,0,0,0,0,0,0,0,0,0,0,0,0,0,0,0,0,24,0,12,0,0,0,0,6,30,0,0,0,0,0,0,0,0,0,{"$f":"HYPERLINK(\"http://www.openstreetmap.org/?mlat=31.5396&mlon=46.1191&zoom=12#map=12/31.5396/46.1191\",\"Maplink1\")","v":"Maplink1"},{"$f":"HYPERLINK(\"https://www.google.iq/maps/search/+31.5396,46.1191/@31.5396,46.1191,14z?hl=en\",\"Maplink2\")","v":"Maplink2"},{"$f":"HYPERLINK(\"http://www.bing.com/maps/?lvl=14&sty=h&cp=31.5396~46.1191&sp=point.31.5396_46.1191\",\"Maplink3\")","v":"Maplink3"}]
[10297,"Thi Qar","Al-Rifai","Markaz Al-Rifai","Al-Moalemen","حي المعلمين",31.7132135578,46.1112456,5,30,0,0,0,6,0,18,6,0,0,0,0,0,0,0,0,0,0,0,0,0,0,0,0,0,0,0,0,30,0,0,0,0,0,0,30,0,0,0,0,0,0,0,0,0,0,{"$f":"HYPERLINK(\"http://www.openstreetmap.org/?mlat=31.7132&mlon=46.1112&zoom=12#map=12/31.7132/46.1112\",\"Maplink1\")","v":"Maplink1"},{"$f":"HYPERLINK(\"https://www.google.iq/maps/search/+31.7132,46.1112/@31.7132,46.1112,14z?hl=en\",\"Maplink2\")","v":"Maplink2"},{"$f":"HYPERLINK(\"http://www.bing.com/maps/?lvl=14&sty=h&cp=31.7132~46.1112&sp=point.31.7132_46.1112\",\"Maplink3\")","v":"Maplink3"}]
[10117,"Thi Qar","Al-Rifai","Markaz Al-Rifai","Hay Al Saray","حي السراي ",31.719963,46.105736,4,24,0,0,0,6,0,0,18,0,0,0,0,0,0,0,0,0,0,0,0,0,6,0,0,0,0,0,0,18,0,0,0,0,0,0,24,0,0,0,0,0,0,0,0,0,0,{"$f":"HYPERLINK(\"http://www.openstreetmap.org/?mlat=31.72&mlon=46.1057&zoom=12#map=12/31.72/46.1057\",\"Maplink1\")","v":"Maplink1"},{"$f":"HYPERLINK(\"https://www.google.iq/maps/search/+31.72,46.1057/@31.72,46.1057,14z?hl=en\",\"Maplink2\")","v":"Maplink2"},{"$f":"HYPERLINK(\"http://www.bing.com/maps/?lvl=14&sty=h&cp=31.72~46.1057&sp=point.31.72_46.1057\",\"Maplink3\")","v":"Maplink3"}]
[34162,"Thi Qar","Al-Rifai","Markaz Al-Rifai","Al Tifige","التيفيج",31.73553,46.112046,13,78,0,0,0,6,0,0,48,0,24,0,0,0,0,0,0,0,0,0,0,0,0,0,0,18,0,0,0,24,0,36,0,0,0,0,36,0,42,0,0,0,0,0,0,0,0,{"$f":"HYPERLINK(\"http://www.openstreetmap.org/?mlat=31.7355&mlon=46.112&zoom=12#map=12/31.7355/46.112\",\"Maplink1\")","v":"Maplink1"},{"$f":"HYPERLINK(\"https://www.google.iq/maps/search/+31.7355,46.112/@31.7355,46.112,14z?hl=en\",\"Maplink2\")","v":"Maplink2"},{"$f":"HYPERLINK(\"http://www.bing.com/maps/?lvl=14&sty=h&cp=31.7355~46.112&sp=point.31.7355_46.112\",\"Maplink3\")","v":"Maplink3"}]
[24722,"Thi Qar","Al-Rifai","Markaz Al-Rifai","Hay Al Hussien","حي الحسين",31.7115291965,46.124556874,12,72,0,0,0,0,0,0,42,0,0,0,30,0,0,0,0,0,0,0,0,0,0,0,0,0,0,0,0,72,0,0,0,0,0,0,72,0,0,0,0,0,0,0,0,0,0,{"$f":"HYPERLINK(\"http://www.openstreetmap.org/?mlat=31.7115&mlon=46.1246&zoom=12#map=12/31.7115/46.1246\",\"Maplink1\")","v":"Maplink1"},{"$f":"HYPERLINK(\"https://www.google.iq/maps/search/+31.7115,46.1246/@31.7115,46.1246,14z?hl=en\",\"Maplink2\")","v":"Maplink2"},{"$f":"HYPERLINK(\"http://www.bing.com/maps/?lvl=14&sty=h&cp=31.7115~46.1246&sp=point.31.7115_46.1246\",\"Maplink3\")","v":"Maplink3"}]
[33795,"Thi Qar","Al-Rifai","Markaz Al-Rifai","Al-Omal","حي العمال",31.7284,46.1104,25,150,0,0,0,30,0,0,120,0,0,0,0,0,0,0,0,12,0,0,0,0,0,0,0,42,0,0,0,96,0,0,0,0,0,0,0,84,66,0,0,0,0,0,0,0,0,{"$f":"HYPERLINK(\"http://www.openstreetmap.org/?mlat=31.7284&mlon=46.1104&zoom=12#map=12/31.7284/46.1104\",\"Maplink1\")","v":"Maplink1"},{"$f":"HYPERLINK(\"https://www.google.iq/maps/search/+31.7284,46.1104/@31.7284,46.1104,14z?hl=en\",\"Maplink2\")","v":"Maplink2"},{"$f":"HYPERLINK(\"http://www.bing.com/maps/?lvl=14&sty=h&cp=31.7284~46.1104&sp=point.31.7284_46.1104\",\"Maplink3\")","v":"Maplink3"}]
[10289,"Thi Qar","Al-Rifai","Markaz Al-Rifai","Hay Al Ameer","حي الامير ",31.715143,46.098461,5,30,0,0,0,6,0,12,12,0,0,0,0,0,0,0,0,0,0,0,0,0,0,0,0,12,0,0,0,18,0,0,0,0,0,0,18,12,0,0,0,0,0,0,0,0,0,{"$f":"HYPERLINK(\"http://www.openstreetmap.org/?mlat=31.7151&mlon=46.0985&zoom=12#map=12/31.7151/46.0985\",\"Maplink1\")","v":"Maplink1"},{"$f":"HYPERLINK(\"https://www.google.iq/maps/search/+31.7151,46.0985/@31.7151,46.0985,14z?hl=en\",\"Maplink2\")","v":"Maplink2"},{"$f":"HYPERLINK(\"http://www.bing.com/maps/?lvl=14&sty=h&cp=31.7151~46.0985&sp=point.31.7151_46.0985\",\"Maplink3\")","v":"Maplink3"}]
[33797,"Thi Qar","Al-Rifai","Qalat Siker","Hay Al-Tahreer","حي التحرير",31.856094,46.080125,6,36,0,0,0,0,0,24,12,0,0,0,0,0,0,0,0,0,0,6,0,0,0,0,0,6,0,0,0,12,0,12,0,0,0,12,24,0,0,0,0,0,0,0,0,0,0,{"$f":"HYPERLINK(\"http://www.openstreetmap.org/?mlat=31.8561&mlon=46.0801&zoom=12#map=12/31.8561/46.0801\",\"Maplink1\")","v":"Maplink1"},{"$f":"HYPERLINK(\"https://www.google.iq/maps/search/+31.8561,46.0801/@31.8561,46.0801,14z?hl=en\",\"Maplink2\")","v":"Maplink2"},{"$f":"HYPERLINK(\"http://www.bing.com/maps/?lvl=14&sty=h&cp=31.8561~46.0801&sp=point.31.8561_46.0801\",\"Maplink3\")","v":"Maplink3"}]
[33799,"Thi Qar","Al-Rifai","Qalat Siker","Al-Moalmein","حي المعلمين",31.8622177428,46.0738352678,4,24,0,0,0,0,0,0,24,0,0,0,0,0,0,0,0,0,0,0,0,0,0,0,0,0,0,0,0,24,0,0,0,0,0,24,0,0,0,0,0,0,0,0,0,0,0,{"$f":"HYPERLINK(\"http://www.openstreetmap.org/?mlat=31.8622&mlon=46.0738&zoom=12#map=12/31.8622/46.0738\",\"Maplink1\")","v":"Maplink1"},{"$f":"HYPERLINK(\"https://www.google.iq/maps/search/+31.8622,46.0738/@31.8622,46.0738,14z?hl=en\",\"Maplink2\")","v":"Maplink2"},{"$f":"HYPERLINK(\"http://www.bing.com/maps/?lvl=14&sty=h&cp=31.8622~46.0738&sp=point.31.8622_46.0738\",\"Maplink3\")","v":"Maplink3"}]
[33798,"Thi Qar","Al-Rifai","Qalat Siker","Hay Al-Omal","حي العمال",31.8619318159,46.0695482713,8,48,0,0,0,6,0,24,18,0,0,0,0,0,0,0,0,0,0,6,0,0,0,0,0,24,0,0,0,18,0,0,0,0,0,0,6,42,0,0,0,0,0,0,0,0,0,{"$f":"HYPERLINK(\"http://www.openstreetmap.org/?mlat=31.8619&mlon=46.0695&zoom=12#map=12/31.8619/46.0695\",\"Maplink1\")","v":"Maplink1"},{"$f":"HYPERLINK(\"https://www.google.iq/maps/search/+31.8619,46.0695/@31.8619,46.0695,14z?hl=en\",\"Maplink2\")","v":"Maplink2"},{"$f":"HYPERLINK(\"http://www.bing.com/maps/?lvl=14&sty=h&cp=31.8619~46.0695&sp=point.31.8619_46.0695\",\"Maplink3\")","v":"Maplink3"}]
[33796,"Thi Qar","Al-Rifai","Qalat Siker","Hay Al-Husein","حي الحسين",31.8552,46.0735,8,48,0,0,0,0,0,0,48,0,0,0,0,0,0,0,0,18,0,0,0,0,0,0,0,18,0,0,0,12,0,0,0,0,0,12,0,18,18,0,0,0,0,0,0,0,0,{"$f":"HYPERLINK(\"http://www.openstreetmap.org/?mlat=31.8552&mlon=46.0735&zoom=12#map=12/31.8552/46.0735\",\"Maplink1\")","v":"Maplink1"},{"$f":"HYPERLINK(\"https://www.google.iq/maps/search/+31.8552,46.0735/@31.8552,46.0735,14z?hl=en\",\"Maplink2\")","v":"Maplink2"},{"$f":"HYPERLINK(\"http://www.bing.com/maps/?lvl=14&sty=h&cp=31.8552~46.0735&sp=point.31.8552_46.0735\",\"Maplink3\")","v":"Maplink3"}]
[33804,"Thi Qar","Al-Shatra","Al-Dawaya","Al Soob Al Sagheer","الصوب الصغير",31.490789,46.378664,3,18,0,0,0,0,0,0,18,0,0,0,0,0,0,0,0,6,0,0,0,0,0,0,0,0,0,0,0,12,0,0,0,0,0,0,0,18,0,0,0,0,0,0,0,0,0,{"$f":"HYPERLINK(\"http://www.openstreetmap.org/?mlat=31.4908&mlon=46.3787&zoom=12#map=12/31.4908/46.3787\",\"Maplink1\")","v":"Maplink1"},{"$f":"HYPERLINK(\"https://www.google.iq/maps/search/+31.4908,46.3787/@31.4908,46.3787,14z?hl=en\",\"Maplink2\")","v":"Maplink2"},{"$f":"HYPERLINK(\"http://www.bing.com/maps/?lvl=14&sty=h&cp=31.4908~46.3787&sp=point.31.4908_46.3787\",\"Maplink3\")","v":"Maplink3"}]
[33887,"Thi Qar","Al-Shatra","Al-Gharraf","AL Ziyadat","الزيادات",31.2259334385,46.201053525,3,18,0,0,0,0,0,0,0,0,0,0,0,18,0,0,0,0,0,0,0,0,0,0,0,0,0,0,0,0,0,18,0,0,0,0,18,0,0,0,0,0,0,0,0,0,0,{"$f":"HYPERLINK(\"http://www.openstreetmap.org/?mlat=31.2259&mlon=46.2011&zoom=12#map=12/31.2259/46.2011\",\"Maplink1\")","v":"Maplink1"},{"$f":"HYPERLINK(\"https://www.google.iq/maps/search/+31.2259,46.2011/@31.2259,46.2011,14z?hl=en\",\"Maplink2\")","v":"Maplink2"},{"$f":"HYPERLINK(\"http://www.bing.com/maps/?lvl=14&sty=h&cp=31.2259~46.2011&sp=point.31.2259_46.2011\",\"Maplink3\")","v":"Maplink3"}]
[33805,"Thi Qar","Al-Shatra","Al-Gharraf","Hay Al-Shouhdaa","حي الشهداء",31.295844,46.233045,4,24,0,0,0,0,0,0,24,0,0,0,0,0,0,0,0,0,0,0,0,0,0,0,0,0,0,0,0,24,0,0,0,0,0,0,0,24,0,0,0,0,0,0,0,0,0,{"$f":"HYPERLINK(\"http://www.openstreetmap.org/?mlat=31.2958&mlon=46.233&zoom=12#map=12/31.2958/46.233\",\"Maplink1\")","v":"Maplink1"},{"$f":"HYPERLINK(\"https://www.google.iq/maps/search/+31.2958,46.233/@31.2958,46.233,14z?hl=en\",\"Maplink2\")","v":"Maplink2"},{"$f":"HYPERLINK(\"http://www.bing.com/maps/?lvl=14&sty=h&cp=31.2958~46.233&sp=point.31.2958_46.233\",\"Maplink3\")","v":"Maplink3"}]
[24538,"Thi Qar","Al-Shatra","Markaz Al-Shatra","Al Mustashfa St","شارع المستشفى",31.4114504722,46.1626703804,2,12,0,0,0,0,0,0,12,0,0,0,0,0,0,0,0,12,0,0,0,0,0,0,0,0,0,0,0,0,0,0,0,0,0,0,0,12,0,0,0,0,0,0,0,0,0,{"$f":"HYPERLINK(\"http://www.openstreetmap.org/?mlat=31.4115&mlon=46.1627&zoom=12#map=12/31.4115/46.1627\",\"Maplink1\")","v":"Maplink1"},{"$f":"HYPERLINK(\"https://www.google.iq/maps/search/+31.4115,46.1627/@31.4115,46.1627,14z?hl=en\",\"Maplink2\")","v":"Maplink2"},{"$f":"HYPERLINK(\"http://www.bing.com/maps/?lvl=14&sty=h&cp=31.4115~46.1627&sp=point.31.4115_46.1627\",\"Maplink3\")","v":"Maplink3"}]
[21209,"Thi Qar","Al-Shatra","Markaz Al-Shatra","Al Shomali","الشوملي",31.4156897184,46.1639768391,2,12,0,0,0,0,0,0,12,0,0,0,0,0,0,0,0,0,0,0,0,0,0,0,0,0,0,0,0,12,0,0,0,0,0,0,0,12,0,0,0,0,0,0,0,0,0,{"$f":"HYPERLINK(\"http://www.openstreetmap.org/?mlat=31.4157&mlon=46.164&zoom=12#map=12/31.4157/46.164\",\"Maplink1\")","v":"Maplink1"},{"$f":"HYPERLINK(\"https://www.google.iq/maps/search/+31.4157,46.164/@31.4157,46.164,14z?hl=en\",\"Maplink2\")","v":"Maplink2"},{"$f":"HYPERLINK(\"http://www.bing.com/maps/?lvl=14&sty=h&cp=31.4157~46.164&sp=point.31.4157_46.164\",\"Maplink3\")","v":"Maplink3"}]
[9822,"Thi Qar","Al-Shatra","Markaz Al-Shatra","Al-hawi","حي الحاوي",31.4039072127,46.1754910961,1,6,0,0,0,6,0,0,0,0,0,0,0,0,0,0,0,0,0,0,0,0,0,0,0,0,0,0,0,6,0,0,0,0,0,6,0,0,0,0,0,0,0,0,0,0,0,{"$f":"HYPERLINK(\"http://www.openstreetmap.org/?mlat=31.4039&mlon=46.1755&zoom=12#map=12/31.4039/46.1755\",\"Maplink1\")","v":"Maplink1"},{"$f":"HYPERLINK(\"https://www.google.iq/maps/search/+31.4039,46.1755/@31.4039,46.1755,14z?hl=en\",\"Maplink2\")","v":"Maplink2"},{"$f":"HYPERLINK(\"http://www.bing.com/maps/?lvl=14&sty=h&cp=31.4039~46.1755&sp=point.31.4039_46.1755\",\"Maplink3\")","v":"Maplink3"}]
[10250,"Thi Qar","Al-Shatra","Markaz Al-Shatra","14 Ramadan","حي 14 رمضان",31.4359498874,46.1725725269,2,12,0,0,0,0,0,0,12,0,0,0,0,0,0,0,0,0,0,0,0,0,0,0,0,0,0,0,0,12,0,0,0,0,0,0,0,0,12,0,0,0,0,0,0,0,0,{"$f":"HYPERLINK(\"http://www.openstreetmap.org/?mlat=31.4359&mlon=46.1726&zoom=12#map=12/31.4359/46.1726\",\"Maplink1\")","v":"Maplink1"},{"$f":"HYPERLINK(\"https://www.google.iq/maps/search/+31.4359,46.1726/@31.4359,46.1726,14z?hl=en\",\"Maplink2\")","v":"Maplink2"},{"$f":"HYPERLINK(\"http://www.bing.com/maps/?lvl=14&sty=h&cp=31.4359~46.1726&sp=point.31.4359_46.1726\",\"Maplink3\")","v":"Maplink3"}]
[9880,"Thi Qar","Al-Shatra","Markaz Al-Shatra","Al awad","ال عواد",31.4492209308,46.174959409,2,12,0,0,0,0,0,0,12,0,0,0,0,0,0,0,0,0,0,0,0,0,0,0,0,0,0,0,0,12,0,0,0,0,0,0,12,0,0,0,0,0,0,0,0,0,0,{"$f":"HYPERLINK(\"http://www.openstreetmap.org/?mlat=31.4492&mlon=46.175&zoom=12#map=12/31.4492/46.175\",\"Maplink1\")","v":"Maplink1"},{"$f":"HYPERLINK(\"https://www.google.iq/maps/search/+31.4492,46.175/@31.4492,46.175,14z?hl=en\",\"Maplink2\")","v":"Maplink2"},{"$f":"HYPERLINK(\"http://www.bing.com/maps/?lvl=14&sty=h&cp=31.4492~46.175&sp=point.31.4492_46.175\",\"Maplink3\")","v":"Maplink3"}]
[9848,"Thi Qar","Al-Shatra","Markaz Al-Shatra","Al-fatahiyah","حي الفتاحية",31.4157560541,46.1729710675,3,18,0,0,0,0,0,0,18,0,0,0,0,0,0,0,0,0,0,0,0,0,0,0,0,0,0,0,0,18,0,0,0,0,0,18,0,0,0,0,0,0,0,0,0,0,0,{"$f":"HYPERLINK(\"http://www.openstreetmap.org/?mlat=31.4158&mlon=46.173&zoom=12#map=12/31.4158/46.173\",\"Maplink1\")","v":"Maplink1"},{"$f":"HYPERLINK(\"https://www.google.iq/maps/search/+31.4158,46.173/@31.4158,46.173,14z?hl=en\",\"Maplink2\")","v":"Maplink2"},{"$f":"HYPERLINK(\"http://www.bing.com/maps/?lvl=14&sty=h&cp=31.4158~46.173&sp=point.31.4158_46.173\",\"Maplink3\")","v":"Maplink3"}]
[9188,"Thi Qar","Al-Shatra","Markaz Al-Shatra","albedaa","البدعة ",31.446458051,46.1753752153,2,12,0,0,0,0,0,0,12,0,0,0,0,0,0,0,0,0,0,0,0,0,0,0,0,0,0,0,0,12,0,0,0,0,0,0,12,0,0,0,0,0,0,0,0,0,0,{"$f":"HYPERLINK(\"http://www.openstreetmap.org/?mlat=31.4465&mlon=46.1754&zoom=12#map=12/31.4465/46.1754\",\"Maplink1\")","v":"Maplink1"},{"$f":"HYPERLINK(\"https://www.google.iq/maps/search/+31.4465,46.1754/@31.4465,46.1754,14z?hl=en\",\"Maplink2\")","v":"Maplink2"},{"$f":"HYPERLINK(\"http://www.bing.com/maps/?lvl=14&sty=h&cp=31.4465~46.1754&sp=point.31.4465_46.1754\",\"Maplink3\")","v":"Maplink3"}]
[10286,"Thi Qar","Al-Shatra","Markaz Al-Shatra","Hay al Zahraa","حي الزهراء",31.4004197433,46.1806881535,1,6,0,0,0,0,0,0,6,0,0,0,0,0,0,0,0,6,0,0,0,0,0,0,0,0,0,0,0,0,0,0,0,0,0,0,6,0,0,0,0,0,0,0,0,0,0,{"$f":"HYPERLINK(\"http://www.openstreetmap.org/?mlat=31.4004&mlon=46.1807&zoom=12#map=12/31.4004/46.1807\",\"Maplink1\")","v":"Maplink1"},{"$f":"HYPERLINK(\"https://www.google.iq/maps/search/+31.4004,46.1807/@31.4004,46.1807,14z?hl=en\",\"Maplink2\")","v":"Maplink2"},{"$f":"HYPERLINK(\"http://www.bing.com/maps/?lvl=14&sty=h&cp=31.4004~46.1807&sp=point.31.4004_46.1807\",\"Maplink3\")","v":"Maplink3"}]
[33809,"Thi Qar","Suq Al-Shoyokh","Akaika","Hay Al-Askery","حي العسكري",30.914429,46.47878,6,36,0,0,0,6,0,0,30,0,0,0,0,0,0,0,0,0,12,0,0,0,0,0,0,6,0,0,0,18,0,0,0,0,0,0,36,0,0,0,0,0,0,0,0,0,0,{"$f":"HYPERLINK(\"http://www.openstreetmap.org/?mlat=30.9144&mlon=46.4788&zoom=12#map=12/30.9144/46.4788\",\"Maplink1\")","v":"Maplink1"},{"$f":"HYPERLINK(\"https://www.google.iq/maps/search/+30.9144,46.4788/@30.9144,46.4788,14z?hl=en\",\"Maplink2\")","v":"Maplink2"},{"$f":"HYPERLINK(\"http://www.bing.com/maps/?lvl=14&sty=h&cp=30.9144~46.4788&sp=point.30.9144_46.4788\",\"Maplink3\")","v":"Maplink3"}]
[24721,"Thi Qar","Suq Al-Shoyokh","Akaika","Al Barid Street","شارع البريد",30.9562016338,46.3595015799,8,48,0,0,0,0,0,18,30,0,0,0,0,0,0,0,0,0,0,0,0,0,0,0,0,24,0,0,0,24,0,0,0,0,0,0,48,0,0,0,0,0,0,0,0,0,0,{"$f":"HYPERLINK(\"http://www.openstreetmap.org/?mlat=30.9562&mlon=46.3595&zoom=12#map=12/30.9562/46.3595\",\"Maplink1\")","v":"Maplink1"},{"$f":"HYPERLINK(\"https://www.google.iq/maps/search/+30.9562,46.3595/@30.9562,46.3595,14z?hl=en\",\"Maplink2\")","v":"Maplink2"},{"$f":"HYPERLINK(\"http://www.bing.com/maps/?lvl=14&sty=h&cp=30.9562~46.3595&sp=point.30.9562_46.3595\",\"Maplink3\")","v":"Maplink3"}]
[34161,"Thi Qar","Suq Al-Shoyokh","Al-Fadhliya","Um Al-Banin","ام البنين",30.8802651431,46.454987385,8,48,0,0,0,12,0,0,12,0,24,0,0,0,0,0,0,0,0,0,0,0,0,0,0,12,0,0,0,36,0,0,0,0,0,0,0,36,12,0,0,0,0,0,0,0,0,{"$f":"HYPERLINK(\"http://www.openstreetmap.org/?mlat=30.8803&mlon=46.455&zoom=12#map=12/30.8803/46.455\",\"Maplink1\")","v":"Maplink1"},{"$f":"HYPERLINK(\"https://www.google.iq/maps/search/+30.8803,46.455/@30.8803,46.455,14z?hl=en\",\"Maplink2\")","v":"Maplink2"},{"$f":"HYPERLINK(\"http://www.bing.com/maps/?lvl=14&sty=h&cp=30.8803~46.455&sp=point.30.8803_46.455\",\"Maplink3\")","v":"Maplink3"}]
[25437,"Thi Qar","Suq Al-Shoyokh","Al-Fadhliya","Al Shumokh","الشموخ",30.9061211,46.4493812,5,30,0,0,0,0,0,0,24,0,6,0,0,0,0,0,0,12,0,0,0,0,0,0,0,18,0,0,0,0,0,0,0,0,0,0,0,30,0,0,0,0,0,0,0,0,0,{"$f":"HYPERLINK(\"http://www.openstreetmap.org/?mlat=30.9061&mlon=46.4494&zoom=12#map=12/30.9061/46.4494\",\"Maplink1\")","v":"Maplink1"},{"$f":"HYPERLINK(\"https://www.google.iq/maps/search/+30.9061,46.4494/@30.9061,46.4494,14z?hl=en\",\"Maplink2\")","v":"Maplink2"},{"$f":"HYPERLINK(\"http://www.bing.com/maps/?lvl=14&sty=h&cp=30.9061~46.4494&sp=point.30.9061_46.4494\",\"Maplink3\")","v":"Maplink3"}]
[25760,"Thi Qar","Suq Al-Shoyokh","Al-Fadhliya","The Abu Athm","منطقة ال ابو عظم",30.981975211,46.3081693265,4,24,0,0,0,0,0,0,24,0,0,0,0,0,0,0,0,0,0,0,0,0,0,0,0,0,0,0,0,24,0,0,0,0,0,0,24,0,0,0,0,0,0,0,0,0,0,{"$f":"HYPERLINK(\"http://www.openstreetmap.org/?mlat=30.982&mlon=46.3082&zoom=12#map=12/30.982/46.3082\",\"Maplink1\")","v":"Maplink1"},{"$f":"HYPERLINK(\"https://www.google.iq/maps/search/+30.982,46.3082/@30.982,46.3082,14z?hl=en\",\"Maplink2\")","v":"Maplink2"},{"$f":"HYPERLINK(\"http://www.bing.com/maps/?lvl=14&sty=h&cp=30.982~46.3082&sp=point.30.982_46.3082\",\"Maplink3\")","v":"Maplink3"}]
[9328,"Thi Qar","Suq Al-Shoyokh","Al-Fadhliya","Al-hey Al-Askarey","حي العسكري",30.9011745066,46.4496372761,8,48,0,0,0,0,0,0,36,0,12,0,0,0,0,0,0,0,0,0,0,0,0,0,0,18,0,0,0,30,0,0,0,0,0,0,48,0,0,0,0,0,0,0,0,0,0,{"$f":"HYPERLINK(\"http://www.openstreetmap.org/?mlat=30.9012&mlon=46.4496&zoom=12#map=12/30.9012/46.4496\",\"Maplink1\")","v":"Maplink1"},{"$f":"HYPERLINK(\"https://www.google.iq/maps/search/+30.9012,46.4496/@30.9012,46.4496,14z?hl=en\",\"Maplink2\")","v":"Maplink2"},{"$f":"HYPERLINK(\"http://www.bing.com/maps/?lvl=14&sty=h&cp=30.9012~46.4496&sp=point.30.9012_46.4496\",\"Maplink3\")","v":"Maplink3"}]
[9206,"Thi Qar","Suq Al-Shoyokh","Al-Fadhliya","Al Esmaelya 2","الاسماعيليه 2",30.8836217891,46.4681495866,2,12,0,0,0,0,0,0,12,0,0,0,0,0,0,0,0,0,0,0,0,0,0,0,0,0,0,0,0,12,0,0,0,0,0,0,0,0,12,0,0,0,0,0,0,0,0,{"$f":"HYPERLINK(\"http://www.openstreetmap.org/?mlat=30.8836&mlon=46.4681&zoom=12#map=12/30.8836/46.4681\",\"Maplink1\")","v":"Maplink1"},{"$f":"HYPERLINK(\"https://www.google.iq/maps/search/+30.8836,46.4681/@30.8836,46.4681,14z?hl=en\",\"Maplink2\")","v":"Maplink2"},{"$f":"HYPERLINK(\"http://www.bing.com/maps/?lvl=14&sty=h&cp=30.8836~46.4681&sp=point.30.8836_46.4681\",\"Maplink3\")","v":"Maplink3"}]
[9332,"Thi Qar","Suq Al-Shoyokh","Al-Fadhliya","Al-Shuhadaa","حي الشهداء",30.8790316327,46.4642243146,10,60,0,0,0,12,0,30,18,0,0,0,0,0,0,0,0,18,0,0,0,0,12,0,0,0,0,0,0,30,0,0,0,0,0,0,60,0,0,0,0,0,0,0,0,0,0,{"$f":"HYPERLINK(\"http://www.openstreetmap.org/?mlat=30.879&mlon=46.4642&zoom=12#map=12/30.879/46.4642\",\"Maplink1\")","v":"Maplink1"},{"$f":"HYPERLINK(\"https://www.google.iq/maps/search/+30.879,46.4642/@30.879,46.4642,14z?hl=en\",\"Maplink2\")","v":"Maplink2"},{"$f":"HYPERLINK(\"http://www.bing.com/maps/?lvl=14&sty=h&cp=30.879~46.4642&sp=point.30.879_46.4642\",\"Maplink3\")","v":"Maplink3"}]
[25436,"Thi Qar","Suq Al-Shoyokh","Al-Fadhliya","Al Kibla","القبله",30.9066365022,46.4459799347,12,72,0,0,0,0,0,0,48,0,24,0,0,0,0,0,0,0,18,6,0,0,0,0,0,24,0,0,0,18,0,6,0,0,0,0,54,0,18,0,0,0,0,0,0,0,0,{"$f":"HYPERLINK(\"http://www.openstreetmap.org/?mlat=30.9066&mlon=46.446&zoom=12#map=12/30.9066/46.446\",\"Maplink1\")","v":"Maplink1"},{"$f":"HYPERLINK(\"https://www.google.iq/maps/search/+30.9066,46.446/@30.9066,46.446,14z?hl=en\",\"Maplink2\")","v":"Maplink2"},{"$f":"HYPERLINK(\"http://www.bing.com/maps/?lvl=14&sty=h&cp=30.9066~46.446&sp=point.30.9066_46.446\",\"Maplink3\")","v":"Maplink3"}]
[9261,"Thi Qar","Suq Al-Shoyokh","Al-Fadhliya","Hey al-ghadeir","حي الغدير",30.8855811292,46.4605966021,8,48,0,0,0,6,0,24,18,0,0,0,0,0,0,0,0,0,0,6,0,0,0,0,0,0,0,0,0,42,0,0,0,0,0,6,18,24,0,0,0,0,0,0,0,0,0,{"$f":"HYPERLINK(\"http://www.openstreetmap.org/?mlat=30.8856&mlon=46.4606&zoom=12#map=12/30.8856/46.4606\",\"Maplink1\")","v":"Maplink1"},{"$f":"HYPERLINK(\"https://www.google.iq/maps/search/+30.8856,46.4606/@30.8856,46.4606,14z?hl=en\",\"Maplink2\")","v":"Maplink2"},{"$f":"HYPERLINK(\"http://www.bing.com/maps/?lvl=14&sty=h&cp=30.8856~46.4606&sp=point.30.8856_46.4606\",\"Maplink3\")","v":"Maplink3"}]
[9258,"Thi Qar","Suq Al-Shoyokh","Al-Fadhliya","Hey al-zahraa","حي الزهراء",30.9018696183,46.4582449773,2,12,0,0,0,0,0,0,12,0,0,0,0,0,0,0,0,0,0,0,0,0,0,0,0,6,0,0,0,6,0,0,0,0,0,0,0,12,0,0,0,0,0,0,0,0,0,{"$f":"HYPERLINK(\"http://www.openstreetmap.org/?mlat=30.9019&mlon=46.4582&zoom=12#map=12/30.9019/46.4582\",\"Maplink1\")","v":"Maplink1"},{"$f":"HYPERLINK(\"https://www.google.iq/maps/search/+30.9019,46.4582/@30.9019,46.4582,14z?hl=en\",\"Maplink2\")","v":"Maplink2"},{"$f":"HYPERLINK(\"http://www.bing.com/maps/?lvl=14&sty=h&cp=30.9019~46.4582&sp=point.30.9019_46.4582\",\"Maplink3\")","v":"Maplink3"}]
[33811,"Thi Qar","Suq Al-Shoyokh","Garmat Beni Said","Hay Al-Askery","حي العسكري",30.882388,46.568722,5,30,0,0,0,0,0,0,24,0,6,0,0,0,0,0,0,0,0,0,0,0,0,0,0,6,0,0,0,24,0,0,0,0,0,0,24,6,0,0,0,0,0,0,0,0,0,{"$f":"HYPERLINK(\"http://www.openstreetmap.org/?mlat=30.8824&mlon=46.5687&zoom=12#map=12/30.8824/46.5687\",\"Maplink1\")","v":"Maplink1"},{"$f":"HYPERLINK(\"https://www.google.iq/maps/search/+30.8824,46.5687/@30.8824,46.5687,14z?hl=en\",\"Maplink2\")","v":"Maplink2"},{"$f":"HYPERLINK(\"http://www.bing.com/maps/?lvl=14&sty=h&cp=30.8824~46.5687&sp=point.30.8824_46.5687\",\"Maplink3\")","v":"Maplink3"}]
[18733,"Wassit","Al-Hai","Al-Bashaer","Al-hay al-asri","الحي العصري",32.1760465334,46.0435468017,6,36,0,0,0,0,0,0,36,0,0,0,0,0,0,0,0,0,0,0,0,0,0,0,0,0,0,0,0,36,0,0,0,0,0,0,36,0,0,0,0,0,0,0,0,0,0,{"$f":"HYPERLINK(\"http://www.openstreetmap.org/?mlat=32.176&mlon=46.0435&zoom=12#map=12/32.176/46.0435\",\"Maplink1\")","v":"Maplink1"},{"$f":"HYPERLINK(\"https://www.google.iq/maps/search/+32.176,46.0435/@32.176,46.0435,14z?hl=en\",\"Maplink2\")","v":"Maplink2"},{"$f":"HYPERLINK(\"http://www.bing.com/maps/?lvl=14&sty=h&cp=32.176~46.0435&sp=point.32.176_46.0435\",\"Maplink3\")","v":"Maplink3"}]
[25583,"Wassit","Al-Hai","Al-Bashaer","Al-Zaiton Neighborhood","حي الزيتون",32.1736000122,46.0453097383,4,24,0,0,0,24,0,0,0,0,0,0,0,0,0,0,0,0,0,0,0,0,0,0,0,0,0,0,0,24,0,0,0,0,0,0,24,0,0,0,0,0,0,0,0,0,0,{"$f":"HYPERLINK(\"http://www.openstreetmap.org/?mlat=32.1736&mlon=46.0453&zoom=12#map=12/32.1736/46.0453\",\"Maplink1\")","v":"Maplink1"},{"$f":"HYPERLINK(\"https://www.google.iq/maps/search/+32.1736,46.0453/@32.1736,46.0453,14z?hl=en\",\"Maplink2\")","v":"Maplink2"},{"$f":"HYPERLINK(\"http://www.bing.com/maps/?lvl=14&sty=h&cp=32.1736~46.0453&sp=point.32.1736_46.0453\",\"Maplink3\")","v":"Maplink3"}]
[24105,"Wassit","Al-Hai","Al-Bashaer","Hay Al-Wehda(Mahala al-arab)","حي الوحدة-محلة العرب",32.1653717515,46.0450250574,5,30,0,0,0,0,0,0,30,0,0,0,0,0,0,0,0,0,0,0,0,0,0,0,0,0,0,0,0,30,0,0,0,0,0,0,30,0,0,0,0,0,0,0,0,0,0,{"$f":"HYPERLINK(\"http://www.openstreetmap.org/?mlat=32.1654&mlon=46.045&zoom=12#map=12/32.1654/46.045\",\"Maplink1\")","v":"Maplink1"},{"$f":"HYPERLINK(\"https://www.google.iq/maps/search/+32.1654,46.045/@32.1654,46.045,14z?hl=en\",\"Maplink2\")","v":"Maplink2"},{"$f":"HYPERLINK(\"http://www.bing.com/maps/?lvl=14&sty=h&cp=32.1654~46.045&sp=point.32.1654_46.045\",\"Maplink3\")","v":"Maplink3"}]
[25584,"Wassit","Al-Hai","Al-Bashaer","Hay Al-Imam Al-Sadiq","حي الأمام الصادق",32.1658614777,46.0435712335,2,12,0,0,0,0,0,0,12,0,0,0,0,0,0,0,0,0,0,0,0,0,0,0,0,0,0,0,0,12,0,0,0,0,0,0,12,0,0,0,0,0,0,0,0,0,0,{"$f":"HYPERLINK(\"http://www.openstreetmap.org/?mlat=32.1659&mlon=46.0436&zoom=12#map=12/32.1659/46.0436\",\"Maplink1\")","v":"Maplink1"},{"$f":"HYPERLINK(\"https://www.google.iq/maps/search/+32.1659,46.0436/@32.1659,46.0436,14z?hl=en\",\"Maplink2\")","v":"Maplink2"},{"$f":"HYPERLINK(\"http://www.bing.com/maps/?lvl=14&sty=h&cp=32.1659~46.0436&sp=point.32.1659_46.0436\",\"Maplink3\")","v":"Maplink3"}]
[25580,"Wassit","Al-Hai","Al-Bashaer","Al-Askari Al-Uwla","حي العسكري الاولى",32.1834407975,46.0388291804,4,24,0,0,0,0,0,0,24,0,0,0,0,0,0,0,0,0,0,0,0,0,0,0,0,0,0,0,0,24,0,0,0,0,0,0,24,0,0,0,0,0,0,0,0,0,0,{"$f":"HYPERLINK(\"http://www.openstreetmap.org/?mlat=32.1834&mlon=46.0388&zoom=12#map=12/32.1834/46.0388\",\"Maplink1\")","v":"Maplink1"},{"$f":"HYPERLINK(\"https://www.google.iq/maps/search/+32.1834,46.0388/@32.1834,46.0388,14z?hl=en\",\"Maplink2\")","v":"Maplink2"},{"$f":"HYPERLINK(\"http://www.bing.com/maps/?lvl=14&sty=h&cp=32.1834~46.0388&sp=point.32.1834_46.0388\",\"Maplink3\")","v":"Maplink3"}]
[18732,"Wassit","Al-Hai","Al-Bashaer","Hay al-muaalimen al-thaniyah","حي المعلمين الثانية",32.1789094516,46.033313432,5,30,0,0,0,0,0,0,30,0,0,0,0,0,0,0,0,0,0,0,0,0,0,0,0,0,0,0,0,30,0,0,0,0,0,0,30,0,0,0,0,0,0,0,0,0,0,{"$f":"HYPERLINK(\"http://www.openstreetmap.org/?mlat=32.1789&mlon=46.0333&zoom=12#map=12/32.1789/46.0333\",\"Maplink1\")","v":"Maplink1"},{"$f":"HYPERLINK(\"https://www.google.iq/maps/search/+32.1789,46.0333/@32.1789,46.0333,14z?hl=en\",\"Maplink2\")","v":"Maplink2"},{"$f":"HYPERLINK(\"http://www.bing.com/maps/?lvl=14&sty=h&cp=32.1789~46.0333&sp=point.32.1789_46.0333\",\"Maplink3\")","v":"Maplink3"}]
[18722,"Wassit","Al-Hai","Al-Bashaer","Hay Al-Saray","حي السراي",32.1731556637,46.0443824809,6,36,0,0,0,0,0,0,36,0,0,0,0,0,0,0,0,0,0,0,0,0,0,0,0,0,0,0,0,36,0,0,0,0,0,0,0,36,0,0,0,0,0,0,0,0,0,{"$f":"HYPERLINK(\"http://www.openstreetmap.org/?mlat=32.1732&mlon=46.0444&zoom=12#map=12/32.1732/46.0444\",\"Maplink1\")","v":"Maplink1"},{"$f":"HYPERLINK(\"https://www.google.iq/maps/search/+32.1732,46.0444/@32.1732,46.0444,14z?hl=en\",\"Maplink2\")","v":"Maplink2"},{"$f":"HYPERLINK(\"http://www.bing.com/maps/?lvl=14&sty=h&cp=32.1732~46.0444&sp=point.32.1732_46.0444\",\"Maplink3\")","v":"Maplink3"}]
[24876,"Wassit","Al-Hai","Al-Mowafaqiya","Hay Al Ghadeer","حي الغدير",32.2730044999,45.927333557,5,30,0,0,0,0,0,0,30,0,0,0,0,0,0,0,0,0,0,0,0,0,0,0,0,0,0,0,0,30,0,0,0,0,0,0,30,0,0,0,0,0,0,0,0,0,0,{"$f":"HYPERLINK(\"http://www.openstreetmap.org/?mlat=32.273&mlon=45.9273&zoom=12#map=12/32.273/45.9273\",\"Maplink1\")","v":"Maplink1"},{"$f":"HYPERLINK(\"https://www.google.iq/maps/search/+32.273,45.9273/@32.273,45.9273,14z?hl=en\",\"Maplink2\")","v":"Maplink2"},{"$f":"HYPERLINK(\"http://www.bing.com/maps/?lvl=14&sty=h&cp=32.273~45.9273&sp=point.32.273_45.9273\",\"Maplink3\")","v":"Maplink3"}]
[18686,"Wassit","Al-Hai","Al-Mowafaqiya","Hay Al-Rasol","حي الرسول",32.2650001104,45.9282688253,5,30,0,0,0,0,0,0,30,0,0,0,0,0,0,0,0,0,0,0,0,0,0,0,0,0,0,0,0,30,0,0,0,0,0,0,30,0,0,0,0,0,0,0,0,0,0,{"$f":"HYPERLINK(\"http://www.openstreetmap.org/?mlat=32.265&mlon=45.9283&zoom=12#map=12/32.265/45.9283\",\"Maplink1\")","v":"Maplink1"},{"$f":"HYPERLINK(\"https://www.google.iq/maps/search/+32.265,45.9283/@32.265,45.9283,14z?hl=en\",\"Maplink2\")","v":"Maplink2"},{"$f":"HYPERLINK(\"http://www.bing.com/maps/?lvl=14&sty=h&cp=32.265~45.9283&sp=point.32.265_45.9283\",\"Maplink3\")","v":"Maplink3"}]
[24866,"Wassit","Al-Kut","Markaz Al-Kut","Hay Al-Kadhraa","حي الخضراء",32.5312008997,45.7841642578,8,48,0,0,0,0,0,0,48,0,0,0,0,0,0,0,0,0,0,0,0,0,0,0,0,0,0,0,0,48,0,0,0,0,0,0,48,0,0,0,0,0,0,0,0,0,0,{"$f":"HYPERLINK(\"http://www.openstreetmap.org/?mlat=32.5312&mlon=45.7842&zoom=12#map=12/32.5312/45.7842\",\"Maplink1\")","v":"Maplink1"},{"$f":"HYPERLINK(\"https://www.google.iq/maps/search/+32.5312,45.7842/@32.5312,45.7842,14z?hl=en\",\"Maplink2\")","v":"Maplink2"},{"$f":"HYPERLINK(\"http://www.bing.com/maps/?lvl=14&sty=h&cp=32.5312~45.7842&sp=point.32.5312_45.7842\",\"Maplink3\")","v":"Maplink3"}]
[27383,"Wassit","Al-Kut","Markaz Al-Kut","Hay Al Jawadeen Al-Thalitha","حي الجوادين الثالثه",32.5150618499,45.8536000343,10,60,0,0,0,0,0,0,60,0,0,0,0,0,0,0,0,0,0,0,0,0,0,0,0,0,0,0,0,60,0,0,0,0,0,0,60,0,0,0,0,0,0,0,0,0,0,{"$f":"HYPERLINK(\"http://www.openstreetmap.org/?mlat=32.5151&mlon=45.8536&zoom=12#map=12/32.5151/45.8536\",\"Maplink1\")","v":"Maplink1"},{"$f":"HYPERLINK(\"https://www.google.iq/maps/search/+32.5151,45.8536/@32.5151,45.8536,14z?hl=en\",\"Maplink2\")","v":"Maplink2"},{"$f":"HYPERLINK(\"http://www.bing.com/maps/?lvl=14&sty=h&cp=32.5151~45.8536&sp=point.32.5151_45.8536\",\"Maplink3\")","v":"Maplink3"}]
[25322,"Wassit","Al-Kut","Markaz Al-Kut","Anwar Al Sadur-Al-Ghader","انوار الصدر-الغدير",32.5137418918,45.8411093357,6,36,0,0,0,0,0,0,36,0,0,0,0,0,0,0,0,0,0,0,0,0,0,0,0,0,0,0,0,36,0,0,0,0,0,0,36,0,0,0,0,0,0,0,0,0,0,{"$f":"HYPERLINK(\"http://www.openstreetmap.org/?mlat=32.5137&mlon=45.8411&zoom=12#map=12/32.5137/45.8411\",\"Maplink1\")","v":"Maplink1"},{"$f":"HYPERLINK(\"https://www.google.iq/maps/search/+32.5137,45.8411/@32.5137,45.8411,14z?hl=en\",\"Maplink2\")","v":"Maplink2"},{"$f":"HYPERLINK(\"http://www.bing.com/maps/?lvl=14&sty=h&cp=32.5137~45.8411&sp=point.32.5137_45.8411\",\"Maplink3\")","v":"Maplink3"}]
[27276,"Wassit","Al-Kut","Markaz Al-Kut","Al-Umarat-Al-Mutamaizeen","العمارات المتميزين",32.5179969582,45.8016590125,18,108,0,0,0,0,0,0,108,0,0,0,0,0,0,0,0,0,0,0,0,0,0,0,0,0,0,0,0,108,0,0,0,0,0,0,108,0,0,0,0,0,0,0,0,0,0,{"$f":"HYPERLINK(\"http://www.openstreetmap.org/?mlat=32.518&mlon=45.8017&zoom=12#map=12/32.518/45.8017\",\"Maplink1\")","v":"Maplink1"},{"$f":"HYPERLINK(\"https://www.google.iq/maps/search/+32.518,45.8017/@32.518,45.8017,14z?hl=en\",\"Maplink2\")","v":"Maplink2"},{"$f":"HYPERLINK(\"http://www.bing.com/maps/?lvl=14&sty=h&cp=32.518~45.8017&sp=point.32.518_45.8017\",\"Maplink3\")","v":"Maplink3"}]
[23256,"Wassit","Al-Kut","Markaz Al-Kut","Al Hasan Al Askari","الحسن العسكري",32.5315726466,45.7917867268,49,294,0,0,0,0,0,0,294,0,0,0,0,0,0,0,0,0,0,0,0,0,42,0,0,252,0,0,0,0,0,0,0,0,0,0,252,42,0,0,0,0,0,0,0,0,0,{"$f":"HYPERLINK(\"http://www.openstreetmap.org/?mlat=32.5316&mlon=45.7918&zoom=12#map=12/32.5316/45.7918\",\"Maplink1\")","v":"Maplink1"},{"$f":"HYPERLINK(\"https://www.google.iq/maps/search/+32.5316,45.7918/@32.5316,45.7918,14z?hl=en\",\"Maplink2\")","v":"Maplink2"},{"$f":"HYPERLINK(\"http://www.bing.com/maps/?lvl=14&sty=h&cp=32.5316~45.7918&sp=point.32.5316_45.7918\",\"Maplink3\")","v":"Maplink3"}]
[19546,"Wassit","Al-Kut","Markaz Al-Kut","Al Maimoon","الميمون",32.528903785,45.8047098565,7,42,0,0,0,0,0,0,42,0,0,0,0,0,0,0,0,0,0,0,0,0,0,0,0,0,0,0,0,42,0,0,0,0,0,0,42,0,0,0,0,0,0,0,0,0,0,{"$f":"HYPERLINK(\"http://www.openstreetmap.org/?mlat=32.5289&mlon=45.8047&zoom=12#map=12/32.5289/45.8047\",\"Maplink1\")","v":"Maplink1"},{"$f":"HYPERLINK(\"https://www.google.iq/maps/search/+32.5289,45.8047/@32.5289,45.8047,14z?hl=en\",\"Maplink2\")","v":"Maplink2"},{"$f":"HYPERLINK(\"http://www.bing.com/maps/?lvl=14&sty=h&cp=32.5289~45.8047&sp=point.32.5289_45.8047\",\"Maplink3\")","v":"Maplink3"}]
[25108,"Wassit","Al-Kut","Markaz Al-Kut","Al-Eza Al-Qadima","العزة القديمة",32.4960144931,45.8138252876,8,48,0,0,0,0,0,0,48,0,0,0,0,0,0,0,0,0,0,0,0,0,18,0,0,0,0,0,0,30,0,0,0,0,0,0,18,30,0,0,0,0,0,0,0,0,0,{"$f":"HYPERLINK(\"http://www.openstreetmap.org/?mlat=32.496&mlon=45.8138&zoom=12#map=12/32.496/45.8138\",\"Maplink1\")","v":"Maplink1"},{"$f":"HYPERLINK(\"https://www.google.iq/maps/search/+32.496,45.8138/@32.496,45.8138,14z?hl=en\",\"Maplink2\")","v":"Maplink2"},{"$f":"HYPERLINK(\"http://www.bing.com/maps/?lvl=14&sty=h&cp=32.496~45.8138&sp=point.32.496_45.8138\",\"Maplink3\")","v":"Maplink3"}]
[21868,"Wassit","Al-Kut","Markaz Al-Kut","Anwar Al Sadur","انوار الصدر",32.5213621601,45.8438234702,9,54,0,0,0,0,0,0,54,0,0,0,0,0,0,0,0,0,0,0,0,0,0,0,0,0,0,0,0,54,0,0,0,0,0,0,0,54,0,0,0,0,0,0,0,0,0,{"$f":"HYPERLINK(\"http://www.openstreetmap.org/?mlat=32.5214&mlon=45.8438&zoom=12#map=12/32.5214/45.8438\",\"Maplink1\")","v":"Maplink1"},{"$f":"HYPERLINK(\"https://www.google.iq/maps/search/+32.5214,45.8438/@32.5214,45.8438,14z?hl=en\",\"Maplink2\")","v":"Maplink2"},{"$f":"HYPERLINK(\"http://www.bing.com/maps/?lvl=14&sty=h&cp=32.5214~45.8438&sp=point.32.5214_45.8438\",\"Maplink3\")","v":"Maplink3"}]
[27277,"Wassit","Al-Kut","Markaz Al-Kut","Al Hakeem Al-Ula","الحكيم الأولى",32.5300390678,45.8394977428,8,48,0,0,0,0,0,0,48,0,0,0,0,0,0,0,0,0,0,0,0,0,0,0,0,0,0,0,0,48,0,0,0,0,0,0,48,0,0,0,0,0,0,0,0,0,0,{"$f":"HYPERLINK(\"http://www.openstreetmap.org/?mlat=32.53&mlon=45.8395&zoom=12#map=12/32.53/45.8395\",\"Maplink1\")","v":"Maplink1"},{"$f":"HYPERLINK(\"https://www.google.iq/maps/search/+32.53,45.8395/@32.53,45.8395,14z?hl=en\",\"Maplink2\")","v":"Maplink2"},{"$f":"HYPERLINK(\"http://www.bing.com/maps/?lvl=14&sty=h&cp=32.53~45.8395&sp=point.32.53_45.8395\",\"Maplink3\")","v":"Maplink3"}]
[24826,"Wassit","Al-Kut","Markaz Al-Kut","Hay Al-Karar","حي الكرار",32.5259085472,45.8219087531,8,48,0,0,0,0,0,0,48,0,0,0,0,0,0,0,0,0,0,0,0,0,0,0,0,0,0,0,0,48,0,0,0,0,0,0,48,0,0,0,0,0,0,0,0,0,0,{"$f":"HYPERLINK(\"http://www.openstreetmap.org/?mlat=32.5259&mlon=45.8219&zoom=12#map=12/32.5259/45.8219\",\"Maplink1\")","v":"Maplink1"},{"$f":"HYPERLINK(\"https://www.google.iq/maps/search/+32.5259,45.8219/@32.5259,45.8219,14z?hl=en\",\"Maplink2\")","v":"Maplink2"},{"$f":"HYPERLINK(\"http://www.bing.com/maps/?lvl=14&sty=h&cp=32.5259~45.8219&sp=point.32.5259_45.8219\",\"Maplink3\")","v":"Maplink3"}]
[24787,"Wassit","Al-Kut","Markaz Al-Kut","Sewada Said Shati","سوادة وسيد شاطي",32.5945613585,45.942737268,8,48,0,0,0,0,0,0,48,0,0,0,0,0,0,0,0,0,0,0,0,0,0,0,0,0,0,0,0,48,0,0,0,0,0,0,48,0,0,0,0,0,0,0,0,0,0,{"$f":"HYPERLINK(\"http://www.openstreetmap.org/?mlat=32.5946&mlon=45.9427&zoom=12#map=12/32.5946/45.9427\",\"Maplink1\")","v":"Maplink1"},{"$f":"HYPERLINK(\"https://www.google.iq/maps/search/+32.5946,45.9427/@32.5946,45.9427,14z?hl=en\",\"Maplink2\")","v":"Maplink2"},{"$f":"HYPERLINK(\"http://www.bing.com/maps/?lvl=14&sty=h&cp=32.5946~45.9427&sp=point.32.5946_45.9427\",\"Maplink3\")","v":"Maplink3"}]
[20872,"Wassit","Al-Kut","Markaz Al-Kut","Hay Al-Hakeem","حي الحكيم",32.5458995948,45.864472577,21,126,0,0,0,0,0,126,0,0,0,0,0,0,0,0,0,0,0,0,0,0,0,0,0,0,0,0,0,126,0,0,0,0,0,18,108,0,0,0,0,0,0,0,0,0,0,{"$f":"HYPERLINK(\"http://www.openstreetmap.org/?mlat=32.5459&mlon=45.8645&zoom=12#map=12/32.5459/45.8645\",\"Maplink1\")","v":"Maplink1"},{"$f":"HYPERLINK(\"https://www.google.iq/maps/search/+32.5459,45.8645/@32.5459,45.8645,14z?hl=en\",\"Maplink2\")","v":"Maplink2"},{"$f":"HYPERLINK(\"http://www.bing.com/maps/?lvl=14&sty=h&cp=32.5459~45.8645&sp=point.32.5459_45.8645\",\"Maplink3\")","v":"Maplink3"}]
[27278,"Wassit","Al-Kut","Markaz Al-Kut","Al Hakeem Al-Thania","الحكيم الثانيه",32.5422855533,45.8611489731,9,54,0,0,0,0,0,0,54,0,0,0,0,0,0,0,0,0,0,0,0,0,0,0,0,0,0,0,0,54,0,0,0,0,0,0,54,0,0,0,0,0,0,0,0,0,0,{"$f":"HYPERLINK(\"http://www.openstreetmap.org/?mlat=32.5423&mlon=45.8611&zoom=12#map=12/32.5423/45.8611\",\"Maplink1\")","v":"Maplink1"},{"$f":"HYPERLINK(\"https://www.google.iq/maps/search/+32.5423,45.8611/@32.5423,45.8611,14z?hl=en\",\"Maplink2\")","v":"Maplink2"},{"$f":"HYPERLINK(\"http://www.bing.com/maps/?lvl=14&sty=h&cp=32.5423~45.8611&sp=point.32.5423_45.8611\",\"Maplink3\")","v":"Maplink3"}]
[19554,"Wassit","Al-Kut","Markaz Al-Kut","Damook-Al-Hurriya","داموك الحرية",32.5368922486,45.823575888,5,30,0,0,0,0,0,0,30,0,0,0,0,0,0,0,0,30,0,0,0,0,0,0,0,0,0,0,0,0,0,0,0,0,0,0,0,0,0,30,0,0,0,0,0,0,0,{"$f":"HYPERLINK(\"http://www.openstreetmap.org/?mlat=32.5369&mlon=45.8236&zoom=12#map=12/32.5369/45.8236\",\"Maplink1\")","v":"Maplink1"},{"$f":"HYPERLINK(\"https://www.google.iq/maps/search/+32.5369,45.8236/@32.5369,45.8236,14z?hl=en\",\"Maplink2\")","v":"Maplink2"},{"$f":"HYPERLINK(\"http://www.bing.com/maps/?lvl=14&sty=h&cp=32.5369~45.8236&sp=point.32.5369_45.8236\",\"Maplink3\")","v":"Maplink3"}]
[27275,"Wassit","Al-Kut","Markaz Al-Kut","Al-Hassan Al-Askari Al-Thania","الحسن العسكري الثانيه",32.534862687,45.7452011239,20,120,0,0,0,0,0,0,120,0,0,0,0,0,0,0,0,0,0,0,0,0,60,0,0,0,0,0,0,60,0,0,0,0,0,0,120,0,0,0,0,0,0,0,0,0,0,{"$f":"HYPERLINK(\"http://www.openstreetmap.org/?mlat=32.5349&mlon=45.7452&zoom=12#map=12/32.5349/45.7452\",\"Maplink1\")","v":"Maplink1"},{"$f":"HYPERLINK(\"https://www.google.iq/maps/search/+32.5349,45.7452/@32.5349,45.7452,14z?hl=en\",\"Maplink2\")","v":"Maplink2"},{"$f":"HYPERLINK(\"http://www.bing.com/maps/?lvl=14&sty=h&cp=32.5349~45.7452&sp=point.32.5349_45.7452\",\"Maplink3\")","v":"Maplink3"}]
[19548,"Wassit","Al-Kut","Markaz Al-Kut","Al Batar village","قرية البتار",32.5681094553,45.6474729103,20,120,0,0,0,0,0,0,120,0,0,0,0,0,0,0,0,0,0,0,0,0,0,0,0,0,0,0,0,120,0,0,0,0,0,0,120,0,0,0,0,0,0,0,0,0,0,{"$f":"HYPERLINK(\"http://www.openstreetmap.org/?mlat=32.5681&mlon=45.6475&zoom=12#map=12/32.5681/45.6475\",\"Maplink1\")","v":"Maplink1"},{"$f":"HYPERLINK(\"https://www.google.iq/maps/search/+32.5681,45.6475/@32.5681,45.6475,14z?hl=en\",\"Maplink2\")","v":"Maplink2"},{"$f":"HYPERLINK(\"http://www.bing.com/maps/?lvl=14&sty=h&cp=32.5681~45.6475&sp=point.32.5681_45.6475\",\"Maplink3\")","v":"Maplink3"}]
[23703,"Wassit","Al-Kut","Markaz Al-Kut","Al Hoqoqein","الحقوقيين",32.5393520972,45.8247908228,6,36,0,0,0,0,0,0,36,0,0,0,0,0,0,0,0,0,0,0,0,0,0,0,0,0,0,0,0,36,0,0,0,0,0,0,0,0,36,0,0,0,0,0,0,0,0,{"$f":"HYPERLINK(\"http://www.openstreetmap.org/?mlat=32.5394&mlon=45.8248&zoom=12#map=12/32.5394/45.8248\",\"Maplink1\")","v":"Maplink1"},{"$f":"HYPERLINK(\"https://www.google.iq/maps/search/+32.5394,45.8248/@32.5394,45.8248,14z?hl=en\",\"Maplink2\")","v":"Maplink2"},{"$f":"HYPERLINK(\"http://www.bing.com/maps/?lvl=14&sty=h&cp=32.5394~45.8248&sp=point.32.5394_45.8248\",\"Maplink3\")","v":"Maplink3"}]
[23968,"Wassit","Al-Kut","Markaz Al-Kut","Hay Al Wehda","حي الوحدة",32.5041152462,45.8307755671,8,48,0,0,0,0,0,0,48,0,0,0,0,0,0,0,0,0,0,0,0,0,0,0,0,0,0,0,0,48,0,0,0,0,0,0,0,48,0,0,0,0,0,0,0,0,0,{"$f":"HYPERLINK(\"http://www.openstreetmap.org/?mlat=32.5041&mlon=45.8308&zoom=12#map=12/32.5041/45.8308\",\"Maplink1\")","v":"Maplink1"},{"$f":"HYPERLINK(\"https://www.google.iq/maps/search/+32.5041,45.8308/@32.5041,45.8308,14z?hl=en\",\"Maplink2\")","v":"Maplink2"},{"$f":"HYPERLINK(\"http://www.bing.com/maps/?lvl=14&sty=h&cp=32.5041~45.8308&sp=point.32.5041_45.8308\",\"Maplink3\")","v":"Maplink3"}]
[19531,"Wassit","Al-Kut","Markaz Al-Kut","Hay Al-Shuhadaa","حي الشهداء",32.5465126668,45.8267177209,8,48,0,0,0,0,0,0,48,0,0,0,0,0,0,0,0,0,0,0,0,0,0,0,0,0,0,0,0,48,0,0,0,0,0,0,48,0,0,0,0,0,0,0,0,0,0,{"$f":"HYPERLINK(\"http://www.openstreetmap.org/?mlat=32.5465&mlon=45.8267&zoom=12#map=12/32.5465/45.8267\",\"Maplink1\")","v":"Maplink1"},{"$f":"HYPERLINK(\"https://www.google.iq/maps/search/+32.5465,45.8267/@32.5465,45.8267,14z?hl=en\",\"Maplink2\")","v":"Maplink2"},{"$f":"HYPERLINK(\"http://www.bing.com/maps/?lvl=14&sty=h&cp=32.5465~45.8267&sp=point.32.5465_45.8267\",\"Maplink3\")","v":"Maplink3"}]
[19541,"Wassit","Al-Kut","Markaz Al-Kut","Khajia –Hay Al Rassol","الخاجية حي الرسول",32.5284854823,45.7963372378,7,42,0,0,0,0,0,0,42,0,0,0,0,0,0,0,0,0,0,0,0,0,0,0,0,0,0,0,0,42,0,0,0,0,0,0,42,0,0,0,0,0,0,0,0,0,0,{"$f":"HYPERLINK(\"http://www.openstreetmap.org/?mlat=32.5285&mlon=45.7963&zoom=12#map=12/32.5285/45.7963\",\"Maplink1\")","v":"Maplink1"},{"$f":"HYPERLINK(\"https://www.google.iq/maps/search/+32.5285,45.7963/@32.5285,45.7963,14z?hl=en\",\"Maplink2\")","v":"Maplink2"},{"$f":"HYPERLINK(\"http://www.bing.com/maps/?lvl=14&sty=h&cp=32.5285~45.7963&sp=point.32.5285_45.7963\",\"Maplink3\")","v":"Maplink3"}]
[19064,"Wassit","Al-Kut","Markaz Al-Kut","Door al-Umal","دور العمال",32.5292883651,45.8249150359,8,48,0,0,0,0,0,0,48,0,0,0,0,0,0,0,0,0,0,0,0,0,0,0,0,0,0,0,0,48,0,0,0,0,0,0,48,0,0,0,0,0,0,0,0,0,0,{"$f":"HYPERLINK(\"http://www.openstreetmap.org/?mlat=32.5293&mlon=45.8249&zoom=12#map=12/32.5293/45.8249\",\"Maplink1\")","v":"Maplink1"},{"$f":"HYPERLINK(\"https://www.google.iq/maps/search/+32.5293,45.8249/@32.5293,45.8249,14z?hl=en\",\"Maplink2\")","v":"Maplink2"},{"$f":"HYPERLINK(\"http://www.bing.com/maps/?lvl=14&sty=h&cp=32.5293~45.8249&sp=point.32.5293_45.8249\",\"Maplink3\")","v":"Maplink3"}]
[25587,"Wassit","Al-Kut","Markaz Al-Kut","Hay Al-Abassya","حي العباسية",32.5013724646,45.8263207697,7,42,0,0,0,0,0,0,42,0,0,0,0,0,0,0,0,0,0,0,0,0,0,0,0,0,0,0,0,42,0,0,0,0,0,0,42,0,0,0,0,0,0,0,0,0,0,{"$f":"HYPERLINK(\"http://www.openstreetmap.org/?mlat=32.5014&mlon=45.8263&zoom=12#map=12/32.5014/45.8263\",\"Maplink1\")","v":"Maplink1"},{"$f":"HYPERLINK(\"https://www.google.iq/maps/search/+32.5014,45.8263/@32.5014,45.8263,14z?hl=en\",\"Maplink2\")","v":"Maplink2"},{"$f":"HYPERLINK(\"http://www.bing.com/maps/?lvl=14&sty=h&cp=32.5014~45.8263&sp=point.32.5014_45.8263\",\"Maplink3\")","v":"Maplink3"}]
[25104,"Wassit","Al-Kut","Markaz Al-Kut","Al-Shuhadaa 3","الشهداء الثالثة",32.5423266198,45.8235539314,6,36,0,0,0,0,0,0,36,0,0,0,0,0,0,0,0,0,0,0,0,0,36,0,0,0,0,0,0,0,0,0,0,0,0,0,0,36,0,0,0,0,0,0,0,0,0,{"$f":"HYPERLINK(\"http://www.openstreetmap.org/?mlat=32.5423&mlon=45.8236&zoom=12#map=12/32.5423/45.8236\",\"Maplink1\")","v":"Maplink1"},{"$f":"HYPERLINK(\"https://www.google.iq/maps/search/+32.5423,45.8236/@32.5423,45.8236,14z?hl=en\",\"Maplink2\")","v":"Maplink2"},{"$f":"HYPERLINK(\"http://www.bing.com/maps/?lvl=14&sty=h&cp=32.5423~45.8236&sp=point.32.5423_45.8236\",\"Maplink3\")","v":"Maplink3"}]
[24758,"Wassit","Al-Kut","Markaz Al-Kut","Damook Al-Dhbat","داموك الضباط",32.5298951066,45.8322775496,7,42,0,0,0,0,0,0,42,0,0,0,0,0,0,0,0,0,0,0,0,0,0,0,0,0,0,0,0,42,0,0,0,0,0,0,0,42,0,0,0,0,0,0,0,0,0,{"$f":"HYPERLINK(\"http://www.openstreetmap.org/?mlat=32.5299&mlon=45.8323&zoom=12#map=12/32.5299/45.8323\",\"Maplink1\")","v":"Maplink1"},{"$f":"HYPERLINK(\"https://www.google.iq/maps/search/+32.5299,45.8323/@32.5299,45.8323,14z?hl=en\",\"Maplink2\")","v":"Maplink2"},{"$f":"HYPERLINK(\"http://www.bing.com/maps/?lvl=14&sty=h&cp=32.5299~45.8323&sp=point.32.5299_45.8323\",\"Maplink3\")","v":"Maplink3"}]
[19070,"Wassit","Al-Kut","Markaz Al-Kut","Hay al-zahraa","حي الزهراء",32.5238505715,45.8184947275,8,48,0,0,0,0,0,0,48,0,0,0,0,0,0,0,0,0,0,0,0,0,0,0,0,0,0,0,0,48,0,0,0,0,0,0,0,48,0,0,0,0,0,0,0,0,0,{"$f":"HYPERLINK(\"http://www.openstreetmap.org/?mlat=32.5239&mlon=45.8185&zoom=12#map=12/32.5239/45.8185\",\"Maplink1\")","v":"Maplink1"},{"$f":"HYPERLINK(\"https://www.google.iq/maps/search/+32.5239,45.8185/@32.5239,45.8185,14z?hl=en\",\"Maplink2\")","v":"Maplink2"},{"$f":"HYPERLINK(\"http://www.bing.com/maps/?lvl=14&sty=h&cp=32.5239~45.8185&sp=point.32.5239_45.8185\",\"Maplink3\")","v":"Maplink3"}]
[23967,"Wassit","Al-Kut","Markaz Al-Kut","Al Muhandseen-Al Amarat Al Sakaniyah","المهندسين-العمارات السكنية",32.5171449565,45.8100842755,13,78,0,0,0,0,0,0,78,0,0,0,0,0,0,0,0,0,0,0,0,0,0,0,0,0,0,0,0,78,0,0,0,0,0,0,78,0,0,0,0,0,0,0,0,0,0,{"$f":"HYPERLINK(\"http://www.openstreetmap.org/?mlat=32.5171&mlon=45.8101&zoom=12#map=12/32.5171/45.8101\",\"Maplink1\")","v":"Maplink1"},{"$f":"HYPERLINK(\"https://www.google.iq/maps/search/+32.5171,45.8101/@32.5171,45.8101,14z?hl=en\",\"Maplink2\")","v":"Maplink2"},{"$f":"HYPERLINK(\"http://www.bing.com/maps/?lvl=14&sty=h&cp=32.5171~45.8101&sp=point.32.5171_45.8101\",\"Maplink3\")","v":"Maplink3"}]
[19555,"Wassit","Al-Kut","Markaz Al-Kut","Damook 150","داموك 150",32.5320366295,45.8215764659,15,90,0,0,0,0,0,0,90,0,0,0,0,0,0,0,0,0,0,0,0,0,0,0,0,48,0,0,0,42,0,0,0,0,0,0,48,42,0,0,0,0,0,0,0,0,0,{"$f":"HYPERLINK(\"http://www.openstreetmap.org/?mlat=32.532&mlon=45.8216&zoom=12#map=12/32.532/45.8216\",\"Maplink1\")","v":"Maplink1"},{"$f":"HYPERLINK(\"https://www.google.iq/maps/search/+32.532,45.8216/@32.532,45.8216,14z?hl=en\",\"Maplink2\")","v":"Maplink2"},{"$f":"HYPERLINK(\"http://www.bing.com/maps/?lvl=14&sty=h&cp=32.532~45.8216&sp=point.32.532_45.8216\",\"Maplink3\")","v":"Maplink3"}]
[24262,"Wassit","Al-Kut","Markaz Al-Kut","Hay Al Jawadeen Al-Ula","حي الجوادين الاولى",32.5176229116,45.8424272729,12,72,0,0,0,0,0,0,72,0,0,0,0,0,0,0,0,0,0,0,0,0,0,0,0,0,0,0,0,72,0,0,0,0,0,0,72,0,0,0,0,0,0,0,0,0,0,{"$f":"HYPERLINK(\"http://www.openstreetmap.org/?mlat=32.5176&mlon=45.8424&zoom=12#map=12/32.5176/45.8424\",\"Maplink1\")","v":"Maplink1"},{"$f":"HYPERLINK(\"https://www.google.iq/maps/search/+32.5176,45.8424/@32.5176,45.8424,14z?hl=en\",\"Maplink2\")","v":"Maplink2"},{"$f":"HYPERLINK(\"http://www.bing.com/maps/?lvl=14&sty=h&cp=32.5176~45.8424&sp=point.32.5176_45.8424\",\"Maplink3\")","v":"Maplink3"}]
[24785,"Wassit","Al-Kut","Wasit","Al-Wafdin Al-Sadrain","الوافدين الصدرين",32.4828476823,45.9068327297,8,48,0,0,0,0,0,0,48,0,0,0,0,0,0,0,0,0,0,0,0,0,0,0,0,0,0,0,0,48,0,0,0,0,0,0,48,0,0,0,0,0,0,0,0,0,0,{"$f":"HYPERLINK(\"http://www.openstreetmap.org/?mlat=32.4828&mlon=45.9068&zoom=12#map=12/32.4828/45.9068\",\"Maplink1\")","v":"Maplink1"},{"$f":"HYPERLINK(\"https://www.google.iq/maps/search/+32.4828,45.9068/@32.4828,45.9068,14z?hl=en\",\"Maplink2\")","v":"Maplink2"},{"$f":"HYPERLINK(\"http://www.bing.com/maps/?lvl=14&sty=h&cp=32.4828~45.9068&sp=point.32.4828_45.9068\",\"Maplink3\")","v":"Maplink3"}]
[24882,"Wassit","Al-Kut","Wasit","Al-Zahra Al-Karavanat","الزهراء الكرفانات",32.46263131,46.0792003323,4,24,0,0,0,24,0,0,0,0,0,0,0,0,0,0,0,0,0,0,0,0,0,0,0,0,0,0,0,24,0,0,0,0,0,0,24,0,0,0,0,0,0,0,0,0,0,{"$f":"HYPERLINK(\"http://www.openstreetmap.org/?mlat=32.4626&mlon=46.0792&zoom=12#map=12/32.4626/46.0792\",\"Maplink1\")","v":"Maplink1"},{"$f":"HYPERLINK(\"https://www.google.iq/maps/search/+32.4626,46.0792/@32.4626,46.0792,14z?hl=en\",\"Maplink2\")","v":"Maplink2"},{"$f":"HYPERLINK(\"http://www.bing.com/maps/?lvl=14&sty=h&cp=32.4626~46.0792&sp=point.32.4626_46.0792\",\"Maplink3\")","v":"Maplink3"}]
[24640,"Wassit","Al-Kut","Wasit","Al-Jihad-Al-Zanabra","الجهاد-الزنابرة",32.4735534512,45.812682897,14,84,0,0,0,0,0,0,84,0,0,0,0,0,0,0,0,0,0,0,0,0,0,0,0,0,0,0,0,84,0,0,0,0,0,0,84,0,0,0,0,0,0,0,0,0,0,{"$f":"HYPERLINK(\"http://www.openstreetmap.org/?mlat=32.4736&mlon=45.8127&zoom=12#map=12/32.4736/45.8127\",\"Maplink1\")","v":"Maplink1"},{"$f":"HYPERLINK(\"https://www.google.iq/maps/search/+32.4736,45.8127/@32.4736,45.8127,14z?hl=en\",\"Maplink2\")","v":"Maplink2"},{"$f":"HYPERLINK(\"http://www.bing.com/maps/?lvl=14&sty=h&cp=32.4736~45.8127&sp=point.32.4736_45.8127\",\"Maplink3\")","v":"Maplink3"}]
[22693,"Wassit","Al-Kut","Wasit","Al-Jihad-Al Thaqalain","الجهاد-الثقلين",32.4826684292,45.8147286806,17,102,0,0,0,0,0,0,102,0,0,0,0,0,0,0,0,0,0,0,0,0,0,0,0,0,0,0,0,102,0,0,0,0,0,0,102,0,0,0,0,0,0,0,0,0,0,{"$f":"HYPERLINK(\"http://www.openstreetmap.org/?mlat=32.4827&mlon=45.8147&zoom=12#map=12/32.4827/45.8147\",\"Maplink1\")","v":"Maplink1"},{"$f":"HYPERLINK(\"https://www.google.iq/maps/search/+32.4827,45.8147/@32.4827,45.8147,14z?hl=en\",\"Maplink2\")","v":"Maplink2"},{"$f":"HYPERLINK(\"http://www.bing.com/maps/?lvl=14&sty=h&cp=32.4827~45.8147&sp=point.32.4827_45.8147\",\"Maplink3\")","v":"Maplink3"}]
[25103,"Wassit","Al-Kut","Wasit","Al-Jihad Al-Zahraa","الجهاد الزهراء",32.4790594181,45.8137960458,14,84,0,0,0,0,0,0,84,0,0,0,0,0,0,0,0,0,0,0,0,0,0,0,0,0,0,0,0,84,0,0,0,0,0,0,84,0,0,0,0,0,0,0,0,0,0,{"$f":"HYPERLINK(\"http://www.openstreetmap.org/?mlat=32.4791&mlon=45.8138&zoom=12#map=12/32.4791/45.8138\",\"Maplink1\")","v":"Maplink1"},{"$f":"HYPERLINK(\"https://www.google.iq/maps/search/+32.4791,45.8138/@32.4791,45.8138,14z?hl=en\",\"Maplink2\")","v":"Maplink2"},{"$f":"HYPERLINK(\"http://www.bing.com/maps/?lvl=14&sty=h&cp=32.4791~45.8138&sp=point.32.4791_45.8138\",\"Maplink3\")","v":"Maplink3"}]
[25109,"Wassit","Al-Kut","Wasit","Al-Eza Al-Jadida","العزة الجديدة",32.4835703606,45.8263743396,8,48,0,0,0,0,0,0,48,0,0,0,0,0,0,0,0,0,0,0,0,0,0,0,0,0,0,0,0,48,0,0,0,0,0,0,48,0,0,0,0,0,0,0,0,0,0,{"$f":"HYPERLINK(\"http://www.openstreetmap.org/?mlat=32.4836&mlon=45.8264&zoom=12#map=12/32.4836/45.8264\",\"Maplink1\")","v":"Maplink1"},{"$f":"HYPERLINK(\"https://www.google.iq/maps/search/+32.4836,45.8264/@32.4836,45.8264,14z?hl=en\",\"Maplink2\")","v":"Maplink2"},{"$f":"HYPERLINK(\"http://www.bing.com/maps/?lvl=14&sty=h&cp=32.4836~45.8264&sp=point.32.4836_45.8264\",\"Maplink3\")","v":"Maplink3"}]
[25106,"Wassit","Al-Kut","Wasit","Al-Jihad-Al-Sajad","الجهاد-السجاد",32.4740242855,45.819185269,10,60,0,0,0,0,0,0,60,0,0,0,0,0,0,0,0,0,0,0,0,0,0,0,0,0,0,0,0,60,0,0,0,0,0,0,60,0,0,0,0,0,0,0,0,0,0,{"$f":"HYPERLINK(\"http://www.openstreetmap.org/?mlat=32.474&mlon=45.8192&zoom=12#map=12/32.474/45.8192\",\"Maplink1\")","v":"Maplink1"},{"$f":"HYPERLINK(\"https://www.google.iq/maps/search/+32.474,45.8192/@32.474,45.8192,14z?hl=en\",\"Maplink2\")","v":"Maplink2"},{"$f":"HYPERLINK(\"http://www.bing.com/maps/?lvl=14&sty=h&cp=32.474~45.8192&sp=point.32.474_45.8192\",\"Maplink3\")","v":"Maplink3"}]
[19524,"Wassit","Al-Kut","Wasit","Al Gardhia","الكارضية",32.5280850435,45.9079638009,8,48,0,0,0,0,0,0,48,0,0,0,0,0,0,0,0,0,0,0,0,0,0,0,0,0,0,0,0,48,0,0,0,0,0,0,48,0,0,0,0,0,0,0,0,0,0,{"$f":"HYPERLINK(\"http://www.openstreetmap.org/?mlat=32.5281&mlon=45.908&zoom=12#map=12/32.5281/45.908\",\"Maplink1\")","v":"Maplink1"},{"$f":"HYPERLINK(\"https://www.google.iq/maps/search/+32.5281,45.908/@32.5281,45.908,14z?hl=en\",\"Maplink2\")","v":"Maplink2"},{"$f":"HYPERLINK(\"http://www.bing.com/maps/?lvl=14&sty=h&cp=32.5281~45.908&sp=point.32.5281_45.908\",\"Maplink3\")","v":"Maplink3"}]
[24261,"Wassit","Al-Kut","Wasit","Hay Al-Hawaraa 3","حي الحوراء الثالثة",32.4857188842,45.8428810123,56,336,0,0,0,0,0,0,0,0,0,336,0,0,0,0,0,48,0,0,0,0,0,0,0,0,0,0,0,288,0,0,0,0,0,48,288,0,0,0,0,0,0,0,0,0,0,{"$f":"HYPERLINK(\"http://www.openstreetmap.org/?mlat=32.4857&mlon=45.8429&zoom=12#map=12/32.4857/45.8429\",\"Maplink1\")","v":"Maplink1"},{"$f":"HYPERLINK(\"https://www.google.iq/maps/search/+32.4857,45.8429/@32.4857,45.8429,14z?hl=en\",\"Maplink2\")","v":"Maplink2"},{"$f":"HYPERLINK(\"http://www.bing.com/maps/?lvl=14&sty=h&cp=32.4857~45.8429&sp=point.32.4857_45.8429\",\"Maplink3\")","v":"Maplink3"}]
[24883,"Wassit","Al-Kut","Wasit","Al Uroba 1","العروبة الاولى",32.4557382094,46.0714132697,5,30,0,0,0,0,0,0,30,0,0,0,0,0,0,0,0,0,0,0,0,0,0,0,0,0,0,0,0,30,0,0,0,0,0,0,30,0,0,0,0,0,0,0,0,0,0,{"$f":"HYPERLINK(\"http://www.openstreetmap.org/?mlat=32.4557&mlon=46.0714&zoom=12#map=12/32.4557/46.0714\",\"Maplink1\")","v":"Maplink1"},{"$f":"HYPERLINK(\"https://www.google.iq/maps/search/+32.4557,46.0714/@32.4557,46.0714,14z?hl=en\",\"Maplink2\")","v":"Maplink2"},{"$f":"HYPERLINK(\"http://www.bing.com/maps/?lvl=14&sty=h&cp=32.4557~46.0714&sp=point.32.4557_46.0714\",\"Maplink3\")","v":"Maplink3"}]
[22112,"Wassit","Al-Kut","Wasit","Al-Jihad-Al Shaheed Dawood","الجهاد-الشهيد داود",32.477549746,45.8214702471,16,96,0,0,0,0,0,0,96,0,0,0,0,0,0,0,0,0,0,0,0,0,0,0,0,0,0,0,0,96,0,0,0,0,0,0,96,0,0,0,0,0,0,0,0,0,0,{"$f":"HYPERLINK(\"http://www.openstreetmap.org/?mlat=32.4775&mlon=45.8215&zoom=12#map=12/32.4775/45.8215\",\"Maplink1\")","v":"Maplink1"},{"$f":"HYPERLINK(\"https://www.google.iq/maps/search/+32.4775,45.8215/@32.4775,45.8215,14z?hl=en\",\"Maplink2\")","v":"Maplink2"},{"$f":"HYPERLINK(\"http://www.bing.com/maps/?lvl=14&sty=h&cp=32.4775~45.8215&sp=point.32.4775_45.8215\",\"Maplink3\")","v":"Maplink3"}]
[19049,"Wassit","Al-Namaniya","Al-Ahrar","Al-Ahrar city center","الاحرار المركز",32.5204072467,45.6088611757,14,84,0,0,0,0,0,0,84,0,0,0,0,0,0,0,0,0,0,0,0,0,0,0,0,30,0,0,0,54,0,0,0,0,0,0,84,0,0,0,0,0,0,0,0,0,0,{"$f":"HYPERLINK(\"http://www.openstreetmap.org/?mlat=32.5204&mlon=45.6089&zoom=12#map=12/32.5204/45.6089\",\"Maplink1\")","v":"Maplink1"},{"$f":"HYPERLINK(\"https://www.google.iq/maps/search/+32.5204,45.6089/@32.5204,45.6089,14z?hl=en\",\"Maplink2\")","v":"Maplink2"},{"$f":"HYPERLINK(\"http://www.bing.com/maps/?lvl=14&sty=h&cp=32.5204~45.6089&sp=point.32.5204_45.6089\",\"Maplink3\")","v":"Maplink3"}]
[25096,"Wassit","Al-Namaniya","Markaz Al-Noamaniya","Al-Hakeem villge","قرية الحكيم",32.54559994,45.3831816925,8,48,0,0,0,48,0,0,0,0,0,0,0,0,0,0,0,0,0,0,0,0,0,0,0,48,0,0,0,0,0,0,0,0,0,48,0,0,0,0,0,0,0,0,0,0,0,{"$f":"HYPERLINK(\"http://www.openstreetmap.org/?mlat=32.5456&mlon=45.3832&zoom=12#map=12/32.5456/45.3832\",\"Maplink1\")","v":"Maplink1"},{"$f":"HYPERLINK(\"https://www.google.iq/maps/search/+32.5456,45.3832/@32.5456,45.3832,14z?hl=en\",\"Maplink2\")","v":"Maplink2"},{"$f":"HYPERLINK(\"http://www.bing.com/maps/?lvl=14&sty=h&cp=32.5456~45.3832&sp=point.32.5456_45.3832\",\"Maplink3\")","v":"Maplink3"}]
[25098,"Wassit","Al-Namaniya","Markaz Al-Noamaniya","Said Habeeb Village","قرية سيد حبيب",32.5177432756,45.2915569387,7,42,0,0,0,0,0,0,42,0,0,0,0,0,0,0,0,0,0,0,0,0,0,0,0,0,0,0,0,42,0,0,0,0,0,0,42,0,0,0,0,0,0,0,0,0,0,{"$f":"HYPERLINK(\"http://www.openstreetmap.org/?mlat=32.5177&mlon=45.2916&zoom=12#map=12/32.5177/45.2916\",\"Maplink1\")","v":"Maplink1"},{"$f":"HYPERLINK(\"https://www.google.iq/maps/search/+32.5177,45.2916/@32.5177,45.2916,14z?hl=en\",\"Maplink2\")","v":"Maplink2"},{"$f":"HYPERLINK(\"http://www.bing.com/maps/?lvl=14&sty=h&cp=32.5177~45.2916&sp=point.32.5177_45.2916\",\"Maplink3\")","v":"Maplink3"}]
[25097,"Wassit","Al-Namaniya","Markaz Al-Noamaniya","Said malik village","قرية سيد مالك",32.5161451748,45.2798720663,4,24,0,0,0,0,0,0,24,0,0,0,0,0,0,0,0,0,0,0,0,0,0,0,0,0,0,0,0,24,0,0,0,0,0,0,24,0,0,0,0,0,0,0,0,0,0,{"$f":"HYPERLINK(\"http://www.openstreetmap.org/?mlat=32.5161&mlon=45.2799&zoom=12#map=12/32.5161/45.2799\",\"Maplink1\")","v":"Maplink1"},{"$f":"HYPERLINK(\"https://www.google.iq/maps/search/+32.5161,45.2799/@32.5161,45.2799,14z?hl=en\",\"Maplink2\")","v":"Maplink2"},{"$f":"HYPERLINK(\"http://www.bing.com/maps/?lvl=14&sty=h&cp=32.5161~45.2799&sp=point.32.5161_45.2799\",\"Maplink3\")","v":"Maplink3"}]
[25796,"Wassit","Al-Namaniya","Markaz Al-Noamaniya","Imam Rudha","حي الأمام الرضا",32.5468109622,45.4143209291,8,48,0,0,0,0,0,0,48,0,0,0,0,0,0,0,0,0,0,0,0,0,0,0,0,0,0,0,0,48,0,0,0,0,0,0,48,0,0,0,0,0,0,0,0,0,0,{"$f":"HYPERLINK(\"http://www.openstreetmap.org/?mlat=32.5468&mlon=45.4143&zoom=12#map=12/32.5468/45.4143\",\"Maplink1\")","v":"Maplink1"},{"$f":"HYPERLINK(\"https://www.google.iq/maps/search/+32.5468,45.4143/@32.5468,45.4143,14z?hl=en\",\"Maplink2\")","v":"Maplink2"},{"$f":"HYPERLINK(\"http://www.bing.com/maps/?lvl=14&sty=h&cp=32.5468~45.4143&sp=point.32.5468_45.4143\",\"Maplink3\")","v":"Maplink3"}]
[26025,"Wassit","Al-Namaniya","Markaz Al-Noamaniya","Misarhad village","قرية مسرهد",32.5098957846,45.2643906834,5,30,0,0,0,0,0,0,30,0,0,0,0,0,0,0,0,0,0,0,0,0,0,0,0,0,0,0,0,30,0,0,0,0,0,0,30,0,0,0,0,0,0,0,0,0,0,{"$f":"HYPERLINK(\"http://www.openstreetmap.org/?mlat=32.5099&mlon=45.2644&zoom=12#map=12/32.5099/45.2644\",\"Maplink1\")","v":"Maplink1"},{"$f":"HYPERLINK(\"https://www.google.iq/maps/search/+32.5099,45.2644/@32.5099,45.2644,14z?hl=en\",\"Maplink2\")","v":"Maplink2"},{"$f":"HYPERLINK(\"http://www.bing.com/maps/?lvl=14&sty=h&cp=32.5099~45.2644&sp=point.32.5099_45.2644\",\"Maplink3\")","v":"Maplink3"}]
[19454,"Wassit","Al-Suwaira","Al-Aziziya","Al-Tanmeya","التنمية",32.9513115775,44.910528587,4,24,0,0,0,0,0,0,24,0,0,0,0,0,0,0,0,0,0,0,0,0,0,0,0,0,0,0,0,24,0,0,0,0,0,0,24,0,0,0,0,0,0,0,0,0,0,{"$f":"HYPERLINK(\"http://www.openstreetmap.org/?mlat=32.9513&mlon=44.9105&zoom=12#map=12/32.9513/44.9105\",\"Maplink1\")","v":"Maplink1"},{"$f":"HYPERLINK(\"https://www.google.iq/maps/search/+32.9513,44.9105/@32.9513,44.9105,14z?hl=en\",\"Maplink2\")","v":"Maplink2"},{"$f":"HYPERLINK(\"http://www.bing.com/maps/?lvl=14&sty=h&cp=32.9513~44.9105&sp=point.32.9513_44.9105\",\"Maplink3\")","v":"Maplink3"}]
[24858,"Wassit","Al-Suwaira","Al-Aziziya","Al-Azezia 150 area","العزيزية 150",32.9067170139,45.0571624476,7,42,0,0,0,0,0,0,42,0,0,0,0,0,0,0,0,0,0,0,0,0,0,0,0,0,0,0,0,42,0,0,0,0,0,0,42,0,0,0,0,0,0,0,0,0,0,{"$f":"HYPERLINK(\"http://www.openstreetmap.org/?mlat=32.9067&mlon=45.0572&zoom=12#map=12/32.9067/45.0572\",\"Maplink1\")","v":"Maplink1"},{"$f":"HYPERLINK(\"https://www.google.iq/maps/search/+32.9067,45.0572/@32.9067,45.0572,14z?hl=en\",\"Maplink2\")","v":"Maplink2"},{"$f":"HYPERLINK(\"http://www.bing.com/maps/?lvl=14&sty=h&cp=32.9067~45.0572&sp=point.32.9067_45.0572\",\"Maplink3\")","v":"Maplink3"}]
[22360,"Wassit","Al-Suwaira","Al-Aziziya","Hay Al Quds","حي القدس",32.9167997463,45.0611467825,7,42,0,0,0,0,0,0,42,0,0,0,0,0,0,0,0,0,0,0,0,0,0,0,0,0,0,0,0,42,0,0,0,0,0,0,42,0,0,0,0,0,0,0,0,0,0,{"$f":"HYPERLINK(\"http://www.openstreetmap.org/?mlat=32.9168&mlon=45.0611&zoom=12#map=12/32.9168/45.0611\",\"Maplink1\")","v":"Maplink1"},{"$f":"HYPERLINK(\"https://www.google.iq/maps/search/+32.9168,45.0611/@32.9168,45.0611,14z?hl=en\",\"Maplink2\")","v":"Maplink2"},{"$f":"HYPERLINK(\"http://www.bing.com/maps/?lvl=14&sty=h&cp=32.9168~45.0611&sp=point.32.9168_45.0611\",\"Maplink3\")","v":"Maplink3"}]
[25112,"Wassit","Al-Suwaira","Al-Aziziya","Hay Al-Amer","حي الامير",32.7670458398,45.1667084366,7,42,0,0,0,0,0,0,42,0,0,0,0,0,0,0,0,0,0,0,0,0,0,0,0,0,0,0,0,42,0,0,0,0,0,0,0,42,0,0,0,0,0,0,0,0,0,{"$f":"HYPERLINK(\"http://www.openstreetmap.org/?mlat=32.767&mlon=45.1667&zoom=12#map=12/32.767/45.1667\",\"Maplink1\")","v":"Maplink1"},{"$f":"HYPERLINK(\"https://www.google.iq/maps/search/+32.767,45.1667/@32.767,45.1667,14z?hl=en\",\"Maplink2\")","v":"Maplink2"},{"$f":"HYPERLINK(\"http://www.bing.com/maps/?lvl=14&sty=h&cp=32.767~45.1667&sp=point.32.767_45.1667\",\"Maplink3\")","v":"Maplink3"}]
[24855,"Wassit","Al-Suwaira","Al-Aziziya","Al-Khamas1","الخماس الاولى",32.9135995068,45.0720275314,10,60,0,0,0,60,0,0,0,0,0,0,0,0,0,0,0,0,0,0,0,0,0,0,0,0,0,0,0,60,0,0,0,0,0,0,60,0,0,0,0,0,0,0,0,0,0,{"$f":"HYPERLINK(\"http://www.openstreetmap.org/?mlat=32.9136&mlon=45.072&zoom=12#map=12/32.9136/45.072\",\"Maplink1\")","v":"Maplink1"},{"$f":"HYPERLINK(\"https://www.google.iq/maps/search/+32.9136,45.072/@32.9136,45.072,14z?hl=en\",\"Maplink2\")","v":"Maplink2"},{"$f":"HYPERLINK(\"http://www.bing.com/maps/?lvl=14&sty=h&cp=32.9136~45.072&sp=point.32.9136_45.072\",\"Maplink3\")","v":"Maplink3"}]
[22361,"Wassit","Al-Suwaira","Al-Aziziya","Al Shabab 1","الشباب الاولى",32.9097017922,45.0449251078,6,36,0,0,0,0,0,0,36,0,0,0,0,0,0,0,0,0,0,0,0,0,0,0,0,0,0,0,0,36,0,0,0,0,0,0,36,0,0,0,0,0,0,0,0,0,0,{"$f":"HYPERLINK(\"http://www.openstreetmap.org/?mlat=32.9097&mlon=45.0449&zoom=12#map=12/32.9097/45.0449\",\"Maplink1\")","v":"Maplink1"},{"$f":"HYPERLINK(\"https://www.google.iq/maps/search/+32.9097,45.0449/@32.9097,45.0449,14z?hl=en\",\"Maplink2\")","v":"Maplink2"},{"$f":"HYPERLINK(\"http://www.bing.com/maps/?lvl=14&sty=h&cp=32.9097~45.0449&sp=point.32.9097_45.0449\",\"Maplink3\")","v":"Maplink3"}]
[24856,"Wassit","Al-Suwaira","Al-Aziziya","Al-Khamas 2","الخماس الثانية",32.919976413,45.0732034756,4,24,0,0,0,0,0,0,24,0,0,0,0,0,0,0,0,0,0,0,0,0,0,0,0,0,0,0,0,24,0,0,0,0,0,0,0,24,0,0,0,0,0,0,0,0,0,{"$f":"HYPERLINK(\"http://www.openstreetmap.org/?mlat=32.92&mlon=45.0732&zoom=12#map=12/32.92/45.0732\",\"Maplink1\")","v":"Maplink1"},{"$f":"HYPERLINK(\"https://www.google.iq/maps/search/+32.92,45.0732/@32.92,45.0732,14z?hl=en\",\"Maplink2\")","v":"Maplink2"},{"$f":"HYPERLINK(\"http://www.bing.com/maps/?lvl=14&sty=h&cp=32.92~45.0732&sp=point.32.92_45.0732\",\"Maplink3\")","v":"Maplink3"}]
[24857,"Wassit","Al-Suwaira","Al-Aziziya","Al-Khamas 3","الخماس الثالثة",32.9219630523,45.0726069242,7,42,0,0,0,0,0,0,42,0,0,0,0,0,0,0,0,0,0,0,0,0,0,0,0,0,0,0,0,42,0,0,0,0,0,0,42,0,0,0,0,0,0,0,0,0,0,{"$f":"HYPERLINK(\"http://www.openstreetmap.org/?mlat=32.922&mlon=45.0726&zoom=12#map=12/32.922/45.0726\",\"Maplink1\")","v":"Maplink1"},{"$f":"HYPERLINK(\"https://www.google.iq/maps/search/+32.922,45.0726/@32.922,45.0726,14z?hl=en\",\"Maplink2\")","v":"Maplink2"},{"$f":"HYPERLINK(\"http://www.bing.com/maps/?lvl=14&sty=h&cp=32.922~45.0726&sp=point.32.922_45.0726\",\"Maplink3\")","v":"Maplink3"}]
[24859,"Wassit","Al-Suwaira","Al-Aziziya","Al-Sarai","السراي",32.9121418132,45.0632149645,5,30,0,0,0,0,0,0,30,0,0,0,0,0,0,0,0,0,0,0,0,0,0,0,0,0,0,0,0,30,0,0,0,0,0,0,30,0,0,0,0,0,0,0,0,0,0,{"$f":"HYPERLINK(\"http://www.openstreetmap.org/?mlat=32.9121&mlon=45.0632&zoom=12#map=12/32.9121/45.0632\",\"Maplink1\")","v":"Maplink1"},{"$f":"HYPERLINK(\"https://www.google.iq/maps/search/+32.9121,45.0632/@32.9121,45.0632,14z?hl=en\",\"Maplink2\")","v":"Maplink2"},{"$f":"HYPERLINK(\"http://www.bing.com/maps/?lvl=14&sty=h&cp=32.9121~45.0632&sp=point.32.9121_45.0632\",\"Maplink3\")","v":"Maplink3"}]
[24849,"Wassit","Al-Suwaira","Al-Hafriya","Bader Al-Kubra","بدر الكبرى",32.966874358,44.8612607116,6,36,0,0,0,0,0,0,36,0,0,0,0,0,0,0,0,0,0,0,0,0,0,0,0,36,0,0,0,0,0,0,0,0,0,0,36,0,0,0,0,0,0,0,0,0,0,{"$f":"HYPERLINK(\"http://www.openstreetmap.org/?mlat=32.9669&mlon=44.8613&zoom=12#map=12/32.9669/44.8613\",\"Maplink1\")","v":"Maplink1"},{"$f":"HYPERLINK(\"https://www.google.iq/maps/search/+32.9669,44.8613/@32.9669,44.8613,14z?hl=en\",\"Maplink2\")","v":"Maplink2"},{"$f":"HYPERLINK(\"http://www.bing.com/maps/?lvl=14&sty=h&cp=32.9669~44.8613&sp=point.32.9669_44.8613\",\"Maplink3\")","v":"Maplink3"}]
[24967,"Wassit","Al-Suwaira","Al-Hafriya","Taj al-dien center 1","مركز تاج الدين 1",32.9870073133,44.8441250285,19,114,0,0,0,0,0,0,114,0,0,0,0,0,0,0,0,0,0,0,0,0,54,0,0,0,0,0,0,60,0,0,0,0,0,0,54,60,0,0,0,0,0,0,0,0,0,{"$f":"HYPERLINK(\"http://www.openstreetmap.org/?mlat=32.987&mlon=44.8441&zoom=12#map=12/32.987/44.8441\",\"Maplink1\")","v":"Maplink1"},{"$f":"HYPERLINK(\"https://www.google.iq/maps/search/+32.987,44.8441/@32.987,44.8441,14z?hl=en\",\"Maplink2\")","v":"Maplink2"},{"$f":"HYPERLINK(\"http://www.bing.com/maps/?lvl=14&sty=h&cp=32.987~44.8441&sp=point.32.987_44.8441\",\"Maplink3\")","v":"Maplink3"}]
[25110,"Wassit","Al-Suwaira","Al-Zubaidiya","Hay Al-Zahraa","حي الزهراء",32.7628163958,45.1698116844,4,24,0,0,0,0,0,0,24,0,0,0,0,0,0,0,0,24,0,0,0,0,0,0,0,0,0,0,0,0,0,0,0,0,0,0,0,0,0,24,0,0,0,0,0,0,0,{"$f":"HYPERLINK(\"http://www.openstreetmap.org/?mlat=32.7628&mlon=45.1698&zoom=12#map=12/32.7628/45.1698\",\"Maplink1\")","v":"Maplink1"},{"$f":"HYPERLINK(\"https://www.google.iq/maps/search/+32.7628,45.1698/@32.7628,45.1698,14z?hl=en\",\"Maplink2\")","v":"Maplink2"},{"$f":"HYPERLINK(\"http://www.bing.com/maps/?lvl=14&sty=h&cp=32.7628~45.1698&sp=point.32.7628_45.1698\",\"Maplink3\")","v":"Maplink3"}]
[24155,"Wassit","Al-Suwaira","Al-Zubaidiya","Hay Al-Jameya","حي الجمعية",32.7650349675,45.1669571075,6,36,0,0,0,0,0,0,36,0,0,0,0,0,0,0,0,0,0,0,0,0,0,0,0,0,0,0,0,36,0,0,0,0,0,0,36,0,0,0,0,0,0,0,0,0,0,{"$f":"HYPERLINK(\"http://www.openstreetmap.org/?mlat=32.765&mlon=45.167&zoom=12#map=12/32.765/45.167\",\"Maplink1\")","v":"Maplink1"},{"$f":"HYPERLINK(\"https://www.google.iq/maps/search/+32.765,45.167/@32.765,45.167,14z?hl=en\",\"Maplink2\")","v":"Maplink2"},{"$f":"HYPERLINK(\"http://www.bing.com/maps/?lvl=14&sty=h&cp=32.765~45.167&sp=point.32.765_45.167\",\"Maplink3\")","v":"Maplink3"}]
[19402,"Wassit","Al-Suwaira","Markaz Al-Suwaira","Hay Al-Furat","حي الفرات",32.9211212151,44.7750972716,5,30,0,0,0,0,0,0,30,0,0,0,0,0,0,0,0,30,0,0,0,0,0,0,0,0,0,0,0,0,0,0,0,0,0,0,0,0,0,30,0,0,0,0,0,0,0,{"$f":"HYPERLINK(\"http://www.openstreetmap.org/?mlat=32.9211&mlon=44.7751&zoom=12#map=12/32.9211/44.7751\",\"Maplink1\")","v":"Maplink1"},{"$f":"HYPERLINK(\"https://www.google.iq/maps/search/+32.9211,44.7751/@32.9211,44.7751,14z?hl=en\",\"Maplink2\")","v":"Maplink2"},{"$f":"HYPERLINK(\"http://www.bing.com/maps/?lvl=14&sty=h&cp=32.9211~44.7751&sp=point.32.9211_44.7751\",\"Maplink3\")","v":"Maplink3"}]
[19397,"Wassit","Al-Suwaira","Markaz Al-Suwaira","Hay Al-askary","حي العسكري",32.9322541913,44.7716884829,5,30,0,0,0,0,0,0,30,0,0,0,0,0,0,0,0,0,0,0,0,0,0,0,0,0,0,0,0,0,0,30,0,0,0,0,30,0,0,0,0,0,0,0,0,0,0,{"$f":"HYPERLINK(\"http://www.openstreetmap.org/?mlat=32.9323&mlon=44.7717&zoom=12#map=12/32.9323/44.7717\",\"Maplink1\")","v":"Maplink1"},{"$f":"HYPERLINK(\"https://www.google.iq/maps/search/+32.9323,44.7717/@32.9323,44.7717,14z?hl=en\",\"Maplink2\")","v":"Maplink2"},{"$f":"HYPERLINK(\"http://www.bing.com/maps/?lvl=14&sty=h&cp=32.9323~44.7717&sp=point.32.9323_44.7717\",\"Maplink3\")","v":"Maplink3"}]
[25385,"Wassit","Al-Suwaira","Markaz Al-Suwaira","Hai Al-Askari-5 Dunam","حي العسكري-5 دونم",32.9195020502,44.7693556268,7,42,0,0,0,0,0,0,42,0,0,0,0,0,0,0,0,0,0,0,0,0,0,0,0,0,0,0,0,0,0,42,0,0,0,0,0,42,0,0,0,0,0,0,0,0,0,{"$f":"HYPERLINK(\"http://www.openstreetmap.org/?mlat=32.9195&mlon=44.7694&zoom=12#map=12/32.9195/44.7694\",\"Maplink1\")","v":"Maplink1"},{"$f":"HYPERLINK(\"https://www.google.iq/maps/search/+32.9195,44.7694/@32.9195,44.7694,14z?hl=en\",\"Maplink2\")","v":"Maplink2"},{"$f":"HYPERLINK(\"http://www.bing.com/maps/?lvl=14&sty=h&cp=32.9195~44.7694&sp=point.32.9195_44.7694\",\"Maplink3\")","v":"Maplink3"}]
[25387,"Wassit","Al-Suwaira","Markaz Al-Suwaira","Hay Al-Jihad","حي الجهاد",32.9292698662,44.7724321802,8,48,0,0,0,0,0,0,48,0,0,0,0,0,0,0,0,0,0,0,0,0,0,0,0,0,0,0,0,0,0,48,0,0,0,0,48,0,0,0,0,0,0,0,0,0,0,{"$f":"HYPERLINK(\"http://www.openstreetmap.org/?mlat=32.9293&mlon=44.7724&zoom=12#map=12/32.9293/44.7724\",\"Maplink1\")","v":"Maplink1"},{"$f":"HYPERLINK(\"https://www.google.iq/maps/search/+32.9293,44.7724/@32.9293,44.7724,14z?hl=en\",\"Maplink2\")","v":"Maplink2"},{"$f":"HYPERLINK(\"http://www.bing.com/maps/?lvl=14&sty=h&cp=32.9293~44.7724&sp=point.32.9293_44.7724\",\"Maplink3\")","v":"Maplink3"}]
[25386,"Wassit","Al-Suwaira","Markaz Al-Suwaira","Hay Al-Maghrib","حي المغرب",32.9245070423,44.7674491493,8,48,0,0,0,0,0,0,48,0,0,0,0,0,0,0,0,0,0,0,0,0,0,0,0,0,0,0,0,48,0,0,0,0,0,0,48,0,0,0,0,0,0,0,0,0,0,{"$f":"HYPERLINK(\"http://www.openstreetmap.org/?mlat=32.9245&mlon=44.7674&zoom=12#map=12/32.9245/44.7674\",\"Maplink1\")","v":"Maplink1"},{"$f":"HYPERLINK(\"https://www.google.iq/maps/search/+32.9245,44.7674/@32.9245,44.7674,14z?hl=en\",\"Maplink2\")","v":"Maplink2"},{"$f":"HYPERLINK(\"http://www.bing.com/maps/?lvl=14&sty=h&cp=32.9245~44.7674&sp=point.32.9245_44.7674\",\"Maplink3\")","v":"Maplink3"}]
[18438,"Wassit","Badra","Jassan","Jassan center","مركز جصان",32.966880429,45.8655538335,8,48,0,0,0,0,0,0,48,0,0,0,0,0,0,0,0,0,0,0,0,0,0,0,0,0,0,0,0,48,0,0,0,0,0,0,48,0,0,0,0,0,0,0,0,0,0,{"$f":"HYPERLINK(\"http://www.openstreetmap.org/?mlat=32.9669&mlon=45.8656&zoom=12#map=12/32.9669/45.8656\",\"Maplink1\")","v":"Maplink1"},{"$f":"HYPERLINK(\"https://www.google.iq/maps/search/+32.9669,45.8656/@32.9669,45.8656,14z?hl=en\",\"Maplink2\")","v":"Maplink2"},{"$f":"HYPERLINK(\"http://www.bing.com/maps/?lvl=14&sty=h&cp=32.9669~45.8656&sp=point.32.9669_45.8656\",\"Maplink3\")","v":"Maplink3"}]
[25314,"Wassit","Badra","Markaz Badra","Hay Al-Zahraa","حي الزهراء",33.1070832949,45.9271697319,7,42,0,0,0,0,0,0,42,0,0,0,0,0,0,0,0,0,0,0,0,0,0,0,0,0,0,0,0,42,0,0,0,0,0,0,42,0,0,0,0,0,0,0,0,0,0,{"$f":"HYPERLINK(\"http://www.openstreetmap.org/?mlat=33.1071&mlon=45.9272&zoom=12#map=12/33.1071/45.9272\",\"Maplink1\")","v":"Maplink1"},{"$f":"HYPERLINK(\"https://www.google.iq/maps/search/+33.1071,45.9272/@33.1071,45.9272,14z?hl=en\",\"Maplink2\")","v":"Maplink2"},{"$f":"HYPERLINK(\"http://www.bing.com/maps/?lvl=14&sty=h&cp=33.1071~45.9272&sp=point.33.1071_45.9272\",\"Maplink3\")","v":"Maplink3"}]
[18459,"Wassit","Badra","Markaz Badra","Hay Al-Imam Al-Hussein","حي الأمام الحسين",33.1162477998,45.932729686,5,30,0,0,0,0,0,0,30,0,0,0,0,0,0,0,0,0,0,0,0,0,0,0,0,0,0,0,0,30,0,0,0,0,0,0,30,0,0,0,0,0,0,0,0,0,0,{"$f":"HYPERLINK(\"http://www.openstreetmap.org/?mlat=33.1162&mlon=45.9327&zoom=12#map=12/33.1162/45.9327\",\"Maplink1\")","v":"Maplink1"},{"$f":"HYPERLINK(\"https://www.google.iq/maps/search/+33.1162,45.9327/@33.1162,45.9327,14z?hl=en\",\"Maplink2\")","v":"Maplink2"},{"$f":"HYPERLINK(\"http://www.bing.com/maps/?lvl=14&sty=h&cp=33.1162~45.9327&sp=point.33.1162_45.9327\",\"Maplink3\")","v":"Maplink3"}]
[25313,"Wassit","Badra","Markaz Badra","Hay Al-Rasool","حي الرسول",33.1168525417,45.9362159613,5,30,0,0,0,0,0,0,30,0,0,0,0,0,0,0,0,0,0,0,0,0,0,0,0,0,0,0,0,30,0,0,0,0,0,0,30,0,0,0,0,0,0,0,0,0,0,{"$f":"HYPERLINK(\"http://www.openstreetmap.org/?mlat=33.1169&mlon=45.9362&zoom=12#map=12/33.1169/45.9362\",\"Maplink1\")","v":"Maplink1"},{"$f":"HYPERLINK(\"https://www.google.iq/maps/search/+33.1169,45.9362/@33.1169,45.9362,14z?hl=en\",\"Maplink2\")","v":"Maplink2"},{"$f":"HYPERLINK(\"http://www.bing.com/maps/?lvl=14&sty=h&cp=33.1169~45.9362&sp=point.33.1169_45.9362\",\"Maplink3\")","v":"Maplink3"}]
[19492,"Wassit","Badra","Markaz Badra","Dahnok","دهنوك",33.1161307587,45.9483430615,7,42,0,0,0,0,0,0,42,0,0,0,0,0,0,0,0,0,0,0,0,0,0,0,0,0,0,0,0,42,0,0,0,0,0,0,42,0,0,0,0,0,0,0,0,0,0,{"$f":"HYPERLINK(\"http://www.openstreetmap.org/?mlat=33.1161&mlon=45.9483&zoom=12#map=12/33.1161/45.9483\",\"Maplink1\")","v":"Maplink1"},{"$f":"HYPERLINK(\"https://www.google.iq/maps/search/+33.1161,45.9483/@33.1161,45.9483,14z?hl=en\",\"Maplink2\")","v":"Maplink2"},{"$f":"HYPERLINK(\"http://www.bing.com/maps/?lvl=14&sty=h&cp=33.1161~45.9483&sp=point.33.1161_45.9483\",\"Maplink3\")","v":"Maplink3"}]

{"sheet":"Critical Shelters","index":3,"n_rows":457,"n_cols":16,"rows_kept":457,"merged":[[0,0,0,5],[1,0,1,7],[1,8,1,15]]}
["DTM : IDP Master List 31-03-2022"]
["Location of Displacement",{"$nulls":7},"Critical Shelters"]
["Place id","Governorate","District","Sub-district","Location name\nin English","Location name\nin Arabic ","Latitude","Longitude","Apartment/House\n(not owned)(uninhabitable)","Tent/Caravan/makeshift shelter/mud or block house","Unfinished/Abandoned building","Public Buildings or Collective shelters","Religious building","School building","Other Critical shelter","Total"]
[33939,"Al-Anbar","Al-Falluja","Al-Amirya","Amriyat Al-Fallujah sector 4","القطاع الرابع",33.145831,44.015278,0,774,0,0,0,0,0,774]
[33940,"Al-Anbar","Al-Falluja","Al-Amirya","Amriyat Al-Fallujahsector 3","القطاع الثالث",33.1416213777,44.0180357682,0,636,0,0,0,0,0,636]
[21226,"Al-Anbar","Al-Falluja","Al-Amirya","Albu Hori","البوحوري",33.1584538531,43.8916233995,0,624,0,12,18,0,0,654]
[33941,"Al-Anbar","Al-Falluja","Al-Amirya","Amriyat Al-Fallujahsector 50","قطاع الخمسين",33.1473168434,44.0138911416,0,498,0,0,0,0,0,498]
[34228,"Al-Anbar","Al-Falluja","Al-Amirya","low-costs houses/Habbaniah","دور واطئه الكلفه \\الحبانيه",33.2554625438,43.6510906853,0,342,0,{"v":1152,"d":"1,152"},0,0,0,{"v":1494,"d":"1,494"}]
[34290,"Al-Anbar","Al-Falluja","Al-Amirya","Hay  Al-Salam","حي السلام",33.17218,43.86378,0,732,0,0,0,0,0,732]
[34291,"Al-Anbar","Al-Falluja","Al-Amirya","Hay Al-Maleab","حي الملعب",33.17337,43.84332,60,{"v":1320,"d":"1,320"},0,0,0,0,0,{"v":1380,"d":"1,380"}]
[107,"Al-Anbar","Al-Falluja","Al-Amirya","Al Amiriyah","العامرية ",33.1787572967,43.8569891848,60,642,0,0,0,0,0,702]
[26093,"Al-Anbar","Al-Falluja","Al-Amirya","Al-Amirya-Tal Ghatas","تل غطاس",33.1842735892,43.9257111593,0,204,0,0,0,0,0,204]
[26036,"Al-Anbar","Al-Falluja","Al-Amirya","Al-Amirya-Albu Jasim","البوجاسم",33.201389,43.9,0,120,0,0,0,0,0,120]
[26092,"Al-Anbar","Al-Falluja","Al-Amirya","Al-Amirya-Al Mouilha","المويلحة",33.1411903588,43.9557124922,0,{"v":1446,"d":"1,446"},0,0,144,0,0,{"v":1590,"d":"1,590"}]
[26087,"Al-Anbar","Al-Falluja","Al-Amirya","Al-Amirya-Albu Salman","البوسليمان",33.1538288817,44.0061241815,0,942,0,0,0,0,0,942]
[27246,"Al-Anbar","Al-Falluja","Al-Amirya","AAF","مخيم عامرية الفلوجة",33.1465437232,43.8485591596,0,{"v":2700,"d":"2,700"},0,0,0,0,0,{"v":2700,"d":"2,700"}]
[26084,"Al-Anbar","Al-Falluja","Al-Amirya","Amriyat Al-Fallujah-sector1","عامرية الفلوجة-القطاع الاول",33.1197398708,44.0429224676,0,618,0,0,0,0,0,618]
[26088,"Al-Anbar","Al-Falluja","Al-Amirya","Ahl Al-Ramadi 74","اهل الرمادي 74",33.1467332728,44.0150320443,0,408,0,0,0,0,0,408]
[26085,"Al-Anbar","Al-Falluja","Al-Amirya","Amriyat Al-Fallujah-sector2","عامرية الفلوجة-القطاع الثاني",33.1348125103,44.0267073679,0,{"v":1290,"d":"1,290"},0,0,0,0,0,{"v":1290,"d":"1,290"}]
[23276,"Al-Anbar","Al-Falluja","Al-Amirya","HTC","مخيم المدينة السياحية الحبانية",33.2534480342,43.5845499555,0,450,0,0,0,0,0,450]
[26089,"Al-Anbar","Al-Falluja","Al-Amirya","Albu Dhaher-Albu Dhaher","البوظاهر",33.1886308442,43.9068991549,0,108,0,0,0,0,0,108]
[21410,"Al-Anbar","Al-Falluja","Al-Amirya","Albo Jaar","البو جار ",33.1491348446,43.9871416069,0,294,0,0,0,0,0,294]
[26091,"Al-Anbar","Al-Falluja","Al-Amirya","Al-Amirya-Al Hmedin","الحميدين",33.1568984549,43.931899605,0,648,0,0,0,0,0,648]
[26037,"Al-Anbar","Al-Falluja","Al-Amirya","Al-Amirya-Albu Jwad","البوجواد",33.1508204439,43.9986993596,18,882,0,0,0,0,0,900]
[142,"Al-Anbar","Al-Falluja","Markaz Al-Falluja","Al-shahabi-2","الشهابي الثانية",33.3822032,43.8862189,0,0,0,420,0,0,0,420]
[34249,"Al-Anbar","Al-Kaim","Al-Karabla","complex of Phosphate company","المجمع السكني لموظفي شركة الفوسفات",34.3359363137,41.1932627112,0,42,0,0,0,0,0,42]
[23889,"Al-Anbar","Al-Ramadi","Markaz Al-Ramadi","7 Killo-al-mojamaa al-sakany","السبعة كيلو-المجمع السكني",33.4165942,43.1924283,0,0,36,{"v":3204,"d":"3,204"},0,12,0,{"v":3252,"d":"3,252"}]
[34178,"Al-Anbar","Al-Ramadi","Markaz Al-Ramadi","9 Kilo","9 كيلو",33.4096587,43.1680676,0,0,384,0,0,0,0,384]
[33826,"Al-Anbar","Al-Ramadi","Markaz Al-Ramadi","AL-Karama complex","مجمع الكرامه",33.3885532,43.0969749,0,918,0,0,0,0,0,918]
[166,"Al-Anbar","Al-Rutba","Markaz Al-Rutba","Hay Al Meethagh","حي الميثاق",33.0319735383,40.2904721726,0,0,126,0,0,0,0,126]
[167,"Al-Anbar","Al-Rutba","Markaz Al-Rutba","Antesar","حي الانتصار",33.0312656362,40.2990147932,0,0,102,0,0,0,0,102]
[231,"Al-Anbar","Al-Rutba","Markaz Al-Rutba","Al Wadi","حي الوادي",33.0396642122,40.2836526192,0,0,60,0,0,0,0,60]
[233,"Al-Anbar","Al-Rutba","Markaz Al-Rutba","Hay Al-Matar","حي المطار",33.0346108437,40.2866801333,0,0,72,0,0,0,0,72]
[165,"Al-Anbar","Al-Rutba","Markaz Al-Rutba","Al Askaree","حي العسكري",33.0380018894,40.3026344367,0,0,96,0,0,0,0,96]
[150,"Al-Anbar","Al-Rutba","Markaz Al-Rutba","Al Haara","حي الحارة",33.0376159091,40.2842644299,0,0,90,0,0,0,0,90]
[23936,"Al-Anbar","Al-Rutba","Markaz Al-Rutba","Rumilah Village","قرية رميلة",33.0602209076,40.3455662902,0,0,36,0,0,0,0,36]
[252,"Al-Anbar","Ana","Markaz Ana","Al Tadamon","حي التضامن",34.3608974061,41.9831458569,42,0,0,0,0,0,0,42]
[253,"Al-Anbar","Ana","Markaz Ana","Hay Al Salam","حي السلام",34.3721252087,41.977030661,36,0,0,0,0,0,0,36]
[248,"Al-Anbar","Ana","Markaz Ana","Al bor (Shishan)","حي العبور",34.3667880547,41.9707831429,48,0,0,0,0,0,0,48]
[33825,"Al-Anbar","Heet","Markaz Heet","Hay Al-Askary","حي العسكري",33.6244991,42.8278815,12,0,0,0,0,0,0,12]
[24595,"Al-Basrah","Abu Al-Khaseeb","Markaz Abu Al-Khaseeb","Hay Al Zaiton","حي الزيتون",30.4746484,47.8260349,0,6,0,0,0,0,0,6]
[23897,"Al-Basrah","Abu Al-Khaseeb","Markaz Abu Al-Khaseeb","Hay AL Hussainyia","البصرة-حي الحسينية",30.4785079669,47.8295100881,0,18,0,0,0,0,0,18]
[885,"Al-Basrah","Al-Basrah","Markaz Al-Basrah","Al Khaleej2","البصرة-الجمعيات-حي الخليج 2",30.4950192243,47.7889484299,0,6,0,0,0,0,0,6]
[854,"Al-Basrah","Al-Basrah","Markaz Al-Basrah","Hai al-kafa_at","البصرة-حي الكفاءات",30.4999937,47.81254713,6,0,0,0,0,0,0,6]
[31724,"Al-Basrah","Al-Basrah","Markaz Al-Basrah","Shafqat Al-Amil","شفقة العامل",30.5492085395,47.7860197397,0,24,0,0,0,0,0,24]
[24182,"Al-Basrah","Al-Basrah","Markaz Al-Basrah","Casino Lebnan","البصرة-كازينو لبنان",30.5076397388,47.8082498638,0,66,0,0,0,0,0,66]
[29595,"Al-Basrah","Al-Basrah","Markaz Al-Basrah","Al Maqil-Al-Farancea","المعقل-الفرنسية",30.5503418044,47.7801991942,0,6,0,0,0,0,0,6]
[26109,"Al-Basrah","Al-Zubair","Markaz Al-Zubair","Khor Al zubir-Hay Al-Hakeem","خور الزبير-حي الحكيم",30.2276214407,47.7842157889,0,12,0,0,0,0,0,12]
[27295,"Al-Basrah","Al-Zubair","Um Qasr","Umm Qasr-Al-hindiyah Al-Janobia","ام قصر-الهندية الجنوبية",30.0309122,47.9191197,0,6,0,0,0,0,0,6]
[960,"Al-Basrah","Shat Al-Arab","Markaz Shat Al-Arab","Hay al-jami_a","البصرة-شط العرب-حي الجامعة",30.5404231643,47.8551692155,0,18,0,0,0,0,0,18]
[1991,"Al-Muthanna","Al-Rumaitha","Markaz Al-Rumaitha","Al-Muthlem Village","قرية المظلم",31.5396761661,45.1834589615,0,0,24,0,0,0,0,24]
[2026,"Al-Muthanna","Al-Rumaitha","Markaz Al-Rumaitha","Al Ardhyat","العارضيات",31.5565597499,45.1477304567,0,0,0,0,6,0,0,6]
[1609,"Al-Muthanna","Al-Samawa","Al-Sowair","Al Basateen Al Gharbia","البساتين الغربية",31.3262343546,45.2706156112,0,0,0,0,6,0,0,6]
[29598,"Al-Najaf","Al-Najaf","Al-Haydariya","Al Salam Complex","مجمع السلام",32.174145,44.307526,0,0,0,540,0,0,0,540]
[20128,"Al-Najaf","Al-Najaf","Markaz Al-Najaf","Al-Qasim 3","حي القاسم 3",32.0516739344,44.3144670808,18,0,0,0,0,0,0,18]
[25382,"Al-Qadissiya","Afaq","Markaz Afaq","Hay Al-Hussein","حي الحسين",32.0627755943,45.2546195241,0,0,0,0,18,0,0,18]
[3392,"Al-Qadissiya","Afaq","Markaz Afaq","AL-Qati","القاطع",32.053763984,45.2333997609,0,0,0,0,6,0,0,6]
[24149,"Al-Qadissiya","Al-Diwaniya","Al-Daghara","Hay Al Shahada","حي الشهداء ",32.1357497849,44.9305147983,0,0,0,0,24,0,0,24]
[24739,"Al-Qadissiya","Al-Diwaniya","Al-Daghara","Hay Al Mulmeen","حي المعلمين",32.1362424395,44.9363444741,0,0,0,0,12,0,0,12]
[25071,"Al-Qadissiya","Al-Diwaniya","Al-Saniya","Al-Jabaar village","قرية ال جبار",32.0319890929,44.7900744,0,0,0,0,24,0,0,24]
[24905,"Al-Qadissiya","Al-Diwaniya","Al-Saniya","Al himran village","قرية الحمران",32.0377858076,44.7834731733,0,0,0,0,24,0,0,24]
[2621,"Al-Qadissiya","Al-Diwaniya","Al-Saniya","Albu Khnefis village","قرية البو خنيفس",32.0209653411,44.8605491768,0,0,0,0,12,0,0,12]
[24436,"Al-Qadissiya","Al-Diwaniya","Al-Saniya","Albo Hasan village","قرية البو حسن",32.0208274154,44.8188983684,0,0,0,0,12,0,0,12]
[25070,"Al-Qadissiya","Al-Diwaniya","Al-Saniya","Hay Al-Hussain","حي الحسين",32.0701462957,44.7676568807,0,0,0,0,24,0,0,24]
[25568,"Al-Qadissiya","Al-Diwaniya","Al-Saniya","Hay Al-Amin 2","حي الامين 2",32.0062987693,44.8447732166,0,0,0,0,24,0,0,24]
[24382,"Al-Qadissiya","Al-Diwaniya","Al-Shafeia","Hay Al Shomos","حي الشموس",32.0018013893,44.8640472443,0,0,0,0,12,0,0,12]
[24904,"Al-Qadissiya","Al-Diwaniya","Al-Shafeia","Um tibashi village","قرية ام طباشي",32.0072806254,44.853895211,0,0,0,0,12,0,0,12]
[24381,"Al-Qadissiya","Al-Diwaniya","Al-Shafeia","Al-Taqiya 2","التقية الثانية",31.9703624531,44.8911874701,0,0,0,0,12,0,0,12]
[22326,"Al-Qadissiya","Al-Diwaniya","Markaz Al-Diwaniya","Al Mojamaa Al Sakani","المجمع السكني",31.9818831235,44.9729864563,0,0,0,126,0,0,0,126]
[2943,"Al-Qadissiya","Al-Diwaniya","Markaz Al-Diwaniya","Al hamad village","قرية الحمد",32.0040916465,44.9990023729,0,0,0,0,36,0,0,36]
[25370,"Al-Qadissiya","Al-Diwaniya","Markaz Al-Diwaniya","Al-Mawqee Al-Askary","الموقع العسكري",31.9809384172,44.9241521125,0,0,18,0,0,0,0,18]
[22452,"Al-Qadissiya","Al-Diwaniya","Markaz Al-Diwaniya","Qaryat Al Ensaf","قرية الانصاف",31.9991649705,45.0154067767,0,0,0,0,18,0,0,18]
[24583,"Al-Qadissiya","Al-Hamza","Al-Sadeer","Al-Marshad village","قرية المرشد",31.8604446,44.9292598,0,0,0,0,6,0,0,6]
[25285,"Al-Qadissiya","Al-Hamza","Al-Sadeer","Hay Al-Askary","حي العسكري",31.8254737509,44.9427859293,0,0,0,0,6,0,0,6]
[2749,"Al-Qadissiya","Al-Shamiya","Al-Mihanawiya","Hay Al-aaskary al-gharby","حي العسكري الغربي",31.9572482491,44.5736161349,0,0,0,0,6,0,0,6]
[24095,"Al-Sulaymaniyah","Al-Sulaymaniyah","Qaradagh","Rizgari-Arbat","رزكارى",35.4276592014,45.5865586202,0,0,84,0,0,0,0,84]
[21021,"Al-Sulaymaniyah","Al-Sulaymaniyah","Qaradagh","Sabun karan Qt","صابن كران",35.5536541,45.4458314,0,36,0,0,0,0,0,36]
[21287,"Al-Sulaymaniyah","Al-Sulaymaniyah","Sarchnar","Chwar Chra","جوارجرا",35.5420488,45.4011283,0,0,0,0,12,0,0,12]
[33146,"Al-Sulaymaniyah","Chamchamal","Kadr Karam","Qalkhanlu Khwar Village","قرية قلخانلو السفلى",35.1100651,44.6613463,12,0,0,0,0,0,0,12]
[20420,"Al-Sulaymaniyah","Chamchamal","Kadr Karam","Haidarasor","قرية حيدرسور",35.002364,44.8642712,12,0,0,0,0,0,0,12]
[24688,"Al-Sulaymaniyah","Chamchamal","Markaz Chamchamal","Asuda","اسودة",35.5269727436,44.8146232296,30,0,12,0,0,0,0,42]
[4838,"Al-Sulaymaniyah","Dokan","Sourdash","Mughagh","مغاغ",35.7837363722,45.1133609673,0,0,0,0,0,12,0,12]
[25880,"Babil","Al-Hashimiya","Al-Qasim","Hay Al Zahraa-Qassim","حي الزهراء-القاسم",32.2984379259,44.6902748136,0,6,0,0,0,0,0,6]
[23950,"Babil","Al-Hilla","Abi Gharaq","Qas Sowelem-Compound","كص سويلم-المجمع السكني",32.4175456229,44.4068783285,0,0,24,0,0,0,0,24]
[26094,"Babil","Al-Mahaweel","Markaz Al-Mahawil","Hay Al-Jamhoreiah","حي الجمهوري",32.6616446883,44.400338835,0,0,6,0,0,0,0,6]
[7128,"Babil","Al-Mussyab","Al-Iskandaria","Abo Luka","ناحيه الاسكندريه-ابولوكه",32.8052636137,44.30276,30,0,0,0,0,0,0,30]
[24169,"Babil","Al-Mussyab","Jurf Al-Sakhar","Hay Al Ghadeer 4","الغدير 4",32.7773309423,44.2640133499,0,0,0,0,0,0,36,36]
[24983,"Babil","Al-Mussyab","Jurf Al-Sakhar","Hay Alaskary-AlThaghet","حي العسكري-الضغط",32.7897296354,44.2655341516,0,210,0,0,0,0,0,210]
[24164,"Babil","Al-Mussyab","Jurf Al-Sakhar","Al Hamiyah Al Amer Village","الحامية-قرية ال عامر",32.8016666666667,44.2752777777778,0,36,0,0,0,0,0,36]
[29582,"Babil","Al-Mussyab","Jurf Al-Sakhar","Hay Al Moatnen 1","حي المواطنين 1",32.7880307177,44.2679772812,0,24,0,0,0,0,0,24]
[24168,"Babil","Al-Mussyab","Jurf Al-Sakhar","Al Ghadeer 2","الغدير 2",32.7839760383,44.2668002911,0,0,0,0,0,0,48,48]
[24165,"Babil","Al-Mussyab","Jurf Al-Sakhar","Al Hamiyah-Oayef village","الحامية-قرية عويف",32.8075118283,44.2674872185,0,54,0,0,0,0,0,54]
[24171,"Babil","Al-Mussyab","Jurf Al-Sakhar","Hay Al Moatnen 3","حي المواطنين 3",32.7835503576,44.2664189862,0,60,0,0,0,0,0,60]
[7126,"Babil","Al-Mussyab","Jurf Al-Sakhar","Al Hamiyah-Al Mutaqedin 1","الحامية-المتقاعدين 1",32.8139300246,44.2642829329,0,150,0,0,0,0,0,150]
[21173,"Baghdad","Al-Kadhmiyah","Abu Ghraib","1 Athar","1 اذار",33.300602,44.1836993,12,30,0,0,0,0,0,42]
[7658,"Baghdad","Al-Kadhmiyah","Abu Ghraib","Al-Resalah","الرسالة",33.2981074,44.1198344,60,78,0,0,0,0,0,138]
[24039,"Baghdad","Al-Kadhmiyah","Abu Ghraib","Hay Al Zohor","حي الزهور",33.307966,44.1857611,30,0,0,0,0,0,0,30]
[24047,"Baghdad","Al-Kadhmiyah","Abu Ghraib","Abo Moniaser","ابو منيصير",33.2974117,44.0954705,24,204,0,0,0,0,0,228]
[31713,"Baghdad","Al-Kadhmiyah","Abu Ghraib","Shuhada Markza-Shuhadda the first","الشهداءالمركز-شهداء الاولى",33.3009359,44.1420854,90,114,0,0,0,0,0,204]
[31714,"Baghdad","Al-Kadhmiyah","Abu Ghraib","Shuhada Markza-Shuhdda the second","الشهداء المركز-شهداء الثانية",33.3076704,44.1432889,30,600,0,0,0,0,0,630]
[7671,"Baghdad","Al-Kadhmiyah","Abu Ghraib","1 Huzairan","1 حزيران",33.3023826,44.1393425,0,30,0,0,0,0,0,30]
[25128,"Baghdad","Al-Kadhmiyah","Abu Ghraib","Khernabat-South","خرنابات الجنوبيه",33.3227163,44.1942128,42,24,0,0,0,0,0,66]
[25126,"Baghdad","Al-Kadhmiyah","Abu Ghraib","Khan Dhari Center","خان ضاري مركز",33.2980734,44.0603843,30,0,0,0,0,0,0,30]
[22050,"Baghdad","Al-Kadhmiyah","Abu Ghraib","Hay Ashbilia","حي اشبيليه",33.3084816,44.1671145,18,0,0,0,0,0,0,18]
[34292,"Baghdad","Al-Kadhmiyah","Abu Ghraib","Hamed Shaban","حميد شعبان",33.295247,44.133117,0,66,0,0,0,0,0,66]
[24034,"Baghdad","Al-Kadhmiyah","Abu Ghraib","Hay Al Ghawassah","حي الغواصة",33.2962605,44.1447545,0,54,0,0,0,0,0,54]
[7709,"Baghdad","Al-Kadhmiyah","Abu Ghraib","North Khernabat","خرنابات الشمالية",33.3269536,44.1931925,12,0,0,0,0,0,0,12]
[31715,"Baghdad","Al-Kadhmiyah","Abu Ghraib","Shuhada Markza-Shuhadda the third","الشهداء المركز-شهداء الثالثة",33.3061956,44.1406122,48,18,0,0,0,0,0,66]
[25169,"Baghdad","Al-Kadhmiyah","Al-Taji","Sabea Al Buor-15000","سبع البور-15000",33.4532989,44.1582762,6,0,0,0,0,0,0,6]
[27413,"Baghdad","Al-Kadhmiyah","Al-Taji","Al Ahnaf-Al Rakia Fadel village","الأحنف-اركية وفاضل",33.4349745642,44.2439240646,0,0,12,0,0,0,0,12]
[24061,"Baghdad","Al-Kadhmiyah","Al-Tarmiya","Al Tarmiya Center","مركز الطارمية",33.6630323807,44.3989024356,30,0,0,0,0,0,0,30]
[25422,"Baghdad","Al-Kadhmiyah","Al-Tarmiya","Hai Al Turba","حي التربة",33.6635558601,44.3679271726,42,30,0,0,0,0,0,72]
[25421,"Baghdad","Al-Kadhmiyah","Al-Tarmiya","Hai Al Wehda","حي الوحدة",33.6713556745,44.3831939689,36,0,0,0,0,0,0,36]
[25427,"Baghdad","Al-Kadhmiyah","Al-Tarmiya","Abu Sreweel Village","قرية أبو سريويل",33.6962642952,44.4148884302,24,0,0,0,0,0,0,24]
[25418,"Baghdad","Al-Kadhmiyah","Al-Tarmiya","Hai Al Resala","حي الرسالة",33.6657175662,44.3927923702,0,24,0,0,0,0,0,24]
[25426,"Baghdad","Al-Kadhmiyah","Al-Tarmiya","Nadeem-2 Village","قرية نديم-2",33.5905744797,44.2388130997,30,0,0,0,0,0,0,30]
[25416,"Baghdad","Al-Kadhmiyah","Al-Tarmiya","Al Farook Quarter-1","حي الفاروق-1",33.6597763976,44.3895261535,30,24,0,0,0,0,0,54]
[25420,"Baghdad","Al-Kadhmiyah","Al-Tarmiya","Hai Al Sedeq","حي الصديق",33.6639399012,44.375332637,0,78,0,0,0,0,0,78]
[25417,"Baghdad","Al-Kadhmiyah","Al-Tarmiya","Al Farook Quarter-2","حي الفاروق-2",33.6616158792,44.394241967,30,0,0,0,0,0,0,30]
[25423,"Baghdad","Al-Kadhmiyah","Al-Tarmiya","Hai Al Qadessia-1","حي القادسية-1",33.6678562146,44.3777960346,30,0,0,0,0,0,0,30]
[25419,"Baghdad","Al-Kadhmiyah","Al-Tarmiya","Hai Al Hukem Al Mahali","حي الحكم المحلي",33.6638401784,44.3814264605,0,24,0,0,0,0,0,24]
[23733,"Baghdad","Al-Karkh","Al-Mamoon","Arab jbor","عرب جبور",33.1997324069,44.4709184568,30,0,0,0,0,0,0,30]
[23734,"Baghdad","Al-Karkh","Al-Mansour","Al Ghazaliya-681","الغزالية-681",33.3307527157,44.2774565103,0,0,0,0,60,0,0,60]
[25221,"Baghdad","Al-Karkh","Al-Mansour","Al Forat-893","الفرات-893",33.2758533537,44.2757166566,0,0,120,0,0,0,0,120]
[7547,"Baghdad","Al-Mada'in","Al-Jisr","Al Wardia","الوردية",33.1825448322,44.5425695586,0,108,0,0,0,0,0,108]
[34160,"Baghdad","Al-Mada'in","Al-Wihda","Al-Ahed village ","قرية العهد",33.3155757,44.661487,0,210,0,0,0,0,0,210]
[25152,"Baghdad","Al-Mahmoudiya","Al-Latifya","Kilo 18","كيلو 18",32.9631895953,44.3629735449,0,{"v":2442,"d":"2,442"},0,0,0,0,0,{"v":2442,"d":"2,442"}]
[25153,"Baghdad","Al-Mahmoudiya","Al-Latifya","Kilo 31","كيلو 31",32.9082501149,44.3994687046,24,0,0,0,0,0,0,24]
[23618,"Baghdad","Al-Mahmoudiya","Al-Latifya","14 Tamooz","حي 14 تموز",32.962388729,44.3544761896,90,426,0,30,0,0,0,546]
[25149,"Baghdad","Al-Mahmoudiya","Al-Latifya","Al Latefia-Al Salam","اللطيفية-السلام",32.9955050032,44.3604198322,102,0,0,0,0,0,0,102]
[25150,"Baghdad","Al-Mahmoudiya","Al-Latifya","Al Latefia-Al Qadessia","اللطيفية-حي القادسية",32.9700243898,44.3534118739,120,{"v":1332,"d":"1,332"},0,0,0,0,0,{"v":1452,"d":"1,452"}]
[7615,"Baghdad","Al-Mahmoudiya","Al-Latifya","Hay Al-Askary","حي العسكري",33.0090109455,44.3649488856,12,12,0,0,0,0,0,24]
[7733,"Baghdad","Al-Mahmoudiya","Al-Latifya","Hay Al Zuhoor","حي الزهور",32.9989139076,44.3665797386,72,504,0,0,0,0,0,576]
[21463,"Baghdad","Al-Mahmoudiya","Al-Latifya","Hay Al Mazraa","حي المزرعة ",33.0041750665,44.3673703763,12,36,0,0,0,0,0,48]
[34229,"Baghdad","Al-Mahmoudiya","Al-Yousifya","Abu jaishy village","قرية ابو جيشي",33.138818,44.215703,0,582,0,0,0,0,0,582]
[34230,"Baghdad","Al-Mahmoudiya","Al-Yousifya","Ahmed Abdullah village","قرية احمد عبد الله",33.1414504,44.2122119,0,648,0,0,0,0,0,648]
[21745,"Baghdad","Al-Risafa","Al-Karrada Al-Sharqia","Al Karkh-212","الكرخ-212",33.3396809876,44.3808638325,0,0,0,0,0,66,0,66]
[25969,"Baghdad","Al-Risafa","Baghdad Al-Jedeeda","Zayona","مخيم زيونة",33.3177568,44.44695717,0,558,0,0,0,0,0,558]
[25804,"Diyala","Al-Muqdadiya","Markaz Al-Muqdadiya","Al Mataar Qtr","حي المطار",33.989437009,44.949544313,18,0,0,0,0,0,0,18]
[11411,"Diyala","Baquba","Beni Saad","Al Sabtiyah village","قرية السبتية",33.7834222522,44.6230176246,18,0,0,0,0,0,0,18]
[21413,"Diyala","Baquba","Beni Saad","Al-Mualimeen-Shahid wadah Qtr","حي المعلمين-الشهيد وضاح",33.728401607,44.611321933,0,0,66,0,0,0,0,66]
[11189,"Diyala","Baquba","Beni Saad","Al Mafraq","المفرق",33.7431955687,44.610447296,168,0,192,0,0,0,0,360]
[24805,"Diyala","Baquba","Beni Saad","Al Gatoon-Al Yarmook Qtr","الكاطون-حي اليرموك",33.7241930333,44.6079515038,336,0,0,0,0,0,0,336]
[21273,"Diyala","Baquba","Beni Saad","Al-Qatoon-Al Raazi Qtr","الكاطون-حي الرازي",33.7336323339,44.5970089461,72,0,0,0,0,0,0,72]
[24915,"Diyala","Baquba","Beni Saad","Al Gatoon-Al rahma","الكاطون-الرحمة",33.7578023437,44.5920092317,156,0,0,0,0,0,0,156]
[23966,"Diyala","Baquba","Beni Saad","Al Hadid","الحديد",33.7686499926,44.5628627001,0,0,60,0,0,0,0,60]
[23694,"Diyala","Baquba","Beni Saad","Al Intesar-1 Qtr","حي الانتصار 1",33.5842200577,44.5542886818,30,0,0,0,0,0,0,30]
[11208,"Diyala","Baquba","Buhriz","Muskar Saad Qtr","حي معسكر سعد ",33.7523396127,44.6664973517,180,60,0,0,0,0,0,240]
[25052,"Diyala","Baquba","Kanan","Al Badaa Village","قرية البدعة",33.6670399054,44.7708691511,12,0,0,0,0,0,0,12]
[24392,"Diyala","Khanaqin","Markaz Khanaqin","Shakir village","قرية شاكر",34.3547202421,45.3455918505,36,0,0,0,0,0,0,36]
[11047,"Diyala","Khanaqin","Markaz Khanaqin","Tula Frosh Qtr","حي تولا فروش",34.3578876346,45.3763183352,120,0,0,0,0,0,0,120]
[10528,"Diyala","Khanaqin","Markaz Khanaqin","Mekhas Village","قرية ميخاس(ملا رحمن)",34.3945094757,45.3563535013,18,0,0,0,0,0,0,18]
[10676,"Diyala","Khanaqin","Markaz Khanaqin","Arkawazi Qtr","حي اركوازي",34.3311820058,45.4011356063,78,0,0,0,0,0,0,78]
[24312,"Diyala","Khanaqin","Markaz Khanaqin","Imam Abass Qtr","حي إمام عباس",34.3423005061,45.3606339171,114,0,0,0,0,0,0,114]
[25342,"Diyala","Khanaqin","Markaz Khanaqin","Sirwan Qtr","حي سيروان",34.3508759483,45.4171592223,30,0,0,0,0,0,0,30]
[25257,"Diyala","Khanaqin","Markaz Khanaqin","Bakhtiari Qtr","حي بختياري",34.3179512893,45.362634654,300,0,0,0,0,0,0,300]
[24393,"Diyala","Khanaqin","Markaz Khanaqin","Zurab village","قرية زوراب",34.3520512314,45.3472971066,36,0,0,0,0,0,0,36]
[25429,"Diyala","Kifri","Jabarra","Markaz Jabara","جبارة",34.5946154433,44.9276257089,54,0,0,0,0,0,0,54]
[28428,"Diyala","Kifri","Markaz Kifri","rezgari","رزكاري",34.6933138,44.9612653,0,0,24,0,0,0,0,24]
[10592,"Diyala","Kifri","Qara Tabe","Qaratappa","قره تبه",34.4351907161,44.9324314732,90,0,0,0,0,0,0,90]
[7896,"Duhok","Al-Amadiya","Sarsank","Benata","بيناتا",37.0860405,43.3760173,0,0,12,0,0,0,0,12]
[7867,"Duhok","Al-Amadiya","Sarsank","Sikreen","سكرين",37.0389905,43.2794053,0,0,6,0,0,0,0,6]
[7860,"Duhok","Al-Amadiya","Sarsank","Inishke","اينشكي",37.105418,43.360688,0,0,36,0,0,0,0,36]
[7788,"Duhok","Al-Amadiya","Sarsank","Hamza","همزا",37.11834568,43.16602926,0,0,6,0,0,0,0,6]
[8419,"Duhok","Al-Amadiya","Sarsank","Shekh Mama","شيخ مما",37.0805725,43.26021066,0,0,12,0,0,0,0,12]
[7835,"Duhok","Al-Amadiya","Sarsank","Sarsink","سرسنك",37.0390861,43.3435935,0,0,18,0,0,0,0,18]
[8238,"Duhok","Duhok","Al-Duski","Kovle","كوفلي",37.0462129,43.1386217,0,0,18,0,0,0,0,18]
[24186,"Duhok","Duhok","Markaz Duhok","Zirka","زركا",36.8751441,42.9303401,0,0,168,0,0,0,0,168]
[26047,"Duhok","Duhok","Markaz Duhok","Botan","بوتان",36.8638715,42.9722146,0,0,24,0,0,0,0,24]
[24802,"Duhok","Duhok","Markaz Duhok","Mazi","مازي",36.85652,42.976289,0,0,6,0,0,0,0,6]
[24801,"Duhok","Duhok","Zawita","Bagera","باكيرا",36.9657757,43.1702511,0,0,0,36,0,0,0,36]
[25898,"Duhok","Duhok","Zawita","Avrike","افريكي",36.831657,43.1188347,0,12,48,0,0,0,0,60]
[8538,"Duhok","Duhok","Zawita","Banye","باني",36.9105242,43.2363018,0,0,522,0,0,0,0,522]
[7946,"Duhok","Duhok","Zawita","Nazarke","نزاركي",36.842476,43.0587682,0,0,54,0,0,0,0,54]
[8468,"Duhok","Duhok","Zawita","Rashanke","رشانكي",36.9300248,43.1983966,0,0,24,0,0,0,0,24]
[8871,"Duhok","Duhok","Zawita","Kora","كورا",36.9342014,43.1478887,0,0,6,0,0,0,0,6]
[7949,"Duhok","Duhok","Zawita","Eminke","امينكي",36.8606393,43.0952888,0,0,102,0,0,0,0,102]
[24628,"Duhok","Duhok","Zawita","Etit","ايتيت",36.8446575,43.0842642,0,0,12,0,0,0,0,12]
[8476,"Duhok","Sumail","Bateel","Soriya","صوريا",37.0030102,42.485174,0,6,108,0,0,0,0,114]
[8196,"Duhok","Sumail","Bateel","Batel","باتيل",36.961097,42.6809076,0,0,24,0,0,0,0,24]
[25993,"Duhok","Sumail","Bateel","Basetki","باستكي",36.9560066,42.7284051,0,0,102,0,0,0,0,102]
[8044,"Duhok","Sumail","Bateel","Bajit Kandala","باجت كندال",37.047199,42.4509321,0,0,108,0,0,0,0,108]
[8246,"Duhok","Sumail","Bateel","Girsheen","كرشين",36.9924816,42.6003878,0,0,48,0,0,0,0,48]
[8239,"Duhok","Sumail","Fayde","Fayda","فايدة",36.7573849,42.9255902,0,0,30,0,0,0,0,30]
[24596,"Duhok","Sumail","Markaz Sumail","Tanahi","تناهي",36.8621225,42.9031095,0,30,96,0,0,0,0,126]
[27130,"Duhok","Sumail","Markaz Sumail","Old Sorka","صوركا قديمة",36.8084732,42.8244493,0,0,30,0,0,0,0,30]
[7989,"Duhok","Sumail","Markaz Sumail","Seje","سيجي",36.9125197,42.8864319,0,0,{"v":1188,"d":"1,188"},0,0,0,0,{"v":1188,"d":"1,188"}]
[7984,"Duhok","Sumail","Markaz Sumail","Kevila","كيفيلا",36.8894236,42.9151342,0,0,18,0,0,0,0,18]
[27125,"Duhok","Sumail","Markaz Sumail","Old Qasr Yazddin","قسريزدين قديمة",36.8216087,42.8056238,0,396,18,0,0,0,0,414]
[27122,"Duhok","Sumail","Sindi","Shorash","شورش",36.7865650927,42.7903679829,0,0,36,0,0,0,0,36]
[7990,"Duhok","Sumail","Sindi","Namrike","نمريكي",36.7385104,42.8824497,0,0,18,0,0,0,0,18]
[8582,"Duhok","Sumail","Sindi","Qasr Yazddin","قسر يزدين",36.7899902,42.7877253,0,{"v":1692,"d":"1,692"},72,0,0,0,0,{"v":1764,"d":"1,764"}]
[8369,"Duhok","Sumail","Sindi","Shariya","شاريا",36.7882357,42.970216,0,{"v":6126,"d":"6,126"},{"v":3294,"d":"3,294"},0,0,0,0,{"v":9420,"d":"9,420"}]
[27129,"Duhok","Sumail","Sindi","Small Mam Shvana","مام شفانا صغيرة",36.7805978995,42.7874803017,0,30,30,0,0,0,0,60]
[27121,"Duhok","Sumail","Sindi","Khanke Qadima","خانكي قديمة",36.7693257,42.7757866,0,252,264,0,0,0,0,516]
[27124,"Duhok","Sumail","Sindi","New Zinya","زينيا جديدة",36.7837616,42.7815327,0,{"v":2088,"d":"2,088"},72,0,0,0,0,{"v":2160,"d":"2,160"}]
[27127,"Duhok","Sumail","Sindi","Old Mam Shvana","مام شفانا قديمة",36.8031294,42.7741804,0,312,0,0,0,0,0,312]
[27123,"Duhok","Sumail","Sindi","Old Zinya","زينيا قديمة",36.7761928,42.793931,0,0,60,0,0,0,0,60]
[8019,"Duhok","Sumail","Sindi","Bakhitme","باختمي",36.8066357,42.860121,0,0,42,0,0,0,0,42]
[8015,"Duhok","Sumail","Sindi","Kabarto","كبرتو",36.7794498,42.7861823,0,0,24,0,0,0,0,24]
[27126,"Duhok","Sumail","Sindi","Haweri","هويري",36.7730949,42.7897771,0,0,90,0,0,0,0,90]
[8800,"Duhok","Sumail","Sindi","Kherava","خيرافا",36.7754476,42.7834787,0,60,132,0,0,0,0,192]
[25622,"Duhok","Sumail","Sindi","Moaskar Domiz","معسكر دوميز",36.7877381,42.901137,0,0,12,0,0,0,0,12]
[8018,"Duhok","Sumail","Sindi","Bazalan","بازلان",36.8134505,42.9137871,0,0,42,0,0,0,0,42]
[8366,"Duhok","Sumail","Sindi","Ribeybi","ربيبي",36.7829583,42.7889976,0,0,42,0,0,0,0,42]
[8718,"Duhok","Zakho","Batifa","Gofk","كوفك",37.1096855,43.057881,0,18,0,0,0,0,0,18]
[8084,"Duhok","Zakho","Dercar","Darkar","دركار",37.1976206,42.8208393,0,0,114,0,0,0,0,114]
[32029,"Duhok","Zakho","Dercar","Rkawa Sector","قطاع ركاوا",37.146717,42.687778,0,0,18,0,0,0,0,18]
[32032,"Duhok","Zakho","Dercar","Firqa Sector","قطاع فرقة",37.156571,42.7074524,0,48,156,0,0,0,0,204]
[8156,"Duhok","Zakho","Dercar","Hizawa","هيزاوا",37.1808737,42.8093447,0,0,0,0,12,0,0,12]
[32033,"Duhok","Zakho","Dercar","Kochka Honari","قطاع كوجكا هوناري",37.1671338,42.6875878,0,0,150,0,0,0,0,150]
[8212,"Duhok","Zakho","Dercar","Bersive","بيرسفي",37.1889034,42.8559408,0,0,6,0,0,0,0,6]
[32028,"Duhok","Zakho","Markaz Zakho","Khrababka Sector","قطاع خرابابكا",37.1479761,42.7470562,0,126,444,0,0,0,0,570]
[32026,"Duhok","Zakho","Markaz Zakho","Betase Sector","قطاع بيتاسي",37.0599235,42.7349885,0,0,30,0,0,0,0,30]
[23620,"Duhok","Zakho","Markaz Zakho","Fishkhaboor","فيشخابور",37.0675489,42.3772177,0,18,96,0,0,0,0,114]
[25992,"Duhok","Zakho","Markaz Zakho","Diraboon","ديربون",37.0851494,42.4263375,0,{"v":1128,"d":"1,128"},96,0,0,0,48,{"v":1272,"d":"1,272"}]
[32031,"Duhok","Zakho","Markaz Zakho","Abasiya Sector","قطاع عباسية",37.139161,42.702048,0,12,18,0,0,0,0,30]
[32027,"Duhok","Zakho","Markaz Zakho","Bedar Sector","قطاع بيدار",37.1466385,42.6470479,0,126,18,0,0,0,0,144]
[33579,"Duhok","Zakho","Markaz Zakho","Bajika","باجيكا",37.1356438,42.5492506,0,0,6,0,0,0,0,6]
[34268,"Erbil","Erbil","Markaz Erbil","Um Al-nur site","مبنى مؤقت ام النور ",36.2363653,44.0065372,0,84,0,0,0,0,0,84]
[34231,"Erbil","Erbil","Markaz Erbil","Unfinished site-Divan hotel","مبنى غير مكتمل-فدق ديفان",36.19417446901,43.97452712059,0,0,108,0,0,0,0,108]
[33152,"Erbil","Erbil","Markaz Erbil","Dashti bahasht","دشتي بهشت",36.2188962,44.1396503,0,0,270,0,0,0,0,270]
[24507,"Erbil","Erbil","Markaz Erbil","Nisthtiman Comercial Complex","مجمع نشتيمان التجاري",36.18636499,44.011834,0,0,0,48,0,0,0,48]
[29558,"Erbil","Erbil","Markaz Erbil","Al Saxra Complex ","مجمع الصخرة",36.1872726,44.0132477389,0,0,0,180,0,0,0,180]
[33879,"Erbil","Erbil","Markaz Erbil","Grd Muhammed","كرد محمد",36.120848,43.970794,0,0,0,180,0,0,0,180]
[31780,"Erbil","Rawanduz","Diana","Delzyan","دلزيان",36.6681032,44.5273977,0,72,0,0,0,0,0,72]
[32057,"Kerbala","Kerbela","Markaz Kerbela","Abu Tharr complex","مجمع ابا ذر",32.5462,44.08923,0,150,0,0,0,0,0,150]
[13985,"Kerbala","Kerbela","Markaz Kerbela","Mantakat Al hnedea","منطقة الهندية",32.5598750443,44.0693608274,0,0,0,0,36,0,0,36]
[14960,"Kirkuk","Daquq","Markaz Daquq","Taza-Omer Bin Khattab","قرية عمر بن الخطاب",35.2389270086,44.3895371908,0,420,0,0,0,0,0,420]
[15110,"Kirkuk","Daquq","Markaz Daquq","Hay Klisa 1","حي كليسة 1",35.1602542,44.4407185,120,0,0,0,0,0,0,120]
[25869,"Kirkuk","Daquq","Markaz Daquq","Hay Shoraw-1","مقاطعة 1 شوراو",35.0738796,44.4964702,12,0,0,0,0,0,0,12]
[25739,"Kirkuk","Daquq","Markaz Daquq","Laylan-Bash Bulaq village","قرية باش بولاق",35.2525517587,44.3947030887,0,300,0,0,0,0,0,300]
[31728,"Kirkuk","Kirkuk","Markaz Kirkuk","Hay Al-Askary 1","حي العسكري 1",35.4047496258,44.4068025558,0,630,0,0,0,0,0,630]
[14907,"Kirkuk","Kirkuk","Markaz Kirkuk","Hay Al Ertiqaa","حي الارتقاء",35.4927499,44.3534487,48,42,0,0,0,0,0,90]
[14703,"Kirkuk","Kirkuk","Markaz Kirkuk","Tiseen","حي تسن",35.445199,44.367129,0,0,12,0,0,12,0,24]
[15578,"Kirkuk","Kirkuk","Markaz Kirkuk","Hay Al-Khadraa","حي الخضراء",35.4343247685,44.353204455,0,6,0,0,0,0,0,6]
[21016,"Kirkuk","Kirkuk","Markaz Kirkuk","Hay Al Nassir","حي النصر",35.4278453307,44.4071895955,0,30,0,0,0,0,0,30]
[15650,"Kirkuk","Kirkuk","Markaz Kirkuk","Hay Al-Nasir 2","حي النصر 2",35.4177887193,44.3991574037,0,312,0,0,0,0,0,312]
[15639,"Kirkuk","Kirkuk","Markaz Kirkuk","Hay Al-Nedaa","حي النداء",35.3930794,44.3743156,90,384,0,0,0,0,0,474]
[23899,"Kirkuk","Kirkuk","Markaz Kirkuk","Hay Al-Zawraa","حي الزوراء",35.3899777491,44.3916803076,0,390,0,0,0,0,0,390]
[14984,"Kirkuk","Kirkuk","Markaz Kirkuk","Al Taakhi","حي التأخي",35.4223311983,44.3524947993,0,0,0,0,0,36,0,36]
[14530,"Kirkuk","Kirkuk","Markaz Kirkuk","Panja Ali","بنجه علي",35.449378,44.4226373,540,0,0,0,0,0,0,540]
[24084,"Kirkuk","Kirkuk","Markaz Kirkuk","Al Tadamon(Hawkari)","حي التضامن-هاوكاري-",35.4058023861,44.3874661284,0,72,0,0,0,0,0,72]
[15679,"Kirkuk","Kirkuk","Markaz Kirkuk","Hay Rasheed(Domiz)","حي الرشيد-دوميز-",35.3911136,44.3786656,12,0,0,0,0,18,0,30]
[23634,"Kirkuk","Kirkuk","Markaz Kirkuk","Runaki","حي روناكي",35.4464266,44.3984662,0,60,0,30,0,0,0,90]
[24780,"Kirkuk","Kirkuk","Markaz Kirkuk","Hay Al Sekak","حي السكك",35.417253,44.3385251,0,240,0,0,0,0,0,240]
[15550,"Kirkuk","Kirkuk","Markaz Kirkuk","Hay Al-Urooba","حي العروبة",35.4255621,44.3886145,150,690,0,0,0,0,0,840]
[15603,"Kirkuk","Kirkuk","Markaz Kirkuk","Hay 1 Athar","حي 1 اذار",35.3979694296,44.3643386341,0,120,0,0,0,0,0,120]
[15433,"Kirkuk","Kirkuk","Markaz Kirkuk","Amal al shaabi","حي العمل الشعبي",35.5006899,44.3345754,0,120,24,0,0,0,0,144]
[15658,"Kirkuk","Kirkuk","Taza Khormato","Hay Al-Sinay","حي الصناعي",35.3560290252,44.3016781198,0,330,0,0,0,0,0,330]
[24453,"Kirkuk","Kirkuk","Taza Khormato","Al Takhi Village","قرية تأخي",35.3816138,44.3499217,0,36,0,0,0,0,0,36]
[24422,"Kirkuk","Kirkuk","Taza Khormato","Sayada village","قرية صيادة",35.3610924208,44.3314596647,0,270,0,0,0,0,0,270]
[22847,"Kirkuk","Kirkuk","Taza Khormato","chardaghli village","قرية جرداغلوا",35.3541116599,44.3116321501,0,30,0,0,0,0,0,30]
[25738,"Kirkuk","Kirkuk","Taza Khormato","Laylan-Al Abadat village","قرية العبادات",35.2798405472,44.3604802035,0,24,0,0,0,0,0,24]
[22296,"Kirkuk","Kirkuk","Taza Khormato","Hay Al Jamia-Mahalla 622","حي الجامعة-622",35.4079381819,44.3267362641,420,{"v":3240,"d":"3,240"},0,0,0,0,0,{"v":3660,"d":"3,660"}]
[20844,"Maysan","Al-Kahla","Al-Msharah","Hay Al Karar","حي الكرار",31.8499547,47.1163593,0,18,0,0,0,0,0,18]
[16822,"Maysan","Al-Kahla","Al-Msharah","Hay Al-Dafas","قرية الدفاس",31.8552108,47.1215232,0,30,0,0,0,0,0,30]
[16816,"Maysan","Al-Kahla","Al-Msharah","Hay Al-Ghader","حي الغدير",31.8665017,47.1533479,0,6,0,0,0,0,0,6]
[16807,"Maysan","Al-Kahla","Al-Msharah","Hay Al-Mahmoudia","حي المحموديه",31.8466202182,47.1543487434,0,0,0,0,6,0,0,6]
[24370,"Maysan","Al-Kahla","Al-Msharah","Hay Al Baqer","حي الباقر",31.8325116,47.1150972,0,6,0,0,0,0,0,6]
[24292,"Maysan","Al-Kahla","Al-Msharah","Hay Al Mulmin Al Jadid","حي المعلمين الجديد",31.8645833,47.1417651,0,12,0,0,0,0,0,12]
[16808,"Maysan","Al-Kahla","Al-Msharah","Hay Al-Hasan Al-Askry","حي الحسن العسكري",31.8236381,47.1712668,0,6,0,0,0,0,0,6]
[24199,"Maysan","Al-Kahla","Al-Msharah","Hay Shabanah","حي الشبانه",31.8473036,47.1470906,0,6,0,0,0,0,0,6]
[24808,"Maysan","Al-Kahla","Al-Msharah","Eye of Missan","عيون ميسان",31.884478787,47.1678702906,0,36,0,0,0,0,0,36]
[23871,"Maysan","Al-Kahla","Al-Msharah","Al Sader Al karima","ناحية المشرح-قرية صدر الكريمه",31.8470818,47.3847451,0,18,0,0,0,0,0,18]
[24371,"Maysan","Al-Kahla","Al-Msharah","Hay Al Jihad","حي الجهاد",31.8637649,47.1752659,0,6,0,0,0,0,0,6]
[16210,"Maysan","Al-Mejar Al-Kabir","Al-Adel","Hay al-sinaah","حي الصناعه",31.5758556732,47.1591282974,0,12,0,0,0,0,0,12]
[34010,"Ninewa","Al-Baaj","Markaz Al-Baaj","Al-Dubaat","حي الضباط",36.04082,41.71068,24,36,0,0,0,0,0,60]
[34014,"Ninewa","Al-Baaj","Markaz Al-Baaj","Hateen","حي حطين",36.04616,41.722867,96,102,0,0,0,0,0,198]
[34009,"Ninewa","Al-Baaj","Markaz Al-Baaj"," Al Intisar","حي الانتصار",36.049594,41.71278,0,204,0,0,0,0,0,204]
[34013,"Ninewa","Al-Baaj","Markaz Al-Baaj","Al Askari","حي العسكري",36.038799,41.718269,0,210,0,0,0,0,0,210]
[18349,"Ninewa","Al-Baaj","Markaz Al-Baaj","Al-Yarmuk","حي اليرموك",36.044635,41.720289,186,0,0,0,0,0,0,186]
[34011,"Ninewa","Al-Baaj","Markaz Al-Baaj","Al-Thawra","حي الثوره",36.0354,41.71181,108,426,0,0,0,0,0,534]
[34008,"Ninewa","Al-Baaj","Markaz Al-Baaj","Al-Risalah","حي الرساله",36.044509,41.714508,54,0,0,0,0,0,0,54]
[34012,"Ninewa","Al-Baaj","Markaz Al-Baaj","Alqadisya","حي القادسيه",36.03711,41.71556,72,138,0,0,0,0,0,210]
[33163,"Ninewa","Al-Hatra","Markaz Hatra","Al-rogaae Al-shrqia Village","قرية الركعي الشرقية",35.7179655,42.97675,24,0,0,0,0,0,0,24]
[17126,"Ninewa","Al-Hatra","Markaz Hatra","Markaz AL-Hatra","مركز الحضر",35.5775549027,42.7340128431,0,84,24,0,0,0,0,108]
[27271,"Ninewa","Al-Hatra","Markaz Hatra","Tal abta","تل عبطة",35.9445943285,42.5650580917,0,720,0,0,0,0,0,720]
[33162,"Ninewa","Al-Hatra","Markaz Hatra","Al-rogaae Al-wsta Village","قرية الركعي الوسطى",35.725397,43.002372,60,0,0,0,0,0,0,60]
[33257,"Ninewa","Al-Mosul","Al-Muhamadath","Msherfa 2","مشيرفة 2",36.3781685509,43.0740161324,30,0,18,0,0,0,0,48]
[24549,"Ninewa","Al-Mosul","Al-Muhamadath","Al Harmaat","الهرمات",36.3605592,43.0720711,0,486,{"v":1032,"d":"1,032"},0,150,186,0,{"v":1854,"d":"1,854"}]
[18244,"Ninewa","Al-Mosul","Al-Muhamadath","Al-Nabi Sheet","النبي شيت",36.3345002179,43.1358646493,24,0,0,0,0,0,0,24]
[18372,"Ninewa","Al-Mosul","Al-Muhamadath","Al-Wahda","الوحدة",36.3249804896,43.1898108107,0,0,18,0,0,0,0,18]
[18247,"Ninewa","Al-Mosul","Al-Muhamadath","Hay 17 July","حي 17 تموز",36.3686258604,43.0838309931,12,0,0,0,0,0,0,12]
[21007,"Ninewa","Al-Mosul","Al-Muhamadath","Zanjili","الزنجيلي",36.348880433,43.1089764183,138,0,0,0,0,0,0,138]
[18328,"Ninewa","Al-Mosul","Al-Muhamadath","Al-Akhaa","الاخاء",36.3573743315,43.2034105618,0,0,24,0,0,0,0,24]
[18346,"Ninewa","Al-Mosul","Al-Muhamadath","Al-Maamon","المامون",36.3096542342,43.1091720804,576,0,0,0,0,0,0,576]
[33264,"Ninewa","Al-Mosul","Al-Muhamadath","Al-Matahin","المطاحن",36.3380263854,43.088704894,0,0,6,0,0,0,0,6]
[18388,"Ninewa","Al-Mosul","Al-Muhamadath","Alqadisiya Al-thaniya","القادسية الثانية",36.3759955304,43.1990935021,0,0,0,0,0,24,0,24]
[18322,"Ninewa","Al-Mosul","Al-Muhamadath","Al-Salam","السلام",36.3026395,43.2115335,0,0,30,0,0,0,0,30]
[18313,"Ninewa","Al-Mosul","Al-Muhamadath","Hay Al Islah Al Zirai","حي الاصلاح الزراعي",36.3509591813,43.0853637618,252,0,0,0,0,0,0,252]
[23933,"Ninewa","Al-Mosul","Al-Muhamadath","Hay Al Samah","حي السماح",36.3659922249,43.220835604,0,0,30,0,0,0,0,30]
[23875,"Ninewa","Al-Mosul","Al-Muhamadath","Al-Quds","القدس",36.3442653008,43.2254482603,0,0,24,0,0,0,0,24]
[18344,"Ninewa","Al-Mosul","Al-Muhamadath","Al-Risalah","الرسالة",36.3302823388,43.0897934832,0,0,6,0,0,0,0,6]
[18314,"Ninewa","Al-Mosul","Al-Muhamadath","Hay Al Intisar","الانتصار",36.321603521,43.2184224035,0,0,24,0,0,0,264,288]
[18384,"Ninewa","Al-Mosul","Al-Muhamadath","Alshuhadaa","حي الشهداء",36.3188062857,43.1001554391,132,0,0,0,0,0,0,132]
[31919,"Ninewa","Al-Mosul","Al-Muhamadath","Bab Nergal","باب نركال",36.372232,43.144892,0,0,12,0,0,0,0,12]
[33250,"Ninewa","Al-Mosul","Al-Muhamadath","Al-Abar","الابار",36.3392027551,43.0971154682,54,0,6,0,0,0,0,60]
[33260,"Ninewa","Al-Mosul","Al-Muhamadath","Al-Iqtisadieen","حي الاقتصاديين",36.3630824745,43.0887654548,102,0,0,0,0,0,0,102]
[25066,"Ninewa","Al-Mosul","Al-Muhamadath","Al Tanak","التنك",36.341839,43.052996,0,102,726,0,0,0,0,828]
[31917,"Ninewa","Al-Mosul","Al-Muhamadath","Yarmjah Al-sharqiya","يارمجة الشرقية",36.2945654,43.2105997,0,66,192,0,0,0,0,258]
[31921,"Ninewa","Al-Mosul","Al-Muhamadath","AL-Refaq","حي الرفاق",36.3770044448,43.1681043166,0,6,0,0,0,0,0,6]
[21335,"Ninewa","Al-Mosul","Al-Muhamadath","Al-Sihha","حي الصحة",36.3482788036,43.1022400141,54,0,0,0,0,0,0,54]
[33935,"Ninewa","Al-Mosul","Al-Muhamadath","Hawi alkanisa","حاوي الكنيسة",36.371368,43.097026,60,18,48,0,0,0,0,126]
[24635,"Ninewa","Al-Mosul","Al-Muhamadath","Hay Nablus","حي نابلس",36.3272161705,43.0854606371,72,0,60,0,0,0,0,132]
[21336,"Ninewa","Al-Mosul","Al-Muhamadath","HAY-SUMMER","حي سومر",36.2992362,43.1958222,0,0,6,0,0,0,0,6]
[18356,"Ninewa","Al-Mosul","Al-Muhamadath","Al tahreer","التحرير",36.3909444123,43.2044680959,0,0,12,0,0,0,0,12]
[18401,"Ninewa","Al-Mosul","Al-Muhamadath","Al-eakedat","حي العكيدات",36.3301942373,43.1285778433,36,0,6,0,0,0,0,42]
[33246,"Ninewa","Al-Mosul","Al-Muhamadath","Al-Maghreb","حي المغرب",36.3347714752,43.0910466358,30,0,0,0,0,0,0,30]
[21332,"Ninewa","Al-Mosul","Al-Muhamadath","HAY-FALISTINE","حي فلسطين",36.3075092256,43.1910329019,0,0,6,0,0,0,0,6]
[18363,"Ninewa","Al-Mosul","Al-Muhamadath","Hay alsedeeq","حي الصديق",36.3948939,43.1605915,0,6,48,0,0,6,0,60]
[31916,"Ninewa","Al-Mosul","Al-Muhamadath","Yarmjah","يارمجة",36.3052153852,43.1833732138,0,0,60,0,0,0,0,60]
[23934,"Ninewa","Al-Mosul","Al-Muhamadath","Hay Al Nahrawan","حي النهروان",36.331523,43.066661,0,0,198,0,0,0,0,198]
[21647,"Ninewa","Al-Mosul","Al-Muhamadath","Hay Al Zahraa","حي الزهراء",36.383555315,43.2083959115,0,0,72,0,0,0,0,72]
[17471,"Ninewa","Al-Mosul","Al-Muhamadath","Mosul Jadida","موصل الجديدة",36.3318882524,43.0992094765,114,0,0,0,0,0,0,114]
[24738,"Ninewa","Al-Mosul","Al-Muhamadath","Al-Harmat 2","الهرمات الثانية",36.3666,43.0753,0,0,600,0,0,0,0,600]
[18370,"Ninewa","Al-Mosul","Al-Muhamadath","Hay Al Tammem","التاميم",36.3532024734,43.1896026094,0,0,156,0,0,0,0,156]
[18331,"Ninewa","Al-Mosul","Al-Muhamadath","Al-Hadbaa","الحدباء",36.3944150409,43.1514378427,0,78,12,0,0,18,0,108]
[21258,"Ninewa","Al-Mosul","Al-Muhamadath","Tal Al-Rumman","تل الرمان",36.3156163755,43.089962639,186,0,0,0,0,0,0,186]
[18368,"Ninewa","Al-Mosul","Al-Muhamadath","Wadi Hajar","وادي حجر",36.3194980408,43.1273901302,114,0,0,0,0,0,0,114]
[24550,"Ninewa","Al-Mosul","Al-Muhamadath","Al-Methaq","الميثاق",36.3297002093,43.1959016453,0,0,18,0,0,0,0,18]
[18365,"Ninewa","Al-Mosul","Al-Muhamadath","Al-Amil","العامل",36.3228077238,43.0921699732,0,0,60,0,0,0,0,60]
[31914,"Ninewa","Al-Mosul","Al-Muhamadath","Arbajiyah","اربجية",36.3735967563,43.2020608063,0,6,36,0,0,0,0,42]
[18369,"Ninewa","Al-Mosul","Al-Muhamadath","Al-Khadraa","الخضراء",36.3568907866,43.2227368037,0,0,0,0,0,6,0,6]
[18357,"Ninewa","Al-Mosul","Al-Muhamadath","Al-sukar","حي السكر",36.3899616544,43.1695556418,0,24,0,0,0,0,0,24]
[31703,"Ninewa","Al-Mosul","Al-Qayarra","AL-Mahattah Al-ghaziyah Village","قرية المحطة الغازية",35.7760257,43.2533408,0,36,180,0,0,0,0,216]
[17128,"Ninewa","Al-Mosul","Hammam Al-Alil","Hamam Alaleel Center","مركز حمام العليل",36.1675881128,43.2549478849,0,0,12,0,0,0,0,12]
[32051,"Ninewa","Al-Mosul","Hammam Al-Alil","Ablah Village","قرية عبلة",36.1853424,43.0347946,0,6,0,0,0,0,0,6]
[17338,"Ninewa","Al-Shikhan","Atreesh","Atrush","أتروش",36.8376583,43.3366532,0,0,12,0,0,0,0,12]
[18213,"Ninewa","Al-Shikhan","Atreesh","Lalish","لالش",36.7719773,43.3051211,0,54,0,0,0,0,0,54]
[17333,"Ninewa","Al-Shikhan","Markaz Al-Shikhan","Shekhan","شيخان",36.6855755,43.3473417,0,0,168,0,0,0,0,168]
[17752,"Ninewa","Al-Shikhan","Markaz Al-Shikhan","Baadre","باعدري",36.7236004,43.2519622,0,0,612,0,0,0,0,612]
[29672,"Ninewa","Al-Shikhan","Markaz Al-Shikhan","Pirbob","بيربوب",36.6437024,43.4705081,0,0,12,0,0,0,0,12]
[17532,"Ninewa","Al-Shikhan","Markaz Al-Shikhan","Mamrashan","مام رشان",36.6680047,43.4270325,0,0,30,0,0,0,0,30]
[18265,"Ninewa","Al-Shikhan","Markaz Al-Shikhan","Betnar","بيتنار",36.6503835,43.382332,0,0,54,0,0,0,0,54]
[25945,"Ninewa","Al-Shikhan","Markaz Al-Shikhan","Esiyan Village","قرية ايسيان",36.7148866,43.2944623,0,0,192,0,0,0,0,192]
[17535,"Ninewa","Al-Shikhan","Markaz Al-Shikhan","Mahad","مهد",36.6454908,43.4165439,0,0,270,0,0,0,0,270]
[18251,"Ninewa","Al-Shikhan","Markaz Al-Shikhan","Almaman","آلممان",36.6641707,43.2681654,0,0,42,0,0,0,0,42]
[18294,"Ninewa","Al-Shikhan","Markaz Al-Shikhan","Berstik","بيرستيك",36.7038398,43.322631,0,36,54,0,0,0,0,90]
[18220,"Ninewa","Al-Shikhan","Qasruk","Tal Jumal","تل جومل",36.5922665,43.48192454,0,0,12,0,0,0,0,12]
[18205,"Ninewa","Al-Shikhan","Qasruk","New Zinava","زينافا جديدة",36.6033712,43.5022991,0,0,6,0,0,0,0,6]
[18199,"Ninewa","Al-Shikhan","Qasruk","Qasrok","قسروك",36.6985223,43.5971167,0,0,36,0,0,0,0,36]
[8780,"Ninewa","Aqra","Bardarash","Zanganan","زنكنان",36.4900764,43.6571895,0,48,0,0,0,0,0,48]
[8776,"Ninewa","Aqra","Bardarash","Daratu","دارتو",36.4785291,43.7252243,0,42,66,0,0,0,0,108]
[16953,"Ninewa","Aqra","Dinarta","Dinarta","دينارته",36.7973763,43.9862791,0,0,18,0,0,0,0,18]
[17734,"Ninewa","Aqra","Kurdsein","Akre","عقرة",36.735811,43.8740908,0,0,36,0,0,0,0,36]
[27366,"Ninewa","Sinjar","Al-Shamal","Balif","بليف",36.4250082,41.6978078,0,0,66,0,0,0,0,66]
[27359,"Ninewa","Sinjar","Al-Shamal","Semi-Hester","سمي هيستر",36.3722291,41.7185716,66,78,0,0,0,0,0,144]
[27362,"Ninewa","Sinjar","Al-Shamal","Sardashty","سردشتي",36.3738235832,41.7492235827,0,{"v":1476,"d":"1,476"},0,0,0,0,0,{"v":1476,"d":"1,476"}]
[27364,"Ninewa","Sinjar","Al-Shamal","Melik","ملك",36.3725181,41.7093869,0,612,0,0,0,0,0,612]
[28418,"Ninewa","Sinjar","Al-Shamal","Darki Qawala","داركي قوالا",36.3752527,41.7643375,0,300,0,0,0,0,0,300]
[27358,"Ninewa","Sinjar","Al-Shamal","Kolka","كولكا",36.3711494,41.7222452,60,60,0,0,0,0,0,120]
[27361,"Ninewa","Sinjar","Al-Shamal","Wary Bahdo","واري بهدو",36.3781943,41.7880183,0,636,0,0,0,0,0,636]
[27399,"Ninewa","Sinjar","Al-Shamal","Sharaf Alddin","شرف الدين",36.4298407829,41.8680823331,18,0,0,0,0,0,0,18]
[23273,"Ninewa","Sinjar","Markaz Sinjar","Hay Alshuhada","حي الشهداء",36.3166485,41.8620762,420,0,0,0,0,0,0,420]
[22490,"Ninewa","Sinjar","Markaz Sinjar","Hay Al Naser","حي النصر",36.3210784,41.8471054,120,0,0,0,0,0,0,120]
[23667,"Ninewa","Sinjar","Markaz Sinjar","Rozh Halat","حي روز هلات",36.3160909,41.8820731,114,0,0,0,0,0,0,114]
[22487,"Ninewa","Sinjar","Markaz Sinjar","Hay Azadi","حي ازادي",36.3162376,41.8526312,48,0,0,0,0,0,0,48]
[17655,"Ninewa","Telafar","Al-Ayadiya","Khrmer","قرية خرمر",36.6223952,42.3781483,30,0,0,0,0,0,0,30]
[27395,"Ninewa","Telafar","Al-Ayadiya","Hokna","قرية حكنه",36.5612909,42.5543166,0,114,0,0,0,0,0,114]
[25687,"Ninewa","Telafar","Rabia","Hay Al Sikak","حي السكك",36.7993063325,42.0937826563,102,0,0,0,0,0,0,102]
[28450,"Ninewa","Telafar","Rabia","Ewaynat vilage","قرية عوينات",36.6809312231,42.4021966735,24,0,0,0,0,0,0,24]
[25688,"Ninewa","Telafar","Rabia","Hay Al Qadisya","حي القادسية",36.8081581141,42.0837072961,36,0,0,0,0,0,0,36]
[28440,"Ninewa","Telafar","Rabia","Biir eakla vilage","قرية بئر عكلة",36.7971291634,42.2166009583,12,0,0,0,0,0,0,12]
[18308,"Ninewa","Telafar","Rabia","Hay Al Askari","حي العسكري",36.8024619147,42.0971544774,270,0,0,0,0,0,0,270]
[25686,"Ninewa","Telafar","Rabia","Hay Al Arbaeen","حي الاربعين",36.80605796,42.0861918791,42,0,0,0,0,0,0,42]
[24701,"Ninewa","Telafar","Rabia","Hay Al laban","حي اللبن",36.8084919913,42.0901615686,372,0,0,0,0,0,0,372]
[28453,"Ninewa","Telafar","Rabia","Albawtha vilage","قرية البوثة",36.7311006992,42.2585845008,30,0,0,0,0,0,0,30]
[28444,"Ninewa","Telafar","Rabia","Tal wardan vilage","قرية تل وردان",36.7163660008,42.3521438271,6,0,0,0,0,0,0,6]
[25808,"Ninewa","Telafar","Rabia","Hay Alasreya","حي العصرية",36.80441,42.088101,60,0,0,0,0,0,0,60]
[28438,"Ninewa","Telafar","Rabia","Tal Hial vilage","قرية تل حيال",36.7939514849,42.1772325194,12,0,0,0,0,0,0,12]
[17657,"Ninewa","Telafar","Rabia","Abu Hajira vilage","قرية ابو حجيرة",36.762904624,42.2119050924,12,0,0,0,0,0,0,12]
[17614,"Ninewa","Telafar","Rabia","Tal Ismair","قرية تل سمير",36.7503097006,42.1712018441,30,0,0,0,0,0,0,30]
[28451,"Ninewa","Telafar","Rabia","Karsur vilage","قرية كرصور",36.732131762,42.389666318,18,0,0,0,0,0,0,18]
[33243,"Ninewa","Telafar","Zummar","Ry Al-Jazera","مشروع ري الجزيره",36.8010670662,42.5199187997,0,300,0,0,0,0,0,300]
[25944,"Ninewa","Telafar","Zummar","Qasabat Zummar","قصبة زمار",36.6559975704,42.5980133829,132,0,48,0,0,0,0,180]
[17569,"Ninewa","Tilkaef","Al-Qosh","Beban","قرية بيبان",36.7005736607,43.1531024819,0,0,72,0,0,0,0,72]
[20796,"Ninewa","Tilkaef","Markaz Tilkaef","Bysan","بيسان",36.4084516,43.1046484,0,0,0,0,6,0,0,6]
[24600,"Ninewa","Tilkaef","Markaz Tilkaef","Al Qawsiyat","القوسيات",36.4444211569,43.0949080358,516,0,0,0,0,0,0,516]
[18377,"Ninewa","Tilkaef","Markaz Tilkaef","Al rasheediya","الرشيدية",36.403236683,43.0935171026,0,0,30,0,0,0,0,30]
[18306,"Ninewa","Tilkaef","Markaz Tilkaef","Hay Al Arabi","حي العربي",36.4010603632,43.1174401406,0,0,12,0,0,0,0,12]
[24246,"Salah al-Din","Al-Shirqat","Markaz Al-Shirqat","Hay Al Ziraa","حي الزراعه",35.507765,43.2468836,0,0,30,0,0,0,0,30]
[21004,"Salah al-Din","Al-Shirqat","Markaz Al-Shirqat","Hay Al Askari","الحي العسكري",35.5160321,43.2362854,6,0,0,0,0,0,0,6]
[24210,"Salah al-Din","Al-Shirqat","Markaz Al-Shirqat","Hay Al Qasbah","حي القصبة",35.5253678,43.2364826,0,0,30,0,0,0,0,30]
[24071,"Salah al-Din","Balad","Al-Dujeel","Al-Abayechi-10","العبايجي-10",33.75467,44.37589,24,0,0,0,0,0,0,24]
[23738,"Salah al-Din","Balad","Al-Dujeel","Al Rawad","الرواد",33.7386229778,44.2595628694,0,12,0,0,0,0,0,12]
[26020,"Salah al-Din","Balad","Al-Duloeyah","Al Mashrooa Village","قرية المشروع",34.0642929,44.2623742,0,36,0,0,0,0,0,36]
[20773,"Salah al-Din","Balad","Al-Duloeyah","Beshakan village","قرية بيشكان",34.0245323,44.2817351,12,0,0,0,0,0,0,12]
[20767,"Salah al-Din","Balad","Al-Duloeyah","Albu Jewari","محلة البو جواري",34.0610965,44.211416,0,0,30,0,0,60,0,90]
[25742,"Salah al-Din","Balad","Al-Duloeyah","Al-Duloeyah-Hay Al Jubor","محلة الجبور الاولى",34.0325647,44.231004,0,0,96,0,0,0,0,96]
[33347,"Salah al-Din","Balad","Yathreb","Balad station","محطة بلد",33.9535229,44.1541639,0,666,0,0,0,0,0,666]
[33714,"Salah al-Din","Beygee","Al-Synia","AL-Khalfa","الخلفاء",34.9288565,43.4638371,0,0,132,0,0,0,0,132]
[33435,"Salah al-Din","Beygee","Makkhoul","Alrihewat village","قرية الرهيوات",35.2050227,43.259293,0,258,0,0,0,0,0,258]
[20689,"Salah al-Din","Beygee","Makkhoul","Markaz Makhoul","مركز مكحول",35.2053974,43.2765131,0,0,42,0,0,0,0,42]
[23243,"Salah al-Din","Beygee","Makkhoul","Muhammed Almusa village","قرية محمد الموسى",35.1530732,43.3164187,0,222,0,0,0,0,0,222]
[20674,"Salah al-Din","Samarra","Al-Tharthar","Al-Hewaish area","قرية الحويش",34.2084158,43.8037769,96,0,0,0,0,0,0,96]
[22903,"Salah al-Din","Samarra","Markaz Samarra","Hay Al imam-103","حي الامام محلة 103",34.1957056,43.8734025,36,0,0,0,0,0,0,36]
[21723,"Salah al-Din","Samarra","Markaz Samarra","Al Qala-Mahal 201","مقاطعة 4 القلعة محلة 201",34.1830556,43.8565244,174,240,0,0,0,0,0,414]
[23876,"Salah al-Din","Samarra","Markaz Samarra","Al Jibariya Mahala 316","حي الواثق(22-جبيرية)محلة 316",34.1854762,43.9029102,0,0,0,0,0,42,42,84]
[21724,"Salah al-Din","Samarra","Markaz Samarra","Hay Al Mutasim-mahala 105","محلة 105",34.1941287,43.8799056,0,0,0,0,0,132,0,132]
[22474,"Salah al-Din","Samarra","Markaz Samarra","Hay Al Dhubbat-Mahalla 334","حي الضباط م(25-عرموشية)محلة 334",34.1953555,43.8961431,0,0,0,0,0,336,0,336]
[21588,"Salah al-Din","Samarra","Markaz Samarra","Al Jubairiyah Al Thalitha","حي الواثق(22-جبيرية)الجبيرية الثالثة",34.187697,43.9056784,48,978,0,0,0,0,0,{"v":1026,"d":"1,026"}]
[21725,"Salah al-Din","Samarra","Markaz Samarra","Hay Al Wathiq-Mahala 314","حي الواثق(22-جبيرية)محلة 314",34.1875077,43.892829,276,552,0,0,0,0,0,828]
[20569,"Salah al-Din","Samarra","Markaz Samarra","Hay Al-Khathraa Mahala 322","حي الخضراء م(25-عرموشية)محلة 322",34.1984127,43.911128,96,12,192,0,48,0,0,348]
[20675,"Salah al-Din","Samarra","Markaz Samarra","Al-Efraz area","حي الافراز",34.2071834,43.9061101,210,306,0,0,0,0,0,516]
[22473,"Salah al-Din","Samarra","Markaz Samarra","Hay Al Muthanna-Mahalla 312","حي المثنى-محلة 312",34.1932340758,43.9168047253,462,{"v":1662,"d":"1,662"},0,0,0,108,0,{"v":2232,"d":"2,232"}]
[21590,"Salah al-Din","Samarra","Markaz Samarra","Hay Salah Al-Din(Mahala 302)","حي صلاح الدين محلة 302",34.2028323,43.9099506,300,258,0,0,0,0,0,558]
[24247,"Salah al-Din","Tikrit","Al-Alam","Hay Al baladiyah","حي البلدية-م(27-الخرجة والعالي)",34.687550089,43.7176952396,252,0,0,0,0,0,0,252]
[27231,"Salah al-Din","Tikrit","Al-Alam","Al Shaheed Abdulla village","قرية الشهيد عبدالله جباره",34.6681781168,43.7329189855,138,0,0,0,0,0,0,138]
[22059,"Salah al-Din","Tikrit","Al-Alam","Qaryat Erbaidha","قرية أربيضة",34.7932755465,43.6042593887,54,0,0,0,0,0,0,54]
[25569,"Salah al-Din","Tikrit","Al-Alam","Al Haweja village-AlAbady","قرية الحويجة-العبادي",34.7117647,43.6792714,48,0,0,0,0,0,0,48]
[24211,"Salah al-Din","Tikrit","Al-Alam","Al Namah Al ShamaliyahVillage","قرية الناعمة الشمالية",34.6350957,43.7672569,120,0,0,0,0,0,0,120]
[20612,"Salah al-Din","Tikrit","Al-Alam","Samrah Village","قرية سمرة",34.7521009,43.6716442,42,0,0,0,0,0,0,42]
[21592,"Salah al-Din","Tikrit","Al-Alam","Hay Al sinay-Al samad","حي الصناعي-م(51-المجرة وتل رجيم)قرية الصمد",34.7132682538,43.7066910747,312,0,0,0,0,0,0,312]
[28449,"Salah al-Din","Tikrit","Al-Alam","Mahalla Al Aed","حي العائد(27-الخرجة والعالي)محلة العائد",34.7001576,43.7132521,432,0,0,0,0,0,0,432]
[23702,"Salah al-Din","Tikrit","Um Al-Qura","Qadisya 2 500 Area","حي المطاردة(قادسية2)مقاطعة 7 محله 218 – قطعه 500",34.6607289,43.6575287,0,0,168,0,0,0,0,168]
[26034,"Salah al-Din","Tikrit","Um Al-Qura","Al Mahzam village","قرية المحزم",34.7281913,43.6417495,102,0,0,0,0,0,0,102]
[25922,"Salah al-Din","Tikrit","Um Al-Qura","Qadisya 1 Mahala 214","حي المطاردة(قادسية1)مقاطعة 7-محله 214",34.6457808852,43.6660867266,84,0,0,0,0,0,0,84]
[25923,"Salah al-Din","Tikrit","Um Al-Qura","Qadisya 2 Mahala 216","حي المطاردة(قادسية2)مقاطعة 7-محله 216",34.6490426651,43.6629112169,36,0,0,0,0,0,0,36]
[22058,"Salah al-Din","Tikrit","Um Al-Qura","Hay Aldiuom","حي الديوم-مقاطعة 211-ديوم تكريت",34.5980726,43.653094,666,0,0,0,0,0,0,666]
[20638,"Salah al-Din","Tikrit","Um Al-Qura","Hay Al Dhubbat","حي الضباط",34.6346683931,43.6702753012,30,0,0,0,0,0,0,30]
[23918,"Salah al-Din","Tikrit","Um Al-Qura","Al-Mutaradah 204","حي الشهداء مقاطعة 7-المطاردة محلة 204",34.6224336,43.6737458,0,0,174,0,0,6,0,180]
[22965,"Salah al-Din","Tikrit","Um Al-Qura","Hay Alqalaa","حي القلعة(6-تكريت)محلة 405",34.6008559,43.6913451,234,0,0,0,0,0,0,234]
[20630,"Salah al-Din","Tikrit","Um Al-Qura","Al-Shahama Village","قرية الشهامة",34.6967473,43.6238184,36,0,0,0,0,0,0,36]
[20642,"Salah al-Din","Tikrit","Um Al-Qura","Al Karama Village","قرية الكرامة",34.6913143,43.6256849,0,0,12,0,0,0,0,12]
[27368,"Salah al-Din","Tikrit","Um Al-Qura","Hay Alkahrbaa","حي الكهرباء",34.607774,43.6673337,0,0,0,90,0,0,0,90]
[20618,"Salah al-Din","Tikrit","Um Al-Qura","Hammad Shihab","قرية حماد شهاب",34.6989077,43.6194978,84,0,0,0,0,0,0,84]
[22966,"Salah al-Din","Tikrit","Um Al-Qura","Hay Sheshen Mahal 408","حي شيشين-مقاطعة 5-وادي شيشين محلة 408",34.5882633,43.6814408,0,84,0,0,0,0,0,84]
[20622,"Salah al-Din","Tikrit","Um Al-Qura","Hay AL Suqour","حي الصقور",34.701161,43.6092194,72,0,0,0,0,0,0,72]
[27369,"Salah al-Din","Tikrit","Um Al-Qura","Hay Alfirdous","حي الفردوس(البو عبيد)مقاطعة-5 محلة 428",34.5898999,43.6656624,294,{"v":1380,"d":"1,380"},0,0,0,66,0,{"v":1740,"d":"1,740"}]
[20663,"Salah al-Din","Tikrit","Um Al-Qura","Hay Al-Tajneed","حي التجنيد",34.58201,43.6801736,0,0,0,0,0,12,0,12]
[25752,"Salah al-Din","Tooz Khurmato","Markaz Tooz Khurmato","Markaz Tooz-Hay Al Taiyar 122","محلة 122",34.9026007,44.6224808,102,0,0,0,0,0,0,102]
[25748,"Salah al-Din","Tooz Khurmato","Markaz Tooz Khurmato","Markaz Tooz-Jesir Dara","جسر دارا",34.9381114,44.5951083,132,90,0,0,0,0,0,222]
[25868,"Salah al-Din","Tooz Khurmato","Markaz Tooz Khurmato","Hay Rizgari-114","حي رزكاري م(5-الطوز)محلة 114",34.8867806,44.6413468,12,0,0,0,0,0,0,12]
[25866,"Salah al-Din","Tooz Khurmato","Markaz Tooz Khurmato","Hay Komari-120","حي كوماري م(5-الطوز)محلة 120",34.8949483,44.6277998,102,0,0,0,0,0,0,102]
[21846,"Salah al-Din","Tooz Khurmato","Markaz Tooz Khurmato","Hay Al Sideeq Mahalla 105","محلة 105",34.8848697,44.6143927,54,0,0,0,0,0,0,54]
[25872,"Salah al-Din","Tooz Khurmato","Markaz Tooz Khurmato","Unformal Shelter","سكن غير رسمي",34.9029505,44.6335263,96,0,0,0,0,0,0,96]
[25754,"Salah al-Din","Tooz Khurmato","Markaz Tooz Khurmato","Markaz Tooz-Hay Al Askari","حي العسكري",34.8796816,44.614913,174,0,0,0,0,0,0,174]
[20405,"Salah al-Din","Tooz Khurmato","Markaz Tooz Khurmato","Sankur","سنكور",35.008568,44.539526,36,0,30,0,0,0,0,66]
[25755,"Salah al-Din","Tooz Khurmato","Markaz Tooz Khurmato","Markaz Tooz-Hay Imam Ahmed","حي امام احمد",34.8810907,44.6246982,54,66,0,0,0,0,0,120]
[25750,"Salah al-Din","Tooz Khurmato","Markaz Tooz Khurmato","Markaz Tooz-Hay Brayati","محلة برايتي",34.9046437,44.6103454,342,0,0,0,0,0,0,342]
[20992,"Salah al-Din","Tooz Khurmato","Markaz Tooz Khurmato","Tooz-Hay Al Teen","حي الطين",34.8760221,44.6158059,432,174,0,0,0,0,0,606]
[25870,"Salah al-Din","Tooz Khurmato","Sulaiman Baig","Tal Al Naqqar","تل النقار",34.732738,44.800704,0,{"v":1320,"d":"1,320"},0,0,0,0,0,{"v":1320,"d":"1,320"}]
[10259,"Thi Qar","Al-Nasiriya","Markaz Al-Nasiriya","Hay Al Tadhihiya","حي التضحية",31.0454113122,46.277832423,0,18,0,0,0,0,0,18]
[23683,"Thi Qar","Al-Nasiriya","Markaz Al-Nasiriya","Hay Mehidiya","حي المهيديه",31.03290329,46.25155243,0,60,0,0,0,0,0,60]
[23685,"Thi Qar","Al-Nasiriya","Markaz Al-Nasiriya","Um Al Dood","ام الدود",31.08726556,46.2412354765,0,18,0,0,0,0,0,18]
[9396,"Thi Qar","Al-Nasiriya","Markaz Al-Nasiriya","Al-zielat","الزعيلات",31.0154237044,46.2634417545,0,6,0,0,0,0,0,6]
[9427,"Thi Qar","Al-Nasiriya","Markaz Al-Nasiriya","Hay AL-Mansouria","المنصورية ",31.0336179,46.217652,0,12,0,0,0,0,0,12]
[34162,"Thi Qar","Al-Rifai","Markaz Al-Rifai","Al Tifige","التيفيج",31.73553,46.112046,0,24,0,0,0,0,0,24]
[24722,"Thi Qar","Al-Rifai","Markaz Al-Rifai","Hay Al Hussien","حي الحسين",31.7115291965,46.124556874,0,0,0,30,0,0,0,30]
[33887,"Thi Qar","Al-Shatra","Al-Gharraf","AL Ziyadat","الزيادات",31.2259334385,46.201053525,0,0,0,0,18,0,0,18]
[34161,"Thi Qar","Suq Al-Shoyokh","Al-Fadhliya","Um Al-Banin","ام البنين",30.8802651431,46.454987385,0,24,0,0,0,0,0,24]
[25437,"Thi Qar","Suq Al-Shoyokh","Al-Fadhliya","Al Shumokh","الشموخ",30.9061211,46.4493812,0,6,0,0,0,0,0,6]
[9328,"Thi Qar","Suq Al-Shoyokh","Al-Fadhliya","Al-hey Al-Askarey","حي العسكري",30.9011745066,46.4496372761,0,12,0,0,0,0,0,12]
[25436,"Thi Qar","Suq Al-Shoyokh","Al-Fadhliya","Al Kibla","القبله",30.9066365022,46.4459799347,0,24,0,0,0,0,0,24]
[33811,"Thi Qar","Suq Al-Shoyokh","Garmat Beni Said","Hay Al-Askery","حي العسكري",30.882388,46.568722,0,6,0,0,0,0,0,6]
[24261,"Wassit","Al-Kut","Wasit","Hay Al-Hawaraa 3","حي الحوراء الثالثة",32.4857188842,45.8428810123,0,0,336,0,0,0,0,336]

{"sheet":"Period of Displacement","index":4,"n_rows":13,"n_cols":4,"rows_kept":13}
["Row Labels","Sum of IDP Individuals","Sum of %","Sum of rank"]
["Pre-June14 ",47359,0.039971539932715405,12]
["June-July14 ",246806,0.20830709864299835,11]
["August14",379998,0.3207226763941804,10]
["Post September14 ",110606,0.09335273434400895,9]
["Post April15 ",98491,0.08312753519949899,8]
["Post Mar2016",42086,0.03552106737068478,7]
["Post 17Oct2016",161847,0.13660072686269115,6]
["July 17",67669,0.057113413199326814,5]
["January 19",10227,0.008631705460247902,4]
["January 20",9447,7.973376501707435E-3,3]
["January 21",9076,0.007660248240658059,2]
["January 22",1206,1.0178778512818002E-3,1]

{"sheet":"Shelter Type","index":5,"n_rows":63,"n_cols":25,"rows_kept":63}
[{"$f":"Summary!A9","v":"Governorate of Displacement"},{"$f":"Summary!B9","v":"Camp"},{"$f":"Summary!C9","v":"Host families"},{"$f":"Summary!D9","v":"Hotel/Motel or short-term rental"},{"$f":"Summary!E9","v":"Own Property"},{"$f":"Summary!F9","v":"Apartment/House \n(not owned)\n(habitable)"},{"$f":"Summary!G9","v":"Apartment/House\n (not owned)\n(uninhabitable)"},{"$f":"Summary!H9","v":"Tent/Caravan/makeshift shelter/mud or block house"},{"$f":"Summary!I9","v":"Unfinished/Abandoned building"},{"$f":"Summary!K9","v":"Religious building"},{"$f":"Summary!L9","v":"School building"},{"$f":"Summary!M9","v":"Other Critical shelter"},{"$f":"Summary!J9","v":"Public Buildings or Collective shelters"},{"$f":"Summary!N9","v":"Unknown shelter type"},{"$f":"Summary!O9","v":"Total"}]
[{"$f":"Summary!A10","v":"Al-Anbar"},{"$f":"Summary!B10","v":0},{"$f":"Summary!C10","v":2274},{"$f":"Summary!D10","v":0},{"$f":"Summary!E10","v":300},{"$f":"Summary!F10","v":10062},{"$f":"Summary!G10","v":276},{"$f":"Summary!H10","v":16638},{"$f":"Summary!I10","v":1002},{"$f":"Summary!K10","v":162},{"$f":"Summary!L10","v":12},{"$f":"Summary!M10","v":0},{"$f":"Summary!J10","v":4788},{"$f":"Summary!N10","v":0},{"$f":"Summary!O10","v":35514}]
[{"$f":"Summary!A11","v":"Al-Basrah"},{"$f":"Summary!B11","v":0},{"$f":"Summary!C11","v":1104},{"$f":"Summary!D11","v":84},{"$f":"Summary!E11","v":438},{"$f":"Summary!F11","v":3672},{"$f":"Summary!G11","v":6},{"$f":"Summary!H11","v":162},{"$f":"Summary!I11","v":0},{"$f":"Summary!K11","v":0},{"$f":"Summary!L11","v":0},{"$f":"Summary!M11","v":0},{"$f":"Summary!J11","v":0},{"$f":"Summary!N11","v":0},{"$f":"Summary!O11","v":5466}]
[{"$f":"Summary!A12","v":"Al-Muthanna"},{"$f":"Summary!B12","v":0},{"$f":"Summary!C12","v":42},{"$f":"Summary!D12","v":0},{"$f":"Summary!E12","v":0},{"$f":"Summary!F12","v":792},{"$f":"Summary!G12","v":0},{"$f":"Summary!H12","v":0},{"$f":"Summary!I12","v":24},{"$f":"Summary!K12","v":12},{"$f":"Summary!L12","v":0},{"$f":"Summary!M12","v":0},{"$f":"Summary!J12","v":0},{"$f":"Summary!N12","v":0},{"$f":"Summary!O12","v":870}]
[{"$f":"Summary!A13","v":"Al-Najaf"},{"$f":"Summary!B13","v":0},{"$f":"Summary!C13","v":0},{"$f":"Summary!D13","v":0},{"$f":"Summary!E13","v":1464},{"$f":"Summary!F13","v":6312},{"$f":"Summary!G13","v":18},{"$f":"Summary!H13","v":0},{"$f":"Summary!I13","v":0},{"$f":"Summary!K13","v":0},{"$f":"Summary!L13","v":0},{"$f":"Summary!M13","v":0},{"$f":"Summary!J13","v":540},{"$f":"Summary!N13","v":0},{"$f":"Summary!O13","v":8334}]
[{"$f":"Summary!A14","v":"Al-Qadissiya"},{"$f":"Summary!B14","v":0},{"$f":"Summary!C14","v":6},{"$f":"Summary!D14","v":0},{"$f":"Summary!E14","v":0},{"$f":"Summary!F14","v":2802},{"$f":"Summary!G14","v":0},{"$f":"Summary!H14","v":0},{"$f":"Summary!I14","v":18},{"$f":"Summary!K14","v":288},{"$f":"Summary!L14","v":0},{"$f":"Summary!M14","v":0},{"$f":"Summary!J14","v":126},{"$f":"Summary!N14","v":0},{"$f":"Summary!O14","v":3240}]
[{"$f":"Summary!A15","v":"Al-Sulaymaniyah"},{"$f":"Summary!B15","v":11490},{"$f":"Summary!C15","v":18},{"$f":"Summary!D15","v":36},{"$f":"Summary!E15","v":4734},{"$f":"Summary!F15","v":119262},{"$f":"Summary!G15","v":54},{"$f":"Summary!H15","v":36},{"$f":"Summary!I15","v":96},{"$f":"Summary!K15","v":12},{"$f":"Summary!L15","v":12},{"$f":"Summary!M15","v":0},{"$f":"Summary!J15","v":0},{"$f":"Summary!N15","v":0},{"$f":"Summary!O15","v":135750}]
[{"$f":"Summary!A16","v":"Babil"},{"$f":"Summary!B16","v":0},{"$f":"Summary!C16","v":510},{"$f":"Summary!D16","v":0},{"$f":"Summary!E16","v":1608},{"$f":"Summary!F16","v":13338},{"$f":"Summary!G16","v":30},{"$f":"Summary!H16","v":540},{"$f":"Summary!I16","v":30},{"$f":"Summary!K16","v":0},{"$f":"Summary!L16","v":0},{"$f":"Summary!M16","v":84},{"$f":"Summary!J16","v":0},{"$f":"Summary!N16","v":0},{"$f":"Summary!O16","v":16140}]
[{"$f":"Summary!A17","v":"Baghdad"},{"$f":"Summary!B17","v":0},{"$f":"Summary!C17","v":1230},{"$f":"Summary!D17","v":0},{"$f":"Summary!E17","v":894},{"$f":"Summary!F17","v":14844},{"$f":"Summary!G17","v":1116},{"$f":"Summary!H17","v":8256},{"$f":"Summary!I17","v":132},{"$f":"Summary!K17","v":60},{"$f":"Summary!L17","v":66},{"$f":"Summary!M17","v":0},{"$f":"Summary!J17","v":30},{"$f":"Summary!N17","v":0},{"$f":"Summary!O17","v":26628}]
[{"$f":"Summary!A18","v":"Diyala"},{"$f":"Summary!B18","v":510},{"$f":"Summary!C18","v":4122},{"$f":"Summary!D18","v":0},{"$f":"Summary!E18","v":660},{"$f":"Summary!F18","v":42840},{"$f":"Summary!G18","v":1866},{"$f":"Summary!H18","v":60},{"$f":"Summary!I18","v":342},{"$f":"Summary!K18","v":0},{"$f":"Summary!L18","v":0},{"$f":"Summary!M18","v":0},{"$f":"Summary!J18","v":0},{"$f":"Summary!N18","v":0},{"$f":"Summary!O18","v":50400}]
[{"$f":"Summary!A19","v":"Duhok"},{"$f":"Summary!B19","v":109305},{"$f":"Summary!C19","v":0},{"$f":"Summary!D19","v":96},{"$f":"Summary!E19","v":7758},{"$f":"Summary!F19","v":111024},{"$f":"Summary!G19","v":0},{"$f":"Summary!H19","v":12480},{"$f":"Summary!I19","v":8226},{"$f":"Summary!K19","v":12},{"$f":"Summary!L19","v":0},{"$f":"Summary!M19","v":48},{"$f":"Summary!J19","v":36},{"$f":"Summary!N19","v":0},{"$f":"Summary!O19","v":248985}]
[{"$f":"Summary!A20","v":"Erbil"},{"$f":"Summary!B20","v":13170},{"$f":"Summary!C20","v":48},{"$f":"Summary!D20","v":222},{"$f":"Summary!E20","v":798},{"$f":"Summary!F20","v":196170},{"$f":"Summary!G20","v":0},{"$f":"Summary!H20","v":156},{"$f":"Summary!I20","v":378},{"$f":"Summary!K20","v":0},{"$f":"Summary!L20","v":0},{"$f":"Summary!M20","v":0},{"$f":"Summary!J20","v":408},{"$f":"Summary!N20","v":0},{"$f":"Summary!O20","v":211350}]
[{"$f":"Summary!A21","v":"Kerbala"},{"$f":"Summary!B21","v":0},{"$f":"Summary!C21","v":30},{"$f":"Summary!D21","v":0},{"$f":"Summary!E21","v":4008},{"$f":"Summary!F21","v":6618},{"$f":"Summary!G21","v":0},{"$f":"Summary!H21","v":150},{"$f":"Summary!I21","v":0},{"$f":"Summary!K21","v":36},{"$f":"Summary!L21","v":0},{"$f":"Summary!M21","v":0},{"$f":"Summary!J21","v":0},{"$f":"Summary!N21","v":0},{"$f":"Summary!O21","v":10842}]
[{"$f":"Summary!A22","v":"Kirkuk"},{"$f":"Summary!B22","v":0},{"$f":"Summary!C22","v":462},{"$f":"Summary!D22","v":0},{"$f":"Summary!E22","v":2196},{"$f":"Summary!F22","v":79524},{"$f":"Summary!G22","v":1392},{"$f":"Summary!H22","v":7746},{"$f":"Summary!I22","v":36},{"$f":"Summary!K22","v":0},{"$f":"Summary!L22","v":66},{"$f":"Summary!M22","v":0},{"$f":"Summary!J22","v":30},{"$f":"Summary!N22","v":0},{"$f":"Summary!O22","v":91452}]
[{"$f":"Summary!A23","v":"Maysan"},{"$f":"Summary!B23","v":0},{"$f":"Summary!C23","v":90},{"$f":"Summary!D23","v":0},{"$f":"Summary!E23","v":36},{"$f":"Summary!F23","v":1584},{"$f":"Summary!G23","v":0},{"$f":"Summary!H23","v":156},{"$f":"Summary!I23","v":0},{"$f":"Summary!K23","v":6},{"$f":"Summary!L23","v":0},{"$f":"Summary!M23","v":0},{"$f":"Summary!J23","v":0},{"$f":"Summary!N23","v":0},{"$f":"Summary!O23","v":1872}]
[{"$f":"Summary!A24","v":"Ninewa"},{"$f":"Summary!B24","v":44845},{"$f":"Summary!C24","v":10212},{"$f":"Summary!D24","v":0},{"$f":"Summary!E24","v":8064},{"$f":"Summary!F24","v":192270},{"$f":"Summary!G24","v":5160},{"$f":"Summary!H24","v":6510},{"$f":"Summary!I24","v":5610},{"$f":"Summary!K24","v":156},{"$f":"Summary!L24","v":240},{"$f":"Summary!M24","v":264},{"$f":"Summary!J24","v":0},{"$f":"Summary!N24","v":762},{"$f":"Summary!O24","v":274093}]
[{"$f":"Summary!A25","v":"Salah al-Din"},{"$f":"Summary!B25","v":0},{"$f":"Summary!C25","v":3618},{"$f":"Summary!D25","v":0},{"$f":"Summary!E25","v":1764},{"$f":"Summary!F25","v":34506},{"$f":"Summary!G25","v":6312},{"$f":"Summary!H25","v":8316},{"$f":"Summary!I25","v":936},{"$f":"Summary!K25","v":48},{"$f":"Summary!L25","v":762},{"$f":"Summary!M25","v":42},{"$f":"Summary!J25","v":90},{"$f":"Summary!N25","v":0},{"$f":"Summary!O25","v":56394}]
[{"$f":"Summary!A26","v":"Thi Qar"},{"$f":"Summary!B26","v":0},{"$f":"Summary!C26","v":402},{"$f":"Summary!D26","v":0},{"$f":"Summary!E26","v":582},{"$f":"Summary!F26","v":1902},{"$f":"Summary!G26","v":0},{"$f":"Summary!H26","v":210},{"$f":"Summary!I26","v":0},{"$f":"Summary!K26","v":18},{"$f":"Summary!L26","v":0},{"$f":"Summary!M26","v":0},{"$f":"Summary!J26","v":30},{"$f":"Summary!N26","v":0},{"$f":"Summary!O26","v":3144}]
[{"$f":"Summary!A27","v":"Wassit"},{"$f":"Summary!B27","v":0},{"$f":"Summary!C27","v":156},{"$f":"Summary!D27","v":0},{"$f":"Summary!E27","v":126},{"$f":"Summary!F27","v":3726},{"$f":"Summary!G27","v":0},{"$f":"Summary!H27","v":0},{"$f":"Summary!I27","v":336},{"$f":"Summary!K27","v":0},{"$f":"Summary!L27","v":0},{"$f":"Summary!M27","v":0},{"$f":"Summary!J27","v":0},{"$f":"Summary!N27","v":0},{"$f":"Summary!O27","v":4344}]
[{"$f":"Summary!A28","v":"    Total"},{"$f":"Summary!B28","v":179320},{"$f":"Summary!C28","v":24324},{"$f":"Summary!D28","v":438},{"$f":"Summary!E28","v":35430},{"$f":"Summary!F28","v":841248},{"$f":"Summary!G28","v":16230},{"$f":"Summary!H28","v":61416},{"$f":"Summary!I28","v":17166},{"$f":"Summary!K28","v":810},{"$f":"Summary!L28","v":1158},{"$f":"Summary!M28","v":438},{"$f":"Summary!J28","v":6078},{"$f":"Summary!N28","v":762},{"$f":"Summary!O28","v":1184818}]
[null,{"$f":"B20/$O$20","v":{"v":0.15134813954548293,"d":"0.2"}},{"v":0.020529735368638898,"d":"0.0"},{"v":3.6967703056503196E-4,"d":"0.0"},{"v":0.029903326924472787,"d":"0.0"},{"v":0.7100229739926301,"d":"0.7"},{"v":0.013698306406553581,"d":"0.0"},{"v":0.05183580938169407,"d":"0.1"},{"v":0.014488301156802141,"d":"0.0"},{"v":6.8364930309971659E-4,"d":"0.0"},{"v":9.7736529998700226E-4,"d":"0.0"},{"v":3.6967703056503196E-4,"d":"0.0"},{"$f":"M20/O20","v":{"v":0.005129901807703799,"d":"0.0"}},{"$f":"N20/$O$20","v":{"v":6.4313675180491855E-4,"d":"0.0"}}]
{"$rows_empty":23}
[{"$nulls":20},{"$f":"A1","v":"Governorate of Displacement"},"Camp","Host families","Apartment/House (not owned)(habitable)","Others"]
[{"$nulls":6},"Shelter","Individuals",{"$nulls":12},"Al-Anbar",{"$f":"B2","v":0},{"$f":"C2","v":2274},{"$f":"F2","v":10062},{"$f":"SUM(D2:E2,G2:N2)","v":23178}]
[{"$nulls":6},"Camp ",{"$f":"B20","v":179320},{"$nulls":12},"Al-Basrah",0,1104,{"$f":"F3","v":3672},690]
[{"$nulls":6},"Critical",{"$f":"SUM(G20:M20)","v":103296},{"$nulls":12},"Al-Muthanna",0,42,792,36]
[{"$nulls":6},"Private setting",{"$f":"C20+D20+E20+F20","v":901440},{"$nulls":12},"Al-Najaf",0,0,6312,2022]
[{"$nulls":6},"Unknown",{"$f":"N20","v":762},{"$nulls":12},{"$f":"A6","v":"Al-Qadissiya"},{"$f":"B6","v":0},{"$f":"C6","v":6},{"$f":"F6","v":2802},432]
[{"$nulls":20},"Al-Sulaymaniyah",11490,18,119262,4980]
[{"$nulls":20},"Babil",0,510,13338,2292]
[{"$nulls":20},"Baghdad",0,1230,14844,10554]
[{"$nulls":20},"Diyala",510,4122,42840,2928]
[{"$nulls":20},"Duhok",109305,0,111024,28656]
[{"$nulls":20},"Erbil",13170,48,196170,1962]
[{"$nulls":20},"Kerbala",0,30,6618,4194]
[{"$nulls":20},"Kirkuk",0,462,79524,11466]
[{"$nulls":20},"Maysan",0,90,1584,198]
[{"$nulls":20},"Ninewa",44845,10212,192270,26766]
[{"$nulls":20},{"$f":"A17","v":"Salah al-Din"},{"$f":"B17","v":0},3618,34506,18270]
[{"$nulls":20},"Thi Qar",{"$f":"B18","v":0},402,1902,840]
[{"$nulls":20},"Wassit",{"$f":"B19","v":0},156,3726,462]